{"text_format":"1","workbook":"xlsx","n_sheets":29,"sheets":["Main","Sablon","Katılım","Grup","On_Eleme","Eleme","32DE","32DE(16)","16","16DE","16(8DE)","16(TE)","8DE","1-8 Ana Tablo","Cift_Mix","9-16 Ana Tablo","SIRALAMA","Ferdi","Puan","5_Mac","Olimpik","Yeni_Olimpik","Corbillon","5_Mac_KC","Olimpik_KC","Yeni_Olimpik_KC","Corbillon_KC","1-8","9-16"],"not_rendered":{"charts":0,"images":15,"macros":1,"external_links":0,"defined_names":17,"comments":0,"pivot_tables":0},"unopened":[],"bounds":{"document_bytes":16777216,"sheet_cells":100000,"rows_first":2000,"rows_last":500,"rows_between":2000,"halvings":0,"cell_chars":16384,"cell_head_chars":4096},"cells_cut":0,"cells_raw":0,"read":"whole","date_system":"1900"}

{"sheet":"Main","index":0,"n_rows":23,"n_cols":23,"rows_kept":23,"cut":false,"hidden":true,"merged":[]}
[]
[null,null,null,null,null,null,null,null,null,null,null,null,null,null,null,null,2,7,6,7,3,2,{"$f":"IF(V2=1,2,3)","v":3}]
["\u008c",null,"Müsabaka",null,null,null,null,null,null,null,null,null,null,null,null,null,"------","------","------","------","------","------"]
[null,null,null,null,null,null,null,null,null,null,null,null,null,null,null,null,"Grup",256,"Ferdi","32 (Çift_Eleme)","Erkek",2]
[null,null,null,null,null,null,null,null,null,null,null,null,null,null,null,null,"Eleme",128,"5_Mac","16 (Çift_Eleme)","Kız",3]
[null,null,null,null,null,null,null,null,null,null,null,null,null,null,null,null,null,64,"Olimpik","16 (8_Çift_Eleme)"]
["\u008d",null,"Eleme Tablosu",null,null,null,null,null,null,null,null,null,null,null,null,null,null,32,"Yeni_Olimpik","16 (Tek_Eleme)"]
[null,null,null,null,null,null,null,null,null,null,null,null,null,null,null,null,null,16,"Corbillon","8 (Çift_Eleme)"]
[null,null,null,null,null,null,null,null,null,null,null,null,null,null,null,null,null,8,null,"8 (Tek_Eleme)"]
[null,null,null,null,null,null,null,null,null,null,null,null,null,null,null,null,null,null,{"$f":"OFFSET(S2,S2,0)","v":"Corbillon"},16]
["\u008e",null,"Ana Tablo",null,null,null,null,null,null,null,null,null,null,null,null,null,null,null,null,"Cift-Mix"]
[null,null,null,null,null,null,null,null,null,null,null,null,null,null,null,null,null,null,null,"32DE(16)"]
[]
[]
["\u008f",null,"Müsabaka Cetveli"]
[]
[]
[]
["y",null,"Kategori"]
[]
[]
[]
["z",null,"Kazanılan Set",null,null,null,null,"by A.Dayanç"]

{"sheet":"Sablon","index":1,"n_rows":385,"n_cols":125,"rows_kept":385,"cut":false,"hidden":true,"merged":[[1,31,1,34],[1,1,1,4],[1,7,1,10],[1,13,1,16],[1,19,1,22],[1,25,1,28]]}
[null,"Template",null,null,null,null,null,null,null,null,null,null,null,null,null,null,null,null,null,null,null,null,null,null,null,null,null,null,null,null,null,null,null,null,null,null,null,null,null,null,null,null,null,null,null,null,null,null,null,null,null,null,null,null,null,null,null,null,null,null,null,null,null,null,null,null,null,null,null,null,null,null,null,null,null,null,"Y","S","B","Q",null,"Y","S","B","Q",null,"Y","S","B","Q",null,"Y","S","B","Q",null,"Y","S","B","Q",null,"Y","S","B","Q",null,null,null,null,null,256,128,64,32,16,8,null,null,null,256,128,64,32,16,8]
[null,256,null,null,null,null,null,128,null,null,null,null,null,64,null,null,null,null,null,32,null,null,null,null,null,16,null,null,null,null,null,8,null,null,null,null,null,null,null,null,null,null,null,null,null,null,null,null,null,null,null,null,null,null,null,null,null,null,null,null,null,null,null,null,null,null,null,null,null,null,null,null,null,null,null,null,null,1,null,null,1,null,1,0,0,1,null,1,0," ",1,null,1,0,0,1,null,1,0,0,1,null,1,0,0,1,null,null,null,1,null,84,38,19,9,6,null,null,"E1",171,75,22,14,5,3]
[null,"Y","S","B","Q",null,null,"Y","S","B","Q",null,null,"Y","S","B","Q",null,null,"Y",8,"B","Q",null,null,"Y","S","B","Q",null,null,"Y","S","B","Q",null,null,null,null,null,null,null,null,null,null,null,null,null,null,null,null,null,null,null,null,null,null,null,null,null,null,null,null,null,null,null,null,null,null,null,null,null,null,null,null,null,null,null,null,null,null,null,null,null,null,null,null,null,null,null,null,null,null,null,null,null,null,null,null,null,null,null,null,null,null,null,null,null,null,null,null,105,65,33,17,9,null,null,"E2",229,76,21,12,6,4]
[null,1,1,null,null,1,null,1,1,null,null,1,null,1,1,null," ",1,null,1,1,null,null,1,null,1,1,null,null,1,null,1,1,null,null,1,null,null,null,null,null,null,null,null,null,null,null,null,null,null,null,null,null,null,null,null,null,null,null,null,null,null,null,null,null,null,null,null,null,null,null,null,null,null,null,null,null,129,999,"",256,null,65,1,"E64",128,null,33,1,"E32",64,null,17,1,"E16",32,null,9,1,"E8",16,null,5,1,"E4",8,null,null,null,null,null,null,null,null,null,null,null,null,"E3",87,74,23,10,7,2]
[null,2,129,999,null,256,null,2,65,1,64,128,null,2,33,1,32,64,null,2,17,1,16,32,null,2,9,1,8,16,null,2,5,1,4,8,null,null,null,null,null,null,null,null,null,null,null,null,null,null,null,null,null,null,null,null,null,null,null,null,null,null,null,null,null,null,null,null,null,null,null,null,null,null,null,null,null,129,999,"",128,null,65,33,"E32",64,null,33,17,"E16",48,null,17,9,"E8",16,null,9,5,"E4",12,null,5,3,"E2",5,null,null,null,2,null,61,37,20,10,5,null,null,"E4",169,73,24,9,8,1]
[null,3,129,999,null,128,null,3,65,33,32,64,null,3,33,17,16,48,null,3,17,9,8,16,null,3,9,5,4,12,null,3,5,3,2,5,null,null,null,null,null,null,null,null,null,null,null,null,null,null,null,null,null,null,null,null,null,null,null,null,null,null,null,null,null,null,null,null,null,null,null,null,null,null,null,null,null,null,null,"",null,null,null,null,"",null,null,null,null,"",null,null,null,null,"",null,null,null,null,"",null,null,null,null,null,null,null,null,null,null,null,106,66,34,18,10,null,null,"E5",83,78,19,11,3]
[null,4,65,999,null,129,null,4,33,null,null,65,null,4,17,null," ",32,null,4,9,null,null,17,null,4,5,null,null,8,null,4,3,null,null,4,null,null,null,null,null,null,null,null,null,null,null,null,null,null,null,null,null,null,null,null,null,null,null,null,null,null,null,null,null,null,null,null,null,null,null,null,null,null,null,null,null,65,999,"",129,null,33,0,"",65,null,17,0,"",32,null,9,0,"",17,null,5,0,"",8,null,3,0,0,4,null,null,null,null,null,null,null,null,null,null,null,null,"E6",173,77,20,13,4]
[null,5,65,999,null,65,null,5,33,null,null,32,null,5,17,null," ",17,null,5,9,null,null,9,null,5,5,null,null,6,null,5,3,null,null,3,null,null,null,null,null,null,null,null,null,null,null,null,null,null,null,null,null,null,null,null,null,null,null,null,null,null,null,null,null,null,null,null,null,null,null,null,null,null,null,null,null,65,999,"",65,null,33,0,"",32,null,17,0,"",17,null,9,0,"",9,null,5,0,"",6,null,3,0,0,3,null,null,null,3,null,93,39,18,11,7,null,null,"E7",175,79,18,15,2]
[null,6,129,999,null,192,null,6,65,49,16,97,null,6,33,25,8,33,null,6,17,13,4,24,null,6,9,7,2,10,null,6,5,null,1,6,null,null,null,null,null,null,null,null,null,null,null,null,null,null,null,null,null,null,null,null,null,null,null,null,null,null,null,null,null,null,null,null,null,null,null,null,null,null,null,null,null,null,null,"",null,null,null,null,"",null,null,null,null,"",null,null,null,null,"",null,null,null,null,"",null,null,null,null,null,null,null,null,null,null,null,107,67,35,19,11,null,null,"E8",81,80,17,16,1]
[null,7,129,999,null,64,null,7,65,17,48,33,null,7,33,9,24,49,null,7,17,5,12,25,null,7,9,3,6,14,null,7,5,2,3,7,null,null,null,null,null,null,null,null,null,null,null,null,null,null,null,null,null,null,null,null,null,null,null,null,null,null,null,null,null,null,null,null,null,null,null,null,null,null,null,null,null,129,999,"",192,null,65,49,"E16",97,null,33,25,"E8",33,null,17,13,"E4",24,null,9,7,"E2",10,null,5,0,"E1",6,null,null,null,null,null,null,null,null,null,null,null,null,"E9",91,27,27,6]
[null,8,64,999,null,193,null,8,17,null,null,96,null,8,9," "," ",16,null,8,5,null,null,8,null,8,3,null,null,4,null,8,2,null,null,2,null,null,null,null,null,null,null,null,null,null,null,null,null,null,null,null,null,null,null,null,null,null,null,null,null,null,null,null,null,null,null,null,null,null,null,null,null,null,null,null,null,129,999,"",64,null,65,17,"E48",33,null,33,9,"E24",49,null,17,5,"E12",25,null,9,3,"E6",14,null,5,2,"E3",7,null,null,null,4,null,52,40,17,12,8,null,null,"E10",165,28,28,5]
[null,9,49,null,null,33,null,9,17,null,null,16,null,9,9,null," ",9,null,9,5,null,null,5,null,9,3,null,null,3,null,null,null,null,null,null,null,null,null,null,null,null,null,null,null,null,null,null,null,null,null,null,null,null,null,null,null,null,null,null,null,null,null,null,null,null,null,null,null,null,null,null,null,null,null,null,null,null,null,"",null,null,null,null,"",null,null,null,null,"",null,null,null,null,"",null,null,null,null,"",null,null,null,null,null,null,null,null,null,null,null,108,68,36,20,12,null,null,"E11",167,26,26,7]
[null,10,129,49,null,224,null,10,65,25,40,113,null,10,33,13,20,56,null,10,17,7,10,28,null,10,9,4,5,13,null,null,null,null,null,null,null,null,null,null,null,null,null,null,null,null,null,null,null,null,null,null,null,null,null,null,null,null,null,null,null,null,null,null,null,null,null,null,null,null,null,null,null,null,null,null,null,64,999,"",193,null,17,0,"",96,null,9," ","",16,null,5,0,"",8,null,3,0,"",4,null,2,0,0,2,null,null,null,null,null,null,null,null,null,null,null,null,"E12",109,25,25,8]
[null,11,129,null,null,96,null,11,65,57,8,49,null,11,33,29,4,40,null,11,17,15,2,20,null,11,9,null,1,9,null,null,null,null,null,null,null,null,null,null,null,null,null,null,null,null,null,null,null,null,null,null,null,null,null,null,null,null,null,null,null,null,null,null,null,null,null,null,null,null,null,null,null,null,null,null,null,49,null,"",33,null,17,0,"",16,null,9,0,"",9,null,5,0,"",5,null,3,0,"",3,null,null,null,null,null,null,null,null,5,null,77,35,22,13,null,null,null,"E13",163,30,30,3]
[null,12,65,null,null,161,null,12,33,null,null,80,null,12,17,null," ",24,null,12,9,null,null,12,null,12,5,null,null,5,null,"Y","Fikstür yerleri",null,null,null,null,null,null,null,null,null,null,null,null,null,null,null,null,null,null,null,null,null,null,null,null,null,null,null,null,null,null,null,null,null,null,null,null,null,null,null,null,null,null,null,null,null,null,"",null,null,null,null,"",null,null,null,null,"",null,null,null,null,"",null,null,null,null,"",null,null,null,null,null,null,null,null,null,null,null,109,69,37,21,null,null,null,"E14",93,29,29,4]
[null,13,65,null,null,97,null,13,33,null,null,17,null,13,17,null," ",25,null,13,9,null,null,13,null,13,5,null,null,7,null,"S","Derece yerleri",null,null,null,null,null,null,null,null,null,null,null,null,null,null,null,null,null,null,null,null,null,null,null,null,null,null,null,null,null,null,null,null,null,null,null,null,null,null,null,null,null,null,null,null,129,49,"",224,null,65,25,"E40",113,null,33,13,"E20",56,null,17,7,"E10",28,null,9,4,"E5",13,null,null,null,null,null,null,null,null,null,null,null,null,null,null,null,null,null,"E15",95,31,31,2]
[null,14,129,null,null,160,null,14,65,41,24,112,null,14,33,21,12,41,null,14,17,11,6,21,null,14,9,6,3,11,null,"B","Bay yerleri",null,null,null,null,null,null,null,null,null,null,null,null,null,null,null,null,null,null,null,null,null,null,null,null,null,null,null,null,null,null,null,null,null,null,null,null,null,null,null,null,null,null,null,null,129,null,"",96,null,65,57,"E8",49,null,33,29,"E4",40,null,17,15,"E2",20,null,9,0,"E1",9,null,null,null,null,null,null,null,null,6,null,68,36,21,14,null,null,null,"E16",85,32,32,1]
[null,15,129,32,29,32,null,15,65,9,56,48,null,15,33,5,28,57,null,15,17,3,14,29,null,15,9,2,7,15,null,"Q","Ön Eleme yeri",null,null,null,null,null,null,null,null,null,null,null,null,null,null,null,null,null,null,null,null,null,null,null,null,null,null,null,null,null,null,null,null,null,null,null,null,null,null,null,null,null,null,null,null,null,null,"",null,null,null,null,"",null,null,null,null,"",null,null,null,null,"",null,null,null,null,"",null,null,null,null,null,null,null,null,null,null,null,110,70,38,22,null,null,null,"E17",75,22,11]
[null,16,32,null,null,225,null,16,9,null,null,81,null,16,5," "," ",8,null,16,3,null,null,4,null,16,2,null,null,2,null,null,null,null,null,null,null,null,null,null,null,null,null,null,null,null,null,null,null,null,null,null,null,null,null,null,null,null,null,null,null,null,null,null,null,null,null,null,null,null,null,null,null,null,null,null,null,65,null,"",161,null,33,0,"",80,null,17,0,"",24,null,9,0,"",12,null,5,0,"",5,null,null,null,null,null,null,null,null,null,null,null,null,null,null,null,null,null,"E18",181,21,12]
[null,17,17,null,null,17,null,17,9,null,null,88,null,17,5,null," ",5,null,17,3,null,null,3,null,null,null,null,null,null,null,null,null,null,null,null,null,null,null,null,null,null,null,null,null,null,null,null,null,null,null,null,null,null,null,null,null,null,null,null,null,null,null,null,null,null,null,null,null,null,null,null,null,null,null,null,null,65,null,"",97,null,33,0,"",17,null,17,0,"",25,null,9,0,"",13,null,5,0,"",7,null,null,null,null,null,null,null,null,7,null,100,34,23,15,null,null,null,"E19",183,23,10]
[null,18,129,17,null,240,null,18,65,13,52,41,null,18,33,7,26,60,null,18,17,4,13,30,null,null,null,null,null,null,null,null,null,null,null,null,null,null,null,null,null,null,null,null,null,null,null,null,null,null,null,null,null,null,null,null,null,null,null,null,null,null,null,null,null,null,null,null,null,null,null,null,null,null,null,null,null,null,null,"",null,null,null,null,"",null,null,null,null,"",null,null,null,null,"",null,null,null,null,"",null,null,null,null,null,null,null,null,null,null,null,111,71,39,23,null,null,null,"E20",73,24,9]
[null,19,129,null,null,112,null,19,65,45,20,105,null,19,33,23,10,44,null,19,17,12,5,22,null,null,null,null,null,null,null,null,null,null,null,null,null,null,null,null,null,null,null,null,null,null,null,null,null,null,null,null,null,null,null,null,null,null,null,null,null,null,null,null,null,null,null,null,null,null,null,null,null,null,null,null,null,129,null,"",160,null,65,41,"E24",112,null,33,21,"E12",41,null,17,11,"E6",21,null,9,6,"E3",11,null,null,null,null,null,null,null,null,null,null,null,null,null,null,null,null,null,"E21",179,19,14]
[null,20,65,null,null,145,null,20,33,null,null,24,null,20,17,null," ",28,null,20,9,null,null,11,null,null,null,null,null,null,null,null,null,null,null,null,null,null,null,null,null,null,null,null,null,null,null,null,null,null,null,null,null,null,null,null,null,null,null,null,null,null,null,null,null,null,null,null,null,null,null,null,null,null,null,null,null,129,32,"E29",32,null,65,9,"E56",48,null,33,5,"E28",57,null,17,3,"E14",29,null,9,2,"E7",15,null,null,null,null,null,null,null,null,8,null,45,33,24,16,null,null,null,"E22",77,20,13]
[null,21,65,null,null,81,null,21,33,null,null,73,null,21,17,null," ",21,null,21,9,null,null,14,null,null,null,null,null,null,null,null,null,null,null,null,null,null,null,null,null,null,null,null,null,null,null,null,null,null,null,null,null,null,null,null,null,null,null,null,null,null,null,null,null,null,null,null,null,null,null,null,null,null,null,null,null,null,null,"",null,null,null,null,"",null,null,null,null,"",null,null,null,null,"",null,null,null,null,null,null,null,null,null,null,null,null,null,null,null,null,112,72,40,24,null,null,null,"E23",79,18,15]
[null,22,129,null,8,176,null,22,65,61,4,56,null,22,33,31,2,37,null,22,17,null,1,19,null,null,null,null,null,null,null,null,null,null,null,null,null,null,null,null,null,null,null,null,null,null,null,null,null,null,null,null,null,null,null,null,null,null,null,null,null,null,null,null,null,null,null,null,null,null,null,null,null,null,null,null,null,32,null,"",225,null,9,0,"",81,null,5," ","",8,null,3,0,"",4,null,2,0,0,2,null,null,null,null,null,null,null,null,null,null,null,null,null,null,null,null,null,"E24",177,17,16]
[null,23,129,48,null,48,null,23,65,29,36,120,null,23,33,15,18,53,null,23,17,8,9,27,null,null,null,null,null,null,null,null,null,null,null,null,null,null,null,null,null,null,null,null,null,null,null,null,null,null,null,null,null,null,null,null,null,null,null,null,null,null,null,null,null,null,null,null,null,null,null,null,null,null,null,null,null,17,null,"",17,null,9,0,"",88,null,5,0,"",5,null,3,0,"",3,null,null,null,null,null,null,null,null,null,null,null,null,null,9,null,87,43,27,null,null,null,null,"E25",103,70,6]
[null,24,48,null,null,209,null,24,17,null,null,9,null,24,9," "," ",12,null,24,5,null,null,6,null,null,null,null,null,null,null,null,null,null,null,null,null,null,null,null,null,null,null,null,null,null,null,null,null,null,null,null,null,null,null,null,null,null,null,null,null,null,null,null,null,null,null,null,null,null,null,null,null,null,null,null,null,null,null,"",null,null,null,null,"",null,null,null,null,"",null,null,null,null,"",null,null,null,null,null,null,null,null,null,null,null,null,null,null,null,null,113,73,41,null,null,null,null,"E26",89,69,5]
[null,25,33,null,null,49,null,25,17,null,null,89,null,25,9,null," ",13,null,25,5,null,null,7,null,null,null,null,null,null,null,null,null,null,null,null,null,null,null,null,null,null,null,null,null,null,null,null,null,null,null,null,null,null,null,null,null,null,null,null,null,null,null,null,null,null,null,null,null,null,null,null,null,null,null,null,null,129,17,"",240,null,65,13,"E52",41,null,33,7,"E26",60,null,17,4,"E13",30,null,null,null,null,null,null,null,null,null,null,null,null,null,null,null,null,null,null,null,null,null,null,"E27",141,71,7]
[null,26,129,33,null,208,null,26,65,21,44,40,null,26,33,11,22,52,null,26,17,6,11,26,null,null,null,null,null,null,null,null,null,null,null,null,null,null,null,null,null,null,null,null,null,null,null,null,null,null,null,null,null,null,null,null,null,null,null,null,null,null,null,null,null,null,null,null,null,null,null,null,null,null,null,null,null,129,null,"",112,null,65,45,"E20",105,null,33,23,"E10",44,null,17,12,"E5",22,null,null,null,null,null,null,null,null,null,null,null,null,null,10,null,58,44,28,null,null,null,null,"E28",227,72,8]
[null,27,129,null,24,80,null,27,65,53,12,104,null,27,33,27,6,36,null,27,17,14,3,18,null,null,null,null,null,null,null,null,null,null,null,null,null,null,null,null,null,null,null,null,null,null,null,null,null,null,null,null,null,null,null,null,null,null,null,null,null,null,null,null,null,null,null,null,null,null,null,null,null,null,null,null,null,null,null,"",null,null,null,null,"",null,null,null,null,"",null,null,null,null,"",null,null,null,null,null,null,null,null,null,null,null,null,null,null,null,null,114,74,42,null,null,null,null,"E29",225,67,3]
[null,28,65,null,null,177,null,28,33,null,null,25,null,28,17,null," ",20,null,28,9,null,null,10,null,null,null,null,null,null,null,null,null,null,null,null,null,null,null,null,null,null,null,null,null,null,null,null,null,null,null,null,null,null,null,null,null,null,null,null,null,null,null,null,null,null,null,null,null,null,null,null,null,null,null,null,null,65,null,"",145,null,33,0,"",24,null,17,0,"",28,null,9,0,"",11,null,null,null,null,null,null,null,null,null,null,null,null,null,null,null,null,null,null,null,null,null,null,"E30",21,68,4]
[null,29,65,null,null,113,null,29,33,null,null,72,null,29,17,null," ",29,null,29,9,null,null,15,null,null,null,null,null,null,null,null,null,null,null,null,null,null,null,null,null,null,null,null,null,null,null,null,null,null,null,null,null,null,null,null,null,null,null,null,null,null,null,null,null,null,null,null,null,null,null,null,null,null,null,null,null,65,null,"",81,null,33,0,"",73,null,17,0,"",21,null,9,0,"",14,null,null,null,null,null,null,null,null,null,null,null,null,null,11,null,90,42,26,null,null,null,null,"E31",115,66,2]
[null,30,129,null,null,144,null,30,65,37,28,57,null,30,33,19,14,45,null,30,17,10,7,23,null,null,null,null,null,null,null,null,null,null,null,null,null,null,null,null,null,null,null,null,null,null,null,null,null,null,null,null,null,null,null,null,null,null,null,null,null,null,null,null,null,null,null,null,null,null,null,null,null,null,null,null,null,null,null,"",null,null,null,null,"",null,null,null,null,"",null,null,null,null,"",null,null,null,null,null,null,null,null,null,null,null,null,null,null,null,null,115,75,43,null,null,null,null,"E32",143,65,1]
[null,31,129,16,null,16,null,31,65,5,60,121,null,31,33,3,30,61,null,31,17,2,15,31,null,null,null,null,null,null,null,null,null,null,null,null,null,null,null,null,null,null,null,null,null,null,null,null,null,null,null,null,null,null,null,null,null,null,null,null,null,null,null,null,null,null,null,null,null,null,null,null,null,null,null,null,null,129,null,"E8",176,null,65,61,"E4",56,null,33,31,"E2",37,null,17,0,"E1",19,null,null,null,null,null,null,null,null,null,null,null,null,null,null,null,null,null,null,null,null,null,null,"E33",null,11]
[null,32,16,null,null,241,null,32,5,null,null,8,null,32,3," "," ",4,null,32,2,null,null,2,null,null,null,null,null,null,null,null,null,null,null,null,null,null,null,null,null,null,null,null,null,null,null,null,null,null,null,null,null,null,null,null,null,null,null,null,null,null,null,null,null,null,null,null,null,null,null,null,null,null,null,null,null,129,48,"",48,null,65,29,"E36",120,null,33,15,"E18",53,null,17,8,"E9",27,null,null,null,null,null,null,null,null,null,null,null,null,null,12,null,55,41,25,null,null,null,null,"E34",null,12]
[null,33,9,null,null,9,null,33,5,null,null,5,null,33,3,null," ",3,null,null,null,null,null,null,null,null,null,null,null,null,null,null,null,null,null,null,null,null,null,null,null,null,null,null,null,null,null,null,null,null,null,null,null,null,null,null,null,null,null,null,null,null,null,null,null,null,null,null,null,null,null,null,null,null,null,null,null,null,null,"",null,null,null,null,"",null,null,null,null,"",null,null,null,null,"",null,null,null,null,null,null,null,null,null,null,null,null,null,null,null,null,116,76,44,null,null,null,null,"E35",null,10]
[null,34,129,9,null,248,null,34,65,7,58,124,null,34,33,4,29,62,null,null,null,null,null,null,null,null,null,null,null,null,null,null,null,null,null,null,null,null,null,null,null,null,null,null,null,null,null,null,null,null,null,null,null,null,null,null,null,null,null,null,null,null,null,null,null,null,null,null,null,null,null,null,null,null,null,null,null,48,null,"",209,null,17,0,"",9,null,9," ","",12,null,5,0,"",6,null,null,null,null,null,null,null,null,null,null,null,null,null,null,null,null,null,null,null,null,null,null,"E36",null,9]
[null,35,129,null,null,120,null,35,65,39,26,60,null,35,33,20,13,46,null,null,null,null,null,null,null,null,null,null,null,null,null,null,null,null,null,null,null,null,null,null,null,null,null,null,null,null,null,null,null,null,null,null,null,null,null,null,null,null,null,null,null,null,null,null,null,null,null,null,null,null,null,null,null,null,null,null,null,33,null,"",49,null,17,0,"",89,null,9,0,"",13,null,5,0,"",7,null,null,null,null,null,null,null,null,null,null,null,null,null,13,null,74,46,30,null,null,null,null,"E37",null,14]
[null,36,65,null,null,137,null,36,33,null,null,69,null,36,17,null," ",30,null,null,null,null,null,null,null,null,null,null,null,null,null,null,null,null,null,null,null,null,null,null,null,null,null,null,null,null,null,null,null,null,null,null,null,null,null,null,null,null,null,null,null,null,null,null,null,null,null,null,null,null,null,null,null,null,null,null,null,null,null,"",null,null,null,null,"",null,null,null,null,"",null,null,null,null,"",null,null,null,null,null,null,null,null,null,null,null,null,null,null,null,null,117,77,45,null,null,null,null,"E38",null,13]
[null,37,65,null,null,73,null,37,33,null,null,28,null,37,17,null," ",19,null,null,null,null,null,null,null,null,null,null,null,null,null,null,null,null,null,null,null,null,null,null,null,null,null,null,null,null,null,null,null,null,null,null,null,null,null,null,null,null,null,null,null,null,null,null,null,null,null,null,null,null,null,null,null,null,null,null,null,129,33,"",208,null,65,21,"E44",40,null,33,11,"E22",52,null,17,6,"E11",26,null,null,null,null,null,null,null,null,null,null,null,null,null,null,null,null,null,null,null,null,null,null,"E39",null,15]
[null,38,129,null,20,184,null,38,65,55,10,101,null,38,33,28,5,35,null,null,null,null,null,null,null,null,null,null,null,null,null,null,null,null,null,null,null,null,null,null,null,null,null,null,null,null,null,null,null,null,null,null,null,null,null,null,null,null,null,null,null,null,null,null,null,null,null,null,null,null,null,null,null,null,null,null,null,129,null,"E24",80,null,65,53,"E12",104,null,33,27,"E6",36,null,17,14,"E3",18,null,null,null,null,null,null,null,null,null,null,null,null,null,14,null,71,45,29,null,null,null,null,"E40",null,16]
[null,39,129,40,null,56,null,39,65,23,42,37,null,39,33,12,21,51,null,null,null,null,null,null,null,null,null,null,null,null,null,null,null,null,null,null,null,null,null,null,null,null,null,null,null,null,null,null,null,null,null,null,null,null,null,null,null,null,null,null,null,null,null,null,null,null,null,null,null,null,null,null,null,null,null,null,null,null,null,"",null,null,null,null,"",null,null,null,null,"",null,null,null,null,"",null,null,null,null,null,null,null,null,null,null,null,null,null,null,null,null,118,78,46,null,null,null,null,"E41",null,91]
[null,40,40,null,null,201,null,40,17,null,null,92,null,40,9," "," ",14,null,null,null,null,null,null,null,null,null,null,null,null,null,null,null,null,null,null,null,null,null,null,null,null,null,null,null,null,null,null,null,null,null,null,null,null,null,null,null,null,null,null,null,null,null,null,null,null,null,null,null,null,null,null,null,null,null,null,null,65,null,"",177,null,33,0,"",25,null,17,0,"",20,null,9,0,"",10,null,null,null,null,null,null,null,null,null,null,null,null,null,null,null,null,null,null,null,null,null,null,"E42",null,92]
[null,41,41,null,null,41,null,41,17,null,null,12,null,41,9,null," ",11,null,null,null,null,null,null,null,null,null,null,null,null,null,null,null,null,null,null,null,null,null,null,null,null,null,null,null,null,null,null,null,null,null,null,null,null,null,null,null,null,null,null,null,null,null,null,null,null,null,null,null,null,null,null,null,null,null,null,null,65,null,"",113,null,33,0,"",72,null,17,0,"",29,null,9,0,"",15,null,null,null,null,null,null,null,null,null,null,null,null,null,15,null,103,47,31,null,null,null,null,"E43",null,90]
[null,42,129,41,null,216,null,42,65,31,34,117,null,42,33,16,17,54,null,null,null,null,null,null,null,null,null,null,null,null,null,null,null,null,null,null,null,null,null,null,null,null,null,null,null,null,null,null,null,null,null,null,null,null,null,null,null,null,null,null,null,null,null,null,null,null,null,null,null,null,null,null,null,null,null,null,null,null,null,"",null,null,null,null,"",null,null,null,null,"",null,null,null,null,"",null,null,null,null,null,null,null,null,null,null,null,null,null,null,null,null,119,79,47,null,null,null,null,"E44",null,89]
[null,43,129,null,4,88,null,43,65,63,2,53,null,43,33,null,1,38,null,null,null,null,null,null,null,null,null,null,null,null,null,null,null,null,null,null,null,null,null,null,null,null,null,null,null,null,null,null,null,null,null,null,null,null,null,null,null,null,null,null,null,null,null,null,null,null,null,null,null,null,null,null,null,null,null,null,null,129,null,"",144,null,65,37,"E28",57,null,33,19,"E14",45,null,17,10,"E7",23,null,null,null,null,null,null,null,null,null,null,null,null,null,null,null,null,null,null,null,null,null,null,"E45",null,94]
[null,44,65,null,null,169,null,44,33,null,null,76,null,44,17,null," ",22,null,null,null,null,null,null,null,null,null,null,null,null,null,null,null,null,null,null,null,null,null,null,null,null,null,null,null,null,null,null,null,null,null,null,null,null,null,null,null,null,null,null,null,null,null,null,null,null,null,null,null,null,null,null,null,null,null,null,null,129,16,"",16,null,65,5,"E60",121,null,33,3,"E30",61,null,17,2,"E15",31,null,null,null,null,null,null,null,null,null,null,null,null,null,16,null,42,48,32,null,null,null,null,"E46",null,93]
[null,45,65,null,null,105,null,45,33,null,null,21,null,45,17,null," ",27,null,null,null,null,null,null,null,null,null,null,null,null,null,null,null,null,null,null,null,null,null,null,null,null,null,null,null,null,null,null,null,null,null,null,null,null,null,null,null,null,null,null,null,null,null,null,null,null,null,null,null,null,null,null,null,null,null,null,null,null,null,"",null,null,null,null,"",null,null,null,null,"",null,null,null,null,null,null,null,null,null,null,null,null,null,null,null,null,null,null,null,null,null,120,80,48,null,null,null,null,"E47",null,95]
[null,46,129,null,null,152,null,46,65,47,18,108,null,46,33,24,9,43,null,null,null,null,null,null,null,null,null,null,null,null,null,null,null,null,null,null,null,null,null,null,null,null,null,null,null,null,null,null,null,null,null,null,null,null,null,null,null,null,null,null,null,null,null,null,null,null,null,null,null,null,null,null,null,null,null,null,null,16,null,"",241,null,5,0,"",8,null,3," ","",4,null,2,0,0,2,null,null,null,null,null,null,null,null,null,null,null,null,null,null,null,null,null,null,null,null,null,null,"E48",null,96]
[null,47,129,24,null,24,null,47,65,15,50,44,null,47,33,8,25,59,null,null,null,null,null,null,null,null,null,null,null,null,null,null,null,null,null,null,null,null,null,null,null,null,null,null,null,null,null,null,null,null,null,null,null,null,null,null,null,null,null,null,null,null,null,null,null,null,null,null,null,null,null,null,null,null,null,null,null,9,null,"",9,null,5,0,"",5,null,3,0,"",3,null,null,null,null,null,null,null,null,null,null,null,null,null,null,null,null,null,null,17,null,82,54,null,null,null,null,null,"E49",null,86]
[null,48,24,null,null,233,null,48,9,null,null,85,null,48,5," "," ",6,null,null,null,null,null,null,null,null,null,null,null,null,null,null,null,null,null,null,null,null,null,null,null,null,null,null,null,null,null,null,null,null,null,null,null,null,null,null,null,null,null,null,null,null,null,null,null,null,null,null,null,null,null,null,null,null,null,null,null,null,null,"",null,null,null,null,"",null,null,null,null,"",null,null,null,null,null,null,null,null,null,null,null,null,null,null,null,null,null,null,null,null,null,121,81,null,null,null,null,null,"E50",null,85]
[null,49,25,null,null,25,null,49,9,null,null,84,null,49,5,null," ",7,null,null,null,null,null,null,null,null,null,null,null,null,null,null,null,null,null,null,null,null,null,null,null,null,null,null,null,null,null,null,null,null,null,null,null,null,null,null,null,null,null,null,null,null,null,null,null,null,null,null,null,null,null,null,null,null,null,null,null,129,9,"",248,null,65,7,"E58",124,null,33,4,"E29",62,null,null,null,null,null,null,null,null,null,null,null,null,null,null,null,null,null,null,null,null,null,null,null,null,null,null,null,"E51",null,87]
[null,50,129,25,null,232,null,50,65,11,54,45,null,50,33,6,27,58,null,null,null,null,null,null,null,null,null,null,null,null,null,null,null,null,null,null,null,null,null,null,null,null,null,null,null,null,null,null,null,null,null,null,null,null,null,null,null,null,null,null,null,null,null,null,null,null,null,null,null,null,null,null,null,null,null,null,null,129,null,"",120,null,65,39,"E26",60,null,33,20,"E13",46,null,null,null,null,null,null,null,null,null,null,null,null,null,null,null,null,null,null,18,null,63,53,null,null,null,null,null,"E52",null,88]
[null,51,129,null,null,104,null,51,65,43,22,109,null,51,33,22,11,42,null,null,null,null,null,null,null,null,null,null,null,null,null,null,null,null,null,null,null,null,null,null,null,null,null,null,null,null,null,null,null,null,null,null,null,null,null,null,null,null,null,null,null,null,null,null,null,null,null,null,null,null,null,null,null,null,null,null,null,null,null,"",null,null,null,null,"",null,null,null,null,"",null,null,null,null,null,null,null,null,null,null,null,null,null,null,null,null,null,null,null,null,null,122,82,null,null,null,null,null,"E53",null,83]
[null,52,65,null,null,153,null,52,33,null,null,20,null,52,17,null," ",26,null,null,null,null,null,null,null,null,null,null,null,null,null,null,null,null,null,null,null,null,null,null,null,null,null,null,null,null,null,null,null,null,null,null,null,null,null,null,null,null,null,null,null,null,null,null,null,null,null,null,null,null,null,null,null,null,null,null,null,65,null,"",137,null,33,0,"",69,null,17,0,"",30,null,null,null,null,null,null,null,null,null,null,null,null,null,null,null,null,null,null,null,null,null,null,null,null,null,null,null,"E54",null,84]
[null,53,65,null,null,89,null,53,33,null,null,77,null,53,17,null," ",23,null,null,null,null,null,null,null,null,null,null,null,null,null,null,null,null,null,null,null,null,null,null,null,null,null,null,null,null,null,null,null,null,null,null,null,null,null,null,null,null,null,null,null,null,null,null,null,null,null,null,null,null,null,null,null,null,null,null,null,65,null,"",73,null,33,0,"",28,null,17,0,"",19,null,null,null,null,null,null,null,null,null,null,null,null,null,null,null,null,null,null,19,null,95,55,null,null,null,null,null,"E55",null,82]
[null,54,129,null,26,168,null,54,65,59,6,52,null,54,33,14,3,39,null,null,null,null,null,null,null,null,null,null,null,null,null,null,null,null,null,null,null,null,null,null,null,null,null,null,null,null,null,null,null,null,null,null,null,null,null,null,null,null,null,null,null,null,null,null,null,null,null,null,null,null,null,null,null,null,null,null,null,null,null,"",null,null,null,null,"",null,null,null,null,"",null,null,null,null,null,null,null,null,null,null,null,null,null,null,null,null,null,null,null,null,null,123,83,null,null,null,null,null,"E56",null,81]
[null,55,129,56,null,40,null,55,65,27,38,116,null,55,33,8,19,55,null,null,null,null,null,null,null,null,null,null,null,null,null,null,null,null,null,null,null,null,null,null,null,null,null,null,null,null,null,null,null,null,null,null,null,null,null,null,null,null,null,null,null,null,null,null,null,null,null,null,null,null,null,null,null,null,null,null,null,129,null,"E20",184,null,65,55,"E10",101,null,33,28,"E5",35,null,null,null,null,null,null,null,null,null,null,null,null,null,null,null,null,null,null,null,null,null,null,null,null,null,null,null,"E57",null,6]
[null,56,56,null,null,217,null,56,17,null,null,13,null,56,9," "," ",10,null,null,null,null,null,null,null,null,null,null,null,null,null,null,null,null,null,null,null,null,null,null,null,null,null,null,null,null,null,null,null,null,null,null,null,null,null,null,null,null,null,null,null,null,null,null,null,null,null,null,null,null,null,null,null,null,null,null,null,129,40,"",56,null,65,23,"E42",37,null,33,12,"E21",51,null,null,null,null,null,null,null,null,null,null,null,null,null,null,null,null,null,null,20,null,50,56,null,null,null,null,null,"E58",null,5]
[null,57,57,999,null,57,null,57,17,null,null,93,null,57,9,null," ",15,null,null,null,null,null,null,null,null,null,null,null,null,null,null,null,null,null,null,null,null,null,null,null,null,null,null,null,null,null,null,null,null,null,null,null,null,null,null,null,null,null,null,null,null,null,null,null,null,null,null,null,null,null,null,null,null,null,null,null,null,null,"",null,null,null,null,"",null,null,null,null,"",null,null,null,null,null,null,null,null,null,null,null,null,null,null,null,null,null,null,null,null,null,124,84,null,null,null,null,null,"E59",null,7]
[null,58,129,999,null,200,null,58,65,19,46,36,null,58,33,10,23,50,null,null,null,null,null,null,null,null,null,null,null,null,null,null,null,null,null,null,null,null,null,null,null,null,null,null,null,null,null,null,null,null,null,null,null,null,null,null,null,null,null,null,null,null,null,null,null,null,null,null,null,null,null,null,null,null,null,null,null,40,null,"",201,null,17,0,"",92,null,9," ","",14,null,null,null,null,null,null,null,null,null,null,null,null,null,null,null,null,null,null,null,null,null,null,null,null,null,null,null,"E60",null,8]
[null,59,129,999,null,72,null,59,65,51,14,100,null,59,33,26,7,34,null,null,null,null,null,null,null,null,null,null,null,null,null,null,null,null,null,null,null,null,null,null,null,null,null,null,null,null,null,null,null,null,null,null,null,null,null,null,null,null,null,null,null,null,null,null,null,null,null,null,null,null,null,null,null,null,null,null,null,41,null,"",41,null,17,0,"",12,null,9,0,"",11,null,null,null,null,null,null,null,null,null,null,null,null,null,null,null,null,null,null,21,null,79,51,null,null,null,null,null,"E61",null,3]
[null,60,65,999,null,185,null,60,33,null,null,29,null,60,17,null," ",18,null,null,null,null,null,null,null,null,null,null,null,null,null,null,null,null,null,null,null,null,null,null,null,null,null,null,null,null,null,null,null,null,null,null,null,null,null,null,null,null,null,null,null,null,null,null,null,null,null,null,null,null,null,null,null,null,null,null,null,null,null,"",null,null,null,null,"",null,null,null,null,"",null,null,null,null,null,null,null,null,null,null,null,null,null,null,null,null,null,null,null,null,null,125,85,null,null,null,null,null,"E62",null,4]
[null,61,65,999,null,121,null,61,33,null,null,68,null,61,17,null," ",31,null,null,null,null,null,null,null,null,null,null,null,null,null,null,null,null,null,null,null,null,null,null,null,null,null,null,null,null,null,null,null,null,null,null,null,null,null,null,null,null,null,null,null,null,null,null,null,null,null,null,null,null,null,null,null,null,null,null,null,129,41,"",216,null,65,31,"E34",117,null,33,16,"E17",54,null,null,null,null,null,null,null,null,null,null,null,null,null,null,null,null,null,null,null,null,null,null,null,null,null,null,null,"E63",null,2]
[null,62,129,999,null,136,null,62,65,35,30,61,null,62,33,18,15,47,null,null,null,null,null,null,null,null,null,null,null,null,null,null,null,null,null,null,null,null,null,null,null,null,null,null,null,null,null,null,null,null,null,null,null,null,null,null,null,null,null,null,null,null,null,null,null,null,null,null,null,null,null,null,null,null,null,null,null,129,null,"E4",88,null,65,63,"E2",53,null,33,0,"E1",38,null,null,null,null,null,null,null,null,null,null,null,null,null,null,null,null,null,null,22,null,66,52,null,null,null,null,null,"E64",null,1]
[null,63,129,999,null,249,null,63,65,3,62,125,null,63,33,2,31,63,null,null,null,null,null,null,null,null,null,null,null,null,null,null,null,null,null,null,null,null,null,null,null,null,null,null,null,null,null,null,null,null,null,null,null,null,null,null,null,null,null,null,null,null,null,null,null,null,null,null,null,null,null,null,null,null,null,null,null,null,null,"",null,null,null,null,"",null,null,null,null,"",null,null,null,null,null,null,null,null,null,null,null,null,null,null,null,null,null,null,null,null,null,126,86]
[null,64,8,null,null,8,null,64,3,null,null,4,null,64,2," "," ",2,null,null,null,null,null,null,null,null,null,null,null,null,null,null,null,null,null,null,null,null,null,null,null,null,null,null,null,null,null,null,null,null,null,null,null,null,null,null,null,null,null,null,null,null,null,null,null,null,null,null,null,null,null,null,null,null,null,null,null,65,null,"",169,null,33,0,"",76,null,17,0,"",22]
[null,65,5,null,null,5,null,65,3,null,null,3,null,null,null,null,null,null,null,null,null,null,null,null,null,null,null,null,null,null,null,null,null,null,null,null,null,null,null,null,null,null,null,null,null,null,null,null,null,null,null,null,null,null,null,null,null,null,null,null,null,null,null,null,null,null,null,null,null,null,null,null,null,null,null,null,null,65,null,"",105,null,33,0,"",21,null,17,0,"",27,null,null,null,null,null,null,null,null,null,null,null,null,null,null,null,null,null,null,23,null,98,50]
[null,66,129,999,null,252,null,66,65,4,61,126,null,null,null,null,null,null,null,null,null,null,null,null,null,null,null,null,null,null,null,null,null,null,null,null,null,null,null,null,null,null,null,null,null,null,null,null,null,null,null,null,null,null,null,null,null,null,null,null,null,null,null,null,null,null,null,null,null,null,null,null,null,null,null,null,null,null,null,"",null,null,null,null,"",null,null,null,null,"",null,null,null,null,null,null,null,null,null,null,null,null,null,null,null,null,null,null,null,null,null,127,87]
[null,67,129,999,null,124,null,67,65,36,29,62,null,null,null,null,null,null,null,null,null,null,null,null,null,null,null,null,null,null,null,null,null,null,null,null,null,null,null,null,null,null,null,null,null,null,null,null,null,null,null,null,null,null,null,null,null,null,null,null,null,null,null,null,null,null,null,null,null,null,null,null,null,null,null,null,null,129,null,"",152,null,65,47,"E18",108,null,33,24,"E9",43]
[null,68,65,999,null,133,null,68,33,null,null,67,null,null,null,null,null,null,null,null,null,null,null,null,null,null,null,null,null,null,null,null,null,null,null,null,null,null,null,null,null,null,null,null,null,null,null,null,null,null,null,null,null,null,null,null,null,null,null,null,null,null,null,null,null,null,null,null,null,null,null,null,null,null,null,null,null,129,24,"",24,null,65,15,"E50",44,null,33,8,"E25",59,null,null,null,null,null,null,null,null,null,null,null,null,null,null,null,null,null,null,24,null,47,49]
[null,69,65,999,null,69,null,69,33,null,null,30,null,null,null,null,null,null,null,null,null,null,null,null,null,null,null,null,null,null,null,null,null,null,null,null,null,null,null,null,null,null,null,null,null,null,null,null,null,null,null,null,null,null,null,null,null,null,null,null,null,null,null,null,null,null,null,null,null,null,null,null,null,null,null,null,null,null,null,"",null,null,null,null,"",null,null,null,null,"",null,null,null,null,null,null,null,null,null,null,null,null,null,null,null,null,null,null,null,null,null,128,88]
[null,70,129,999,null,188,null,70,65,52,13,99,null,null,null,null,null,null,null,null,null,null,null,null,null,null,null,null,null,null,null,null,null,null,null,null,null,null,null,null,null,null,null,null,null,null,null,null,null,null,null,null,null,null,null,null,null,null,null,null,null,null,null,null,null,null,null,null,null,null,null,null,null,null,null,null,null,24,null,"",233,null,9,0,"",85,null,5," ","",6]
[null,71,129,999,null,60,null,71,65,20,45,35,null,null,null,null,null,null,null,null,null,null,null,null,null,null,null,null,null,null,null,null,null,null,null,null,null,null,null,null,null,null,null,null,null,null,null,null,null,null,null,null,null,null,null,null,null,null,null,null,null,null,null,null,null,null,null,null,null,null,null,null,null,null,null,null,null,25,null,"",25,null,9,0,"",84,null,5,0,"",7,null,null,null,null,null,null,null,null,null,null,null,null,null,null,null,null,null,null,25,null,91,59]
[null,72,60,999,null,197,null,72,17,null,null,94,null,null,null,null,null,null,null,null,null,null,null,null,null,null,null,null,null,null,null,null,null,null,null,null,null,null,null,null,null,null,null,null,null,null,null,null,null,null,null,null,null,null,null,null,null,null,null,null,null,null,null,null,null,null,null,null,null,null,null,null,null,null,null,null,null,null,null,"",null,null,null,null,"",null,null,null,null,"",null,null,null,null,null,null,null,null,null,null,null,null,null,null,null,null,null,null,null,null,null,129,89]
[null,73,53,null,null,37,null,73,17,null,null,14,null,null,null,null,null,null,null,null,null,null,null,null,null,null,null,null,null,null,null,null,null,null,null,null,null,null,null,null,null,null,null,null,null,null,null,null,null,null,null,null,null,null,null,null,null,null,null,null,null,null,null,null,null,null,null,null,null,null,null,null,null,null,null,null,null,129,25,"",232,null,65,11,"E54",45,null,33,6,"E27",58]
[null,74,129,53,null,220,null,74,65,28,37,115,null,null,null,null,null,null,null,null,null,null,null,null,null,null,null,null,null,null,null,null,null,null,null,null,null,null,null,null,null,null,null,null,null,null,null,null,null,null,null,null,null,null,null,null,null,null,null,null,null,null,null,null,null,null,null,null,null,null,null,null,null,null,null,null,null,129,null,"",104,null,65,43,"E22",109,null,33,22,"E11",42,null,null,null,null,null,null,null,null,null,null,null,null,null,null,null,null,null,null,26,null,54,60]
[null,75,129,null,10,92,null,75,65,60,5,51,null,null,null,null,null,null,null,null,null,null,null,null,null,null,null,null,null,null,null,null,null,null,null,null,null,null,null,null,null,null,null,null,null,null,null,null,null,null,null,null,null,null,null,null,null,null,null,null,null,null,null,null,null,null,null,null,null,null,null,null,null,null,null,null,null,null,null,"",null,null,null,null,"",null,null,null,null,"",null,null,null,null,null,null,null,null,null,null,null,null,null,null,null,null,null,null,null,null,null,130,90]
[null,76,65,null,null,165,null,76,33,null,null,78,null,null,null,null,null,null,null,null,null,null,null,null,null,null,null,null,null,null,null,null,null,null,null,null,null,null,null,null,null,null,null,null,null,null,null,null,null,null,null,null,null,null,null,null,null,null,null,null,null,null,null,null,null,null,null,null,null,null,null,null,null,null,null,null,null,65,null,"",153,null,33,0,"",20,null,17,0,"",26]
[null,77,65,null,null,101,null,77,33,null,null,19,null,null,null,null,null,null,null,null,null,null,null,null,null,null,null,null,null,null,null,null,null,null,null,null,null,null,null,null,null,null,null,null,null,null,null,null,null,null,null,null,null,null,null,null,null,null,null,null,null,null,null,null,null,null,null,null,null,null,null,null,null,null,null,null,null,65,null,"",89,null,33,0,"",77,null,17,0,"",23,null,null,null,null,null,null,null,null,null,null,null,null,null,null,null,null,null,null,27,null,65,58]
[null,78,129,null,null,156,null,78,65,44,21,110,null,null,null,null,null,null,null,null,null,null,null,null,null,null,null,null,null,null,null,null,null,null,null,null,null,null,null,null,null,null,null,null,null,null,null,null,null,null,null,null,null,null,null,null,null,null,null,null,null,null,null,null,null,null,null,null,null,null,null,null,null,null,null,null,null,null,null,"",null,null,null,null,"",null,null,null,null,"",null,null,null,null,null,null,null,null,null,null,null,null,null,null,null,null,null,null,null,null,null,131,91]
[null,79,129,28,2,28,null,79,65,12,53,46,null,null,null,null,null,null,null,null,null,null,null,null,null,null,null,null,null,null,null,null,null,null,null,null,null,null,null,null,null,null,null,null,null,null,null,null,null,null,null,null,null,null,null,null,null,null,null,null,null,null,null,null,null,null,null,null,null,null,null,null,null,null,null,null,null,129,null,"E26",168,null,65,59,"E6",52,null,33,14,"E3",39]
[null,80,28,null,null,229,null,80,9,null,null,83,null,null,null,null,null,null,null,null,null,null,null,null,null,null,null,null,null,null,null,null,null,null,null,null,null,null,null,null,null,null,null,null,null,null,null,null,null,null,null,null,null,null,null,null,null,null,null,null,null,null,null,null,null,null,null,null,null,null,null,null,null,null,null,null,null,129,56,"",40,null,65,27,"E38",116,null,33,8,"E19",55,null,null,null,null,null,null,null,null,null,null,null,null,null,null,null,null,null,null,28,null,76,57]
[null,81,21,null,null,21,null,81,9,null,null,86,null,null,null,null,null,null,null,null,null,null,null,null,null,null,null,null,null,null,null,null,null,null,null,null,null,null,null,null,null,null,null,null,null,null,null,null,null,null,null,null,null,null,null,null,null,null,null,null,null,null,null,null,null,null,null,null,null,null,null,null,null,null,null,null,null,null,null,"",null,null,null,null,"",null,null,null,null,"",null,null,null,null,null,null,null,null,null,null,null,null,null,null,null,null,null,null,null,null,null,132,92]
[null,82,129,21,30,236,null,82,65,16,49,43,null,null,null,null,null,null,null,null,null,null,null,null,null,null,null,null,null,null,null,null,null,null,null,null,null,null,null,null,null,null,null,null,null,null,null,null,null,null,null,null,null,null,null,null,null,null,null,null,null,null,null,null,null,null,null,null,null,null,null,null,null,null,null,null,null,56,null,"",217,null,17,0,"",13,null,9," ","",10]
[null,83,129,null,null,108,null,83,65,48,17,107,null,null,null,null,null,null,null,null,null,null,null,null,null,null,null,null,null,null,null,null,null,null,null,null,null,null,null,null,null,null,null,null,null,null,null,null,null,null,null,null,null,null,null,null,null,null,null,null,null,null,null,null,null,null,null,null,null,null,null,null,null,null,null,null,null,57,999,"",57,null,17,0,"",93,null,9,0,"",15,null,null,null,null,null,null,null,null,null,null,null,null,null,null,null,null,null,null,29,null,43,62]
[null,84,65,null,null,149,null,84,33,null,null,22,null,null,null,null,null,null,null,null,null,null,null,null,null,null,null,null,null,null,null,null,null,null,null,null,null,null,null,null,null,null,null,null,null,null,null,null,null,null,null,null,null,null,null,null,null,null,null,null,null,null,null,null,null,null,null,null,null,null,null,null,null,null,null,null,null,null,null,"",null,null,null,null,"",null,null,null,null,"",null,null,null,null,null,null,null,null,null,null,null,null,null,null,null,null,null,null,null,null,null,133,93]
[null,85,65,null,null,85,null,85,33,null,null,75,null,null,null,null,null,null,null,null,null,null,null,null,null,null,null,null,null,null,null,null,null,null,null,null,null,null,null,null,null,null,null,null,null,null,null,null,null,null,null,null,null,null,null,null,null,null,null,null,null,null,null,null,null,null,null,null,null,null,null,null,null,null,null,null,null,129,999,"",200,null,65,19,"E46",36,null,33,10,"E23",50]
[null,86,129,null,16,172,null,86,65,64,1,54,null,null,null,null,null,null,null,null,null,null,null,null,null,null,null,null,null,null,null,null,null,null,null,null,null,null,null,null,null,null,null,null,null,null,null,null,null,null,null,null,null,null,null,null,null,null,null,null,null,null,null,null,null,null,null,null,null,null,null,null,null,null,null,null,null,129,999,"",72,null,65,51,"E14",100,null,33,26,"E7",34,null,null,null,null,null,null,null,null,null,null,null,null,null,null,null,null,null,null,30,null,60,61]
[null,87,129,44,null,44,null,87,65,32,33,118,null,null,null,null,null,null,null,null,null,null,null,null,null,null,null,null,null,null,null,null,null,null,null,null,null,null,null,null,null,null,null,null,null,null,null,null,null,null,null,null,null,null,null,null,null,null,null,null,null,null,null,null,null,null,null,null,null,null,null,null,null,null,null,null,null,null,null,"",null,null,null,null,"",null,null,null,null,"",null,null,null,null,null,null,null,null,null,null,null,null,null,null,null,null,null,null,null,null,null,134,94]
[null,88,44,null,null,213,null,88,17,null,null,11,null,null,null,null,null,null,null,null,null,null,null,null,null,null,null,null,null,null,null,null,null,null,null,null,null,null,null,null,null,null,null,null,null,null,null,null,null,null,null,null,null,null,null,null,null,null,null,null,null,null,null,null,null,null,null,null,null,null,null,null,null,null,null,null,null,65,999,"",185,null,33,0,"",29,null,17,0,"",18]
[null,89,37,null,null,53,null,89,17,null,null,91,null,null,null,null,null,null,null,null,null,null,null,null,null,null,null,null,null,null,null,null,null,null,null,null,null,null,null,null,null,null,null,null,null,null,null,null,null,null,null,null,null,null,null,null,null,null,null,null,null,null,null,null,null,null,null,null,null,null,null,null,null,null,null,null,null,65,999,"",121,null,33,0,"",68,null,17,0,"",31,null,null,null,null,null,null,null,null,null,null,null,null,null,null,null,null,null,null,31,null,80,63]
[null,90,129,37,null,204,null,90,65,24,41,38,null,null,null,null,null,null,null,null,null,null,null,null,null,null,null,null,null,null,null,null,null,null,null,null,null,null,null,null,null,null,null,null,null,null,null,null,null,null,null,null,null,null,null,null,null,null,null,null,null,null,null,null,null,null,null,null,null,null,null,null,null,null,null,null,null,null,null,"",null,null,null,null,"",null,null,null,null,"",null,null,null,null,null,null,null,null,null,null,null,null,null,null,null,null,null,null,null,null,null,135,95]
[null,91,129,null,18,76,null,91,65,56,9,102,null,null,null,null,null,null,null,null,null,null,null,null,null,null,null,null,null,null,null,null,null,null,null,null,null,null,null,null,null,null,null,null,null,null,null,null,null,null,null,null,null,null,null,null,null,null,null,null,null,null,null,null,null,null,null,null,null,null,null,null,null,null,null,null,null,129,999,"",136,null,65,35,"E30",61,null,33,18,"E15",47]
[null,92,65,null,null,181,null,92,33,null,null,27,null,null,null,null,null,null,null,null,null,null,null,null,null,null,null,null,null,null,null,null,null,null,null,null,null,null,null,null,null,null,null,null,null,null,null,null,null,null,null,null,null,null,null,null,null,null,null,null,null,null,null,null,null,null,null,null,null,null,null,null,null,null,null,null,null,129,999,"",249,null,65,3,"E62",125,null,33,2,"E31",63,null,null,null,null,null,null,null,null,null,null,null,null,null,null,null,null,null,null,32,null,97,64]
[null,93,65,null,null,117,null,93,33,null,null,70,null,null,null,null,null,null,null,null,null,null,null,null,null,null,null,null,null,null,null,null,null,null,null,null,null,null,null,null,null,null,null,null,null,null,null,null,null,null,null,null,null,null,null,null,null,null,null,null,null,null,null,null,null,null,null,null,null,null,null,null,null,null,null,null,null,null,null,"",null,null,null,null,"",null,null,null,null,null,null,null,null,null,null,null,null,null,null,null,null,null,null,null,null,null,null,null,null,null,null,136,96]
[null,94,129,null,null,140,null,94,65,40,25,59,null,null,null,null,null,null,null,null,null,null,null,null,null,null,null,null,null,null,null,null,null,null,null,null,null,null,null,null,null,null,null,null,null,null,null,null,null,null,null,null,null,null,null,null,null,null,null,null,null,null,null,null,null,null,null,null,null,null,null,null,null,null,null,null,null,8,null,"",8,null,3,0,"",4,null,2," "," ",2]
[null,95,129,12,null,12,null,95,65,8,57,123,null,null,null,null,null,null,null,null,null,null,null,null,null,null,null,null,null,null,null,null,null,null,null,null,null,null,null,null,null,null,null,null,null,null,null,null,null,null,null,null,null,null,null,null,null,null,null,null,null,null,null,null,null,null,null,null,null,null,null,null,null,null,null,null,null,5,null,"",5,null,3,0,"",3,null,null,null,null,null,null,null,null,null,null,null,null,null,null,null,null,null,null,null,null,null,null,null,33,null,102]
[null,96,12,null,null,245,null,96,5,null,null,6,null,null,null,null,null,null,null,null,null,null,null,null,null,null,null,null,null,null,null,null,null,null,null,null,null,null,null,null,null,null,null,null,null,null,null,null,null,null,null,null,null,null,null,null,null,null,null,null,null,null,null,null,null,null,null,null,null,null,null,null,null,null,null,null,null,null,null,"",null,null,null,null,"",null,null,null,null,null,null,null,null,null,null,null,null,null,null,null,null,null,null,null,null,null,null,null,null,null,null,137]
[null,97,13,null,null,13,null,97,5,null,null,7,null,null,null,null,null,null,null,null,null,null,null,null,null,null,null,null,null,null,null,null,null,null,null,null,null,null,null,null,null,null,null,null,null,null,null,null,null,null,null,null,null,null,null,null,null,null,null,null,null,null,null,null,null,null,null,null,null,null,null,null,null,null,null,null,null,129,999,"",252,null,65,4,"E61",126]
[null,98,129,13,null,244,null,98,65,6,59,122,null,null,null,null,null,null,null,null,null,null,null,null,null,null,null,null,null,null,null,null,null,null,null,null,null,null,null,null,null,null,null,null,null,null,null,null,null,null,null,null,null,null,null,null,null,null,null,null,null,null,null,null,null,null,null,null,null,null,null,null,null,null,null,null,null,129,999,"",124,null,65,36,"E29",62,null,null,null,null,null,null,null,null,null,null,null,null,null,null,null,null,null,null,null,null,null,null,null,34,null,64]
[null,99,129,null,27,116,null,99,65,38,27,58,null,null,null,null,null,null,null,null,null,null,null,null,null,null,null,null,null,null,null,null,null,null,null,null,null,null,null,null,null,null,null,null,null,null,null,null,null,null,null,null,null,null,null,null,null,null,null,null,null,null,null,null,null,null,null,null,null,null,null,null,null,null,null,null,null,null,null,"",null,null,null,null,"",null,null,null,null,null,null,null,null,null,null,null,null,null,null,null,null,null,null,null,null,null,null,null,null,null,null,138]
[null,100,65,null,null,141,null,100,33,null,null,71,null,null,null,null,null,null,null,null,null,null,null,null,null,null,null,null,null,null,null,null,null,null,null,null,null,null,null,null,null,null,null,null,null,null,null,null,null,null,null,null,null,null,null,null,null,null,null,null,null,null,null,null,null,null,null,null,null,null,null,null,null,null,null,null,null,65,999,"",133,null,33,0,"",67]
[null,101,65,null,null,77,null,101,33,null,null,26,null,null,null,null,null,null,null,null,null,null,null,null,null,null,null,null,null,null,null,null,null,null,null,null,null,null,null,null,null,null,null,null,null,null,null,null,null,null,null,null,null,null,null,null,null,null,null,null,null,null,null,null,null,null,null,null,null,null,null,null,null,null,null,null,null,65,999,"",69,null,33,0,"",30,null,null,null,null,null,null,null,null,null,null,null,null,null,null,null,null,null,null,null,null,null,null,null,35,null,59]
[null,102,129,null,22,180,null,102,65,54,11,103,null,null,null,null,null,null,null,null,null,null,null,null,null,null,null,null,null,null,null,null,null,null,null,null,null,null,null,null,null,null,null,null,null,null,null,null,null,null,null,null,null,null,null,null,null,null,null,null,null,null,null,null,null,null,null,null,null,null,null,null,null,null,null,null,null,null,null,"",null,null,null,null,"",null,null,null,null,null,null,null,null,null,null,null,null,null,null,null,null,null,null,null,null,null,null,null,null,null,null,139]
[null,103,129,36,null,52,null,103,65,22,43,39,null,null,null,null,null,null,null,null,null,null,null,null,null,null,null,null,null,null,null,null,null,null,null,null,null,null,null,null,null,null,null,null,null,null,null,null,null,null,null,null,null,null,null,null,null,null,null,null,null,null,null,null,null,null,null,null,null,null,null,null,null,null,null,null,null,129,999,"",188,null,65,52,"E13",99]
[null,104,36,null,null,205,null,104,17,null,null,90,null,null,null,null,null,null,null,null,null,null,null,null,null,null,null,null,null,null,null,null,null,null,null,null,null,null,null,null,null,null,null,null,null,null,null,null,null,null,null,null,null,null,null,null,null,null,null,null,null,null,null,null,null,null,null,null,null,null,null,null,null,null,null,null,null,129,999,"",60,null,65,20,"E45",35,null,null,null,null,null,null,null,null,null,null,null,null,null,null,null,null,null,null,null,null,null,null,null,36,null,75]
[null,105,45,null,null,45,null,105,17,null,null,10,null,null,null,null,null,null,null,null,null,null,null,null,null,null,null,null,null,null,null,null,null,null,null,null,null,null,null,null,null,null,null,null,null,null,null,null,null,null,null,null,null,null,null,null,null,null,null,null,null,null,null,null,null,null,null,null,null,null,null,null,null,null,null,null,null,null,null,"",null,null,null,null,"",null,null,null,null,null,null,null,null,null,null,null,null,null,null,null,null,null,null,null,null,null,null,null,null,null,null,140]
[null,106,129,45,null,212,null,106,65,30,35,119,null,null,null,null,null,null,null,null,null,null,null,null,null,null,null,null,null,null,null,null,null,null,null,null,null,null,null,null,null,null,null,null,null,null,null,null,null,null,null,null,null,null,null,null,null,null,null,null,null,null,null,null,null,null,null,null,null,null,null,null,null,null,null,null,null,60,999,"",197,null,17,0,"",94]
[null,107,129,null,6,84,null,107,65,62,3,55,null,null,null,null,null,null,null,null,null,null,null,null,null,null,null,null,null,null,null,null,null,null,null,null,null,null,null,null,null,null,null,null,null,null,null,null,null,null,null,null,null,null,null,null,null,null,null,null,null,null,null,null,null,null,null,null,null,null,null,null,null,null,null,null,null,53,null,"",37,null,17,0,"",14,null,null,null,null,null,null,null,null,null,null,null,null,null,null,null,null,null,null,null,null,null,null,null,37,null,48]
[null,108,65,null,null,173,null,108,33,null,null,74,null,null,null,null,null,null,null,null,null,null,null,null,null,null,null,null,null,null,null,null,null,null,null,null,null,null,null,null,null,null,null,null,null,null,null,null,null,null,null,null,null,null,null,null,null,null,null,null,null,null,null,null,null,null,null,null,null,null,null,null,null,null,null,null,null,null,null,"",null,null,null,null,"",null,null,null,null,null,null,null,null,null,null,null,null,null,null,null,null,null,null,null,null,null,null,null,null,null,null,141]
[null,109,65,null,null,109,null,109,33,null,null,23,null,null,null,null,null,null,null,null,null,null,null,null,null,null,null,null,null,null,null,null,null,null,null,null,null,null,null,null,null,null,null,null,null,null,null,null,null,null,null,null,null,null,null,null,null,null,null,null,null,null,null,null,null,null,null,null,null,null,null,null,null,null,null,null,null,129,53,"",220,null,65,28,"E37",115]
[null,110,129,null,12,148,null,110,65,46,19,106,null,null,null,null,null,null,null,null,null,null,null,null,null,null,null,null,null,null,null,null,null,null,null,null,null,null,null,null,null,null,null,null,null,null,null,null,null,null,null,null,null,null,null,null,null,null,null,null,null,null,null,null,null,null,null,null,null,null,null,null,null,null,null,null,null,129,null,"E10",92,null,65,60,"E5",51,null,null,null,null,null,null,null,null,null,null,null,null,null,null,null,null,null,null,null,null,null,null,null,38,null,49]
[null,111,129,20,null,20,null,111,65,14,51,42,null,null,null,null,null,null,null,null,null,null,null,null,null,null,null,null,null,null,null,null,null,null,null,null,null,null,null,null,null,null,null,null,null,null,null,null,null,null,null,null,null,null,null,null,null,null,null,null,null,null,null,null,null,null,null,null,null,null,null,null,null,null,null,null,null,null,null,"",null,null,null,null,"",null,null,null,null,null,null,null,null,null,null,null,null,null,null,null,null,null,null,null,null,null,null,null,null,null,null,142]
[null,112,20,null,null,237,null,112,9,null,null,87,null,null,null,null,null,null,null,null,null,null,null,null,null,null,null,null,null,null,null,null,null,null,null,null,null,null,null,null,null,null,null,null,null,null,null,null,null,null,null,null,null,null,null,null,null,null,null,null,null,null,null,null,null,null,null,null,null,null,null,null,null,null,null,null,null,65,null,"",165,null,33,0,"",78]
[null,113,29,null,null,29,null,113,9,null,null,82,null,null,null,null,null,null,null,null,null,null,null,null,null,null,null,null,null,null,null,null,null,null,null,null,null,null,null,null,null,null,null,null,null,null,null,null,null,null,null,null,null,null,null,null,null,null,null,null,null,null,null,null,null,null,null,null,null,null,null,null,null,null,null,null,null,65,null,"",101,null,33,0,"",19,null,null,null,null,null,null,null,null,null,null,null,null,null,null,null,null,null,null,null,null,null,null,null,39,null,53]
[null,114,129,29,null,228,null,114,65,10,55,47,null,null,null,null,null,null,null,null,null,null,null,null,null,null,null,null,null,null,null,null,null,null,null,null,null,null,null,null,null,null,null,null,null,null,null,null,null,null,null,null,null,null,null,null,null,null,null,null,null,null,null,null,null,null,null,null,null,null,null,null,null,null,null,null,null,null,null,"",null,null,null,null,"",null,null,null,null,null,null,null,null,null,null,null,null,null,null,null,null,null,null,null,null,null,null,null,null,null,null,143]
[null,115,129,null,null,100,null,115,65,42,23,111,null,null,null,null,null,null,null,null,null,null,null,null,null,null,null,null,null,null,null,null,null,null,null,null,null,null,null,null,null,null,null,null,null,null,null,null,null,null,null,null,null,null,null,null,null,null,null,null,null,null,null,null,null,null,null,null,null,null,null,null,null,null,null,null,null,129,null,"",156,null,65,44,"E21",110]
[null,116,65,null,null,157,null,116,33,null,null,18,null,null,null,null,null,null,null,null,null,null,null,null,null,null,null,null,null,null,null,null,null,null,null,null,null,null,null,null,null,null,null,null,null,null,null,null,null,null,null,null,null,null,null,null,null,null,null,null,null,null,null,null,null,null,null,null,null,null,null,null,null,null,null,null,null,129,28,"E2",28,null,65,12,"E53",46,null,null,null,null,null,null,null,null,null,null,null,null,null,null,null,null,null,null,null,null,null,null,null,40,null,70]
[null,117,65,null,null,93,null,117,33,null,null,79,null,null,null,null,null,null,null,null,null,null,null,null,null,null,null,null,null,null,null,null,null,null,null,null,null,null,null,null,null,null,null,null,null,null,null,null,null,null,null,null,null,null,null,null,null,null,null,null,null,null,null,null,null,null,null,null,null,null,null,null,null,null,null,null,null,null,null,"",null,null,null,null,"",null,null,null,null,null,null,null,null,null,null,null,null,null,null,null,null,null,null,null,null,null,null,null,null,null,null,144]
[null,118,129,null,14,164,null,118,65,58,7,50,null,null,null,null,null,null,null,null,null,null,null,null,null,null,null,null,null,null,null,null,null,null,null,null,null,null,null,null,null,null,null,null,null,null,null,null,null,null,null,null,null,null,null,null,null,null,null,null,null,null,null,null,null,null,null,null,null,null,null,null,null,null,null,null,null,28,null,"",229,null,9,0,"",83]
[null,119,129,52,null,36,null,119,65,26,39,114,null,null,null,null,null,null,null,null,null,null,null,null,null,null,null,null,null,null,null,null,null,null,null,null,null,null,null,null,null,null,null,null,null,null,null,null,null,null,null,null,null,null,null,null,null,null,null,null,null,null,null,null,null,null,null,null,null,null,null,null,null,null,null,null,null,21,null,"",21,null,9,0,"",86,null,null,null,null,null,null,null,null,null,null,null,null,null,null,null,null,null,null,null,null,null,null,null,41,null,86]
[null,120,52,null,null,221,null,120,17,null,null,15,null,null,null,null,null,null,null,null,null,null,null,null,null,null,null,null,null,null,null,null,null,null,null,null,null,null,null,null,null,null,null,null,null,null,null,null,null,null,null,null,null,null,null,null,null,null,null,null,null,null,null,null,null,null,null,null,null,null,null,null,null,null,null,null,null,null,null,"",null,null,null,null,"",null,null,null,null,null,null,null,null,null,null,null,null,null,null,null,null,null,null,null,null,null,null,null,null,null,null,145]
[null,121,61,999,null,61,null,121,17,null,null,95,null,null,null,null,null,null,null,null,null,null,null,null,null,null,null,null,null,null,null,null,null,null,null,null,null,null,null,null,null,null,null,null,null,null,null,null,null,null,null,null,null,null,null,null,null,null,null,null,null,null,null,null,null,null,null,null,null,null,null,null,null,null,null,null,null,129,21,"E30",236,null,65,16,"E49",43]
[null,122,129,999,null,196,null,122,65,18,47,34,null,null,null,null,null,null,null,null,null,null,null,null,null,null,null,null,null,null,null,null,null,null,null,null,null,null,null,null,null,null,null,null,null,null,null,null,null,null,null,null,null,null,null,null,null,null,null,null,null,null,null,null,null,null,null,null,null,null,null,null,null,null,null,null,null,129,null,"",108,null,65,48,"E17",107,null,null,null,null,null,null,null,null,null,null,null,null,null,null,null,null,null,null,null,null,null,null,null,42,null,85]
[null,123,129,999,null,68,null,123,65,50,15,98,null,null,null,null,null,null,null,null,null,null,null,null,null,null,null,null,null,null,null,null,null,null,null,null,null,null,null,null,null,null,null,null,null,null,null,null,null,null,null,null,null,null,null,null,null,null,null,null,null,null,null,null,null,null,null,null,null,null,null,null,null,null,null,null,null,null,null,"",null,null,null,null,"",null,null,null,null,null,null,null,null,null,null,null,null,null,null,null,null,null,null,null,null,null,null,null,null,null,null,146]
[null,124,65,999,null,189,null,124,33,null,null,31,null,null,null,null,null,null,null,null,null,null,null,null,null,null,null,null,null,null,null,null,null,null,null,null,null,null,null,null,null,null,null,null,null,null,null,null,null,null,null,null,null,null,null,null,null,null,null,null,null,null,null,null,null,null,null,null,null,null,null,null,null,null,null,null,null,65,null,"",149,null,33,0,"",22]
[null,125,65,999,null,125,null,125,33,null,null,66,null,null,null,null,null,null,null,null,null,null,null,null,null,null,null,null,null,null,null,null,null,null,null,null,null,null,null,null,null,null,null,null,null,null,null,null,null,null,null,null,null,null,null,null,null,null,null,null,null,null,null,null,null,null,null,null,null,null,null,null,null,null,null,null,null,65,null,"",85,null,33,0,"",75,null,null,null,null,null,null,null,null,null,null,null,null,null,null,null,null,null,null,null,null,null,null,null,43,null,96]
[null,126,129,999,null,132,null,126,65,34,31,63,null,null,null,null,null,null,null,null,null,null,null,null,null,null,null,null,null,null,null,null,null,null,null,null,null,null,null,null,null,null,null,null,null,null,null,null,null,null,null,null,null,null,null,null,null,null,null,null,null,null,null,null,null,null,null,null,null,null,null,null,null,null,null,null,null,null,null,"",null,null,null,null,"",null,null,null,null,null,null,null,null,null,null,null,null,null,null,null,null,null,null,null,null,null,null,null,null,null,null,147]
[null,127,129,999,null,253,null,127,65,2,63,127,null,null,null,null,null,null,null,null,null,null,null,null,null,null,null,null,null,null,null,null,null,null,null,null,null,null,null,null,null,null,null,null,null,null,null,null,null,null,null,null,null,null,null,null,null,null,null,null,null,null,null,null,null,null,null,null,null,null,null,null,null,null,null,null,null,129,null,"E16",172,null,65,64,"E1",54]
[null,128,4,null,null,4,null,128,2,null,null,2,null,null,null,null,null,null,null,null,null,null,null,null,null,null,null,null,null,null,null,null,null,null,null,null,null,null,null,null,null,null,null,null,null,null,null,null,null,null,null,null,null,null,null,null,null,null,null,null,null,null,null,null,null,null,null,null,null,null,null,null,null,null,null,null,null,129,44,"",44,null,65,32,"E33",118,null,null,null,null,null,null,null,null,null,null,null,null,null,null,null,null,null,null,null,null,null,null,null,44,null,92]
[null,129,3,null,null,3,null,null,null,null,null,null,null,null,null,null,null,null,null,null,null,null,null,null,null,null,null,null,null,null,null,null,null,null,null,null,null,null,null,null,null,null,null,null,null,null,null,null,null,null,null,null,null,null,null,null,null,null,null,null,null,null,null,null,null,null,null,null,null,null,null,null,null,null,null,null,null,null,null,"",null,null,null,null,"",null,null,null,null,null,null,null,null,null,null,null,null,null,null,null,null,null,null,null,null,null,null,null,null,null,null,148]
[null,130,129,999,null,254,null,null,null,null,null,null,null,null,null,null,null,null,null,null,null,null,null,null,null,null,null,null,null,null,null,null,null,null,null,null,null,null,null,null,null,null,null,null,null,null,null,null,null,null,null,null,null,null,null,null,null,null,null,null,null,null,null,null,null,null,null,null,null,null,null,null,null,null,null,null,null,44,null,"",213,null,17,0,"",11]
[null,131,129,999,null,126,null,null,null,null,null,null,null,null,null,null,null,null,null,null,null,null,null,null,null,null,null,null,null,null,null,null,null,null,null,null,null,null,null,null,null,null,null,null,null,null,null,null,null,null,null,null,null,null,null,null,null,null,null,null,null,null,null,null,null,null,null,null,null,null,null,null,null,null,null,null,null,37,null,"",53,null,17,0,"",91,null,null,null,null,null,null,null,null,null,null,null,null,null,null,null,null,null,null,null,null,null,null,null,45,null,44]
[null,132,65,999,null,131,null,null,null,null,null,null,null,null,null,null,null,null,null,null,null,null,null,null,null,null,null,null,null,null,null,null,null,null,null,null,null,null,null,null,null,null,null,null,null,null,null,null,null,null,null,null,null,null,null,null,null,null,null,null,null,null,null,null,null,null,null,null,null,null,null,null,null,null,null,null,null,null,null,"",null,null,null,null,"",null,null,null,null,null,null,null,null,null,null,null,null,null,null,null,null,null,null,null,null,null,null,null,null,null,null,149]
[null,133,65,999,null,67,null,null,null,null,null,null,null,null,null,null,null,null,null,null,null,null,null,null,null,null,null,null,null,null,null,null,null,null,null,null,null,null,null,null,null,null,null,null,null,null,null,null,null,null,null,null,null,null,null,null,null,null,null,null,null,null,null,null,null,null,null,null,null,null,null,null,null,null,null,null,null,129,37,"",204,null,65,24,"E41",38]
[null,134,129,999,null,190,null,null,null,null,null,null,null,null,null,null,null,null,null,null,null,null,null,null,null,null,null,null,null,null,null,null,null,null,null,null,null,null,null,null,null,null,null,null,null,null,null,null,null,null,null,null,null,null,null,null,null,null,null,null,null,null,null,null,null,null,null,null,null,null,null,null,null,null,null,null,null,129,null,"E18",76,null,65,56,"E9",102,null,null,null,null,null,null,null,null,null,null,null,null,null,null,null,null,null,null,null,null,null,null,null,46,null,69]
[null,135,129,999,null,62,null,null,null,null,null,null,null,null,null,null,null,null,null,null,null,null,null,null,null,null,null,null,null,null,null,null,null,null,null,null,null,null,null,null,null,null,null,null,null,null,null,null,null,null,null,null,null,null,null,null,null,null,null,null,null,null,null,null,null,null,null,null,null,null,null,null,null,null,null,null,null,null,null,"",null,null,null,null,"",null,null,null,null,null,null,null,null,null,null,null,null,null,null,null,null,null,null,null,null,null,null,null,null,null,null,150]
[null,136,62,999,null,195,null,null,null,null,null,null,null,null,null,null,null,null,null,null,null,null,null,null,null,null,null,null,null,null,null,null,null,null,null,null,null,null,null,null,null,null,null,null,null,null,null,null,null,null,null,null,null,null,null,null,null,null,null,null,null,null,null,null,null,null,null,null,null,null,null,null,null,null,null,null,null,65,null,"",181,null,33,0,"",27]
[null,137,51,null,null,35,null,null,null,null,null,null,null,null,null,null,null,null,null,null,null,null,null,null,null,null,null,null,null,null,null,null,null,null,null,null,null,null,null,null,null,null,null,null,null,null,null,null,null,null,null,null,null,null,null,null,null,null,null,null,null,null,null,null,null,null,null,null,null,null,null,null,null,null,null,null,null,65,null,"",117,null,33,0,"",70,null,null,null,null,null,null,null,null,null,null,null,null,null,null,null,null,null,null,null,null,null,null,null,47,null,101]
[null,138,129,51,null,222,null,null,null,null,null,null,null,null,null,null,null,null,null,null,null,null,null,null,null,null,null,null,null,null,null,null,null,null,null,null,null,null,null,null,null,null,null,null,null,null,null,null,null,null,null,null,null,null,null,null,null,null,null,null,null,null,null,null,null,null,null,null,null,null,null,null,null,null,null,null,null,null,null,"",null,null,null,null,"",null,null,null,null,null,null,null,null,null,null,null,null,null,null,null,null,null,null,null,null,null,null,null,null,null,null,151]
[null,139,129,null,13,94,null,null,null,null,null,null,null,null,null,null,null,null,null,null,null,null,null,null,null,null,null,null,null,null,null,null,null,null,null,null,null,null,null,null,null,null,null,null,null,null,null,null,null,null,null,null,null,null,null,null,null,null,null,null,null,null,null,null,null,null,null,null,null,null,null,null,null,null,null,null,null,129,null,"",140,null,65,40,"E25",59]
[null,140,65,null,null,163,null,null,null,null,null,null,null,null,null,null,null,null,null,null,null,null,null,null,null,null,null,null,null,null,null,null,null,null,null,null,null,null,null,null,null,null,null,null,null,null,null,null,null,null,null,null,null,null,null,null,null,null,null,null,null,null,null,null,null,null,null,null,null,null,null,null,null,null,null,null,null,129,12,"",12,null,65,8,"E57",123,null,null,null,null,null,null,null,null,null,null,null,null,null,null,null,null,null,null,null,null,null,null,null,48,null,81]
[null,141,65,null,null,99,null,null,null,null,null,null,null,null,null,null,null,null,null,null,null,null,null,null,null,null,null,null,null,null,null,null,null,null,null,null,null,null,null,null,null,null,null,null,null,null,null,null,null,null,null,null,null,null,null,null,null,null,null,null,null,null,null,null,null,null,null,null,null,null,null,null,null,null,null,null,null,null,null,"",null,null,null,null,"",null,null,null,null,null,null,null,null,null,null,null,null,null,null,null,null,null,null,null,null,null,null,null,null,null,null,152]
[null,142,129,null,null,158,null,null,null,null,null,null,null,null,null,null,null,null,null,null,null,null,null,null,null,null,null,null,null,null,null,null,null,null,null,null,null,null,null,null,null,null,null,null,null,null,null,null,null,null,null,null,null,null,null,null,null,null,null,null,null,null,null,null,null,null,null,null,null,null,null,null,null,null,null,null,null,12,null,"",245,null,5,0,"",6]
[null,143,129,30,28,30,null,null,null,null,null,null,null,null,null,null,null,null,null,null,null,null,null,null,null,null,null,null,null,null,null,null,null,null,null,null,null,null,null,null,null,null,null,null,null,null,null,null,null,null,null,null,null,null,null,null,null,null,null,null,null,null,null,null,null,null,null,null,null,null,null,null,null,null,null,null,null,13,null,"",13,null,5,0,"",7,null,null,null,null,null,null,null,null,null,null,null,null,null,null,null,null,null,null,null,null,null,null,null,49,null,41]
[null,144,30,null,null,227,null,null,null,null,null,null,null,null,null,null,null,null,null,null,null,null,null,null,null,null,null,null,null,null,null,null,null,null,null,null,null,null,null,null,null,null,null,null,null,null,null,null,null,null,null,null,null,null,null,null,null,null,null,null,null,null,null,null,null,null,null,null,null,null,null,null,null,null,null,null,null,null,null,"",null,null,null,null,"",null,null,null,null,null,null,null,null,null,null,null,null,null,null,null,null,null,null,null,null,null,null,null,null,null,null,153]
[null,145,19,null,null,19,null,null,null,null,null,null,null,null,null,null,null,null,null,null,null,null,null,null,null,null,null,null,null,null,null,null,null,null,null,null,null,null,null,null,null,null,null,null,null,null,null,null,null,null,null,null,null,null,null,null,null,null,null,null,null,null,null,null,null,null,null,null,null,null,null,null,null,null,null,null,null,129,13,"",244,null,65,6,"E59",122]
[null,146,129,19,null,238,null,null,null,null,null,null,null,null,null,null,null,null,null,null,null,null,null,null,null,null,null,null,null,null,null,null,null,null,null,null,null,null,null,null,null,null,null,null,null,null,null,null,null,null,null,null,null,null,null,null,null,null,null,null,null,null,null,null,null,null,null,null,null,null,null,null,null,null,null,null,null,129,null,"E27",116,null,65,38,"E27",58,null,null,null,null,null,null,null,null,null,null,null,null,null,null,null,null,null,null,null,null,null,null,null,50,null,99]
[null,147,129,null,null,110,null,null,null,null,null,null,null,null,null,null,null,null,null,null,null,null,null,null,null,null,null,null,null,null,null,null,null,null,null,null,null,null,null,null,null,null,null,null,null,null,null,null,null,null,null,null,null,null,null,null,null,null,null,null,null,null,null,null,null,null,null,null,null,null,null,null,null,null,null,null,null,null,null,"",null,null,null,null,"",null,null,null,null,null,null,null,null,null,null,null,null,null,null,null,null,null,null,null,null,null,null,null,null,null,null,154]
[null,148,65,null,null,147,null,null,null,null,null,null,null,null,null,null,null,null,null,null,null,null,null,null,null,null,null,null,null,null,null,null,null,null,null,null,null,null,null,null,null,null,null,null,null,null,null,null,null,null,null,null,null,null,null,null,null,null,null,null,null,null,null,null,null,null,null,null,null,null,null,null,null,null,null,null,null,65,null,"",141,null,33,0,"",71]
[null,149,65,null,null,83,null,null,null,null,null,null,null,null,null,null,null,null,null,null,null,null,null,null,null,null,null,null,null,null,null,null,null,null,null,null,null,null,null,null,null,null,null,null,null,null,null,null,null,null,null,null,null,null,null,null,null,null,null,null,null,null,null,null,null,null,null,null,null,null,null,null,null,null,null,null,null,65,null,"",77,null,33,0,"",26,null,null,null,null,null,null,null,null,null,null,null,null,null,null,null,null,null,null,null,null,null,null,null,51,null,78]
[null,150,129,null,5,174,null,null,null,null,null,null,null,null,null,null,null,null,null,null,null,null,null,null,null,null,null,null,null,null,null,null,null,null,null,null,null,null,null,null,null,null,null,null,null,null,null,null,null,null,null,null,null,null,null,null,null,null,null,null,null,null,null,null,null,null,null,null,null,null,null,null,null,null,null,null,null,null,null,"",null,null,null,null,"",null,null,null,null,null,null,null,null,null,null,null,null,null,null,null,null,null,null,null,null,null,null,null,null,null,null,155]
[null,151,129,46,null,46,null,null,null,null,null,null,null,null,null,null,null,null,null,null,null,null,null,null,null,null,null,null,null,null,null,null,null,null,null,null,null,null,null,null,null,null,null,null,null,null,null,null,null,null,null,null,null,null,null,null,null,null,null,null,null,null,null,null,null,null,null,null,null,null,null,null,null,null,null,null,null,129,null,"E22",180,null,65,54,"E11",103]
[null,152,46,null,null,211,null,null,null,null,null,null,null,null,null,null,null,null,null,null,null,null,null,null,null,null,null,null,null,null,null,null,null,null,null,null,null,null,null,null,null,null,null,null,null,null,null,null,null,null,null,null,null,null,null,null,null,null,null,null,null,null,null,null,null,null,null,null,null,null,null,null,null,null,null,null,null,129,36,"",52,null,65,22,"E43",39,null,null,null,null,null,null,null,null,null,null,null,null,null,null,null,null,null,null,null,null,null,null,null,52,null,57]
[null,153,35,null,null,51,null,null,null,null,null,null,null,null,null,null,null,null,null,null,null,null,null,null,null,null,null,null,null,null,null,null,null,null,null,null,null,null,null,null,null,null,null,null,null,null,null,null,null,null,null,null,null,null,null,null,null,null,null,null,null,null,null,null,null,null,null,null,null,null,null,null,null,null,null,null,null,null,null,"",null,null,null,null,"",null,null,null,null,null,null,null,null,null,null,null,null,null,null,null,null,null,null,null,null,null,null,null,null,null,null,156]
[null,154,129,35,null,206,null,null,null,null,null,null,null,null,null,null,null,null,null,null,null,null,null,null,null,null,null,null,null,null,null,null,null,null,null,null,null,null,null,null,null,null,null,null,null,null,null,null,null,null,null,null,null,null,null,null,null,null,null,null,null,null,null,null,null,null,null,null,null,null,null,null,null,null,null,null,null,36,null,"",205,null,17,0,"",90]
[null,155,129,null,21,78,null,null,null,null,null,null,null,null,null,null,null,null,null,null,null,null,null,null,null,null,null,null,null,null,null,null,null,null,null,null,null,null,null,null,null,null,null,null,null,null,null,null,null,null,null,null,null,null,null,null,null,null,null,null,null,null,null,null,null,null,null,null,null,null,null,null,null,null,null,null,null,45,null,"",45,null,17,0,"",10,null,null,null,null,null,null,null,null,null,null,null,null,null,null,null,null,null,null,null,null,null,null,null,53,null,73]
[null,156,65,null,null,179,null,null,null,null,null,null,null,null,null,null,null,null,null,null,null,null,null,null,null,null,null,null,null,null,null,null,null,null,null,null,null,null,null,null,null,null,null,null,null,null,null,null,null,null,null,null,null,null,null,null,null,null,null,null,null,null,null,null,null,null,null,null,null,null,null,null,null,null,null,null,null,null,null,"",null,null,null,null,"",null,null,null,null,null,null,null,null,null,null,null,null,null,null,null,null,null,null,null,null,null,null,null,null,null,null,157]
[null,157,65,null,null,115,null,null,null,null,null,null,null,null,null,null,null,null,null,null,null,null,null,null,null,null,null,null,null,null,null,null,null,null,null,null,null,null,null,null,null,null,null,null,null,null,null,null,null,null,null,null,null,null,null,null,null,null,null,null,null,null,null,null,null,null,null,null,null,null,null,null,null,null,null,null,null,129,45,"",212,null,65,30,"E35",119]
[null,158,129,null,31,142,null,null,null,null,null,null,null,null,null,null,null,null,null,null,null,null,null,null,null,null,null,null,null,null,null,null,null,null,null,null,null,null,null,null,null,null,null,null,null,null,null,null,null,null,null,null,null,null,null,null,null,null,null,null,null,null,null,null,null,null,null,null,null,null,null,null,null,null,null,null,null,129,null,"E6",84,null,65,62,"E3",55,null,null,null,null,null,null,null,null,null,null,null,null,null,null,null,null,null,null,null,null,null,null,null,54,null,37]
[null,159,129,14,null,14,null,null,null,null,null,null,null,null,null,null,null,null,null,null,null,null,null,null,null,null,null,null,null,null,null,null,null,null,null,null,null,null,null,null,null,null,null,null,null,null,null,null,null,null,null,null,null,null,null,null,null,null,null,null,null,null,null,null,null,null,null,null,null,null,null,null,null,null,null,null,null,null,null,"",null,null,null,null,"",null,null,null,null,null,null,null,null,null,null,null,null,null,null,null,null,null,null,null,null,null,null,null,null,null,null,158]
[null,160,14,null,null,243,null,null,null,null,null,null,null,null,null,null,null,null,null,null,null,null,null,null,null,null,null,null,null,null,null,null,null,null,null,null,null,null,null,null,null,null,null,null,null,null,null,null,null,null,null,null,null,null,null,null,null,null,null,null,null,null,null,null,null,null,null,null,null,null,null,null,null,null,null,null,null,65,null,"",173,null,33,0,"",74]
[null,161,11,null,null,11,null,null,null,null,null,null,null,null,null,null,null,null,null,null,null,null,null,null,null,null,null,null,null,null,null,null,null,null,null,null,null,null,null,null,null,null,null,null,null,null,null,null,null,null,null,null,null,null,null,null,null,null,null,null,null,null,null,null,null,null,null,null,null,null,null,null,null,null,null,null,null,65,null,"",109,null,33,0,"",23,null,null,null,null,null,null,null,null,null,null,null,null,null,null,null,null,null,null,null,null,null,null,null,55,null,51]
[null,162,129,11,null,246,null,null,null,null,null,null,null,null,null,null,null,null,null,null,null,null,null,null,null,null,null,null,null,null,null,null,null,null,null,null,null,null,null,null,null,null,null,null,null,null,null,null,null,null,null,null,null,null,null,null,null,null,null,null,null,null,null,null,null,null,null,null,null,null,null,null,null,null,null,null,null,null,null,"",null,null,null,null,"",null,null,null,null,null,null,null,null,null,null,null,null,null,null,null,null,null,null,null,null,null,null,null,null,null,null,159]
[null,163,129,null,null,118,null,null,null,null,null,null,null,null,null,null,null,null,null,null,null,null,null,null,null,null,null,null,null,null,null,null,null,null,null,null,null,null,null,null,null,null,null,null,null,null,null,null,null,null,null,null,null,null,null,null,null,null,null,null,null,null,null,null,null,null,null,null,null,null,null,null,null,null,null,null,null,129,null,"E12",148,null,65,46,"E19",106]
[null,164,65,null,null,139,null,null,null,null,null,null,null,null,null,null,null,null,null,null,null,null,null,null,null,null,null,null,null,null,null,null,null,null,null,null,null,null,null,null,null,null,null,null,null,null,null,null,null,null,null,null,null,null,null,null,null,null,null,null,null,null,null,null,null,null,null,null,null,null,null,null,null,null,null,null,null,129,20,"",20,null,65,14,"E51",42,null,null,null,null,null,null,null,null,null,null,null,null,null,null,null,null,null,null,null,null,null,null,null,56,null,56]
[null,165,65,null,null,75,null,null,null,null,null,null,null,null,null,null,null,null,null,null,null,null,null,null,null,null,null,null,null,null,null,null,null,null,null,null,null,null,null,null,null,null,null,null,null,null,null,null,null,null,null,null,null,null,null,null,null,null,null,null,null,null,null,null,null,null,null,null,null,null,null,null,null,null,null,null,null,null,null,"",null,null,null,null,"",null,null,null,null,null,null,null,null,null,null,null,null,null,null,null,null,null,null,null,null,null,null,null,null,null,null,160]
[null,166,129,null,17,182,null,null,null,null,null,null,null,null,null,null,null,null,null,null,null,null,null,null,null,null,null,null,null,null,null,null,null,null,null,null,null,null,null,null,null,null,null,null,null,null,null,null,null,null,null,null,null,null,null,null,null,null,null,null,null,null,null,null,null,null,null,null,null,null,null,null,null,null,null,null,null,20,null,"",237,null,9,0,"",87]
[null,167,129,38,null,54,null,null,null,null,null,null,null,null,null,null,null,null,null,null,null,null,null,null,null,null,null,null,null,null,null,null,null,null,null,null,null,null,null,null,null,null,null,null,null,null,null,null,null,null,null,null,null,null,null,null,null,null,null,null,null,null,null,null,null,null,null,null,null,null,null,null,null,null,null,null,null,29,null,"",29,null,9,0,"",82,null,null,null,null,null,null,null,null,null,null,null,null,null,null,null,null,null,null,null,null,null,null,null,57,null,88]
[null,168,38,null,null,203,null,null,null,null,null,null,null,null,null,null,null,null,null,null,null,null,null,null,null,null,null,null,null,null,null,null,null,null,null,null,null,null,null,null,null,null,null,null,null,null,null,null,null,null,null,null,null,null,null,null,null,null,null,null,null,null,null,null,null,null,null,null,null,null,null,null,null,null,null,null,null,null,null,"",null,null,null,null,"",null,null,null,null,null,null,null,null,null,null,null,null,null,null,null,null,null,null,null,null,null,null,null,null,null,null,161]
[null,169,43,null,null,43,null,null,null,null,null,null,null,null,null,null,null,null,null,null,null,null,null,null,null,null,null,null,null,null,null,null,null,null,null,null,null,null,null,null,null,null,null,null,null,null,null,null,null,null,null,null,null,null,null,null,null,null,null,null,null,null,null,null,null,null,null,null,null,null,null,null,null,null,null,null,null,129,29,"",228,null,65,10,"E55",47]
[null,170,129,43,null,214,null,null,null,null,null,null,null,null,null,null,null,null,null,null,null,null,null,null,null,null,null,null,null,null,null,null,null,null,null,null,null,null,null,null,null,null,null,null,null,null,null,null,null,null,null,null,null,null,null,null,null,null,null,null,null,null,null,null,null,null,null,null,null,null,null,null,null,null,null,null,null,129,null,"",100,null,65,42,"E23",111,null,null,null,null,null,null,null,null,null,null,null,null,null,null,null,null,null,null,null,null,null,null,null,58,null,38]
[null,171,129,null,1,86,null,null,null,null,null,null,null,null,null,null,null,null,null,null,null,null,null,null,null,null,null,null,null,null,null,null,null,null,null,null,null,null,null,null,null,null,null,null,null,null,null,null,null,null,null,null,null,null,null,null,null,null,null,null,null,null,null,null,null,null,null,null,null,null,null,null,null,null,null,null,null,null,null,"",null,null,null,null,"",null,null,null,null,null,null,null,null,null,null,null,null,null,null,null,null,null,null,null,null,null,null,null,null,null,null,162]
[null,172,65,null,null,171,null,null,null,null,null,null,null,null,null,null,null,null,null,null,null,null,null,null,null,null,null,null,null,null,null,null,null,null,null,null,null,null,null,null,null,null,null,null,null,null,null,null,null,null,null,null,null,null,null,null,null,null,null,null,null,null,null,null,null,null,null,null,null,null,null,null,null,null,null,null,null,65,null,"",157,null,33,0,"",18]
[null,173,65,null,null,107,null,null,null,null,null,null,null,null,null,null,null,null,null,null,null,null,null,null,null,null,null,null,null,null,null,null,null,null,null,null,null,null,null,null,null,null,null,null,null,null,null,null,null,null,null,null,null,null,null,null,null,null,null,null,null,null,null,null,null,null,null,null,null,null,null,null,null,null,null,null,null,65,null,"",93,null,33,0,"",79,null,null,null,null,null,null,null,null,null,null,null,null,null,null,null,null,null,null,null,null,null,null,null,59,null,62]
[null,174,129,null,null,150,null,null,null,null,null,null,null,null,null,null,null,null,null,null,null,null,null,null,null,null,null,null,null,null,null,null,null,null,null,null,null,null,null,null,null,null,null,null,null,null,null,null,null,null,null,null,null,null,null,null,null,null,null,null,null,null,null,null,null,null,null,null,null,null,null,null,null,null,null,null,null,null,null,"",null,null,null,null,"",null,null,null,null,null,null,null,null,null,null,null,null,null,null,null,null,null,null,null,null,null,null,null,null,null,null,163]
[null,175,129,22,null,22,null,null,null,null,null,null,null,null,null,null,null,null,null,null,null,null,null,null,null,null,null,null,null,null,null,null,null,null,null,null,null,null,null,null,null,null,null,null,null,null,null,null,null,null,null,null,null,null,null,null,null,null,null,null,null,null,null,null,null,null,null,null,null,null,null,null,null,null,null,null,null,129,null,"E14",164,null,65,58,"E7",50]
[null,176,22,null,null,235,null,null,null,null,null,null,null,null,null,null,null,null,null,null,null,null,null,null,null,null,null,null,null,null,null,null,null,null,null,null,null,null,null,null,null,null,null,null,null,null,null,null,null,null,null,null,null,null,null,null,null,null,null,null,null,null,null,null,null,null,null,null,null,null,null,null,null,null,null,null,null,129,52,"",36,null,65,26,"E39",114,null,null,null,null,null,null,null,null,null,null,null,null,null,null,null,null,null,null,null,null,null,null,null,60,null,89]
[null,177,27,null,null,27,null,null,null,null,null,null,null,null,null,null,null,null,null,null,null,null,null,null,null,null,null,null,null,null,null,null,null,null,null,null,null,null,null,null,null,null,null,null,null,null,null,null,null,null,null,null,null,null,null,null,null,null,null,null,null,null,null,null,null,null,null,null,null,null,null,null,null,null,null,null,null,null,null,"",null,null,null,null,"",null,null,null,null,null,null,null,null,null,null,null,null,null,null,null,null,null,null,null,null,null,null,null,null,null,null,164]
[null,178,129,27,null,230,null,null,null,null,null,null,null,null,null,null,null,null,null,null,null,null,null,null,null,null,null,null,null,null,null,null,null,null,null,null,null,null,null,null,null,null,null,null,null,null,null,null,null,null,null,null,null,null,null,null,null,null,null,null,null,null,null,null,null,null,null,null,null,null,null,null,null,null,null,null,null,52,null,"",221,null,17,0,"",15]
[null,179,129,null,null,102,null,null,null,null,null,null,null,null,null,null,null,null,null,null,null,null,null,null,null,null,null,null,null,null,null,null,null,null,null,null,null,null,null,null,null,null,null,null,null,null,null,null,null,null,null,null,null,null,null,null,null,null,null,null,null,null,null,null,null,null,null,null,null,null,null,null,null,null,null,null,null,61,999,"",61,null,17,0,"",95,null,null,null,null,null,null,null,null,null,null,null,null,null,null,null,null,null,null,null,null,null,null,null,61,null,35]
[null,180,65,null,null,155,null,null,null,null,null,null,null,null,null,null,null,null,null,null,null,null,null,null,null,null,null,null,null,null,null,null,null,null,null,null,null,null,null,null,null,null,null,null,null,null,null,null,null,null,null,null,null,null,null,null,null,null,null,null,null,null,null,null,null,null,null,null,null,null,null,null,null,null,null,null,null,null,null,"",null,null,null,null,"",null,null,null,null,null,null,null,null,null,null,null,null,null,null,null,null,null,null,null,null,null,null,null,null,null,null,165]
[null,181,65,null,null,91,null,null,null,null,null,null,null,null,null,null,null,null,null,null,null,null,null,null,null,null,null,null,null,null,null,null,null,null,null,null,null,null,null,null,null,null,null,null,null,null,null,null,null,null,null,null,null,null,null,null,null,null,null,null,null,null,null,null,null,null,null,null,null,null,null,null,null,null,null,null,null,129,999,"",196,null,65,18,"E47",34]
[null,182,129,null,9,166,null,null,null,null,null,null,null,null,null,null,null,null,null,null,null,null,null,null,null,null,null,null,null,null,null,null,null,null,null,null,null,null,null,null,null,null,null,null,null,null,null,null,null,null,null,null,null,null,null,null,null,null,null,null,null,null,null,null,null,null,null,null,null,null,null,null,null,null,null,null,null,129,999,"",68,null,65,50,"E15",98,null,null,null,null,null,null,null,null,null,null,null,null,null,null,null,null,null,null,null,null,null,null,null,62,null,39]
[null,183,129,54,null,38,null,null,null,null,null,null,null,null,null,null,null,null,null,null,null,null,null,null,null,null,null,null,null,null,null,null,null,null,null,null,null,null,null,null,null,null,null,null,null,null,null,null,null,null,null,null,null,null,null,null,null,null,null,null,null,null,null,null,null,null,null,null,null,null,null,null,null,null,null,null,null,null,null,"",null,null,null,null,"",null,null,null,null,null,null,null,null,null,null,null,null,null,null,null,null,null,null,null,null,null,null,null,null,null,null,166]
[null,184,54,null,null,219,null,null,null,null,null,null,null,null,null,null,null,null,null,null,null,null,null,null,null,null,null,null,null,null,null,null,null,null,null,null,null,null,null,null,null,null,null,null,null,null,null,null,null,null,null,null,null,null,null,null,null,null,null,null,null,null,null,null,null,null,null,null,null,null,null,null,null,null,null,null,null,65,999,"",189,null,33,0,"",31]
[null,185,59,999,null,59,null,null,null,null,null,null,null,null,null,null,null,null,null,null,null,null,null,null,null,null,null,null,null,null,null,null,null,null,null,null,null,null,null,null,null,null,null,null,null,null,null,null,null,null,null,null,null,null,null,null,null,null,null,null,null,null,null,null,null,null,null,null,null,null,null,null,null,null,null,null,null,65,999,"",125,null,33,0,"",66,null,null,null,null,null,null,null,null,null,null,null,null,null,null,null,null,null,null,null,null,null,null,null,63,null,83]
[null,186,129,999,null,198,null,null,null,null,null,null,null,null,null,null,null,null,null,null,null,null,null,null,null,null,null,null,null,null,null,null,null,null,null,null,null,null,null,null,null,null,null,null,null,null,null,null,null,null,null,null,null,null,null,null,null,null,null,null,null,null,null,null,null,null,null,null,null,null,null,null,null,null,null,null,null,null,null,"",null,null,null,null,"",null,null,null,null,null,null,null,null,null,null,null,null,null,null,null,null,null,null,null,null,null,null,null,null,null,null,167]
[null,187,129,999,null,70,null,null,null,null,null,null,null,null,null,null,null,null,null,null,null,null,null,null,null,null,null,null,null,null,null,null,null,null,null,null,null,null,null,null,null,null,null,null,null,null,null,null,null,null,null,null,null,null,null,null,null,null,null,null,null,null,null,null,null,null,null,null,null,null,null,null,null,null,null,null,null,129,999,"",132,null,65,34,"E31",63]
[null,188,65,999,null,187,null,null,null,null,null,null,null,null,null,null,null,null,null,null,null,null,null,null,null,null,null,null,null,null,null,null,null,null,null,null,null,null,null,null,null,null,null,null,null,null,null,null,null,null,null,null,null,null,null,null,null,null,null,null,null,null,null,null,null,null,null,null,null,null,null,null,null,null,null,null,null,129,999,"",253,null,65,2,"E63",127,null,null,null,null,null,null,null,null,null,null,null,null,null,null,null,null,null,null,null,null,null,null,null,64,null,72]
[null,189,65,999,null,123,null,null,null,null,null,null,null,null,null,null,null,null,null,null,null,null,null,null,null,null,null,null,null,null,null,null,null,null,null,null,null,null,null,null,null,null,null,null,null,null,null,null,null,null,null,null,null,null,null,null,null,null,null,null,null,null,null,null,null,null,null,null,null,null,null,null,null,null,null,null,null,null,null,"",null,null,null,null,null,null,null,null,null,null,null,null,null,null,null,null,null,null,null,null,null,null,null,null,null,null,null,null,null,null,null,168]
[null,190,129,999,null,134,null,null,null,null,null,null,null,null,null,null,null,null,null,null,null,null,null,null,null,null,null,null,null,null,null,null,null,null,null,null,null,null,null,null,null,null,null,null,null,null,null,null,null,null,null,null,null,null,null,null,null,null,null,null,null,null,null,null,null,null,null,null,null,null,null,null,null,null,null,null,null,4,null,"",4,null,2,0,0,2]
[null,191,129,999,null,251,null,null,null,null,null,null,null,null,null,null,null,null,null,null,null,null,null,null,null,null,null,null,null,null,null,null,null,null,null,null,null,null,null,null,null,null,null,null,null,null,null,null,null,null,null,null,null,null,null,null,null,null,null,null,null,null,null,null,null,null,null,null,null,null,null,null,null,null,null,null,null,3,null,"",3]
[null,192,6,null,null,6,null,null,null,null,null,null,null,null,null,null,null,null,null,null,null,null,null,null,null,null,null,null,null,null,null,null,null,null,null,null,null,null,null,null,null,null,null,null,null,null,null,null,null,null,null,null,null,null,null,null,null,null,null,null,null,null,null,null,null,null,null,null,null,null,null,null,null,null,null,null,null,null,null,""]
[null,193,7,null,null,7,null,null,null,null,null,null,null,null,null,null,null,null,null,null,null,null,null,null,null,null,null,null,null,null,null,null,null,null,null,null,null,null,null,null,null,null,null,null,null,null,null,null,null,null,null,null,null,null,null,null,null,null,null,null,null,null,null,null,null,null,null,null,null,null,null,null,null,null,null,null,null,129,999,"",254]
[null,194,129,999,null,250,null,null,null,null,null,null,null,null,null,null,null,null,null,null,null,null,null,null,null,null,null,null,null,null,null,null,null,null,null,null,null,null,null,null,null,null,null,null,null,null,null,null,null,null,null,null,null,null,null,null,null,null,null,null,null,null,null,null,null,null,null,null,null,null,null,null,null,null,null,null,null,129,999,"",126]
[null,195,129,999,null,122,null,null,null,null,null,null,null,null,null,null,null,null,null,null,null,null,null,null,null,null,null,null,null,null,null,null,null,null,null,null,null,null,null,null,null,null,null,null,null,null,null,null,null,null,null,null,null,null,null,null,null,null,null,null,null,null,null,null,null,null,null,null,null,null,null,null,null,null,null,null,null,null,null,""]
[null,196,65,999,null,135,null,null,null,null,null,null,null,null,null,null,null,null,null,null,null,null,null,null,null,null,null,null,null,null,null,null,null,null,null,null,null,null,null,null,null,null,null,null,null,null,null,null,null,null,null,null,null,null,null,null,null,null,null,null,null,null,null,null,null,null,null,null,null,null,null,null,null,null,null,null,null,65,999,"",131]
[null,197,65,999,null,71,null,null,null,null,null,null,null,null,null,null,null,null,null,null,null,null,null,null,null,null,null,null,null,null,null,null,null,null,null,null,null,null,null,null,null,null,null,null,null,null,null,null,null,null,null,null,null,null,null,null,null,null,null,null,null,null,null,null,null,null,null,null,null,null,null,null,null,null,null,null,null,65,999,"",67]
[null,198,129,999,null,186,null,null,null,null,null,null,null,null,null,null,null,null,null,null,null,null,null,null,null,null,null,null,null,null,null,null,null,null,null,null,null,null,null,null,null,null,null,null,null,null,null,null,null,null,null,null,null,null,null,null,null,null,null,null,null,null,null,null,null,null,null,null,null,null,null,null,null,null,null,null,null,null,null,""]
[null,199,129,999,null,58,null,null,null,null,null,null,null,null,null,null,null,null,null,null,null,null,null,null,null,null,null,null,null,null,null,null,null,null,null,null,null,null,null,null,null,null,null,null,null,null,null,null,null,null,null,null,null,null,null,null,null,null,null,null,null,null,null,null,null,null,null,null,null,null,null,null,null,null,null,null,null,129,999,"",190]
[null,200,58,999,null,199,null,null,null,null,null,null,null,null,null,null,null,null,null,null,null,null,null,null,null,null,null,null,null,null,null,null,null,null,null,null,null,null,null,null,null,null,null,null,null,null,null,null,null,null,null,null,null,null,null,null,null,null,null,null,null,null,null,null,null,null,null,null,null,null,null,null,null,null,null,null,null,129,999,"",62]
[null,201,55,null,null,39,null,null,null,null,null,null,null,null,null,null,null,null,null,null,null,null,null,null,null,null,null,null,null,null,null,null,null,null,null,null,null,null,null,null,null,null,null,null,null,null,null,null,null,null,null,null,null,null,null,null,null,null,null,null,null,null,null,null,null,null,null,null,null,null,null,null,null,null,null,null,null,null,null,""]
[null,202,129,55,null,218,null,null,null,null,null,null,null,null,null,null,null,null,null,null,null,null,null,null,null,null,null,null,null,null,null,null,null,null,null,null,null,null,null,null,null,null,null,null,null,null,null,null,null,null,null,null,null,null,null,null,null,null,null,null,null,null,null,null,null,null,null,null,null,null,null,null,null,null,null,null,null,62,999,"",195]
[null,203,129,null,11,90,null,null,null,null,null,null,null,null,null,null,null,null,null,null,null,null,null,null,null,null,null,null,null,null,null,null,null,null,null,null,null,null,null,null,null,null,null,null,null,null,null,null,null,null,null,null,null,null,null,null,null,null,null,null,null,null,null,null,null,null,null,null,null,null,null,null,null,null,null,null,null,51,null,"",35]
[null,204,65,null,null,167,null,null,null,null,null,null,null,null,null,null,null,null,null,null,null,null,null,null,null,null,null,null,null,null,null,null,null,null,null,null,null,null,null,null,null,null,null,null,null,null,null,null,null,null,null,null,null,null,null,null,null,null,null,null,null,null,null,null,null,null,null,null,null,null,null,null,null,null,null,null,null,null,null,""]
[null,205,65,null,null,103,null,null,null,null,null,null,null,null,null,null,null,null,null,null,null,null,null,null,null,null,null,null,null,null,null,null,null,null,null,null,null,null,null,null,null,null,null,null,null,null,null,null,null,null,null,null,null,null,null,null,null,null,null,null,null,null,null,null,null,null,null,null,null,null,null,null,null,null,null,null,null,129,51,"",222]
[null,206,129,null,25,154,null,null,null,null,null,null,null,null,null,null,null,null,null,null,null,null,null,null,null,null,null,null,null,null,null,null,null,null,null,null,null,null,null,null,null,null,null,null,null,null,null,null,null,null,null,null,null,null,null,null,null,null,null,null,null,null,null,null,null,null,null,null,null,null,null,null,null,null,null,null,null,129,null,"E13",94]
[null,207,129,26,null,26,null,null,null,null,null,null,null,null,null,null,null,null,null,null,null,null,null,null,null,null,null,null,null,null,null,null,null,null,null,null,null,null,null,null,null,null,null,null,null,null,null,null,null,null,null,null,null,null,null,null,null,null,null,null,null,null,null,null,null,null,null,null,null,null,null,null,null,null,null,null,null,null,null,""]
[null,208,26,null,null,231,null,null,null,null,null,null,null,null,null,null,null,null,null,null,null,null,null,null,null,null,null,null,null,null,null,null,null,null,null,null,null,null,null,null,null,null,null,null,null,null,null,null,null,null,null,null,null,null,null,null,null,null,null,null,null,null,null,null,null,null,null,null,null,null,null,null,null,null,null,null,null,65,null,"",163]
[null,209,23,null,null,23,null,null,null,null,null,null,null,null,null,null,null,null,null,null,null,null,null,null,null,null,null,null,null,null,null,null,null,null,null,null,null,null,null,null,null,null,null,null,null,null,null,null,null,null,null,null,null,null,null,null,null,null,null,null,null,null,null,null,null,null,null,null,null,null,null,null,null,null,null,null,null,65,null,"",99]
[null,210,129,23,null,234,null,null,null,null,null,null,null,null,null,null,null,null,null,null,null,null,null,null,null,null,null,null,null,null,null,null,null,null,null,null,null,null,null,null,null,null,null,null,null,null,null,null,null,null,null,null,null,null,null,null,null,null,null,null,null,null,null,null,null,null,null,null,null,null,null,null,null,null,null,null,null,null,null,""]
[null,211,129,null,null,106,null,null,null,null,null,null,null,null,null,null,null,null,null,null,null,null,null,null,null,null,null,null,null,null,null,null,null,null,null,null,null,null,null,null,null,null,null,null,null,null,null,null,null,null,null,null,null,null,null,null,null,null,null,null,null,null,null,null,null,null,null,null,null,null,null,null,null,null,null,null,null,129,null,"",158]
[null,212,65,null,null,151,null,null,null,null,null,null,null,null,null,null,null,null,null,null,null,null,null,null,null,null,null,null,null,null,null,null,null,null,null,null,null,null,null,null,null,null,null,null,null,null,null,null,null,null,null,null,null,null,null,null,null,null,null,null,null,null,null,null,null,null,null,null,null,null,null,null,null,null,null,null,null,129,30,"E28",30]
[null,213,65,null,null,87,null,null,null,null,null,null,null,null,null,null,null,null,null,null,null,null,null,null,null,null,null,null,null,null,null,null,null,null,null,null,null,null,null,null,null,null,null,null,null,null,null,null,null,null,null,null,null,null,null,null,null,null,null,null,null,null,null,null,null,null,null,null,null,null,null,null,null,null,null,null,null,null,null,""]
[null,214,129,null,3,170,null,null,null,null,null,null,null,null,null,null,null,null,null,null,null,null,null,null,null,null,null,null,null,null,null,null,null,null,null,null,null,null,null,null,null,null,null,null,null,null,null,null,null,null,null,null,null,null,null,null,null,null,null,null,null,null,null,null,null,null,null,null,null,null,null,null,null,null,null,null,null,30,null,"",227]
[null,215,129,42,null,42,null,null,null,null,null,null,null,null,null,null,null,null,null,null,null,null,null,null,null,null,null,null,null,null,null,null,null,null,null,null,null,null,null,null,null,null,null,null,null,null,null,null,null,null,null,null,null,null,null,null,null,null,null,null,null,null,null,null,null,null,null,null,null,null,null,null,null,null,null,null,null,19,null,"",19]
[null,216,42,null,null,215,null,null,null,null,null,null,null,null,null,null,null,null,null,null,null,null,null,null,null,null,null,null,null,null,null,null,null,null,null,null,null,null,null,null,null,null,null,null,null,null,null,null,null,null,null,null,null,null,null,null,null,null,null,null,null,null,null,null,null,null,null,null,null,null,null,null,null,null,null,null,null,null,null,""]
[null,217,39,null,null,55,null,null,null,null,null,null,null,null,null,null,null,null,null,null,null,null,null,null,null,null,null,null,null,null,null,null,null,null,null,null,null,null,null,null,null,null,null,null,null,null,null,null,null,null,null,null,null,null,null,null,null,null,null,null,null,null,null,null,null,null,null,null,null,null,null,null,null,null,null,null,null,129,19,"",238]
[null,218,129,39,null,202,null,null,null,null,null,null,null,null,null,null,null,null,null,null,null,null,null,null,null,null,null,null,null,null,null,null,null,null,null,null,null,null,null,null,null,null,null,null,null,null,null,null,null,null,null,null,null,null,null,null,null,null,null,null,null,null,null,null,null,null,null,null,null,null,null,null,null,null,null,null,null,129,null,"",110]
[null,219,129,null,19,74,null,null,null,null,null,null,null,null,null,null,null,null,null,null,null,null,null,null,null,null,null,null,null,null,null,null,null,null,null,null,null,null,null,null,null,null,null,null,null,null,null,null,null,null,null,null,null,null,null,null,null,null,null,null,null,null,null,null,null,null,null,null,null,null,null,null,null,null,null,null,null,null,null,""]
[null,220,65,null,null,183,null,null,null,null,null,null,null,null,null,null,null,null,null,null,null,null,null,null,null,null,null,null,null,null,null,null,null,null,null,null,null,null,null,null,null,null,null,null,null,null,null,null,null,null,null,null,null,null,null,null,null,null,null,null,null,null,null,null,null,null,null,null,null,null,null,null,null,null,null,null,null,65,null,"",147]
[null,221,65,null,null,119,null,null,null,null,null,null,null,null,null,null,null,null,null,null,null,null,null,null,null,null,null,null,null,null,null,null,null,null,null,null,null,null,null,null,null,null,null,null,null,null,null,null,null,null,null,null,null,null,null,null,null,null,null,null,null,null,null,null,null,null,null,null,null,null,null,null,null,null,null,null,null,65,null,"",83]
[null,222,129,null,null,138,null,null,null,null,null,null,null,null,null,null,null,null,null,null,null,null,null,null,null,null,null,null,null,null,null,null,null,null,null,null,null,null,null,null,null,null,null,null,null,null,null,null,null,null,null,null,null,null,null,null,null,null,null,null,null,null,null,null,null,null,null,null,null,null,null,null,null,null,null,null,null,null,null,""]
[null,223,129,10,null,10,null,null,null,null,null,null,null,null,null,null,null,null,null,null,null,null,null,null,null,null,null,null,null,null,null,null,null,null,null,null,null,null,null,null,null,null,null,null,null,null,null,null,null,null,null,null,null,null,null,null,null,null,null,null,null,null,null,null,null,null,null,null,null,null,null,null,null,null,null,null,null,129,null,"E5",174]
[null,224,10,null,null,247,null,null,null,null,null,null,null,null,null,null,null,null,null,null,null,null,null,null,null,null,null,null,null,null,null,null,null,null,null,null,null,null,null,null,null,null,null,null,null,null,null,null,null,null,null,null,null,null,null,null,null,null,null,null,null,null,null,null,null,null,null,null,null,null,null,null,null,null,null,null,null,129,46,"",46]
[null,225,15,null,null,15,null,null,null,null,null,null,null,null,null,null,null,null,null,null,null,null,null,null,null,null,null,null,null,null,null,null,null,null,null,null,null,null,null,null,null,null,null,null,null,null,null,null,null,null,null,null,null,null,null,null,null,null,null,null,null,null,null,null,null,null,null,null,null,null,null,null,null,null,null,null,null,null,null,""]
[null,226,129,15,null,242,null,null,null,null,null,null,null,null,null,null,null,null,null,null,null,null,null,null,null,null,null,null,null,null,null,null,null,null,null,null,null,null,null,null,null,null,null,null,null,null,null,null,null,null,null,null,null,null,null,null,null,null,null,null,null,null,null,null,null,null,null,null,null,null,null,null,null,null,null,null,null,46,null,"",211]
[null,227,129,null,32,114,null,null,null,null,null,null,null,null,null,null,null,null,null,null,null,null,null,null,null,null,null,null,null,null,null,null,null,null,null,null,null,null,null,null,null,null,null,null,null,null,null,null,null,null,null,null,null,null,null,null,null,null,null,null,null,null,null,null,null,null,null,null,null,null,null,null,null,null,null,null,null,35,null,"",51]
[null,228,65,null,null,143,null,null,null,null,null,null,null,null,null,null,null,null,null,null,null,null,null,null,null,null,null,null,null,null,null,null,null,null,null,null,null,null,null,null,null,null,null,null,null,null,null,null,null,null,null,null,null,null,null,null,null,null,null,null,null,null,null,null,null,null,null,null,null,null,null,null,null,null,null,null,null,null,null,""]
[null,229,65,null,null,79,null,null,null,null,null,null,null,null,null,null,null,null,null,null,null,null,null,null,null,null,null,null,null,null,null,null,null,null,null,null,null,null,null,null,null,null,null,null,null,null,null,null,null,null,null,null,null,null,null,null,null,null,null,null,null,null,null,null,null,null,null,null,null,null,null,null,null,null,null,null,null,129,35,"",206]
[null,230,129,null,23,178,null,null,null,null,null,null,null,null,null,null,null,null,null,null,null,null,null,null,null,null,null,null,null,null,null,null,null,null,null,null,null,null,null,null,null,null,null,null,null,null,null,null,null,null,null,null,null,null,null,null,null,null,null,null,null,null,null,null,null,null,null,null,null,null,null,null,null,null,null,null,null,129,null,"E21",78]
[null,231,129,34,null,50,null,null,null,null,null,null,null,null,null,null,null,null,null,null,null,null,null,null,null,null,null,null,null,null,null,null,null,null,null,null,null,null,null,null,null,null,null,null,null,null,null,null,null,null,null,null,null,null,null,null,null,null,null,null,null,null,null,null,null,null,null,null,null,null,null,null,null,null,null,null,null,null,null,""]
[null,232,34,null,null,207,null,null,null,null,null,null,null,null,null,null,null,null,null,null,null,null,null,null,null,null,null,null,null,null,null,null,null,null,null,null,null,null,null,null,null,null,null,null,null,null,null,null,null,null,null,null,null,null,null,null,null,null,null,null,null,null,null,null,null,null,null,null,null,null,null,null,null,null,null,null,null,65,null,"",179]
[null,233,47,null,null,47,null,null,null,null,null,null,null,null,null,null,null,null,null,null,null,null,null,null,null,null,null,null,null,null,null,null,null,null,null,null,null,null,null,null,null,null,null,null,null,null,null,null,null,null,null,null,null,null,null,null,null,null,null,null,null,null,null,null,null,null,null,null,null,null,null,null,null,null,null,null,null,65,null,"",115]
[null,234,129,47,null,210,null,null,null,null,null,null,null,null,null,null,null,null,null,null,null,null,null,null,null,null,null,null,null,null,null,null,null,null,null,null,null,null,null,null,null,null,null,null,null,null,null,null,null,null,null,null,null,null,null,null,null,null,null,null,null,null,null,null,null,null,null,null,null,null,null,null,null,null,null,null,null,null,null,""]
[null,235,129,null,7,82,null,null,null,null,null,null,null,null,null,null,null,null,null,null,null,null,null,null,null,null,null,null,null,null,null,null,null,null,null,null,null,null,null,null,null,null,null,null,null,null,null,null,null,null,null,null,null,null,null,null,null,null,null,null,null,null,null,null,null,null,null,null,null,null,null,null,null,null,null,null,null,129,null,"E31",142]
[null,236,65,null,null,175,null,null,null,null,null,null,null,null,null,null,null,null,null,null,null,null,null,null,null,null,null,null,null,null,null,null,null,null,null,null,null,null,null,null,null,null,null,null,null,null,null,null,null,null,null,null,null,null,null,null,null,null,null,null,null,null,null,null,null,null,null,null,null,null,null,null,null,null,null,null,null,129,14,"",14]
[null,237,65,null,null,111,null,null,null,null,null,null,null,null,null,null,null,null,null,null,null,null,null,null,null,null,null,null,null,null,null,null,null,null,null,null,null,null,null,null,null,null,null,null,null,null,null,null,null,null,null,null,null,null,null,null,null,null,null,null,null,null,null,null,null,null,null,null,null,null,null,null,null,null,null,null,null,null,null,""]
[null,238,129,null,null,146,null,null,null,null,null,null,null,null,null,null,null,null,null,null,null,null,null,null,null,null,null,null,null,null,null,null,null,null,null,null,null,null,null,null,null,null,null,null,null,null,null,null,null,null,null,null,null,null,null,null,null,null,null,null,null,null,null,null,null,null,null,null,null,null,null,null,null,null,null,null,null,14,null,"",243]
[null,239,129,18,null,18,null,null,null,null,null,null,null,null,null,null,null,null,null,null,null,null,null,null,null,null,null,null,null,null,null,null,null,null,null,null,null,null,null,null,null,null,null,null,null,null,null,null,null,null,null,null,null,null,null,null,null,null,null,null,null,null,null,null,null,null,null,null,null,null,null,null,null,null,null,null,null,11,null,"",11]
[null,240,18,null,null,239,null,null,null,null,null,null,null,null,null,null,null,null,null,null,null,null,null,null,null,null,null,null,null,null,null,null,null,null,null,null,null,null,null,null,null,null,null,null,null,null,null,null,null,null,null,null,null,null,null,null,null,null,null,null,null,null,null,null,null,null,null,null,null,null,null,null,null,null,null,null,null,null,null,""]
[null,241,31,null,null,31,null,null,null,null,null,null,null,null,null,null,null,null,null,null,null,null,null,null,null,null,null,null,null,null,null,null,null,null,null,null,null,null,null,null,null,null,null,null,null,null,null,null,null,null,null,null,null,null,null,null,null,null,null,null,null,null,null,null,null,null,null,null,null,null,null,null,null,null,null,null,null,129,11,"",246]
[null,242,129,31,null,226,null,null,null,null,null,null,null,null,null,null,null,null,null,null,null,null,null,null,null,null,null,null,null,null,null,null,null,null,null,null,null,null,null,null,null,null,null,null,null,null,null,null,null,null,null,null,null,null,null,null,null,null,null,null,null,null,null,null,null,null,null,null,null,null,null,null,null,null,null,null,null,129,null,"",118]
[null,243,129,null,null,98,null,null,null,null,null,null,null,null,null,null,null,null,null,null,null,null,null,null,null,null,null,null,null,null,null,null,null,null,null,null,null,null,null,null,null,null,null,null,null,null,null,null,null,null,null,null,null,null,null,null,null,null,null,null,null,null,null,null,null,null,null,null,null,null,null,null,null,null,null,null,null,null,null,""]
[null,244,65,null,null,159,null,null,null,null,null,null,null,null,null,null,null,null,null,null,null,null,null,null,null,null,null,null,null,null,null,null,null,null,null,null,null,null,null,null,null,null,null,null,null,null,null,null,null,null,null,null,null,null,null,null,null,null,null,null,null,null,null,null,null,null,null,null,null,null,null,null,null,null,null,null,null,65,null,"",139]
[null,245,65,null,null,95,null,null,null,null,null,null,null,null,null,null,null,null,null,null,null,null,null,null,null,null,null,null,null,null,null,null,null,null,null,null,null,null,null,null,null,null,null,null,null,null,null,null,null,null,null,null,null,null,null,null,null,null,null,null,null,null,null,null,null,null,null,null,null,null,null,null,null,null,null,null,null,65,null,"",75]
[null,246,129,null,15,162,null,null,null,null,null,null,null,null,null,null,null,null,null,null,null,null,null,null,null,null,null,null,null,null,null,null,null,null,null,null,null,null,null,null,null,null,null,null,null,null,null,null,null,null,null,null,null,null,null,null,null,null,null,null,null,null,null,null,null,null,null,null,null,null,null,null,null,null,null,null,null,null,null,""]
[null,247,129,50,null,34,null,null,null,null,null,null,null,null,null,null,null,null,null,null,null,null,null,null,null,null,null,null,null,null,null,null,null,null,null,null,null,null,null,null,null,null,null,null,null,null,null,null,null,null,null,null,null,null,null,null,null,null,null,null,null,null,null,null,null,null,null,null,null,null,null,null,null,null,null,null,null,129,null,"E17",182]
[null,248,50,null,null,223,null,null,null,null,null,null,null,null,null,null,null,null,null,null,null,null,null,null,null,null,null,null,null,null,null,null,null,null,null,null,null,null,null,null,null,null,null,null,null,null,null,null,null,null,null,null,null,null,null,null,null,null,null,null,null,null,null,null,null,null,null,null,null,null,null,null,null,null,null,null,null,129,38,"",54]
[null,249,63,999,null,63,null,null,null,null,null,null,null,null,null,null,null,null,null,null,null,null,null,null,null,null,null,null,null,null,null,null,null,null,null,null,null,null,null,null,null,null,null,null,null,null,null,null,null,null,null,null,null,null,null,null,null,null,null,null,null,null,null,null,null,null,null,null,null,null,null,null,null,null,null,null,null,null,null,""]
[null,250,129,999,null,194,null,null,null,null,null,null,null,null,null,null,null,null,null,null,null,null,null,null,null,null,null,null,null,null,null,null,null,null,null,null,null,null,null,null,null,null,null,null,null,null,null,null,null,null,null,null,null,null,null,null,null,null,null,null,null,null,null,null,null,null,null,null,null,null,null,null,null,null,null,null,null,38,null,"",203]
[null,251,129,999,null,66,null,null,null,null,null,null,null,null,null,null,null,null,null,null,null,null,null,null,null,null,null,null,null,null,null,null,null,null,null,null,null,null,null,null,null,null,null,null,null,null,null,null,null,null,null,null,null,null,null,null,null,null,null,null,null,null,null,null,null,null,null,null,null,null,null,null,null,null,null,null,null,43,null,"",43]
[null,252,65,999,null,191,null,null,null,null,null,null,null,null,null,null,null,null,null,null,null,null,null,null,null,null,null,null,null,null,null,null,null,null,null,null,null,null,null,null,null,null,null,null,null,null,null,null,null,null,null,null,null,null,null,null,null,null,null,null,null,null,null,null,null,null,null,null,null,null,null,null,null,null,null,null,null,null,null,""]
[null,253,65,999,null,127,null,null,null,null,null,null,null,null,null,null,null,null,null,null,null,null,null,null,null,null,null,null,null,null,null,null,null,null,null,null,null,null,null,null,null,null,null,null,null,null,null,null,null,null,null,null,null,null,null,null,null,null,null,null,null,null,null,null,null,null,null,null,null,null,null,null,null,null,null,null,null,129,43,"",214]
[null,254,129,999,null,130,null,null,null,null,null,null,null,null,null,null,null,null,null,null,null,null,null,null,null,null,null,null,null,null,null,null,null,null,null,null,null,null,null,null,null,null,null,null,null,null,null,null,null,null,null,null,null,null,null,null,null,null,null,null,null,null,null,null,null,null,null,null,null,null,null,null,null,null,null,null,null,129,null,"E1",86]
[null,255,129,999,null,255,null,null,null,null,null,null,null,null,null,null,null,null,null,null,null,null,null,null,null,null,null,null,null,null,null,null,null,null,null,null,null,null,null,null,null,null,null,null,null,null,null,null,null,null,null,null,null,null,null,null,null,null,null,null,null,null,null,null,null,null,null,null,null,null,null,null,null,null,null,null,null,null,null,""]
[null,256,2,null,null,2,null,null,null,null,null,null,null,null,null,null,null,null,null,null,null,null,null,null,null,null,null,null,null,null,null,null,null,null,null,null,null,null,null,null,null,null,null,null,null,null,null,null,null,null,null,null,null,null,null,null,null,null,null,null,null,null,null,null,null,null,null,null,null,null,null,null,null,null,null,null,null,65,null,"",171]
[null,null,null,null,null,null,null,null,null,null,null,null,null,null,null,null,null,null,null,null,null,null,null,null,null,null,null,null,null,null,null,null,null,null,null,null,null,null,null,null,null,null,null,null,null,null,null,null,null,null,null,null,null,null,null,null,null,null,null,null,null,null,null,null,null,null,null,null,null,null,null,null,null,null,null,null,null,65,null,"",107]
[null,null,null,null,null,null,null,null,null,null,null,null,null,null,null,null,null,null,null,null,null,null,null,null,null,null,null,null,null,null,null,null,null,null,null,null,null,null,null,null,null,null,null,null,null,null,null,null,null,null,null,null,null,null,null,null,null,null,null,null,null,null,null,null,null,null,null,null,null,null,null,null,null,null,null,null,null,null,null,""]
[null,null,null,null,null,null,null,null,null,null,null,null,null,null,null,null,null,null,null,null,null,null,null,null,null,null,null,null,null,null,null,null,null,null,null,null,null,null,null,null,null,null,null,null,null,null,null,null,null,null,null,null,null,null,null,null,null,null,null,null,null,null,null,null,null,null,null,null,null,null,null,null,null,null,null,null,null,129,null,"",150]
[null,null,null,null,null,null,null,null,null,null,null,null,null,null,null,null,null,null,null,null,null,null,null,null,null,null,null,null,null,null,null,null,null,null,null,null,null,null,null,null,null,null,null,null,null,null,null,null,null,null,null,null,null,null,null,null,null,null,null,null,null,null,null,null,null,null,null,null,null,null,null,null,null,null,null,null,null,129,22,"",22]
[null,null,null,null,null,null,null,null,null,null,null,null,null,null,null,null,null,null,null,null,null,null,null,null,null,null,null,null,null,null,null,null,null,null,null,null,null,null,null,null,null,null,null,null,null,null,null,null,null,null,null,null,null,null,null,null,null,null,null,null,null,null,null,null,null,null,null,null,null,null,null,null,null,null,null,null,null,null,null,""]
[null,null,null,null,null,null,null,null,null,null,null,null,null,null,null,null,null,null,null,null,null,null,null,null,null,null,null,null,null,null,null,null,null,null,null,null,null,null,null,null,null,null,null,null,null,null,null,null,null,null,null,null,null,null,null,null,null,null,null,null,null,null,null,null,null,null,null,null,null,null,null,null,null,null,null,null,null,22,null,"",235]
[null,null,null,null,null,null,null,null,null,null,null,null,null,null,null,null,null,null,null,null,null,null,null,null,null,null,null,null,null,null,null,null,null,null,null,null,null,null,null,null,null,null,null,null,null,null,null,null,null,null,null,null,null,null,null,null,null,null,null,null,null,null,null,null,null,null,null,null,null,null,null,null,null,null,null,null,null,27,null,"",27]
[null,null,null,null,null,null,null,null,null,null,null,null,null,null,null,null,null,null,null,null,null,null,null,null,null,null,null,null,null,null,null,null,null,null,null,null,null,null,null,null,null,null,null,null,null,null,null,null,null,null,null,null,null,null,null,null,null,null,null,null,null,null,null,null,null,null,null,null,null,null,null,null,null,null,null,null,null,null,null,""]
[null,null,null,null,null,null,null,null,null,null,null,null,null,null,null,null,null,null,null,null,null,null,null,null,null,null,null,null,null,null,null,null,null,null,null,null,null,null,null,null,null,null,null,null,null,null,null,null,null,null,null,null,null,null,null,null,null,null,null,null,null,null,null,null,null,null,null,null,null,null,null,null,null,null,null,null,null,129,27,"",230]
[null,null,null,null,null,null,null,null,null,null,null,null,null,null,null,null,null,null,null,null,null,null,null,null,null,null,null,null,null,null,null,null,null,null,null,null,null,null,null,null,null,null,null,null,null,null,null,null,null,null,null,null,null,null,null,null,null,null,null,null,null,null,null,null,null,null,null,null,null,null,null,null,null,null,null,null,null,129,null,"",102]
[null,null,null,null,null,null,null,null,null,null,null,null,null,null,null,null,null,null,null,null,null,null,null,null,null,null,null,null,null,null,null,null,null,null,null,null,null,null,null,null,null,null,null,null,null,null,null,null,null,null,null,null,null,null,null,null,null,null,null,null,null,null,null,null,null,null,null,null,null,null,null,null,null,null,null,null,null,null,null,""]
[null,null,null,null,null,null,null,null,null,null,null,null,null,null,null,null,null,null,null,null,null,null,null,null,null,null,null,null,null,null,null,null,null,null,null,null,null,null,null,null,null,null,null,null,null,null,null,null,null,null,null,null,null,null,null,null,null,null,null,null,null,null,null,null,null,null,null,null,null,null,null,null,null,null,null,null,null,65,null,"",155]
[null,null,null,null,null,null,null,null,null,null,null,null,null,null,null,null,null,null,null,null,null,null,null,null,null,null,null,null,null,null,null,null,null,null,null,null,null,null,null,null,null,null,null,null,null,null,null,null,null,null,null,null,null,null,null,null,null,null,null,null,null,null,null,null,null,null,null,null,null,null,null,null,null,null,null,null,null,65,null,"",91]
[null,null,null,null,null,null,null,null,null,null,null,null,null,null,null,null,null,null,null,null,null,null,null,null,null,null,null,null,null,null,null,null,null,null,null,null,null,null,null,null,null,null,null,null,null,null,null,null,null,null,null,null,null,null,null,null,null,null,null,null,null,null,null,null,null,null,null,null,null,null,null,null,null,null,null,null,null,null,null,""]
[null,null,null,null,null,null,null,null,null,null,null,null,null,null,null,null,null,null,null,null,null,null,null,null,null,null,null,null,null,null,null,null,null,null,null,null,null,null,null,null,null,null,null,null,null,null,null,null,null,null,null,null,null,null,null,null,null,null,null,null,null,null,null,null,null,null,null,null,null,null,null,null,null,null,null,null,null,129,null,"E9",166]
[null,null,null,null,null,null,null,null,null,null,null,null,null,null,null,null,null,null,null,null,null,null,null,null,null,null,null,null,null,null,null,null,null,null,null,null,null,null,null,null,null,null,null,null,null,null,null,null,null,null,null,null,null,null,null,null,null,null,null,null,null,null,null,null,null,null,null,null,null,null,null,null,null,null,null,null,null,129,54,"",38]
[null,null,null,null,null,null,null,null,null,null,null,null,null,null,null,null,null,null,null,null,null,null,null,null,null,null,null,null,null,null,null,null,null,null,null,null,null,null,null,null,null,null,null,null,null,null,null,null,null,null,null,null,null,null,null,null,null,null,null,null,null,null,null,null,null,null,null,null,null,null,null,null,null,null,null,null,null,null,null,""]
[null,null,null,null,null,null,null,null,null,null,null,null,null,null,null,null,null,null,null,null,null,null,null,null,null,null,null,null,null,null,null,null,null,null,null,null,null,null,null,null,null,null,null,null,null,null,null,null,null,null,null,null,null,null,null,null,null,null,null,null,null,null,null,null,null,null,null,null,null,null,null,null,null,null,null,null,null,54,null,"",219]
[null,null,null,null,null,null,null,null,null,null,null,null,null,null,null,null,null,null,null,null,null,null,null,null,null,null,null,null,null,null,null,null,null,null,null,null,null,null,null,null,null,null,null,null,null,null,null,null,null,null,null,null,null,null,null,null,null,null,null,null,null,null,null,null,null,null,null,null,null,null,null,null,null,null,null,null,null,59,999,"",59]
[null,null,null,null,null,null,null,null,null,null,null,null,null,null,null,null,null,null,null,null,null,null,null,null,null,null,null,null,null,null,null,null,null,null,null,null,null,null,null,null,null,null,null,null,null,null,null,null,null,null,null,null,null,null,null,null,null,null,null,null,null,null,null,null,null,null,null,null,null,null,null,null,null,null,null,null,null,null,null,""]
[null,null,null,null,null,null,null,null,null,null,null,null,null,null,null,null,null,null,null,null,null,null,null,null,null,null,null,null,null,null,null,null,null,null,null,null,null,null,null,null,null,null,null,null,null,null,null,null,null,null,null,null,null,null,null,null,null,null,null,null,null,null,null,null,null,null,null,null,null,null,null,null,null,null,null,null,null,129,999,"",198]
[null,null,null,null,null,null,null,null,null,null,null,null,null,null,null,null,null,null,null,null,null,null,null,null,null,null,null,null,null,null,null,null,null,null,null,null,null,null,null,null,null,null,null,null,null,null,null,null,null,null,null,null,null,null,null,null,null,null,null,null,null,null,null,null,null,null,null,null,null,null,null,null,null,null,null,null,null,129,999,"",70]
[null,null,null,null,null,null,null,null,null,null,null,null,null,null,null,null,null,null,null,null,null,null,null,null,null,null,null,null,null,null,null,null,null,null,null,null,null,null,null,null,null,null,null,null,null,null,null,null,null,null,null,null,null,null,null,null,null,null,null,null,null,null,null,null,null,null,null,null,null,null,null,null,null,null,null,null,null,null,null,""]
[null,null,null,null,null,null,null,null,null,null,null,null,null,null,null,null,null,null,null,null,null,null,null,null,null,null,null,null,null,null,null,null,null,null,null,null,null,null,null,null,null,null,null,null,null,null,null,null,null,null,null,null,null,null,null,null,null,null,null,null,null,null,null,null,null,null,null,null,null,null,null,null,null,null,null,null,null,65,999,"",187]
[null,null,null,null,null,null,null,null,null,null,null,null,null,null,null,null,null,null,null,null,null,null,null,null,null,null,null,null,null,null,null,null,null,null,null,null,null,null,null,null,null,null,null,null,null,null,null,null,null,null,null,null,null,null,null,null,null,null,null,null,null,null,null,null,null,null,null,null,null,null,null,null,null,null,null,null,null,65,999,"",123]
[null,null,null,null,null,null,null,null,null,null,null,null,null,null,null,null,null,null,null,null,null,null,null,null,null,null,null,null,null,null,null,null,null,null,null,null,null,null,null,null,null,null,null,null,null,null,null,null,null,null,null,null,null,null,null,null,null,null,null,null,null,null,null,null,null,null,null,null,null,null,null,null,null,null,null,null,null,null,null,""]
[null,null,null,null,null,null,null,null,null,null,null,null,null,null,null,null,null,null,null,null,null,null,null,null,null,null,null,null,null,null,null,null,null,null,null,null,null,null,null,null,null,null,null,null,null,null,null,null,null,null,null,null,null,null,null,null,null,null,null,null,null,null,null,null,null,null,null,null,null,null,null,null,null,null,null,null,null,129,999,"",134]
[null,null,null,null,null,null,null,null,null,null,null,null,null,null,null,null,null,null,null,null,null,null,null,null,null,null,null,null,null,null,null,null,null,null,null,null,null,null,null,null,null,null,null,null,null,null,null,null,null,null,null,null,null,null,null,null,null,null,null,null,null,null,null,null,null,null,null,null,null,null,null,null,null,null,null,null,null,129,999,"",251]
[null,null,null,null,null,null,null,null,null,null,null,null,null,null,null,null,null,null,null,null,null,null,null,null,null,null,null,null,null,null,null,null,null,null,null,null,null,null,null,null,null,null,null,null,null,null,null,null,null,null,null,null,null,null,null,null,null,null,null,null,null,null,null,null,null,null,null,null,null,null,null,null,null,null,null,null,null,null,null,""]
[null,null,null,null,null,null,null,null,null,null,null,null,null,null,null,null,null,null,null,null,null,null,null,null,null,null,null,null,null,null,null,null,null,null,null,null,null,null,null,null,null,null,null,null,null,null,null,null,null,null,null,null,null,null,null,null,null,null,null,null,null,null,null,null,null,null,null,null,null,null,null,null,null,null,null,null,null,6,null,"",6]
[null,null,null,null,null,null,null,null,null,null,null,null,null,null,null,null,null,null,null,null,null,null,null,null,null,null,null,null,null,null,null,null,null,null,null,null,null,null,null,null,null,null,null,null,null,null,null,null,null,null,null,null,null,null,null,null,null,null,null,null,null,null,null,null,null,null,null,null,null,null,null,null,null,null,null,null,null,7,null,"",7]
[null,null,null,null,null,null,null,null,null,null,null,null,null,null,null,null,null,null,null,null,null,null,null,null,null,null,null,null,null,null,null,null,null,null,null,null,null,null,null,null,null,null,null,null,null,null,null,null,null,null,null,null,null,null,null,null,null,null,null,null,null,null,null,null,null,null,null,null,null,null,null,null,null,null,null,null,null,null,null,""]
[null,null,null,null,null,null,null,null,null,null,null,null,null,null,null,null,null,null,null,null,null,null,null,null,null,null,null,null,null,null,null,null,null,null,null,null,null,null,null,null,null,null,null,null,null,null,null,null,null,null,null,null,null,null,null,null,null,null,null,null,null,null,null,null,null,null,null,null,null,null,null,null,null,null,null,null,null,129,999,"",250]
[null,null,null,null,null,null,null,null,null,null,null,null,null,null,null,null,null,null,null,null,null,null,null,null,null,null,null,null,null,null,null,null,null,null,null,null,null,null,null,null,null,null,null,null,null,null,null,null,null,null,null,null,null,null,null,null,null,null,null,null,null,null,null,null,null,null,null,null,null,null,null,null,null,null,null,null,null,129,999,"",122]
[null,null,null,null,null,null,null,null,null,null,null,null,null,null,null,null,null,null,null,null,null,null,null,null,null,null,null,null,null,null,null,null,null,null,null,null,null,null,null,null,null,null,null,null,null,null,null,null,null,null,null,null,null,null,null,null,null,null,null,null,null,null,null,null,null,null,null,null,null,null,null,null,null,null,null,null,null,null,null,""]
[null,null,null,null,null,null,null,null,null,null,null,null,null,null,null,null,null,null,null,null,null,null,null,null,null,null,null,null,null,null,null,null,null,null,null,null,null,null,null,null,null,null,null,null,null,null,null,null,null,null,null,null,null,null,null,null,null,null,null,null,null,null,null,null,null,null,null,null,null,null,null,null,null,null,null,null,null,65,999,"",135]
[null,null,null,null,null,null,null,null,null,null,null,null,null,null,null,null,null,null,null,null,null,null,null,null,null,null,null,null,null,null,null,null,null,null,null,null,null,null,null,null,null,null,null,null,null,null,null,null,null,null,null,null,null,null,null,null,null,null,null,null,null,null,null,null,null,null,null,null,null,null,null,null,null,null,null,null,null,65,999,"",71]
[null,null,null,null,null,null,null,null,null,null,null,null,null,null,null,null,null,null,null,null,null,null,null,null,null,null,null,null,null,null,null,null,null,null,null,null,null,null,null,null,null,null,null,null,null,null,null,null,null,null,null,null,null,null,null,null,null,null,null,null,null,null,null,null,null,null,null,null,null,null,null,null,null,null,null,null,null,null,null,""]
[null,null,null,null,null,null,null,null,null,null,null,null,null,null,null,null,null,null,null,null,null,null,null,null,null,null,null,null,null,null,null,null,null,null,null,null,null,null,null,null,null,null,null,null,null,null,null,null,null,null,null,null,null,null,null,null,null,null,null,null,null,null,null,null,null,null,null,null,null,null,null,null,null,null,null,null,null,129,999,"",186]
[null,null,null,null,null,null,null,null,null,null,null,null,null,null,null,null,null,null,null,null,null,null,null,null,null,null,null,null,null,null,null,null,null,null,null,null,null,null,null,null,null,null,null,null,null,null,null,null,null,null,null,null,null,null,null,null,null,null,null,null,null,null,null,null,null,null,null,null,null,null,null,null,null,null,null,null,null,129,999,"",58]
[null,null,null,null,null,null,null,null,null,null,null,null,null,null,null,null,null,null,null,null,null,null,null,null,null,null,null,null,null,null,null,null,null,null,null,null,null,null,null,null,null,null,null,null,null,null,null,null,null,null,null,null,null,null,null,null,null,null,null,null,null,null,null,null,null,null,null,null,null,null,null,null,null,null,null,null,null,null,null,""]
[null,null,null,null,null,null,null,null,null,null,null,null,null,null,null,null,null,null,null,null,null,null,null,null,null,null,null,null,null,null,null,null,null,null,null,null,null,null,null,null,null,null,null,null,null,null,null,null,null,null,null,null,null,null,null,null,null,null,null,null,null,null,null,null,null,null,null,null,null,null,null,null,null,null,null,null,null,58,999,"",199]
[null,null,null,null,null,null,null,null,null,null,null,null,null,null,null,null,null,null,null,null,null,null,null,null,null,null,null,null,null,null,null,null,null,null,null,null,null,null,null,null,null,null,null,null,null,null,null,null,null,null,null,null,null,null,null,null,null,null,null,null,null,null,null,null,null,null,null,null,null,null,null,null,null,null,null,null,null,55,null,"",39]
[null,null,null,null,null,null,null,null,null,null,null,null,null,null,null,null,null,null,null,null,null,null,null,null,null,null,null,null,null,null,null,null,null,null,null,null,null,null,null,null,null,null,null,null,null,null,null,null,null,null,null,null,null,null,null,null,null,null,null,null,null,null,null,null,null,null,null,null,null,null,null,null,null,null,null,null,null,null,null,""]
[null,null,null,null,null,null,null,null,null,null,null,null,null,null,null,null,null,null,null,null,null,null,null,null,null,null,null,null,null,null,null,null,null,null,null,null,null,null,null,null,null,null,null,null,null,null,null,null,null,null,null,null,null,null,null,null,null,null,null,null,null,null,null,null,null,null,null,null,null,null,null,null,null,null,null,null,null,129,55,"",218]
[null,null,null,null,null,null,null,null,null,null,null,null,null,null,null,null,null,null,null,null,null,null,null,null,null,null,null,null,null,null,null,null,null,null,null,null,null,null,null,null,null,null,null,null,null,null,null,null,null,null,null,null,null,null,null,null,null,null,null,null,null,null,null,null,null,null,null,null,null,null,null,null,null,null,null,null,null,129,null,"E11",90]
[null,null,null,null,null,null,null,null,null,null,null,null,null,null,null,null,null,null,null,null,null,null,null,null,null,null,null,null,null,null,null,null,null,null,null,null,null,null,null,null,null,null,null,null,null,null,null,null,null,null,null,null,null,null,null,null,null,null,null,null,null,null,null,null,null,null,null,null,null,null,null,null,null,null,null,null,null,null,null,""]
[null,null,null,null,null,null,null,null,null,null,null,null,null,null,null,null,null,null,null,null,null,null,null,null,null,null,null,null,null,null,null,null,null,null,null,null,null,null,null,null,null,null,null,null,null,null,null,null,null,null,null,null,null,null,null,null,null,null,null,null,null,null,null,null,null,null,null,null,null,null,null,null,null,null,null,null,null,65,null,"",167]
[null,null,null,null,null,null,null,null,null,null,null,null,null,null,null,null,null,null,null,null,null,null,null,null,null,null,null,null,null,null,null,null,null,null,null,null,null,null,null,null,null,null,null,null,null,null,null,null,null,null,null,null,null,null,null,null,null,null,null,null,null,null,null,null,null,null,null,null,null,null,null,null,null,null,null,null,null,65,null,"",103]
[null,null,null,null,null,null,null,null,null,null,null,null,null,null,null,null,null,null,null,null,null,null,null,null,null,null,null,null,null,null,null,null,null,null,null,null,null,null,null,null,null,null,null,null,null,null,null,null,null,null,null,null,null,null,null,null,null,null,null,null,null,null,null,null,null,null,null,null,null,null,null,null,null,null,null,null,null,null,null,""]
[null,null,null,null,null,null,null,null,null,null,null,null,null,null,null,null,null,null,null,null,null,null,null,null,null,null,null,null,null,null,null,null,null,null,null,null,null,null,null,null,null,null,null,null,null,null,null,null,null,null,null,null,null,null,null,null,null,null,null,null,null,null,null,null,null,null,null,null,null,null,null,null,null,null,null,null,null,129,null,"E25",154]
[null,null,null,null,null,null,null,null,null,null,null,null,null,null,null,null,null,null,null,null,null,null,null,null,null,null,null,null,null,null,null,null,null,null,null,null,null,null,null,null,null,null,null,null,null,null,null,null,null,null,null,null,null,null,null,null,null,null,null,null,null,null,null,null,null,null,null,null,null,null,null,null,null,null,null,null,null,129,26,"",26]
[null,null,null,null,null,null,null,null,null,null,null,null,null,null,null,null,null,null,null,null,null,null,null,null,null,null,null,null,null,null,null,null,null,null,null,null,null,null,null,null,null,null,null,null,null,null,null,null,null,null,null,null,null,null,null,null,null,null,null,null,null,null,null,null,null,null,null,null,null,null,null,null,null,null,null,null,null,null,null,""]
[null,null,null,null,null,null,null,null,null,null,null,null,null,null,null,null,null,null,null,null,null,null,null,null,null,null,null,null,null,null,null,null,null,null,null,null,null,null,null,null,null,null,null,null,null,null,null,null,null,null,null,null,null,null,null,null,null,null,null,null,null,null,null,null,null,null,null,null,null,null,null,null,null,null,null,null,null,26,null,"",231]
[null,null,null,null,null,null,null,null,null,null,null,null,null,null,null,null,null,null,null,null,null,null,null,null,null,null,null,null,null,null,null,null,null,null,null,null,null,null,null,null,null,null,null,null,null,null,null,null,null,null,null,null,null,null,null,null,null,null,null,null,null,null,null,null,null,null,null,null,null,null,null,null,null,null,null,null,null,23,null,"",23]
[null,null,null,null,null,null,null,null,null,null,null,null,null,null,null,null,null,null,null,null,null,null,null,null,null,null,null,null,null,null,null,null,null,null,null,null,null,null,null,null,null,null,null,null,null,null,null,null,null,null,null,null,null,null,null,null,null,null,null,null,null,null,null,null,null,null,null,null,null,null,null,null,null,null,null,null,null,null,null,""]
[null,null,null,null,null,null,null,null,null,null,null,null,null,null,null,null,null,null,null,null,null,null,null,null,null,null,null,null,null,null,null,null,null,null,null,null,null,null,null,null,null,null,null,null,null,null,null,null,null,null,null,null,null,null,null,null,null,null,null,null,null,null,null,null,null,null,null,null,null,null,null,null,null,null,null,null,null,129,23,"",234]
[null,null,null,null,null,null,null,null,null,null,null,null,null,null,null,null,null,null,null,null,null,null,null,null,null,null,null,null,null,null,null,null,null,null,null,null,null,null,null,null,null,null,null,null,null,null,null,null,null,null,null,null,null,null,null,null,null,null,null,null,null,null,null,null,null,null,null,null,null,null,null,null,null,null,null,null,null,129,null,"",106]
[null,null,null,null,null,null,null,null,null,null,null,null,null,null,null,null,null,null,null,null,null,null,null,null,null,null,null,null,null,null,null,null,null,null,null,null,null,null,null,null,null,null,null,null,null,null,null,null,null,null,null,null,null,null,null,null,null,null,null,null,null,null,null,null,null,null,null,null,null,null,null,null,null,null,null,null,null,null,null,""]
[null,null,null,null,null,null,null,null,null,null,null,null,null,null,null,null,null,null,null,null,null,null,null,null,null,null,null,null,null,null,null,null,null,null,null,null,null,null,null,null,null,null,null,null,null,null,null,null,null,null,null,null,null,null,null,null,null,null,null,null,null,null,null,null,null,null,null,null,null,null,null,null,null,null,null,null,null,65,null,"",151]
[null,null,null,null,null,null,null,null,null,null,null,null,null,null,null,null,null,null,null,null,null,null,null,null,null,null,null,null,null,null,null,null,null,null,null,null,null,null,null,null,null,null,null,null,null,null,null,null,null,null,null,null,null,null,null,null,null,null,null,null,null,null,null,null,null,null,null,null,null,null,null,null,null,null,null,null,null,65,null,"",87]
[null,null,null,null,null,null,null,null,null,null,null,null,null,null,null,null,null,null,null,null,null,null,null,null,null,null,null,null,null,null,null,null,null,null,null,null,null,null,null,null,null,null,null,null,null,null,null,null,null,null,null,null,null,null,null,null,null,null,null,null,null,null,null,null,null,null,null,null,null,null,null,null,null,null,null,null,null,null,null,""]
[null,null,null,null,null,null,null,null,null,null,null,null,null,null,null,null,null,null,null,null,null,null,null,null,null,null,null,null,null,null,null,null,null,null,null,null,null,null,null,null,null,null,null,null,null,null,null,null,null,null,null,null,null,null,null,null,null,null,null,null,null,null,null,null,null,null,null,null,null,null,null,null,null,null,null,null,null,129,null,"E3",170]
[null,null,null,null,null,null,null,null,null,null,null,null,null,null,null,null,null,null,null,null,null,null,null,null,null,null,null,null,null,null,null,null,null,null,null,null,null,null,null,null,null,null,null,null,null,null,null,null,null,null,null,null,null,null,null,null,null,null,null,null,null,null,null,null,null,null,null,null,null,null,null,null,null,null,null,null,null,129,42,"",42]
[null,null,null,null,null,null,null,null,null,null,null,null,null,null,null,null,null,null,null,null,null,null,null,null,null,null,null,null,null,null,null,null,null,null,null,null,null,null,null,null,null,null,null,null,null,null,null,null,null,null,null,null,null,null,null,null,null,null,null,null,null,null,null,null,null,null,null,null,null,null,null,null,null,null,null,null,null,null,null,""]
[null,null,null,null,null,null,null,null,null,null,null,null,null,null,null,null,null,null,null,null,null,null,null,null,null,null,null,null,null,null,null,null,null,null,null,null,null,null,null,null,null,null,null,null,null,null,null,null,null,null,null,null,null,null,null,null,null,null,null,null,null,null,null,null,null,null,null,null,null,null,null,null,null,null,null,null,null,42,null,"",215]
[null,null,null,null,null,null,null,null,null,null,null,null,null,null,null,null,null,null,null,null,null,null,null,null,null,null,null,null,null,null,null,null,null,null,null,null,null,null,null,null,null,null,null,null,null,null,null,null,null,null,null,null,null,null,null,null,null,null,null,null,null,null,null,null,null,null,null,null,null,null,null,null,null,null,null,null,null,39,null,"",55]
[null,null,null,null,null,null,null,null,null,null,null,null,null,null,null,null,null,null,null,null,null,null,null,null,null,null,null,null,null,null,null,null,null,null,null,null,null,null,null,null,null,null,null,null,null,null,null,null,null,null,null,null,null,null,null,null,null,null,null,null,null,null,null,null,null,null,null,null,null,null,null,null,null,null,null,null,null,null,null,""]
[null,null,null,null,null,null,null,null,null,null,null,null,null,null,null,null,null,null,null,null,null,null,null,null,null,null,null,null,null,null,null,null,null,null,null,null,null,null,null,null,null,null,null,null,null,null,null,null,null,null,null,null,null,null,null,null,null,null,null,null,null,null,null,null,null,null,null,null,null,null,null,null,null,null,null,null,null,129,39,"",202]
[null,null,null,null,null,null,null,null,null,null,null,null,null,null,null,null,null,null,null,null,null,null,null,null,null,null,null,null,null,null,null,null,null,null,null,null,null,null,null,null,null,null,null,null,null,null,null,null,null,null,null,null,null,null,null,null,null,null,null,null,null,null,null,null,null,null,null,null,null,null,null,null,null,null,null,null,null,129,null,"E19",74]
[null,null,null,null,null,null,null,null,null,null,null,null,null,null,null,null,null,null,null,null,null,null,null,null,null,null,null,null,null,null,null,null,null,null,null,null,null,null,null,null,null,null,null,null,null,null,null,null,null,null,null,null,null,null,null,null,null,null,null,null,null,null,null,null,null,null,null,null,null,null,null,null,null,null,null,null,null,null,null,""]
[null,null,null,null,null,null,null,null,null,null,null,null,null,null,null,null,null,null,null,null,null,null,null,null,null,null,null,null,null,null,null,null,null,null,null,null,null,null,null,null,null,null,null,null,null,null,null,null,null,null,null,null,null,null,null,null,null,null,null,null,null,null,null,null,null,null,null,null,null,null,null,null,null,null,null,null,null,65,null,"",183]
[null,null,null,null,null,null,null,null,null,null,null,null,null,null,null,null,null,null,null,null,null,null,null,null,null,null,null,null,null,null,null,null,null,null,null,null,null,null,null,null,null,null,null,null,null,null,null,null,null,null,null,null,null,null,null,null,null,null,null,null,null,null,null,null,null,null,null,null,null,null,null,null,null,null,null,null,null,65,null,"",119]
[null,null,null,null,null,null,null,null,null,null,null,null,null,null,null,null,null,null,null,null,null,null,null,null,null,null,null,null,null,null,null,null,null,null,null,null,null,null,null,null,null,null,null,null,null,null,null,null,null,null,null,null,null,null,null,null,null,null,null,null,null,null,null,null,null,null,null,null,null,null,null,null,null,null,null,null,null,null,null,""]
[null,null,null,null,null,null,null,null,null,null,null,null,null,null,null,null,null,null,null,null,null,null,null,null,null,null,null,null,null,null,null,null,null,null,null,null,null,null,null,null,null,null,null,null,null,null,null,null,null,null,null,null,null,null,null,null,null,null,null,null,null,null,null,null,null,null,null,null,null,null,null,null,null,null,null,null,null,129,null,"",138]
[null,null,null,null,null,null,null,null,null,null,null,null,null,null,null,null,null,null,null,null,null,null,null,null,null,null,null,null,null,null,null,null,null,null,null,null,null,null,null,null,null,null,null,null,null,null,null,null,null,null,null,null,null,null,null,null,null,null,null,null,null,null,null,null,null,null,null,null,null,null,null,null,null,null,null,null,null,129,10,"",10]
[null,null,null,null,null,null,null,null,null,null,null,null,null,null,null,null,null,null,null,null,null,null,null,null,null,null,null,null,null,null,null,null,null,null,null,null,null,null,null,null,null,null,null,null,null,null,null,null,null,null,null,null,null,null,null,null,null,null,null,null,null,null,null,null,null,null,null,null,null,null,null,null,null,null,null,null,null,null,null,""]
[null,null,null,null,null,null,null,null,null,null,null,null,null,null,null,null,null,null,null,null,null,null,null,null,null,null,null,null,null,null,null,null,null,null,null,null,null,null,null,null,null,null,null,null,null,null,null,null,null,null,null,null,null,null,null,null,null,null,null,null,null,null,null,null,null,null,null,null,null,null,null,null,null,null,null,null,null,10,null,"",247]
[null,null,null,null,null,null,null,null,null,null,null,null,null,null,null,null,null,null,null,null,null,null,null,null,null,null,null,null,null,null,null,null,null,null,null,null,null,null,null,null,null,null,null,null,null,null,null,null,null,null,null,null,null,null,null,null,null,null,null,null,null,null,null,null,null,null,null,null,null,null,null,null,null,null,null,null,null,15,null,"",15]
[null,null,null,null,null,null,null,null,null,null,null,null,null,null,null,null,null,null,null,null,null,null,null,null,null,null,null,null,null,null,null,null,null,null,null,null,null,null,null,null,null,null,null,null,null,null,null,null,null,null,null,null,null,null,null,null,null,null,null,null,null,null,null,null,null,null,null,null,null,null,null,null,null,null,null,null,null,null,null,""]
[null,null,null,null,null,null,null,null,null,null,null,null,null,null,null,null,null,null,null,null,null,null,null,null,null,null,null,null,null,null,null,null,null,null,null,null,null,null,null,null,null,null,null,null,null,null,null,null,null,null,null,null,null,null,null,null,null,null,null,null,null,null,null,null,null,null,null,null,null,null,null,null,null,null,null,null,null,129,15,"",242]
[null,null,null,null,null,null,null,null,null,null,null,null,null,null,null,null,null,null,null,null,null,null,null,null,null,null,null,null,null,null,null,null,null,null,null,null,null,null,null,null,null,null,null,null,null,null,null,null,null,null,null,null,null,null,null,null,null,null,null,null,null,null,null,null,null,null,null,null,null,null,null,null,null,null,null,null,null,129,null,"E32",114]
[null,null,null,null,null,null,null,null,null,null,null,null,null,null,null,null,null,null,null,null,null,null,null,null,null,null,null,null,null,null,null,null,null,null,null,null,null,null,null,null,null,null,null,null,null,null,null,null,null,null,null,null,null,null,null,null,null,null,null,null,null,null,null,null,null,null,null,null,null,null,null,null,null,null,null,null,null,null,null,""]
[null,null,null,null,null,null,null,null,null,null,null,null,null,null,null,null,null,null,null,null,null,null,null,null,null,null,null,null,null,null,null,null,null,null,null,null,null,null,null,null,null,null,null,null,null,null,null,null,null,null,null,null,null,null,null,null,null,null,null,null,null,null,null,null,null,null,null,null,null,null,null,null,null,null,null,null,null,65,null,"",143]
[null,null,null,null,null,null,null,null,null,null,null,null,null,null,null,null,null,null,null,null,null,null,null,null,null,null,null,null,null,null,null,null,null,null,null,null,null,null,null,null,null,null,null,null,null,null,null,null,null,null,null,null,null,null,null,null,null,null,null,null,null,null,null,null,null,null,null,null,null,null,null,null,null,null,null,null,null,65,null,"",79]
[null,null,null,null,null,null,null,null,null,null,null,null,null,null,null,null,null,null,null,null,null,null,null,null,null,null,null,null,null,null,null,null,null,null,null,null,null,null,null,null,null,null,null,null,null,null,null,null,null,null,null,null,null,null,null,null,null,null,null,null,null,null,null,null,null,null,null,null,null,null,null,null,null,null,null,null,null,null,null,""]
[null,null,null,null,null,null,null,null,null,null,null,null,null,null,null,null,null,null,null,null,null,null,null,null,null,null,null,null,null,null,null,null,null,null,null,null,null,null,null,null,null,null,null,null,null,null,null,null,null,null,null,null,null,null,null,null,null,null,null,null,null,null,null,null,null,null,null,null,null,null,null,null,null,null,null,null,null,129,null,"E23",178]
[null,null,null,null,null,null,null,null,null,null,null,null,null,null,null,null,null,null,null,null,null,null,null,null,null,null,null,null,null,null,null,null,null,null,null,null,null,null,null,null,null,null,null,null,null,null,null,null,null,null,null,null,null,null,null,null,null,null,null,null,null,null,null,null,null,null,null,null,null,null,null,null,null,null,null,null,null,129,34,"",50]
[null,null,null,null,null,null,null,null,null,null,null,null,null,null,null,null,null,null,null,null,null,null,null,null,null,null,null,null,null,null,null,null,null,null,null,null,null,null,null,null,null,null,null,null,null,null,null,null,null,null,null,null,null,null,null,null,null,null,null,null,null,null,null,null,null,null,null,null,null,null,null,null,null,null,null,null,null,null,null,""]
[null,null,null,null,null,null,null,null,null,null,null,null,null,null,null,null,null,null,null,null,null,null,null,null,null,null,null,null,null,null,null,null,null,null,null,null,null,null,null,null,null,null,null,null,null,null,null,null,null,null,null,null,null,null,null,null,null,null,null,null,null,null,null,null,null,null,null,null,null,null,null,null,null,null,null,null,null,34,null,"",207]
[null,null,null,null,null,null,null,null,null,null,null,null,null,null,null,null,null,null,null,null,null,null,null,null,null,null,null,null,null,null,null,null,null,null,null,null,null,null,null,null,null,null,null,null,null,null,null,null,null,null,null,null,null,null,null,null,null,null,null,null,null,null,null,null,null,null,null,null,null,null,null,null,null,null,null,null,null,47,null,"",47]
[null,null,null,null,null,null,null,null,null,null,null,null,null,null,null,null,null,null,null,null,null,null,null,null,null,null,null,null,null,null,null,null,null,null,null,null,null,null,null,null,null,null,null,null,null,null,null,null,null,null,null,null,null,null,null,null,null,null,null,null,null,null,null,null,null,null,null,null,null,null,null,null,null,null,null,null,null,null,null,""]
[null,null,null,null,null,null,null,null,null,null,null,null,null,null,null,null,null,null,null,null,null,null,null,null,null,null,null,null,null,null,null,null,null,null,null,null,null,null,null,null,null,null,null,null,null,null,null,null,null,null,null,null,null,null,null,null,null,null,null,null,null,null,null,null,null,null,null,null,null,null,null,null,null,null,null,null,null,129,47,"",210]
[null,null,null,null,null,null,null,null,null,null,null,null,null,null,null,null,null,null,null,null,null,null,null,null,null,null,null,null,null,null,null,null,null,null,null,null,null,null,null,null,null,null,null,null,null,null,null,null,null,null,null,null,null,null,null,null,null,null,null,null,null,null,null,null,null,null,null,null,null,null,null,null,null,null,null,null,null,129,null,"E7",82]
[null,null,null,null,null,null,null,null,null,null,null,null,null,null,null,null,null,null,null,null,null,null,null,null,null,null,null,null,null,null,null,null,null,null,null,null,null,null,null,null,null,null,null,null,null,null,null,null,null,null,null,null,null,null,null,null,null,null,null,null,null,null,null,null,null,null,null,null,null,null,null,null,null,null,null,null,null,null,null,""]
[null,null,null,null,null,null,null,null,null,null,null,null,null,null,null,null,null,null,null,null,null,null,null,null,null,null,null,null,null,null,null,null,null,null,null,null,null,null,null,null,null,null,null,null,null,null,null,null,null,null,null,null,null,null,null,null,null,null,null,null,null,null,null,null,null,null,null,null,null,null,null,null,null,null,null,null,null,65,null,"",175]
[null,null,null,null,null,null,null,null,null,null,null,null,null,null,null,null,null,null,null,null,null,null,null,null,null,null,null,null,null,null,null,null,null,null,null,null,null,null,null,null,null,null,null,null,null,null,null,null,null,null,null,null,null,null,null,null,null,null,null,null,null,null,null,null,null,null,null,null,null,null,null,null,null,null,null,null,null,65,null,"",111]
[null,null,null,null,null,null,null,null,null,null,null,null,null,null,null,null,null,null,null,null,null,null,null,null,null,null,null,null,null,null,null,null,null,null,null,null,null,null,null,null,null,null,null,null,null,null,null,null,null,null,null,null,null,null,null,null,null,null,null,null,null,null,null,null,null,null,null,null,null,null,null,null,null,null,null,null,null,null,null,""]
[null,null,null,null,null,null,null,null,null,null,null,null,null,null,null,null,null,null,null,null,null,null,null,null,null,null,null,null,null,null,null,null,null,null,null,null,null,null,null,null,null,null,null,null,null,null,null,null,null,null,null,null,null,null,null,null,null,null,null,null,null,null,null,null,null,null,null,null,null,null,null,null,null,null,null,null,null,129,null,"",146]
[null,null,null,null,null,null,null,null,null,null,null,null,null,null,null,null,null,null,null,null,null,null,null,null,null,null,null,null,null,null,null,null,null,null,null,null,null,null,null,null,null,null,null,null,null,null,null,null,null,null,null,null,null,null,null,null,null,null,null,null,null,null,null,null,null,null,null,null,null,null,null,null,null,null,null,null,null,129,18,"",18]
[null,null,null,null,null,null,null,null,null,null,null,null,null,null,null,null,null,null,null,null,null,null,null,null,null,null,null,null,null,null,null,null,null,null,null,null,null,null,null,null,null,null,null,null,null,null,null,null,null,null,null,null,null,null,null,null,null,null,null,null,null,null,null,null,null,null,null,null,null,null,null,null,null,null,null,null,null,null,null,""]
[null,null,null,null,null,null,null,null,null,null,null,null,null,null,null,null,null,null,null,null,null,null,null,null,null,null,null,null,null,null,null,null,null,null,null,null,null,null,null,null,null,null,null,null,null,null,null,null,null,null,null,null,null,null,null,null,null,null,null,null,null,null,null,null,null,null,null,null,null,null,null,null,null,null,null,null,null,18,null,"",239]
[null,null,null,null,null,null,null,null,null,null,null,null,null,null,null,null,null,null,null,null,null,null,null,null,null,null,null,null,null,null,null,null,null,null,null,null,null,null,null,null,null,null,null,null,null,null,null,null,null,null,null,null,null,null,null,null,null,null,null,null,null,null,null,null,null,null,null,null,null,null,null,null,null,null,null,null,null,31,null,"",31]
[null,null,null,null,null,null,null,null,null,null,null,null,null,null,null,null,null,null,null,null,null,null,null,null,null,null,null,null,null,null,null,null,null,null,null,null,null,null,null,null,null,null,null,null,null,null,null,null,null,null,null,null,null,null,null,null,null,null,null,null,null,null,null,null,null,null,null,null,null,null,null,null,null,null,null,null,null,null,null,""]
[null,null,null,null,null,null,null,null,null,null,null,null,null,null,null,null,null,null,null,null,null,null,null,null,null,null,null,null,null,null,null,null,null,null,null,null,null,null,null,null,null,null,null,null,null,null,null,null,null,null,null,null,null,null,null,null,null,null,null,null,null,null,null,null,null,null,null,null,null,null,null,null,null,null,null,null,null,129,31,"",226]
[null,null,null,null,null,null,null,null,null,null,null,null,null,null,null,null,null,null,null,null,null,null,null,null,null,null,null,null,null,null,null,null,null,null,null,null,null,null,null,null,null,null,null,null,null,null,null,null,null,null,null,null,null,null,null,null,null,null,null,null,null,null,null,null,null,null,null,null,null,null,null,null,null,null,null,null,null,129,null,"",98]
[null,null,null,null,null,null,null,null,null,null,null,null,null,null,null,null,null,null,null,null,null,null,null,null,null,null,null,null,null,null,null,null,null,null,null,null,null,null,null,null,null,null,null,null,null,null,null,null,null,null,null,null,null,null,null,null,null,null,null,null,null,null,null,null,null,null,null,null,null,null,null,null,null,null,null,null,null,null,null,""]
[null,null,null,null,null,null,null,null,null,null,null,null,null,null,null,null,null,null,null,null,null,null,null,null,null,null,null,null,null,null,null,null,null,null,null,null,null,null,null,null,null,null,null,null,null,null,null,null,null,null,null,null,null,null,null,null,null,null,null,null,null,null,null,null,null,null,null,null,null,null,null,null,null,null,null,null,null,65,null,"",159]
[null,null,null,null,null,null,null,null,null,null,null,null,null,null,null,null,null,null,null,null,null,null,null,null,null,null,null,null,null,null,null,null,null,null,null,null,null,null,null,null,null,null,null,null,null,null,null,null,null,null,null,null,null,null,null,null,null,null,null,null,null,null,null,null,null,null,null,null,null,null,null,null,null,null,null,null,null,65,null,"",95]
[null,null,null,null,null,null,null,null,null,null,null,null,null,null,null,null,null,null,null,null,null,null,null,null,null,null,null,null,null,null,null,null,null,null,null,null,null,null,null,null,null,null,null,null,null,null,null,null,null,null,null,null,null,null,null,null,null,null,null,null,null,null,null,null,null,null,null,null,null,null,null,null,null,null,null,null,null,null,null,""]
[null,null,null,null,null,null,null,null,null,null,null,null,null,null,null,null,null,null,null,null,null,null,null,null,null,null,null,null,null,null,null,null,null,null,null,null,null,null,null,null,null,null,null,null,null,null,null,null,null,null,null,null,null,null,null,null,null,null,null,null,null,null,null,null,null,null,null,null,null,null,null,null,null,null,null,null,null,129,null,"E15",162]
[null,null,null,null,null,null,null,null,null,null,null,null,null,null,null,null,null,null,null,null,null,null,null,null,null,null,null,null,null,null,null,null,null,null,null,null,null,null,null,null,null,null,null,null,null,null,null,null,null,null,null,null,null,null,null,null,null,null,null,null,null,null,null,null,null,null,null,null,null,null,null,null,null,null,null,null,null,129,50,"",34]
[null,null,null,null,null,null,null,null,null,null,null,null,null,null,null,null,null,null,null,null,null,null,null,null,null,null,null,null,null,null,null,null,null,null,null,null,null,null,null,null,null,null,null,null,null,null,null,null,null,null,null,null,null,null,null,null,null,null,null,null,null,null,null,null,null,null,null,null,null,null,null,null,null,null,null,null,null,null,null,""]
[null,null,null,null,null,null,null,null,null,null,null,null,null,null,null,null,null,null,null,null,null,null,null,null,null,null,null,null,null,null,null,null,null,null,null,null,null,null,null,null,null,null,null,null,null,null,null,null,null,null,null,null,null,null,null,null,null,null,null,null,null,null,null,null,null,null,null,null,null,null,null,null,null,null,null,null,null,50,null,"",223]
[null,null,null,null,null,null,null,null,null,null,null,null,null,null,null,null,null,null,null,null,null,null,null,null,null,null,null,null,null,null,null,null,null,null,null,null,null,null,null,null,null,null,null,null,null,null,null,null,null,null,null,null,null,null,null,null,null,null,null,null,null,null,null,null,null,null,null,null,null,null,null,null,null,null,null,null,null,63,999,"",63]
[null,null,null,null,null,null,null,null,null,null,null,null,null,null,null,null,null,null,null,null,null,null,null,null,null,null,null,null,null,null,null,null,null,null,null,null,null,null,null,null,null,null,null,null,null,null,null,null,null,null,null,null,null,null,null,null,null,null,null,null,null,null,null,null,null,null,null,null,null,null,null,null,null,null,null,null,null,null,null,""]
[null,null,null,null,null,null,null,null,null,null,null,null,null,null,null,null,null,null,null,null,null,null,null,null,null,null,null,null,null,null,null,null,null,null,null,null,null,null,null,null,null,null,null,null,null,null,null,null,null,null,null,null,null,null,null,null,null,null,null,null,null,null,null,null,null,null,null,null,null,null,null,null,null,null,null,null,null,129,999,"",194]
[null,null,null,null,null,null,null,null,null,null,null,null,null,null,null,null,null,null,null,null,null,null,null,null,null,null,null,null,null,null,null,null,null,null,null,null,null,null,null,null,null,null,null,null,null,null,null,null,null,null,null,null,null,null,null,null,null,null,null,null,null,null,null,null,null,null,null,null,null,null,null,null,null,null,null,null,null,129,999,"",66]
[null,null,null,null,null,null,null,null,null,null,null,null,null,null,null,null,null,null,null,null,null,null,null,null,null,null,null,null,null,null,null,null,null,null,null,null,null,null,null,null,null,null,null,null,null,null,null,null,null,null,null,null,null,null,null,null,null,null,null,null,null,null,null,null,null,null,null,null,null,null,null,null,null,null,null,null,null,null,null,""]
[null,null,null,null,null,null,null,null,null,null,null,null,null,null,null,null,null,null,null,null,null,null,null,null,null,null,null,null,null,null,null,null,null,null,null,null,null,null,null,null,null,null,null,null,null,null,null,null,null,null,null,null,null,null,null,null,null,null,null,null,null,null,null,null,null,null,null,null,null,null,null,null,null,null,null,null,null,65,999,"",191]
[null,null,null,null,null,null,null,null,null,null,null,null,null,null,null,null,null,null,null,null,null,null,null,null,null,null,null,null,null,null,null,null,null,null,null,null,null,null,null,null,null,null,null,null,null,null,null,null,null,null,null,null,null,null,null,null,null,null,null,null,null,null,null,null,null,null,null,null,null,null,null,null,null,null,null,null,null,65,999,"",127]
[null,null,null,null,null,null,null,null,null,null,null,null,null,null,null,null,null,null,null,null,null,null,null,null,null,null,null,null,null,null,null,null,null,null,null,null,null,null,null,null,null,null,null,null,null,null,null,null,null,null,null,null,null,null,null,null,null,null,null,null,null,null,null,null,null,null,null,null,null,null,null,null,null,null,null,null,null,null,null,""]
[null,null,null,null,null,null,null,null,null,null,null,null,null,null,null,null,null,null,null,null,null,null,null,null,null,null,null,null,null,null,null,null,null,null,null,null,null,null,null,null,null,null,null,null,null,null,null,null,null,null,null,null,null,null,null,null,null,null,null,null,null,null,null,null,null,null,null,null,null,null,null,null,null,null,null,null,null,129,999,"",130]
[null,null,null,null,null,null,null,null,null,null,null,null,null,null,null,null,null,null,null,null,null,null,null,null,null,null,null,null,null,null,null,null,null,null,null,null,null,null,null,null,null,null,null,null,null,null,null,null,null,null,null,null,null,null,null,null,null,null,null,null,null,null,null,null,null,null,null,null,null,null,null,null,null,null,null,null,null,129,999,"",255]
[null,null,null,null,null,null,null,null,null,null,null,null,null,null,null,null,null,null,null,null,null,null,null,null,null,null,null,null,null,null,null,null,null,null,null,null,null,null,null,null,null,null,null,null,null,null,null,null,null,null,null,null,null,null,null,null,null,null,null,null,null,null,null,null,null,null,null,null,null,null,null,null,null,null,null,null,null,null,null,""]
[null,null,null,null,null,null,null,null,null,null,null,null,null,null,null,null,null,null,null,null,null,null,null,null,null,null,null,null,null,null,null,null,null,null,null,null,null,null,null,null,null,null,null,null,null,null,null,null,null,null,null,null,null,null,null,null,null,null,null,null,null,null,null,null,null,null,null,null,null,null,null,null,null,null,null,null,null,2,null,"",2]

{"sheet":"Katılım","index":2,"n_rows":20,"n_cols":32,"rows_kept":20,"cut":false,"hidden":false,"merged":[[1,34,2,35],[0,0,0,8],[1,0,1,8]]}
["TÜRKİYE MASA TENİSİ FEDERASYONU                                                                                                                                                                                                     İsmail Eren ALICI Küçükler Ferdi-Takım Türkiye Şampiyonası  ",null,null,null,null,null,null,null,null,null,null,null,null,null,null,null,null,null,null,null,null,null,null,null,null,null,null,"Ferdi","TÜRKİYE MASA TENİSİ FEDERASYONU                                                                                                                                                                                                     İsmail Eren ALICI Küçükler Ferdi-Takım Türkiye Şampiyonası  "]
["KIZ TAKIM  [09-13 Nisan 2025 ÇORUM]",null,null,null,null,null,null,null,null,null,null,null,null,null,null,null,null,null,null,null,null,null,null,null,null,null,null,"Grup","KIZ TAKIM  [09-13 Nisan 2025 ÇORUM]"]
["No",null,"Puan","Takım Adı","İl","İl","TŞ","Grup","Bölge",null,null,null,null,null,null,null,null,null,null,null,null,null,null,null,null,null,null,1,"[ Ön Eleme ]","[ Eleme ]","[ Ana Tablo ]","[ Grup ]"]
[1,null,null,"YALOVA BLD. GENÇLİK SPOR (A)","YLV","YALOVA",3,1,"KBB",null,null,null,null,null,null,null,null,null,null,null,null,null,null,null,null,"YALOVA BLD. GENÇLİK SPOR (A) (YLV)","YALOVA BLD. GENÇLİK SPOR (A)"]
[2,null,null,"FENERBAHÇE (A)","İST","İSTANBUL",6,3,"KBB",null,null,null,null,null,null,null,null,null,null,null,null,null,null,null,null,"FENERBAHÇE (A) (İST)","FENERBAHÇE (A)"]
[3,null,null,"1955 BATMAN BELEDİYE SPOR (A)","BTM","BATMAN",8,1,"GDB",null,null,null,null,null,null,null,null,null,null,null,null,null,null,null,null,"1955 BATMAN BELEDİYE SPOR (A) (BTM)","1955 BATMAN BELEDİYE SPOR (A)"]
[4,null,null,"MAVİ EGE SPOR (A)","İZM","İZMİR",9,2,"GBB",null,null,null,null,null,null,null,null,null,null,null,null,null,null,null,null,"MAVİ EGE SPOR (A) (İZM)","MAVİ EGE SPOR (A)"]
[5,null,null,"ÇORUM ARENA SPOR (A)","ÇRM","ÇORUM",13,1,"KDB",null,null,null,null,null,null,null,null,null,null,null,null,null,null,null,null,"ÇORUM ARENA SPOR (A) (ÇRM)","ÇORUM ARENA SPOR (A)"]
[6,null,null,"BURSA B. ŞEH. BLD. SPOR (A)","BRS","BURSA",16,2,"KBB",null,null,null,null,null,null,null,null,null,null,null,null,null,null,null,null,"BURSA B. ŞEH. BLD. SPOR (A) (BRS)","BURSA B. ŞEH. BLD. SPOR (A)"]
[7,0.36401867866516113,null,"GİRNE AMERİKAN ÜNİVERSİTESİ","KKTC","KKTC",null,1,null,null,null,null,null,null,null,null,null,null,null,null,null,null,null,null,null,"GİRNE AMERİKAN ÜNİVERSİTESİ (KKTC)","GİRNE AMERİKAN ÜNİVERSİTESİ"]
[8,0.94955664873123169,null,"SELÇUKLU BELEDİYESPOR (A)","KNY","KONYA",null,1,"GBB",null,null,null,null,null,null,null,null,null,null,null,null,null,null,null,null,"SELÇUKLU BELEDİYESPOR (A) (KNY)","SELÇUKLU BELEDİYESPOR (A)"]
[10,0.2439313530921936,null,"KUTLUBEY OKULLARI (A)","AMS","AMASYA",null,2,"KDB",null,null,null,null,null,null,null,null,null,null,null,null,null,null,null,null,"KUTLUBEY OKULLARI (A) (AMS)","KUTLUBEY OKULLARI (A)"]
[9,0.53387308120727539,null,"SİLVAN MTSK (A)","DYB","DİYARBAKIR",null,2,"GDB",null,null,null,null,null,null,null,null,null,null,null,null,null,null,null,null,"SİLVAN MTSK (A) (DYB)","SİLVAN MTSK (A)"]
[12,9.7973823547363281E-2,null,"ÇORUM ARENA SPOR (B)","ÇRM","ÇORUM",null,3,"KDB",null,null,null,null,null,null,null,null,null,null,null,null,null,null,null,null,"ÇORUM ARENA SPOR (B) (ÇRM)","ÇORUM ARENA SPOR (B)"]
[13,0.56104010343551636,null,"MERİT GRUP REAL MARDİN (A)","MRD","MARDİN",null,3,"GDB",null,null,null,null,null,null,null,null,null,null,null,null,null,null,null,null,"MERİT GRUP REAL MARDİN (A) (MRD)","MERİT GRUP REAL MARDİN (A)"]
[11,0.69448530673980713,null,"MUĞLA B. ŞEHİR BLD. SPOR (A)","MĞL","MUĞLA",null,3,"GBB",null,null,null,null,null,null,null,null,null,null,null,null,null,null,null,null,"MUĞLA B. ŞEHİR BLD. SPOR (A) (MĞL)","MUĞLA B. ŞEHİR BLD. SPOR (A)"]
[15,0.10737532377243042,null,"KAYSERİ SPOR A.Ş SPOR (A)","KYS","KAYSERİ",null,4,"GDB",null,null,null,null,null,null,null,null,null,null,null,null,null,null,null,null,"KAYSERİ SPOR A.Ş SPOR (A) (KYS)","KAYSERİ SPOR A.Ş SPOR (A)"]
[14,0.45964080095291138,null,"KUTLUBEY OKULLARI (B)","AMS","AMASYA",null,4,"KDB",null,null,null,null,null,null,null,null,null,null,null,null,null,null,null,null,"KUTLUBEY OKULLARI (B) (AMS)","KUTLUBEY OKULLARI (B)"]
[16,0.78399527072906494,null,"LÜLEBURGAZ ZİRVE SPOR  (A)","KRL","KIRKLARELİ",null,4,"KBB",null,null,null,null,null,null,null,null,null,null,null,null,null,null,null,null,"LÜLEBURGAZ ZİRVE SPOR  (A) (KRL)","LÜLEBURGAZ ZİRVE SPOR  (A)"]
[17,null,null,null,null,null,null,null,null,null,null,null,null,null,null,null,null,null,null,null,null,null,null,null,null,0,0]

{"sheet":"Grup","index":3,"n_rows":27,"n_cols":35,"rows_kept":27,"cut":false,"hidden":false,"merged":[[24,1,24,3],[24,4,24,5],[24,6,24,7],[24,30,24,31],[25,1,25,3],[25,4,25,5],[25,6,25,7],[25,30,25,31],[26,4,26,5],[26,6,26,7],[26,10,26,11],[26,30,26,31],[19,1,19,3],[19,4,19,5],[19,6,19,7],[19,30,19,31],[22,1,22,3],[22,4,22,5],[22,6,22,7],[22,8,22,9],[22,10,22,11],[22,28,22,29],[20,4,20,5],[20,6,20,7],[20,10,20,11],[20,30,20,31],[22,30,22,31],[17,4,17,5],[17,6,17,7],[11,1,11,3],[11,4,11,5],[11,6,11,7],[11,30,11,31],[12,1,12,3],[12,4,12,5],[12,6,12,7],[12,30,12,31],[14,4,14,5],[14,6,14,7],[14,10,14,11],[14,30,14,31],[16,22,16,23],[17,30,17,31],[16,30,16,31],[16,1,16,3],[16,4,16,5],[16,6,16,7],[16,8,16,9],[16,10,16,11],[16,28,16,29],[17,1,17,3],[6,1,6,3],[6,4,6,5],[6,6,6,7],[6,30,6,31],[7,1,7,3],[7,4,7,5],[7,6,7,7],[7,30,7,31],[10,1,10,3],[10,4,10,5],[10,6,10,7],[10,8,10,9],[10,10,10,11],[10,28,10,29],[10,30,10,31],[5,1,5,3],[5,4,5,5],[5,6,5,7],[5,30,5,31],[4,26,4,27],[4,28,4,29],[4,30,4,31],[4,32,4,33],[0,1,1,33],[2,1,2,33],[4,1,4,3],[4,4,4,5],[4,6,4,7],[4,8,4,9],[4,10,4,11],[4,22,4,23],[4,24,4,25],[14,32,14,33],[22,32,22,33],[5,32,5,33],[6,32,6,33],[7,32,7,33],[8,4,8,5],[8,6,8,7],[8,10,8,11],[8,30,8,31],[8,32,8,33],[10,22,10,23],[10,24,10,25],[10,26,10,27],[10,32,10,33],[11,32,11,33],[12,32,12,33],[13,1,13,3],[13,4,13,5],[13,6,13,7],[13,30,13,31],[13,32,13,33],[17,32,17,33],[18,1,18,3],[18,4,18,5],[18,6,18,7],[18,30,18,31],[18,32,18,33],[16,24,16,25],[16,26,16,27],[16,32,16,33],[26,32,26,33],[24,32,24,33],[25,32,25,33],[19,32,19,33],[20,32,20,33],[23,1,23,3],[23,4,23,5],[23,6,23,7],[23,30,23,31],[23,32,23,33],[22,22,22,23],[22,24,22,25],[22,26,22,27]]}
[1,"TÜRKİYE MASA TENİSİ FEDERASYONU                                                                                                                                                                                                     İsmail Eren ALICI Küçükler Ferdi-Takım Türkiye Şampiyonası  "]
[]
[null,"KIZ TAKIM  [09-13 Nisan 2025 ÇORUM] [ Grup ]"]
[]
[4,"Tarih",null,null,"Saat",null,"Tur",null,"Maç",null,"Masa",null,null,4,"Grup",null,1,null,null,null,null,null,1,null,2,null,3,null,4,null,"Puan",null,"Sıralama"]
[null,"2025-04-11",null,null,"09:00:00",null,1,null,"1-3","2-4",null,null,1,"G1.1",1,"YALOVA BLD. GENÇLİK SPOR (A) (YLV)",null,null,null,null,null,null,null,null,3,1,3,0,3,0,6,null,1,null,10]
[null,"2025-04-11",null,null,"11:00:00",null,2,null,"1-2","3-4",null,null,8,"G1.2",2,"SELÇUKLU BELEDİYESPOR (A) (KNY)",null,null,null,null,null,null,1,3,null,null,3,0,3,0,5,null,2,null,10]
[null,"2025-04-11",null,null,"14:30:00",null,3,null,"1-4","2-3",null,null,9,"G1.3",3,"SİLVAN MTSK (A) (DYB)",null,null,null,null,null,null,0,3,0,3,null,null,3,0,4,null,3,null,9]
[null,".",".",".",null,null,null,null,null,null,null,null,16,"G1.4",4,"LÜLEBURGAZ ZİRVE SPOR  (A) (KRL)",null,null,null,null,null,null,0,3,0,3,0,3,null,null,3,null,4,null,9]
[]
[4,"Tarih",null,null,"Saat",null,"Tur",null,"Maç",null,"Masa",null,null,4,"Grup",null,2,null,null,null,null,null,1,null,2,null,3,null,4,null,"Puan",null,"Sıralama"]
[null,"2025-04-11",null,null,"09:00:00",null,1,null,"1-3","2-4",null,null,2,"G2.1",1,"FENERBAHÇE (A) (İST)",null,null,null,null,null,null,null,null,3,0,3,0,3,0,6,null,1,null,9]
[null,"2025-04-11",null,null,"11:00:00",null,2,null,"1-2","3-4",null,null,7,"G2.2",2,"GİRNE AMERİKAN ÜNİVERSİTESİ (KKTC)",null,null,null,null,null,null,0,3,null,null,3,2,3,1,5,null,2,null,12]
[null,"2025-04-11",null,null,"14:30:00",null,3,null,"1-4","2-3",null,null,10,"G2.3",3,"KUTLUBEY OKULLARI (A) (AMS)",null,null,null,null,null,null,0,3,2,3,null,null,3,0,4,null,3,null,11]
[null,".",".",".",null,null,null,null,null,null,null,null,15,"G2.4",4,"KAYSERİ SPOR A.Ş SPOR (A) (KYS)",null,null,null,null,null,null,0,3,1,3,0,3,null,null,3,null,4,null,10]
[]
[4,"Tarih",null,null,"Saat",null,"Tur",null,"Maç",null,"Masa",null,null,4,"Grup",null,3,null,null,null,null,null,1,null,2,null,3,null,4,null,"Puan",null,"Sıralama"]
[null,"2025-04-11",null,null,"09:00:00",null,1,null,"1-3","2-4",null,null,3,"G3.1",1,"1955 BATMAN BELEDİYE SPOR (A) (BTM)",null,null,null,null,null,null,null,null,3,1,3,0,3,0,6,null,1,null,10]
[null,"2025-04-11",null,null,"11:00:00",null,2,null,"1-2","3-4",null,null,6,"G3.2",2,"BURSA B. ŞEH. BLD. SPOR (A) (BRS)",null,null,null,null,null,null,1,3,null,null,3,0,3,1,5,null,2,null,11]
[null,"2025-04-11",null,null,"14:30:00",null,3,null,"1-4","2-3",null,null,12,"G3.3",3,"ÇORUM ARENA SPOR (B) (ÇRM)",null,null,null,null,null,null,0,3,0,3,null,null,3,1,4,null,3,null,10]
[null,".",".",".",null,null,null,null,null,null,null,null,14,"G3.4",4,"KUTLUBEY OKULLARI (B) (AMS)",null,null,null,null,null,null,0,3,1,3,1,3,null,null,3,null,4,null,11]
[]
[4,"Tarih",null,null,"Saat",null,"Tur",null,"Maç",null,"Masa",null,null,4,"Grup",null,4,null,null,null,null,null,1,null,2,null,3,null,4,null,"Puan",null,"Sıralama"]
[null,"2025-04-11",null,null,"09:00:00",null,1,null,"1-3","2-4",null,null,4,"G4.2",1,"MAVİ EGE SPOR (A) (İZM)",null,null,null,null,null,null,null,null,0,3,3,0,3,1,5,null,2,null,10]
[null,"2025-04-11",null,null,"11:00:00",null,2,null,"1-2","3-4",null,null,5,"G4.1",2,"ÇORUM ARENA SPOR (A) (ÇRM)",null,null,null,null,null,null,3,0,null,null,3,0,3,2,6,null,1,null,11]
[null,"2025-04-11",null,null,"14:30:00",null,3,null,"1-4","2-3",null,null,11,"G4.4",3,"MUĞLA B. ŞEHİR BLD. SPOR (A) (MĞL)",null,null,null,null,null,null,0,3,0,3,null,null,0,3,3,null,4,null,9]
[null,".",".",".",null,null,null,null,null,null,null,null,13,"G4.3",4,"MERİT GRUP REAL MARDİN (A) (MRD)",null,null,null,null,null,null,1,3,2,3,3,0,null,null,4,null,3,null,12]

{"sheet":"On_Eleme","index":4,"n_rows":195,"n_cols":52,"rows_kept":195,"cut":false,"hidden":true,"merged":[[0,4,1,7],[2,4,2,7],[3,47,3,48],[3,49,3,50],[3,51,3,52],[3,41,3,42],[3,43,3,44],[3,45,3,46]]}
[null,null,null,null,{"$f":"Katılım!AC1","v":"TÜRKİYE MASA TENİSİ FEDERASYONU                                                                                                                                                                                                     İsmail Eren ALICI Küçükler Ferdi-Takım Türkiye Şampiyonası  "},null,null,null,null,null,null,null,null,null,null,null,null,null,null,null,null,null,null,null,null,null,null,null,null,null,null,null,null,null,null,null,null,null,null,{"$f":"COUNTIF(AN5:AN68,\"<>0\")","v":4}]
[]
[null,null,null,null,{"$f":"Katılım!A2&\" \"&Katılım!AC3","v":"KIZ TAKIM  [09-13 Nisan 2025 ÇORUM] [ Ön Eleme ]"}]
[null,null,null,null,"Sporcu","Skor","Galip",null,"Külüp Adı",null,null,"Eleme tablosu ilk turda denk gelip gelmediğinin kontrolü yapılır",null,null,null,null,null,null,null,null,null,null,null,null,null,null,null,null,null,null,null,null,null,null,"#","Date","Time","Table","Competition","Player-A","Player-B","Set1",null,"Set2",null,"Set3",null,"Set4",null,"Set5",null,"Result"]
[1,"E1",6,null,{"$f":"IFERROR(VLOOKUP(C5,Katılım!$A$4:$Z$20,26,0),0)","v":"BURSA B. ŞEH. BLD. SPOR (A) (BRS)"},{"$f":"AZ5","v":0},{"$f":"IF(AND(F5=0,F6=0),\"\",IF(F5>F6,E5,E6))","v":""},null,{"$f":"IFERROR(VLOOKUP(C5,Katılım!$A$4:$G$20,6,0),0)","v":"BURSA"},null,null,"E1",1,{"$f":"OFFSET(Sablon!$DN$1,M5,Main!R2)","v":3},{"$f":"IFERROR(VLOOKUP(N5,Katılım!$A$4:$Z$20,26,0),0)","v":"1955 BATMAN BELEDİYE SPOR (A) (BTM)"},{"$f":"IFERROR(VLOOKUP(N5,Katılım!$A$4:$G$20,6,0),0)","v":"BATMAN"},null,null,null,null,null,null,null,null,null,null,null,null,null,null,null,null,null,null,1,null,null,null,null,{"$f":"E5","v":"BURSA B. ŞEH. BLD. SPOR (A) (BRS)"},{"$f":"E6","v":"SİLVAN MTSK (A) (DYB)"}]
["1.1",null,9,null,{"$f":"IFERROR(VLOOKUP(C6,Katılım!$A$4:$Z$20,26,0),0)","v":"SİLVAN MTSK (A) (DYB)"},{"$f":"BA5","v":0},null,null,{"$f":"IFERROR(VLOOKUP(C6,Katılım!$A$4:$G$20,6,0),0)","v":"DİYARBAKIR"},null,null,null,null,null,null,null,null,null,null,null,null,null,null,null,null,null,null,null,null,null,null,null,null,null,2,null,null,null,null,{"$f":"E8","v":"ÇORUM ARENA SPOR (A) (ÇRM)"},{"$f":"E9","v":"KUTLUBEY OKULLARI (A) (AMS)"}]
[null,null,null,null,null,null,null,null,null,null,null,null,null,null,null,null,null,null,null,null,null,null,null,null,null,null,null,null,null,null,null,null,null,null,3,null,null,null,null,{"$f":"E11","v":"GİRNE AMERİKAN ÜNİVERSİTESİ (KKTC)"},{"$f":"E12","v":"MUĞLA B. ŞEHİR BLD. SPOR (A) (MĞL)"}]
[2,"E2",5,null,{"$f":"IFERROR(VLOOKUP(C8,Katılım!$A$4:$Z$20,26,0),0)","v":"ÇORUM ARENA SPOR (A) (ÇRM)"},{"$f":"AZ6","v":0},{"$f":"IF(AND(F8=0,F9=0),\"\",IF(F8>F9,E8,E9))","v":""},null,{"$f":"IFERROR(VLOOKUP(C8,Katılım!$A$4:$G$20,6,0),0)","v":"ÇORUM"},null,null,"E2",2,{"$f":"OFFSET(Sablon!$DN$1,M8,Main!R2)","v":4},{"$f":"IFERROR(VLOOKUP(N8,Katılım!$A$4:$Z$20,26,0),0)","v":"MAVİ EGE SPOR (A) (İZM)"},{"$f":"IFERROR(VLOOKUP(N8,Katılım!$A$4:$G$20,6,0),0)","v":"İZMİR"},null,null,null,null,null,null,null,null,null,null,null,null,null,null,null,null,null,null,4,null,null,null,null,{"$f":"E14","v":"SELÇUKLU BELEDİYESPOR (A) (KNY)"},{"$f":"E15","v":"ÇORUM ARENA SPOR (B) (ÇRM)"}]
["2.2",null,10,null,{"$f":"IFERROR(VLOOKUP(C9,Katılım!$A$4:$Z$20,26,0),0)","v":"KUTLUBEY OKULLARI (A) (AMS)"},{"$f":"BA6","v":0},null,null,{"$f":"IFERROR(VLOOKUP(C9,Katılım!$A$4:$G$20,6,0),0)","v":"AMASYA"},null,null,null,null,null,null,null,null,null,null,null,null,null,null,null,null,null,null,null,null,null,null,null,null,null,5,null,null,null,null,{"$f":"E17","v":0},{"$f":"E18","v":0}]
[null,null,null,null,null,null,null,null,null,null,null,null,null,null,null,null,null,null,null,null,null,null,null,null,null,null,null,null,null,null,null,null,null,null,6,null,null,null,null,{"$f":"E20","v":0},{"$f":"E21","v":0}]
[3,"E3",7,null,{"$f":"IFERROR(VLOOKUP(C11,Katılım!$A$4:$Z$20,26,0),0)","v":"GİRNE AMERİKAN ÜNİVERSİTESİ (KKTC)"},{"$f":"AZ7","v":0},{"$f":"IF(AND(F11=0,F12=0),\"\",IF(F11>F12,E11,E12))","v":""},null,{"$f":"IFERROR(VLOOKUP(C11,Katılım!$A$4:$G$20,6,0),0)","v":"KKTC"},null,null,"E3",3,{"$f":"OFFSET(Sablon!$DN$1,M11,Main!R2)","v":2},{"$f":"IFERROR(VLOOKUP(N11,Katılım!$A$4:$Z$20,26,0),0)","v":"FENERBAHÇE (A) (İST)"},{"$f":"IFERROR(VLOOKUP(N11,Katılım!$A$4:$G$20,6,0),0)","v":"İSTANBUL"},null,null,null,null,null,null,null,null,null,null,null,null,null,null,null,null,null,null,7,null,null,null,null,{"$f":"E23","v":0},{"$f":"E24","v":0}]
["3.3",null,11,null,{"$f":"IFERROR(VLOOKUP(C12,Katılım!$A$4:$Z$20,26,0),0)","v":"MUĞLA B. ŞEHİR BLD. SPOR (A) (MĞL)"},{"$f":"BA7","v":0},null,null,{"$f":"IFERROR(VLOOKUP(C12,Katılım!$A$4:$G$20,6,0),0)","v":"MUĞLA"},null,null,null,null,null,null,null,null,null,null,null,null,null,null,null,null,null,null,null,null,null,null,null,null,null,8,null,null,null,null,{"$f":"E26","v":0},{"$f":"E27","v":0}]
[null,null,null,null,null,null,null,null,null,null,null,null,null,null,null,null,null,null,null,null,null,null,null,null,null,null,null,null,null,null,null,null,null,null,9,null,null,null,null,{"$f":"E29","v":0},{"$f":"E30","v":0}]
[4,"E4",8,null,{"$f":"IFERROR(VLOOKUP(C14,Katılım!$A$4:$Z$20,26,0),0)","v":"SELÇUKLU BELEDİYESPOR (A) (KNY)"},{"$f":"AZ8","v":0},{"$f":"IF(AND(F14=0,F15=0),\"\",IF(F14>F15,E14,E15))","v":""},null,{"$f":"IFERROR(VLOOKUP(C14,Katılım!$A$4:$G$20,6,0),0)","v":"KONYA"},null,null,"E4",4,{"$f":"OFFSET(Sablon!$DN$1,M14,Main!R2)","v":1},{"$f":"IFERROR(VLOOKUP(N14,Katılım!$A$4:$Z$20,26,0),0)","v":"YALOVA BLD. GENÇLİK SPOR (A) (YLV)"},{"$f":"IFERROR(VLOOKUP(N14,Katılım!$A$4:$G$20,6,0),0)","v":"YALOVA"},null,null,null,null,null,null,null,null,null,null,null,null,null,null,null,null,null,null,10,null,null,null,null,{"$f":"E32","v":0},{"$f":"E33","v":0}]
["4.4",null,12,null,{"$f":"IFERROR(VLOOKUP(C15,Katılım!$A$4:$Z$20,26,0),0)","v":"ÇORUM ARENA SPOR (B) (ÇRM)"},{"$f":"BA8","v":0},null,null,{"$f":"IFERROR(VLOOKUP(C15,Katılım!$A$4:$G$20,6,0),0)","v":"ÇORUM"},null,null,null,null,null,null,null,null,null,null,null,null,null,null,null,null,null,null,null,null,null,null,null,null,null,11,null,null,null,null,{"$f":"E35","v":0},{"$f":"E36","v":0}]
[null,null,null,null,null,null,null,null,null,null,null,null,null,null,null,null,null,null,null,null,null,null,null,null,null,null,null,null,null,null,null,null,null,null,12,null,null,null,null,{"$f":"E38","v":0},{"$f":"E39","v":0}]
[5,"E5",null,null,{"$f":"IFERROR(VLOOKUP(C17,Katılım!$A$4:$Z$20,26,0),0)","v":0},{"$f":"AZ9","v":0},{"$f":"IF(AND(F17=0,F18=0),\"\",IF(F17>F18,E17,E18))","v":""},null,{"$f":"IFERROR(VLOOKUP(C17,Katılım!$A$4:$G$20,6,0),0)","v":0},null,null,"E5",5,{"$f":"OFFSET(Sablon!$DN$1,M17,Main!R2)","v":0},{"$f":"IFERROR(VLOOKUP(N17,Katılım!$A$4:$Z$20,26,0),0)","v":0},{"$f":"IFERROR(VLOOKUP(N17,Katılım!$A$4:$G$20,6,0),0)","v":0},null,null,null,null,null,null,null,null,null,null,null,null,null,null,null,null,null,null,13,null,null,null,null,{"$f":"E41","v":0},{"$f":"E42","v":0}]
["5.5",null,null,null,{"$f":"IFERROR(VLOOKUP(C18,Katılım!$A$4:$Z$20,26,0),0)","v":0},{"$f":"BA9","v":0},null,null,{"$f":"IFERROR(VLOOKUP(C18,Katılım!$A$4:$G$20,6,0),0)","v":0},null,null,null,null,null,null,null,null,null,null,null,null,null,null,null,null,null,null,null,null,null,null,null,null,null,14,null,null,null,null,{"$f":"E44","v":0},{"$f":"E45","v":0}]
[null,null,null,null,null,null,null,null,null,null,null,null,null,null,null,null,null,null,null,null,null,null,null,null,null,null,null,null,null,null,null,null,null,null,15,null,null,null,null,{"$f":"E47","v":0},{"$f":"E48","v":0}]
[6,"E6",null,null,{"$f":"IFERROR(VLOOKUP(C20,Katılım!$A$4:$Z$20,26,0),0)","v":0},{"$f":"AZ10","v":0},{"$f":"IF(AND(F20=0,F21=0),\"\",IF(F20>F21,E20,E21))","v":""},null,{"$f":"IFERROR(VLOOKUP(C20,Katılım!$A$4:$G$20,6,0),0)","v":0},null,null,"E6",6,{"$f":"OFFSET(Sablon!$DN$1,M20,Main!R2)","v":0},{"$f":"IFERROR(VLOOKUP(N20,Katılım!$A$4:$Z$20,26,0),0)","v":0},{"$f":"IFERROR(VLOOKUP(N20,Katılım!$A$4:$G$20,6,0),0)","v":0},null,null,null,null,null,null,null,null,null,null,null,null,null,null,null,null,null,null,16,null,null,null,null,{"$f":"E50","v":0},{"$f":"E51","v":0}]
["6.6",null,null,null,{"$f":"IFERROR(VLOOKUP(C21,Katılım!$A$4:$Z$20,26,0),0)","v":0},{"$f":"BA10","v":0},null,null,{"$f":"IFERROR(VLOOKUP(C21,Katılım!$A$4:$G$20,6,0),0)","v":0},null,null,null,null,null,null,null,null,null,null,null,null,null,null,null,null,null,null,null,null,null,null,null,null,null,17,null,null,null,null,{"$f":"E53","v":0},{"$f":"E54","v":0}]
[null,null,null,null,null,null,null,null,null,null,null,null,null,null,null,null,null,null,null,null,null,null,null,null,null,null,null,null,null,null,null,null,null,null,18,null,null,null,null,{"$f":"E56","v":0},{"$f":"E57","v":0}]
[7,"E7",null,null,{"$f":"IFERROR(VLOOKUP(C23,Katılım!$A$4:$Z$20,26,0),0)","v":0},{"$f":"AZ11","v":0},{"$f":"IF(AND(F23=0,F24=0),\"\",IF(F23>F24,E23,E24))","v":""},null,{"$f":"IFERROR(VLOOKUP(C23,Katılım!$A$4:$G$20,6,0),0)","v":0},null,null,"E7",7,{"$f":"OFFSET(Sablon!$DN$1,M23,Main!R2)","v":0},{"$f":"IFERROR(VLOOKUP(N23,Katılım!$A$4:$Z$20,26,0),0)","v":0},{"$f":"IFERROR(VLOOKUP(N23,Katılım!$A$4:$G$20,6,0),0)","v":0},null,null,null,null,null,null,null,null,null,null,null,null,null,null,null,null,null,null,19,null,null,null,null,{"$f":"E59","v":0},{"$f":"E60","v":0}]
["7.7",null,null,null,{"$f":"IFERROR(VLOOKUP(C24,Katılım!$A$4:$Z$20,26,0),0)","v":0},{"$f":"BA11","v":0},null,null,{"$f":"IFERROR(VLOOKUP(C24,Katılım!$A$4:$G$20,6,0),0)","v":0},null,null,null,null,null,null,null,null,null,null,null,null,null,null,null,null,null,null,null,null,null,null,null,null,null,20,null,null,null,null,{"$f":"E62","v":0},{"$f":"E63","v":0}]
[null,null,null,null,null,null,null,null,null,null,null,null,null,null,null,null,null,null,null,null,null,null,null,null,null,null,null,null,null,null,null,null,null,null,21,null,null,null,null,{"$f":"E65","v":0},{"$f":"E66","v":0}]
[8,"E8",null,null,{"$f":"IFERROR(VLOOKUP(C26,Katılım!$A$4:$Z$20,26,0),0)","v":0},{"$f":"AZ12","v":0},{"$f":"IF(AND(F26=0,F27=0),\"\",IF(F26>F27,E26,E27))","v":""},null,{"$f":"IFERROR(VLOOKUP(C26,Katılım!$A$4:$G$20,6,0),0)","v":0},null,null,"E8",8,{"$f":"OFFSET(Sablon!$DN$1,M26,Main!R2)","v":0},{"$f":"IFERROR(VLOOKUP(N26,Katılım!$A$4:$Z$20,26,0),0)","v":0},{"$f":"IFERROR(VLOOKUP(N26,Katılım!$A$4:$G$20,6,0),0)","v":0},null,null,null,null,null,null,null,null,null,null,null,null,null,null,null,null,null,null,22,null,null,null,null,{"$f":"E68","v":0},{"$f":"E69","v":0}]
["8.8",null,null,null,{"$f":"IFERROR(VLOOKUP(C27,Katılım!$A$4:$Z$20,26,0),0)","v":0},{"$f":"BA12","v":0},null,null,{"$f":"IFERROR(VLOOKUP(C27,Katılım!$A$4:$G$20,6,0),0)","v":0},null,null,null,null,null,null,null,null,null,null,null,null,null,null,null,null,null,null,null,null,null,null,null,null,null,23,null,null,null,null,{"$f":"E71","v":0},{"$f":"E72","v":0}]
[null,null,null,null,null,null,null,null,null,null,null,null,null,null,null,null,null,null,null,null,null,null,null,null,null,null,null,null,null,null,null,null,null,null,24,null,null,null,null,{"$f":"E74","v":0},{"$f":"E75","v":0}]
[9,"E9",null,null,{"$f":"IFERROR(VLOOKUP(C29,Katılım!$A$4:$Z$20,26,0),0)","v":0},{"$f":"AZ13","v":0},{"$f":"IF(AND(F29=0,F30=0),\"\",IF(F29>F30,E29,E30))","v":""},null,{"$f":"IFERROR(VLOOKUP(C29,Katılım!$A$4:$G$20,6,0),0)","v":0},null,null,"E9",9,{"$f":"OFFSET(Sablon!$DN$1,M29,Main!R2)","v":0},{"$f":"IFERROR(VLOOKUP(N29,Katılım!$A$4:$Z$20,26,0),0)","v":0},{"$f":"IFERROR(VLOOKUP(N29,Katılım!$A$4:$G$20,6,0),0)","v":0},null,null,null,null,null,null,null,null,null,null,null,null,null,null,null,null,null,null,25,null,null,null,null,{"$f":"E77","v":0},{"$f":"E78","v":0}]
["9.9",null,null,null,{"$f":"IFERROR(VLOOKUP(C30,Katılım!$A$4:$Z$20,26,0),0)","v":0},{"$f":"BA13","v":0},null,null,{"$f":"IFERROR(VLOOKUP(C30,Katılım!$A$4:$G$20,6,0),0)","v":0},null,null,null,null,null,null,null,null,null,null,null,null,null,null,null,null,null,null,null,null,null,null,null,null,null,26,null,null,null,null,{"$f":"E80","v":0},{"$f":"E81","v":0}]
[null,null,null,null,null,null,null,null,null,null,null,null,null,null,null,null,null,null,null,null,null,null,null,null,null,null,null,null,null,null,null,null,null,null,27,null,null,null,null,{"$f":"E83","v":0},{"$f":"E84","v":0}]
[10,"E10",null,null,{"$f":"IFERROR(VLOOKUP(C32,Katılım!$A$4:$Z$20,26,0),0)","v":0},{"$f":"AZ14","v":0},{"$f":"IF(AND(F32=0,F33=0),\"\",IF(F32>F33,E32,E33))","v":""},null,{"$f":"IFERROR(VLOOKUP(C32,Katılım!$A$4:$G$20,6,0),0)","v":0},null,null,"E10",10,{"$f":"OFFSET(Sablon!$DN$1,M32,Main!R2)","v":0},{"$f":"IFERROR(VLOOKUP(N32,Katılım!$A$4:$Z$20,26,0),0)","v":0},{"$f":"IFERROR(VLOOKUP(N32,Katılım!$A$4:$G$20,6,0),0)","v":0},null,null,null,null,null,null,null,null,null,null,null,null,null,null,null,null,null,null,28,null,null,null,null,{"$f":"E86","v":0},{"$f":"E87","v":0}]
["10.10",null,null,null,{"$f":"IFERROR(VLOOKUP(C33,Katılım!$A$4:$Z$20,26,0),0)","v":0},{"$f":"BA14","v":0},null,null,{"$f":"IFERROR(VLOOKUP(C33,Katılım!$A$4:$G$20,6,0),0)","v":0},null,null,null,null,null,null,null,null,null,null,null,null,null,null,null,null,null,null,null,null,null,null,null,null,null,29,null,null,null,null,{"$f":"E89","v":0},{"$f":"E90","v":0}]
[null,null,null,null,null,null,null,null,null,null,null,null,null,null,null,null,null,null,null,null,null,null,null,null,null,null,null,null,null,null,null,null,null,null,30,null,null,null,null,{"$f":"E92","v":0},{"$f":"E93","v":0}]
[11,"E11",null,null,{"$f":"IFERROR(VLOOKUP(C35,Katılım!$A$4:$Z$20,26,0),0)","v":0},{"$f":"AZ15","v":0},{"$f":"IF(AND(F35=0,F36=0),\"\",IF(F35>F36,E35,E36))","v":""},null,{"$f":"IFERROR(VLOOKUP(C35,Katılım!$A$4:$G$20,6,0),0)","v":0},null,null,"E11",11,{"$f":"OFFSET(Sablon!$DN$1,M35,Main!R2)","v":0},{"$f":"IFERROR(VLOOKUP(N35,Katılım!$A$4:$Z$20,26,0),0)","v":0},{"$f":"IFERROR(VLOOKUP(N35,Katılım!$A$4:$G$20,6,0),0)","v":0},null,null,null,null,null,null,null,null,null,null,null,null,null,null,null,null,null,null,31,null,null,null,null,{"$f":"E95","v":0},{"$f":"E96","v":0}]
["11.11",null,null,null,{"$f":"IFERROR(VLOOKUP(C36,Katılım!$A$4:$Z$20,26,0),0)","v":0},{"$f":"BA15","v":0},null,null,{"$f":"IFERROR(VLOOKUP(C36,Katılım!$A$4:$G$20,6,0),0)","v":0},null,null,null,null,null,null,null,null,null,null,null,null,null,null,null,null,null,null,null,null,null,null,null,null,null,32,null,null,null,null,{"$f":"E98","v":0},{"$f":"E99","v":0}]
[null,null,null,null,null,null,null,null,null,null,null,null,null,null,null,null,null,null,null,null,null,null,null,null,null,null,null,null,null,null,null,null,null,null,33,null,null,null,null,{"$f":"E101","v":0},{"$f":"E102","v":0}]
[12,"E12",null,null,{"$f":"IFERROR(VLOOKUP(C38,Katılım!$A$4:$Z$20,26,0),0)","v":0},{"$f":"AZ16","v":0},{"$f":"IF(AND(F38=0,F39=0),\"\",IF(F38>F39,E38,E39))","v":""},null,{"$f":"IFERROR(VLOOKUP(C38,Katılım!$A$4:$G$20,6,0),0)","v":0},null,null,"E12",12,{"$f":"OFFSET(Sablon!$DN$1,M38,Main!R2)","v":0},{"$f":"IFERROR(VLOOKUP(N38,Katılım!$A$4:$Z$20,26,0),0)","v":0},{"$f":"IFERROR(VLOOKUP(N38,Katılım!$A$4:$G$20,6,0),0)","v":0},null,null,null,null,null,null,null,null,null,null,null,null,null,null,null,null,null,null,34,null,null,null,null,{"$f":"E104","v":0},{"$f":"E105","v":0}]
["12.12",null,null,null,{"$f":"IFERROR(VLOOKUP(C39,Katılım!$A$4:$Z$20,26,0),0)","v":0},{"$f":"BA16","v":0},null,null,{"$f":"IFERROR(VLOOKUP(C39,Katılım!$A$4:$G$20,6,0),0)","v":0},null,null,null,null,null,null,null,null,null,null,null,null,null,null,null,null,null,null,null,null,null,null,null,null,null,35,null,null,null,null,{"$f":"E107","v":0},{"$f":"E108","v":0}]
[null,null,null,null,null,null,null,null,null,null,null,null,null,null,null,null,null,null,null,null,null,null,null,null,null,null,null,null,null,null,null,null,null,null,36,null,null,null,null,{"$f":"E110","v":0},{"$f":"E111","v":0}]
[13,"E13",null,null,{"$f":"IFERROR(VLOOKUP(C41,Katılım!$A$4:$Z$20,26,0),0)","v":0},{"$f":"AZ17","v":0},{"$f":"IF(AND(F41=0,F42=0),\"\",IF(F41>F42,E41,E42))","v":""},null,{"$f":"IFERROR(VLOOKUP(C41,Katılım!$A$4:$G$20,6,0),0)","v":0},null,null,"E13",13,{"$f":"OFFSET(Sablon!$DN$1,M41,Main!R2)","v":0},{"$f":"IFERROR(VLOOKUP(N41,Katılım!$A$4:$Z$20,26,0),0)","v":0},{"$f":"IFERROR(VLOOKUP(N41,Katılım!$A$4:$G$20,6,0),0)","v":0},null,null,null,null,null,null,null,null,null,null,null,null,null,null,null,null,null,null,37,null,null,null,null,{"$f":"E113","v":0},{"$f":"E114","v":0}]
["13.13",null,null,null,{"$f":"IFERROR(VLOOKUP(C42,Katılım!$A$4:$Z$20,26,0),0)","v":0},{"$f":"BA17","v":0},null,null,{"$f":"IFERROR(VLOOKUP(C42,Katılım!$A$4:$G$20,6,0),0)","v":0},null,null,null,null,null,null,null,null,null,null,null,null,null,null,null,null,null,null,null,null,null,null,null,null,null,38,null,null,null,null,{"$f":"E116","v":0},{"$f":"E117","v":0}]
[null,null,null,null,null,null,null,null,null,null,null,null,null,null,null,null,null,null,null,null,null,null,null,null,null,null,null,null,null,null,null,null,null,null,39,null,null,null,null,{"$f":"E119","v":0},{"$f":"E120","v":0}]
[14,"E14",null,null,{"$f":"IFERROR(VLOOKUP(C44,Katılım!$A$4:$Z$20,26,0),0)","v":0},{"$f":"AZ18","v":0},{"$f":"IF(AND(F44=0,F45=0),\"\",IF(F44>F45,E44,E45))","v":""},null,{"$f":"IFERROR(VLOOKUP(C44,Katılım!$A$4:$G$20,6,0),0)","v":0},null,null,"E14",14,{"$f":"OFFSET(Sablon!$DN$1,M44,Main!R2)","v":0},{"$f":"IFERROR(VLOOKUP(N44,Katılım!$A$4:$Z$20,26,0),0)","v":0},{"$f":"IFERROR(VLOOKUP(N44,Katılım!$A$4:$G$20,6,0),0)","v":0},null,null,null,null,null,null,null,null,null,null,null,null,null,null,null,null,null,null,40,null,null,null,null,{"$f":"E122","v":0},{"$f":"E123","v":0}]
["14.14",null,null,null,{"$f":"IFERROR(VLOOKUP(C45,Katılım!$A$4:$Z$20,26,0),0)","v":0},{"$f":"BA18","v":0},null,null,{"$f":"IFERROR(VLOOKUP(C45,Katılım!$A$4:$G$20,6,0),0)","v":0},null,null,null,null,null,null,null,null,null,null,null,null,null,null,null,null,null,null,null,null,null,null,null,null,null,41,null,null,null,null,{"$f":"E125","v":0},{"$f":"E126","v":0}]
[null,null,null,null,null,null,null,null,null,null,null,null,null,null,null,null,null,null,null,null,null,null,null,null,null,null,null,null,null,null,null,null,null,null,42,null,null,null,null,{"$f":"E128","v":0},{"$f":"E129","v":0}]
[15,"E15",null,null,{"$f":"IFERROR(VLOOKUP(C47,Katılım!$A$4:$Z$20,26,0),0)","v":0},{"$f":"AZ19","v":0},{"$f":"IF(AND(F47=0,F48=0),\"\",IF(F47>F48,E47,E48))","v":""},null,{"$f":"IFERROR(VLOOKUP(C47,Katılım!$A$4:$G$20,6,0),0)","v":0},null,null,"E15",15,{"$f":"OFFSET(Sablon!$DN$1,M47,Main!R2)","v":0},{"$f":"IFERROR(VLOOKUP(N47,Katılım!$A$4:$Z$20,26,0),0)","v":0},{"$f":"IFERROR(VLOOKUP(N47,Katılım!$A$4:$G$20,6,0),0)","v":0},null,null,null,null,null,null,null,null,null,null,null,null,null,null,null,null,null,null,43,null,null,null,null,{"$f":"E131","v":0},{"$f":"E132","v":0}]
["15.15",null,null,null,{"$f":"IFERROR(VLOOKUP(C48,Katılım!$A$4:$Z$20,26,0),0)","v":0},{"$f":"BA19","v":0},null,null,{"$f":"IFERROR(VLOOKUP(C48,Katılım!$A$4:$G$20,6,0),0)","v":0},null,null,null,null,null,null,null,null,null,null,null,null,null,null,null,null,null,null,null,null,null,null,null,null,null,44,null,null,null,null,{"$f":"E134","v":0},{"$f":"E135","v":0}]
[null,null,null,null,null,null,null,null,null,null,null,null,null,null,null,null,null,null,null,null,null,null,null,null,null,null,null,null,null,null,null,null,null,null,45,null,null,null,null,{"$f":"E137","v":0},{"$f":"E138","v":0}]
[16,"E16",null,null,{"$f":"IFERROR(VLOOKUP(C50,Katılım!$A$4:$Z$20,26,0),0)","v":0},{"$f":"AZ20","v":0},{"$f":"IF(AND(F50=0,F51=0),\"\",IF(F50>F51,E50,E51))","v":""},null,{"$f":"IFERROR(VLOOKUP(C50,Katılım!$A$4:$G$20,6,0),0)","v":0},null,null,"E16",16,{"$f":"OFFSET(Sablon!$DN$1,M50,Main!R2)","v":0},{"$f":"IFERROR(VLOOKUP(N50,Katılım!$A$4:$Z$20,26,0),0)","v":0},{"$f":"IFERROR(VLOOKUP(N50,Katılım!$A$4:$G$20,6,0),0)","v":0},null,null,null,null,null,null,null,null,null,null,null,null,null,null,null,null,null,null,46,null,null,null,null,{"$f":"E140","v":0},{"$f":"E141","v":0}]
["16.16",null,null,null,{"$f":"IFERROR(VLOOKUP(C51,Katılım!$A$4:$Z$20,26,0),0)","v":0},{"$f":"BA20","v":0},null,null,{"$f":"IFERROR(VLOOKUP(C51,Katılım!$A$4:$G$20,6,0),0)","v":0},null,null,null,null,null,null,null,null,null,null,null,null,null,null,null,null,null,null,null,null,null,null,null,null,null,47,null,null,null,null,{"$f":"E143","v":0},{"$f":"E144","v":0}]
[null,null,null,null,null,null,null,null,null,null,null,null,null,null,null,null,null,null,null,null,null,null,null,null,null,null,null,null,null,null,null,null,null,null,48,null,null,null,null,{"$f":"E146","v":0},{"$f":"E147","v":0}]
[17,"E17",null,null,{"$f":"IFERROR(VLOOKUP(C53,Katılım!$A$4:$Z$20,26,0),0)","v":0},{"$f":"AZ21","v":0},{"$f":"IF(AND(F53=0,F54=0),\"\",IF(F53>F54,E53,E54))","v":""},null,{"$f":"IFERROR(VLOOKUP(C53,Katılım!$A$4:$G$20,6,0),0)","v":0},null,null,"E17",17,{"$f":"OFFSET(Sablon!$DN$1,M53,Main!R2)","v":0},{"$f":"IFERROR(VLOOKUP(N53,Katılım!$A$4:$Z$20,26,0),0)","v":0},{"$f":"IFERROR(VLOOKUP(N53,Katılım!$A$4:$G$20,6,0),0)","v":0},null,null,null,null,null,null,null,null,null,null,null,null,null,null,null,null,null,null,49,null,null,null,null,{"$f":"E149","v":0},{"$f":"E150","v":0}]
["17.17",null,null,null,{"$f":"IFERROR(VLOOKUP(C54,Katılım!$A$4:$Z$20,26,0),0)","v":0},{"$f":"BA21","v":0},null,null,{"$f":"IFERROR(VLOOKUP(C54,Katılım!$A$4:$G$20,6,0),0)","v":0},null,null,null,null,null,null,null,null,null,null,null,null,null,null,null,null,null,null,null,null,null,null,null,null,null,50,null,null,null,null,{"$f":"E152","v":0},{"$f":"E153","v":0}]
[null,null,null,null,null,null,null,null,null,null,null,null,null,null,null,null,null,null,null,null,null,null,null,null,null,null,null,null,null,null,null,null,null,null,51,null,null,null,null,{"$f":"E155","v":0},{"$f":"E156","v":0}]
[18,"E18",null,null,{"$f":"IFERROR(VLOOKUP(C56,Katılım!$A$4:$Z$20,26,0),0)","v":0},{"$f":"AZ22","v":0},{"$f":"IF(AND(F56=0,F57=0),\"\",IF(F56>F57,E56,E57))","v":""},null,{"$f":"IFERROR(VLOOKUP(C56,Katılım!$A$4:$G$20,6,0),0)","v":0},null,null,"E18",18,{"$f":"OFFSET(Sablon!$DN$1,M56,Main!R2)","v":0},{"$f":"IFERROR(VLOOKUP(N56,Katılım!$A$4:$Z$20,26,0),0)","v":0},{"$f":"IFERROR(VLOOKUP(N56,Katılım!$A$4:$G$20,6,0),0)","v":0},null,null,null,null,null,null,null,null,null,null,null,null,null,null,null,null,null,null,52,null,null,null,null,{"$f":"E158","v":0},{"$f":"E159","v":0}]
["18.18",null,null,null,{"$f":"IFERROR(VLOOKUP(C57,Katılım!$A$4:$Z$20,26,0),0)","v":0},{"$f":"BA22","v":0},null,null,{"$f":"IFERROR(VLOOKUP(C57,Katılım!$A$4:$G$20,6,0),0)","v":0},null,null,null,null,null,null,null,null,null,null,null,null,null,null,null,null,null,null,null,null,null,null,null,null,null,53,null,null,null,null,{"$f":"E161","v":0},{"$f":"E162","v":0}]
[null,null,null,null,null,null,null,null,null,null,null,null,null,null,null,null,null,null,null,null,null,null,null,null,null,null,null,null,null,null,null,null,null,null,54,null,null,null,null,{"$f":"E164","v":0},{"$f":"E165","v":0}]
[19,"E19",null,null,{"$f":"IFERROR(VLOOKUP(C59,Katılım!$A$4:$Z$20,26,0),0)","v":0},{"$f":"AZ23","v":0},{"$f":"IF(AND(F59=0,F60=0),\"\",IF(F59>F60,E59,E60))","v":""},null,{"$f":"IFERROR(VLOOKUP(C59,Katılım!$A$4:$G$20,6,0),0)","v":0},null,null,"E19",19,{"$f":"OFFSET(Sablon!$DN$1,M59,Main!R2)","v":0},{"$f":"IFERROR(VLOOKUP(N59,Katılım!$A$4:$Z$20,26,0),0)","v":0},{"$f":"IFERROR(VLOOKUP(N59,Katılım!$A$4:$G$20,6,0),0)","v":0},null,null,null,null,null,null,null,null,null,null,null,null,null,null,null,null,null,null,55,null,null,null,null,{"$f":"E167","v":0},{"$f":"E168","v":0}]
["19.19",null,null,null,{"$f":"IFERROR(VLOOKUP(C60,Katılım!$A$4:$Z$20,26,0),0)","v":0},{"$f":"BA23","v":0},null,null,{"$f":"IFERROR(VLOOKUP(C60,Katılım!$A$4:$G$20,6,0),0)","v":0},null,null,null,null,null,null,null,null,null,null,null,null,null,null,null,null,null,null,null,null,null,null,null,null,null,56,null,null,null,null,{"$f":"E170","v":0},{"$f":"E171","v":0}]
[null,null,null,null,null,null,null,null,null,null,null,null,null,null,null,null,null,null,null,null,null,null,null,null,null,null,null,null,null,null,null,null,null,null,57,null,null,null,null,{"$f":"E173","v":0},{"$f":"E174","v":0}]
[20,"E20",null,null,{"$f":"IFERROR(VLOOKUP(C62,Katılım!$A$4:$Z$20,26,0),0)","v":0},{"$f":"AZ24","v":0},{"$f":"IF(AND(F62=0,F63=0),\"\",IF(F62>F63,E62,E63))","v":""},null,{"$f":"IFERROR(VLOOKUP(C62,Katılım!$A$4:$G$20,6,0),0)","v":0},null,null,"E20",20,{"$f":"OFFSET(Sablon!$DN$1,M62,Main!R2)","v":0},{"$f":"IFERROR(VLOOKUP(N62,Katılım!$A$4:$Z$20,26,0),0)","v":0},{"$f":"IFERROR(VLOOKUP(N62,Katılım!$A$4:$G$20,6,0),0)","v":0},null,null,null,null,null,null,null,null,null,null,null,null,null,null,null,null,null,null,58,null,null,null,null,{"$f":"E176","v":0},{"$f":"E177","v":0}]
["20.20",null,null,null,{"$f":"IFERROR(VLOOKUP(C63,Katılım!$A$4:$Z$20,26,0),0)","v":0},{"$f":"BA24","v":0},null,null,{"$f":"IFERROR(VLOOKUP(C63,Katılım!$A$4:$G$20,6,0),0)","v":0},null,null,null,null,null,null,null,null,null,null,null,null,null,null,null,null,null,null,null,null,null,null,null,null,null,59,null,null,null,null,{"$f":"E179","v":0},{"$f":"E180","v":0}]
[null,null,null,null,null,null,null,null,null,null,null,null,null,null,null,null,null,null,null,null,null,null,null,null,null,null,null,null,null,null,null,null,null,null,60,null,null,null,null,{"$f":"E182","v":0},{"$f":"E183","v":0}]
[21,"E21",null,null,{"$f":"IFERROR(VLOOKUP(C65,Katılım!$A$4:$Z$20,26,0),0)","v":0},{"$f":"AZ25","v":0},{"$f":"IF(AND(F65=0,F66=0),\"\",IF(F65>F66,E65,E66))","v":""},null,{"$f":"IFERROR(VLOOKUP(C65,Katılım!$A$4:$G$20,6,0),0)","v":0},null,null,"E21",21,{"$f":"OFFSET(Sablon!$DN$1,M65,Main!R2)","v":0},{"$f":"IFERROR(VLOOKUP(N65,Katılım!$A$4:$Z$20,26,0),0)","v":0},{"$f":"IFERROR(VLOOKUP(N65,Katılım!$A$4:$G$20,6,0),0)","v":0},null,null,null,null,null,null,null,null,null,null,null,null,null,null,null,null,null,null,61,null,null,null,null,{"$f":"E185","v":0},{"$f":"E186","v":0}]
["21.21",null,null,null,{"$f":"IFERROR(VLOOKUP(C66,Katılım!$A$4:$Z$20,26,0),0)","v":0},{"$f":"BA25","v":0},null,null,{"$f":"IFERROR(VLOOKUP(C66,Katılım!$A$4:$G$20,6,0),0)","v":0},null,null,null,null,null,null,null,null,null,null,null,null,null,null,null,null,null,null,null,null,null,null,null,null,null,62,null,null,null,null,{"$f":"E188","v":0},{"$f":"E189","v":0}]
[null,null,null,null,null,null,null,null,null,null,null,null,null,null,null,null,null,null,null,null,null,null,null,null,null,null,null,null,null,null,null,null,null,null,63,null,null,null,null,{"$f":"E191","v":0},{"$f":"E192","v":0}]
[22,"E22",null,null,{"$f":"IFERROR(VLOOKUP(C68,Katılım!$A$4:$Z$20,26,0),0)","v":0},{"$f":"AZ26","v":0},{"$f":"IF(AND(F68=0,F69=0),\"\",IF(F68>F69,E68,E69))","v":""},null,{"$f":"IFERROR(VLOOKUP(C68,Katılım!$A$4:$G$20,6,0),0)","v":0},null,null,"E22",22,{"$f":"OFFSET(Sablon!$DN$1,M68,Main!R2)","v":0},{"$f":"IFERROR(VLOOKUP(N68,Katılım!$A$4:$Z$20,26,0),0)","v":0},{"$f":"IFERROR(VLOOKUP(N68,Katılım!$A$4:$G$20,6,0),0)","v":0},null,null,null,null,null,null,null,null,null,null,null,null,null,null,null,null,null,null,64,null,null,null,null,{"$f":"E194","v":0},{"$f":"E195","v":0}]
["22.22",null,null,null,{"$f":"IFERROR(VLOOKUP(C69,Katılım!$A$4:$Z$20,26,0),0)","v":0},{"$f":"BA26","v":0},null,null,{"$f":"IFERROR(VLOOKUP(C69,Katılım!$A$4:$G$20,6,0),0)","v":0}]
[]
[23,"E23",null,null,{"$f":"IFERROR(VLOOKUP(C71,Katılım!$A$4:$Z$20,26,0),0)","v":0},{"$f":"AZ27","v":0},{"$f":"IF(AND(F71=0,F72=0),\"\",IF(F71>F72,E71,E72))","v":""},null,{"$f":"IFERROR(VLOOKUP(C71,Katılım!$A$4:$G$20,6,0),0)","v":0},null,null,"E23",23,{"$f":"OFFSET(Sablon!$DN$1,M71,Main!R2)","v":0},{"$f":"IFERROR(VLOOKUP(N71,Katılım!$A$4:$Z$20,26,0),0)","v":0},{"$f":"IFERROR(VLOOKUP(N71,Katılım!$A$4:$G$20,6,0),0)","v":0}]
["23.23",null,null,null,{"$f":"IFERROR(VLOOKUP(C72,Katılım!$A$4:$Z$20,26,0),0)","v":0},{"$f":"BA27","v":0},null,null,{"$f":"IFERROR(VLOOKUP(C72,Katılım!$A$4:$G$20,6,0),0)","v":0}]
[]
[24,"E24",null,null,{"$f":"IFERROR(VLOOKUP(C74,Katılım!$A$4:$Z$20,26,0),0)","v":0},{"$f":"AZ28","v":0},{"$f":"IF(AND(F74=0,F75=0),\"\",IF(F74>F75,E74,E75))","v":""},null,{"$f":"IFERROR(VLOOKUP(C74,Katılım!$A$4:$G$20,6,0),0)","v":0},null,null,"E24",24,{"$f":"OFFSET(Sablon!$DN$1,M74,Main!R2)","v":0},{"$f":"IFERROR(VLOOKUP(N74,Katılım!$A$4:$Z$20,26,0),0)","v":0},{"$f":"IFERROR(VLOOKUP(N74,Katılım!$A$4:$G$20,6,0),0)","v":0}]
["24.24",null,null,null,{"$f":"IFERROR(VLOOKUP(C75,Katılım!$A$4:$Z$20,26,0),0)","v":0},{"$f":"BA28","v":0},null,null,{"$f":"IFERROR(VLOOKUP(C75,Katılım!$A$4:$G$20,6,0),0)","v":0}]
[]
[25,"E25",null,null,{"$f":"IFERROR(VLOOKUP(C77,Katılım!$A$4:$Z$20,26,0),0)","v":0},{"$f":"AZ29","v":0},{"$f":"IF(AND(F77=0,F78=0),\"\",IF(F77>F78,E77,E78))","v":""},null,{"$f":"IFERROR(VLOOKUP(C77,Katılım!$A$4:$G$20,6,0),0)","v":0},null,null,"E25",25,{"$f":"OFFSET(Sablon!$DN$1,M77,Main!R2)","v":0},{"$f":"IFERROR(VLOOKUP(N77,Katılım!$A$4:$Z$20,26,0),0)","v":0},{"$f":"IFERROR(VLOOKUP(N77,Katılım!$A$4:$G$20,6,0),0)","v":0}]
["25.25",null,null,null,{"$f":"IFERROR(VLOOKUP(C78,Katılım!$A$4:$Z$20,26,0),0)","v":0},{"$f":"BA29","v":0},null,null,{"$f":"IFERROR(VLOOKUP(C78,Katılım!$A$4:$G$20,6,0),0)","v":0}]
[]
[26,"E26",null,null,{"$f":"IFERROR(VLOOKUP(C80,Katılım!$A$4:$Z$20,26,0),0)","v":0},{"$f":"AZ30","v":0},{"$f":"IF(AND(F80=0,F81=0),\"\",IF(F80>F81,E80,E81))","v":""},null,{"$f":"IFERROR(VLOOKUP(C80,Katılım!$A$4:$G$20,6,0),0)","v":0},null,null,"E26",26,{"$f":"OFFSET(Sablon!$DN$1,M80,Main!R2)","v":0},{"$f":"IFERROR(VLOOKUP(N80,Katılım!$A$4:$Z$20,26,0),0)","v":0},{"$f":"IFERROR(VLOOKUP(N80,Katılım!$A$4:$G$20,6,0),0)","v":0}]
["26.26",null,null,null,{"$f":"IFERROR(VLOOKUP(C81,Katılım!$A$4:$Z$20,26,0),0)","v":0},{"$f":"BA30","v":0},null,null,{"$f":"IFERROR(VLOOKUP(C81,Katılım!$A$4:$G$20,6,0),0)","v":0}]
[]
[27,"E27",null,null,{"$f":"IFERROR(VLOOKUP(C83,Katılım!$A$4:$Z$20,26,0),0)","v":0},{"$f":"AZ31","v":0},{"$f":"IF(AND(F83=0,F84=0),\"\",IF(F83>F84,E83,E84))","v":""},null,{"$f":"IFERROR(VLOOKUP(C83,Katılım!$A$4:$G$20,6,0),0)","v":0},null,null,"E27",27,{"$f":"OFFSET(Sablon!$DN$1,M83,Main!R2)","v":0},{"$f":"IFERROR(VLOOKUP(N83,Katılım!$A$4:$Z$20,26,0),0)","v":0},{"$f":"IFERROR(VLOOKUP(N83,Katılım!$A$4:$G$20,6,0),0)","v":0}]
["27.27",null,null,null,{"$f":"IFERROR(VLOOKUP(C84,Katılım!$A$4:$Z$20,26,0),0)","v":0},{"$f":"BA31","v":0},null,null,{"$f":"IFERROR(VLOOKUP(C84,Katılım!$A$4:$G$20,6,0),0)","v":0}]
[]
[28,"E28",null,null,{"$f":"IFERROR(VLOOKUP(C86,Katılım!$A$4:$Z$20,26,0),0)","v":0},{"$f":"AZ32","v":0},{"$f":"IF(AND(F86=0,F87=0),\"\",IF(F86>F87,E86,E87))","v":""},null,{"$f":"IFERROR(VLOOKUP(C86,Katılım!$A$4:$G$20,6,0),0)","v":0},null,null,"E28",28,{"$f":"OFFSET(Sablon!$DN$1,M86,Main!R2)","v":0},{"$f":"IFERROR(VLOOKUP(N86,Katılım!$A$4:$Z$20,26,0),0)","v":0},{"$f":"IFERROR(VLOOKUP(N86,Katılım!$A$4:$G$20,6,0),0)","v":0}]
["28.28",null,null,null,{"$f":"IFERROR(VLOOKUP(C87,Katılım!$A$4:$Z$20,26,0),0)","v":0},{"$f":"BA32","v":0},null,null,{"$f":"IFERROR(VLOOKUP(C87,Katılım!$A$4:$G$20,6,0),0)","v":0}]
[]
[29,"E29",null,null,{"$f":"IFERROR(VLOOKUP(C89,Katılım!$A$4:$Z$20,26,0),0)","v":0},{"$f":"AZ33","v":0},{"$f":"IF(AND(F89=0,F90=0),\"\",IF(F89>F90,E89,E90))","v":""},null,{"$f":"IFERROR(VLOOKUP(C89,Katılım!$A$4:$G$20,6,0),0)","v":0},null,null,"E29",29,{"$f":"OFFSET(Sablon!$DN$1,M89,Main!R2)","v":0},{"$f":"IFERROR(VLOOKUP(N89,Katılım!$A$4:$Z$20,26,0),0)","v":0},{"$f":"IFERROR(VLOOKUP(N89,Katılım!$A$4:$G$20,6,0),0)","v":0}]
["29.29",null,null,null,{"$f":"IFERROR(VLOOKUP(C90,Katılım!$A$4:$Z$20,26,0),0)","v":0},{"$f":"BA33","v":0},null,null,{"$f":"IFERROR(VLOOKUP(C90,Katılım!$A$4:$G$20,6,0),0)","v":0}]
[]
[30,"E30",null,null,{"$f":"IFERROR(VLOOKUP(C92,Katılım!$A$4:$Z$20,26,0),0)","v":0},{"$f":"AZ34","v":0},{"$f":"IF(AND(F92=0,F93=0),\"\",IF(F92>F93,E92,E93))","v":""},null,{"$f":"IFERROR(VLOOKUP(C92,Katılım!$A$4:$G$20,6,0),0)","v":0},null,null,"E30",30,{"$f":"OFFSET(Sablon!$DN$1,M92,Main!R2)","v":0},{"$f":"IFERROR(VLOOKUP(N92,Katılım!$A$4:$Z$20,26,0),0)","v":0},{"$f":"IFERROR(VLOOKUP(N92,Katılım!$A$4:$G$20,6,0),0)","v":0}]
["30.30",null,null,null,{"$f":"IFERROR(VLOOKUP(C93,Katılım!$A$4:$Z$20,26,0),0)","v":0},{"$f":"BA34","v":0},null,null,{"$f":"IFERROR(VLOOKUP(C93,Katılım!$A$4:$G$20,6,0),0)","v":0}]
[]
[31,"E31",null,null,{"$f":"IFERROR(VLOOKUP(C95,Katılım!$A$4:$Z$20,26,0),0)","v":0},{"$f":"AZ35","v":0},{"$f":"IF(AND(F95=0,F96=0),\"\",IF(F95>F96,E95,E96))","v":""},null,{"$f":"IFERROR(VLOOKUP(C95,Katılım!$A$4:$G$20,6,0),0)","v":0},null,null,"E31",31,{"$f":"OFFSET(Sablon!$DN$1,M95,Main!R2)","v":0},{"$f":"IFERROR(VLOOKUP(N95,Katılım!$A$4:$Z$20,26,0),0)","v":0},{"$f":"IFERROR(VLOOKUP(N95,Katılım!$A$4:$G$20,6,0),0)","v":0}]
["31.31",null,null,null,{"$f":"IFERROR(VLOOKUP(C96,Katılım!$A$4:$Z$20,26,0),0)","v":0},{"$f":"BA35","v":0},null,null,{"$f":"IFERROR(VLOOKUP(C96,Katılım!$A$4:$G$20,6,0),0)","v":0}]
[]
[32,"E32",null,null,{"$f":"IFERROR(VLOOKUP(C98,Katılım!$A$4:$Z$20,26,0),0)","v":0},{"$f":"AZ36","v":0},{"$f":"IF(AND(F98=0,F99=0),\"\",IF(F98>F99,E98,E99))","v":""},null,{"$f":"IFERROR(VLOOKUP(C98,Katılım!$A$4:$G$20,6,0),0)","v":0},null,null,"E32",32,{"$f":"OFFSET(Sablon!$DN$1,M98,Main!R2)","v":0},{"$f":"IFERROR(VLOOKUP(N98,Katılım!$A$4:$Z$20,26,0),0)","v":0},{"$f":"IFERROR(VLOOKUP(N98,Katılım!$A$4:$G$20,6,0),0)","v":0}]
["32.32",null,null,null,{"$f":"IFERROR(VLOOKUP(C99,Katılım!$A$4:$Z$20,26,0),0)","v":0},{"$f":"BA36","v":0},null,null,{"$f":"IFERROR(VLOOKUP(C99,Katılım!$A$4:$G$20,6,0),0)","v":0}]
[]
[33,"E33",null,null,{"$f":"IFERROR(VLOOKUP(C101,Katılım!$A$4:$Z$20,26,0),0)","v":0},{"$f":"AZ37","v":0},{"$f":"IF(AND(F101=0,F102=0),\"\",IF(F101>F102,E101,E102))","v":""},null,{"$f":"IFERROR(VLOOKUP(C101,Katılım!$A$4:$G$20,6,0),0)","v":0},null,null,"E33",33,{"$f":"OFFSET(Sablon!$DN$1,M101,Main!R2)","v":0},{"$f":"IFERROR(VLOOKUP(N101,Katılım!$A$4:$Z$20,26,0),0)","v":0},{"$f":"IFERROR(VLOOKUP(N101,Katılım!$A$4:$G$20,6,0),0)","v":0}]
["33.33",null,null,null,{"$f":"IFERROR(VLOOKUP(C102,Katılım!$A$4:$Z$20,26,0),0)","v":0},{"$f":"BA37","v":0},null,null,{"$f":"IFERROR(VLOOKUP(C102,Katılım!$A$4:$G$20,6,0),0)","v":0}]
[]
[34,"E34",null,null,{"$f":"IFERROR(VLOOKUP(C104,Katılım!$A$4:$Z$20,26,0),0)","v":0},{"$f":"AZ38","v":0},{"$f":"IF(AND(F104=0,F105=0),\"\",IF(F104>F105,E104,E105))","v":""},null,{"$f":"IFERROR(VLOOKUP(C104,Katılım!$A$4:$G$20,6,0),0)","v":0},null,null,"E34",34,{"$f":"OFFSET(Sablon!$DN$1,M104,Main!R2)","v":0},{"$f":"IFERROR(VLOOKUP(N104,Katılım!$A$4:$Z$20,26,0),0)","v":0},{"$f":"IFERROR(VLOOKUP(N104,Katılım!$A$4:$G$20,6,0),0)","v":0}]
["34.34",null,null,null,{"$f":"IFERROR(VLOOKUP(C105,Katılım!$A$4:$Z$20,26,0),0)","v":0},{"$f":"BA38","v":0},null,null,{"$f":"IFERROR(VLOOKUP(C105,Katılım!$A$4:$G$20,6,0),0)","v":0}]
[]
[35,"E35",null,null,{"$f":"IFERROR(VLOOKUP(C107,Katılım!$A$4:$Z$20,26,0),0)","v":0},{"$f":"AZ39","v":0},{"$f":"IF(AND(F107=0,F108=0),\"\",IF(F107>F108,E107,E108))","v":""},null,{"$f":"IFERROR(VLOOKUP(C107,Katılım!$A$4:$G$20,6,0),0)","v":0},null,null,"E35",35,{"$f":"OFFSET(Sablon!$DN$1,M107,Main!R2)","v":0},{"$f":"IFERROR(VLOOKUP(N107,Katılım!$A$4:$Z$20,26,0),0)","v":0},{"$f":"IFERROR(VLOOKUP(N107,Katılım!$A$4:$G$20,6,0),0)","v":0}]
["35.35",null,null,null,{"$f":"IFERROR(VLOOKUP(C108,Katılım!$A$4:$Z$20,26,0),0)","v":0},{"$f":"BA39","v":0},null,null,{"$f":"IFERROR(VLOOKUP(C108,Katılım!$A$4:$G$20,6,0),0)","v":0}]
[]
[36,"E36",null,null,{"$f":"IFERROR(VLOOKUP(C110,Katılım!$A$4:$Z$20,26,0),0)","v":0},{"$f":"AZ40","v":0},{"$f":"IF(AND(F110=0,F111=0),\"\",IF(F110>F111,E110,E111))","v":""},null,{"$f":"IFERROR(VLOOKUP(C110,Katılım!$A$4:$G$20,6,0),0)","v":0},null,null,"E36",36,{"$f":"OFFSET(Sablon!$DN$1,M110,Main!R2)","v":0},{"$f":"IFERROR(VLOOKUP(N110,Katılım!$A$4:$Z$20,26,0),0)","v":0},{"$f":"IFERROR(VLOOKUP(N110,Katılım!$A$4:$G$20,6,0),0)","v":0}]
["36.36",null,null,null,{"$f":"IFERROR(VLOOKUP(C111,Katılım!$A$4:$Z$20,26,0),0)","v":0},{"$f":"BA40","v":0},null,null,{"$f":"IFERROR(VLOOKUP(C111,Katılım!$A$4:$G$20,6,0),0)","v":0}]
[]
[37,"E37",null,null,{"$f":"IFERROR(VLOOKUP(C113,Katılım!$A$4:$Z$20,26,0),0)","v":0},{"$f":"AZ41","v":0},{"$f":"IF(AND(F113=0,F114=0),\"\",IF(F113>F114,E113,E114))","v":""},null,{"$f":"IFERROR(VLOOKUP(C113,Katılım!$A$4:$G$20,6,0),0)","v":0},null,null,"E37",37,{"$f":"OFFSET(Sablon!$DN$1,M113,Main!R2)","v":0},{"$f":"IFERROR(VLOOKUP(N113,Katılım!$A$4:$Z$20,26,0),0)","v":0},{"$f":"IFERROR(VLOOKUP(N113,Katılım!$A$4:$G$20,6,0),0)","v":0}]
["37.37",null,null,null,{"$f":"IFERROR(VLOOKUP(C114,Katılım!$A$4:$Z$20,26,0),0)","v":0},{"$f":"BA41","v":0},null,null,{"$f":"IFERROR(VLOOKUP(C114,Katılım!$A$4:$G$20,6,0),0)","v":0}]
[]
[38,"E38",null,null,{"$f":"IFERROR(VLOOKUP(C116,Katılım!$A$4:$Z$20,26,0),0)","v":0},{"$f":"AZ42","v":0},{"$f":"IF(AND(F116=0,F117=0),\"\",IF(F116>F117,E116,E117))","v":""},null,{"$f":"IFERROR(VLOOKUP(C116,Katılım!$A$4:$G$20,6,0),0)","v":0},null,null,"E38",38,{"$f":"OFFSET(Sablon!$DN$1,M116,Main!R2)","v":0},{"$f":"IFERROR(VLOOKUP(N116,Katılım!$A$4:$Z$20,26,0),0)","v":0},{"$f":"IFERROR(VLOOKUP(N116,Katılım!$A$4:$G$20,6,0),0)","v":0}]
["38.38",null,null,null,{"$f":"IFERROR(VLOOKUP(C117,Katılım!$A$4:$Z$20,26,0),0)","v":0},{"$f":"BA42","v":0},null,null,{"$f":"IFERROR(VLOOKUP(C117,Katılım!$A$4:$G$20,6,0),0)","v":0}]
[]
[39,"E39",null,null,{"$f":"IFERROR(VLOOKUP(C119,Katılım!$A$4:$Z$20,26,0),0)","v":0},{"$f":"AZ43","v":0},{"$f":"IF(AND(F119=0,F120=0),\"\",IF(F119>F120,E119,E120))","v":""},null,{"$f":"IFERROR(VLOOKUP(C119,Katılım!$A$4:$G$20,6,0),0)","v":0},null,null,"E39",39,{"$f":"OFFSET(Sablon!$DN$1,M119,Main!R2)","v":0},{"$f":"IFERROR(VLOOKUP(N119,Katılım!$A$4:$Z$20,26,0),0)","v":0},{"$f":"IFERROR(VLOOKUP(N119,Katılım!$A$4:$G$20,6,0),0)","v":0}]
["39.39",null,null,null,{"$f":"IFERROR(VLOOKUP(C120,Katılım!$A$4:$Z$20,26,0),0)","v":0},{"$f":"BA43","v":0},null,null,{"$f":"IFERROR(VLOOKUP(C120,Katılım!$A$4:$G$20,6,0),0)","v":0}]
[]
[40,"E40",null,null,{"$f":"IFERROR(VLOOKUP(C122,Katılım!$A$4:$Z$20,26,0),0)","v":0},{"$f":"AZ44","v":0},{"$f":"IF(AND(F122=0,F123=0),\"\",IF(F122>F123,E122,E123))","v":""},null,{"$f":"IFERROR(VLOOKUP(C122,Katılım!$A$4:$G$20,6,0),0)","v":0},null,null,"E40",40,{"$f":"OFFSET(Sablon!$DN$1,M122,Main!R2)","v":0},{"$f":"IFERROR(VLOOKUP(N122,Katılım!$A$4:$Z$20,26,0),0)","v":0},{"$f":"IFERROR(VLOOKUP(N122,Katılım!$A$4:$G$20,6,0),0)","v":0}]
["40.40",null,null,null,{"$f":"IFERROR(VLOOKUP(C123,Katılım!$A$4:$Z$20,26,0),0)","v":0},{"$f":"BA44","v":0},null,null,{"$f":"IFERROR(VLOOKUP(C123,Katılım!$A$4:$G$20,6,0),0)","v":0}]
[]
[41,"E41",null,null,{"$f":"IFERROR(VLOOKUP(C125,Katılım!$A$4:$Z$20,26,0),0)","v":0},{"$f":"AZ45","v":0},{"$f":"IF(AND(F125=0,F126=0),\"\",IF(F125>F126,E125,E126))","v":""},null,{"$f":"IFERROR(VLOOKUP(C125,Katılım!$A$4:$G$20,6,0),0)","v":0},null,null,"E41",41,{"$f":"OFFSET(Sablon!$DN$1,M125,Main!R2)","v":0},{"$f":"IFERROR(VLOOKUP(N125,Katılım!$A$4:$Z$20,26,0),0)","v":0},{"$f":"IFERROR(VLOOKUP(N125,Katılım!$A$4:$G$20,6,0),0)","v":0}]
["41.41",null,null,null,{"$f":"IFERROR(VLOOKUP(C126,Katılım!$A$4:$Z$20,26,0),0)","v":0},{"$f":"BA45","v":0},null,null,{"$f":"IFERROR(VLOOKUP(C126,Katılım!$A$4:$G$20,6,0),0)","v":0}]
[]
[42,"E42",null,null,{"$f":"IFERROR(VLOOKUP(C128,Katılım!$A$4:$Z$20,26,0),0)","v":0},{"$f":"AZ46","v":0},{"$f":"IF(AND(F128=0,F129=0),\"\",IF(F128>F129,E128,E129))","v":""},null,{"$f":"IFERROR(VLOOKUP(C128,Katılım!$A$4:$G$20,6,0),0)","v":0},null,null,"E42",42,{"$f":"OFFSET(Sablon!$DN$1,M128,Main!R2)","v":0},{"$f":"IFERROR(VLOOKUP(N128,Katılım!$A$4:$Z$20,26,0),0)","v":0},{"$f":"IFERROR(VLOOKUP(N128,Katılım!$A$4:$G$20,6,0),0)","v":0}]
["42.42",null,null,null,{"$f":"IFERROR(VLOOKUP(C129,Katılım!$A$4:$Z$20,26,0),0)","v":0},{"$f":"BA46","v":0},null,null,{"$f":"IFERROR(VLOOKUP(C129,Katılım!$A$4:$G$20,6,0),0)","v":0}]
[]
[43,"E43",null,null,{"$f":"IFERROR(VLOOKUP(C131,Katılım!$A$4:$Z$20,26,0),0)","v":0},{"$f":"AZ47","v":0},{"$f":"IF(AND(F131=0,F132=0),\"\",IF(F131>F132,E131,E132))","v":""},null,{"$f":"IFERROR(VLOOKUP(C131,Katılım!$A$4:$G$20,6,0),0)","v":0},null,null,"E43",43,{"$f":"OFFSET(Sablon!$DN$1,M131,Main!R2)","v":0},{"$f":"IFERROR(VLOOKUP(N131,Katılım!$A$4:$Z$20,26,0),0)","v":0},{"$f":"IFERROR(VLOOKUP(N131,Katılım!$A$4:$G$20,6,0),0)","v":0}]
["43.43",null,null,null,{"$f":"IFERROR(VLOOKUP(C132,Katılım!$A$4:$Z$20,26,0),0)","v":0},{"$f":"BA47","v":0},null,null,{"$f":"IFERROR(VLOOKUP(C132,Katılım!$A$4:$G$20,6,0),0)","v":0}]
[]
[44,"E44",null,null,{"$f":"IFERROR(VLOOKUP(C134,Katılım!$A$4:$Z$20,26,0),0)","v":0},{"$f":"AZ48","v":0},{"$f":"IF(AND(F134=0,F135=0),\"\",IF(F134>F135,E134,E135))","v":""},null,{"$f":"IFERROR(VLOOKUP(C134,Katılım!$A$4:$G$20,6,0),0)","v":0},null,null,"E44",44,{"$f":"OFFSET(Sablon!$DN$1,M134,Main!R2)","v":0},{"$f":"IFERROR(VLOOKUP(N134,Katılım!$A$4:$Z$20,26,0),0)","v":0},{"$f":"IFERROR(VLOOKUP(N134,Katılım!$A$4:$G$20,6,0),0)","v":0}]
["44.44",null,null,null,{"$f":"IFERROR(VLOOKUP(C135,Katılım!$A$4:$Z$20,26,0),0)","v":0},{"$f":"BA48","v":0},null,null,{"$f":"IFERROR(VLOOKUP(C135,Katılım!$A$4:$G$20,6,0),0)","v":0}]
[]
[45,"E45",null,null,{"$f":"IFERROR(VLOOKUP(C137,Katılım!$A$4:$Z$20,26,0),0)","v":0},{"$f":"AZ49","v":0},{"$f":"IF(AND(F137=0,F138=0),\"\",IF(F137>F138,E137,E138))","v":""},null,{"$f":"IFERROR(VLOOKUP(C137,Katılım!$A$4:$G$20,6,0),0)","v":0},null,null,"E45",45,{"$f":"OFFSET(Sablon!$DN$1,M137,Main!R2)","v":0},{"$f":"IFERROR(VLOOKUP(N137,Katılım!$A$4:$Z$20,26,0),0)","v":0},{"$f":"IFERROR(VLOOKUP(N137,Katılım!$A$4:$G$20,6,0),0)","v":0}]
["45.45",null,null,null,{"$f":"IFERROR(VLOOKUP(C138,Katılım!$A$4:$Z$20,26,0),0)","v":0},{"$f":"BA49","v":0},null,null,{"$f":"IFERROR(VLOOKUP(C138,Katılım!$A$4:$G$20,6,0),0)","v":0}]
[]
[46,"E46",null,null,{"$f":"IFERROR(VLOOKUP(C140,Katılım!$A$4:$Z$20,26,0),0)","v":0},{"$f":"AZ50","v":0},{"$f":"IF(AND(F140=0,F141=0),\"\",IF(F140>F141,E140,E141))","v":""},null,{"$f":"IFERROR(VLOOKUP(C140,Katılım!$A$4:$G$20,6,0),0)","v":0},null,null,"E46",46,{"$f":"OFFSET(Sablon!$DN$1,M140,Main!R2)","v":0},{"$f":"IFERROR(VLOOKUP(N140,Katılım!$A$4:$Z$20,26,0),0)","v":0},{"$f":"IFERROR(VLOOKUP(N140,Katılım!$A$4:$G$20,6,0),0)","v":0}]
["46.46",null,null,null,{"$f":"IFERROR(VLOOKUP(C141,Katılım!$A$4:$Z$20,26,0),0)","v":0},{"$f":"BA50","v":0},null,null,{"$f":"IFERROR(VLOOKUP(C141,Katılım!$A$4:$G$20,6,0),0)","v":0}]
[]
[47,"E47",null,null,{"$f":"IFERROR(VLOOKUP(C143,Katılım!$A$4:$Z$20,26,0),0)","v":0},{"$f":"AZ51","v":0},{"$f":"IF(AND(F143=0,F144=0),\"\",IF(F143>F144,E143,E144))","v":""},null,{"$f":"IFERROR(VLOOKUP(C143,Katılım!$A$4:$G$20,6,0),0)","v":0},null,null,"E47",47,{"$f":"OFFSET(Sablon!$DN$1,M143,Main!R2)","v":0},{"$f":"IFERROR(VLOOKUP(N143,Katılım!$A$4:$Z$20,26,0),0)","v":0},{"$f":"IFERROR(VLOOKUP(N143,Katılım!$A$4:$G$20,6,0),0)","v":0}]
["47.47",null,null,null,{"$f":"IFERROR(VLOOKUP(C144,Katılım!$A$4:$Z$20,26,0),0)","v":0},{"$f":"BA51","v":0},null,null,{"$f":"IFERROR(VLOOKUP(C144,Katılım!$A$4:$G$20,6,0),0)","v":0}]
[]
[48,"E48",null,null,{"$f":"IFERROR(VLOOKUP(C146,Katılım!$A$4:$Z$20,26,0),0)","v":0},{"$f":"AZ52","v":0},{"$f":"IF(AND(F146=0,F147=0),\"\",IF(F146>F147,E146,E147))","v":""},null,{"$f":"IFERROR(VLOOKUP(C146,Katılım!$A$4:$G$20,6,0),0)","v":0},null,null,"E48",48,{"$f":"OFFSET(Sablon!$DN$1,M146,Main!R2)","v":0},{"$f":"IFERROR(VLOOKUP(N146,Katılım!$A$4:$Z$20,26,0),0)","v":0},{"$f":"IFERROR(VLOOKUP(N146,Katılım!$A$4:$G$20,6,0),0)","v":0}]
["48.48",null,null,null,{"$f":"IFERROR(VLOOKUP(C147,Katılım!$A$4:$Z$20,26,0),0)","v":0},{"$f":"BA52","v":0},null,null,{"$f":"IFERROR(VLOOKUP(C147,Katılım!$A$4:$G$20,6,0),0)","v":0}]
[]
[49,"E49",null,null,{"$f":"IFERROR(VLOOKUP(C149,Katılım!$A$4:$Z$20,26,0),0)","v":0},{"$f":"AZ53","v":0},{"$f":"IF(AND(F149=0,F150=0),\"\",IF(F149>F150,E149,E150))","v":""},null,{"$f":"IFERROR(VLOOKUP(C149,Katılım!$A$4:$G$20,6,0),0)","v":0},null,null,"E49",49,{"$f":"OFFSET(Sablon!$DN$1,M149,Main!R2)","v":0},{"$f":"IFERROR(VLOOKUP(N149,Katılım!$A$4:$Z$20,26,0),0)","v":0},{"$f":"IFERROR(VLOOKUP(N149,Katılım!$A$4:$G$20,6,0),0)","v":0}]
["49.49",null,null,null,{"$f":"IFERROR(VLOOKUP(C150,Katılım!$A$4:$Z$20,26,0),0)","v":0},{"$f":"BA53","v":0},null,null,{"$f":"IFERROR(VLOOKUP(C150,Katılım!$A$4:$G$20,6,0),0)","v":0}]
[]
[50,"E50",null,null,{"$f":"IFERROR(VLOOKUP(C152,Katılım!$A$4:$Z$20,26,0),0)","v":0},{"$f":"AZ54","v":0},{"$f":"IF(AND(F152=0,F153=0),\"\",IF(F152>F153,E152,E153))","v":""},null,{"$f":"IFERROR(VLOOKUP(C152,Katılım!$A$4:$G$20,6,0),0)","v":0},null,null,"E50",50,{"$f":"OFFSET(Sablon!$DN$1,M152,Main!R2)","v":0},{"$f":"IFERROR(VLOOKUP(N152,Katılım!$A$4:$Z$20,26,0),0)","v":0},{"$f":"IFERROR(VLOOKUP(N152,Katılım!$A$4:$G$20,6,0),0)","v":0}]
["50.50",null,null,null,{"$f":"IFERROR(VLOOKUP(C153,Katılım!$A$4:$Z$20,26,0),0)","v":0},{"$f":"BA54","v":0},null,null,{"$f":"IFERROR(VLOOKUP(C153,Katılım!$A$4:$G$20,6,0),0)","v":0}]
[]
[51,"E51",null,null,{"$f":"IFERROR(VLOOKUP(C155,Katılım!$A$4:$Z$20,26,0),0)","v":0},{"$f":"AZ55","v":0},{"$f":"IF(AND(F155=0,F156=0),\"\",IF(F155>F156,E155,E156))","v":""},null,{"$f":"IFERROR(VLOOKUP(C155,Katılım!$A$4:$G$20,6,0),0)","v":0},null,null,"E51",51,{"$f":"OFFSET(Sablon!$DN$1,M155,Main!R2)","v":0},{"$f":"IFERROR(VLOOKUP(N155,Katılım!$A$4:$Z$20,26,0),0)","v":0},{"$f":"IFERROR(VLOOKUP(N155,Katılım!$A$4:$G$20,6,0),0)","v":0}]
["51.51",null,null,null,{"$f":"IFERROR(VLOOKUP(C156,Katılım!$A$4:$Z$20,26,0),0)","v":0},{"$f":"BA55","v":0},null,null,{"$f":"IFERROR(VLOOKUP(C156,Katılım!$A$4:$G$20,6,0),0)","v":0}]
[]
[52,"E52",null,null,{"$f":"IFERROR(VLOOKUP(C158,Katılım!$A$4:$Z$20,26,0),0)","v":0},{"$f":"AZ56","v":0},{"$f":"IF(AND(F158=0,F159=0),\"\",IF(F158>F159,E158,E159))","v":""},null,{"$f":"IFERROR(VLOOKUP(C158,Katılım!$A$4:$G$20,6,0),0)","v":0},null,null,"E52",52,{"$f":"OFFSET(Sablon!$DN$1,M158,Main!R2)","v":0},{"$f":"IFERROR(VLOOKUP(N158,Katılım!$A$4:$Z$20,26,0),0)","v":0},{"$f":"IFERROR(VLOOKUP(N158,Katılım!$A$4:$G$20,6,0),0)","v":0}]
["52.52",null,null,null,{"$f":"IFERROR(VLOOKUP(C159,Katılım!$A$4:$Z$20,26,0),0)","v":0},{"$f":"BA56","v":0},null,null,{"$f":"IFERROR(VLOOKUP(C159,Katılım!$A$4:$G$20,6,0),0)","v":0}]
[]
[53,"E53",null,null,{"$f":"IFERROR(VLOOKUP(C161,Katılım!$A$4:$Z$20,26,0),0)","v":0},{"$f":"AZ57","v":0},{"$f":"IF(AND(F161=0,F162=0),\"\",IF(F161>F162,E161,E162))","v":""},null,{"$f":"IFERROR(VLOOKUP(C161,Katılım!$A$4:$G$20,6,0),0)","v":0},null,null,"E53",53,{"$f":"OFFSET(Sablon!$DN$1,M161,Main!R2)","v":0},{"$f":"IFERROR(VLOOKUP(N161,Katılım!$A$4:$Z$20,26,0),0)","v":0},{"$f":"IFERROR(VLOOKUP(N161,Katılım!$A$4:$G$20,6,0),0)","v":0}]
["53.53",null,null,null,{"$f":"IFERROR(VLOOKUP(C162,Katılım!$A$4:$Z$20,26,0),0)","v":0},{"$f":"BA57","v":0},null,null,{"$f":"IFERROR(VLOOKUP(C162,Katılım!$A$4:$G$20,6,0),0)","v":0}]
[]
[54,"E54",null,null,{"$f":"IFERROR(VLOOKUP(C164,Katılım!$A$4:$Z$20,26,0),0)","v":0},{"$f":"AZ58","v":0},{"$f":"IF(AND(F164=0,F165=0),\"\",IF(F164>F165,E164,E165))","v":""},null,{"$f":"IFERROR(VLOOKUP(C164,Katılım!$A$4:$G$20,6,0),0)","v":0},null,null,"E54",54,{"$f":"OFFSET(Sablon!$DN$1,M164,Main!R2)","v":0},{"$f":"IFERROR(VLOOKUP(N164,Katılım!$A$4:$Z$20,26,0),0)","v":0},{"$f":"IFERROR(VLOOKUP(N164,Katılım!$A$4:$G$20,6,0),0)","v":0}]
["54.54",null,null,null,{"$f":"IFERROR(VLOOKUP(C165,Katılım!$A$4:$Z$20,26,0),0)","v":0},{"$f":"BA58","v":0},null,null,{"$f":"IFERROR(VLOOKUP(C165,Katılım!$A$4:$G$20,6,0),0)","v":0}]
[]
[55,"E55",null,null,{"$f":"IFERROR(VLOOKUP(C167,Katılım!$A$4:$Z$20,26,0),0)","v":0},{"$f":"AZ59","v":0},{"$f":"IF(AND(F167=0,F168=0),\"\",IF(F167>F168,E167,E168))","v":""},null,{"$f":"IFERROR(VLOOKUP(C167,Katılım!$A$4:$G$20,6,0),0)","v":0},null,null,"E55",55,{"$f":"OFFSET(Sablon!$DN$1,M167,Main!R2)","v":0},{"$f":"IFERROR(VLOOKUP(N167,Katılım!$A$4:$Z$20,26,0),0)","v":0},{"$f":"IFERROR(VLOOKUP(N167,Katılım!$A$4:$G$20,6,0),0)","v":0}]
["55.55",null,null,null,{"$f":"IFERROR(VLOOKUP(C168,Katılım!$A$4:$Z$20,26,0),0)","v":0},{"$f":"BA59","v":0},null,null,{"$f":"IFERROR(VLOOKUP(C168,Katılım!$A$4:$G$20,6,0),0)","v":0}]
[]
[56,"E56",null,null,{"$f":"IFERROR(VLOOKUP(C170,Katılım!$A$4:$Z$20,26,0),0)","v":0},{"$f":"AZ60","v":0},{"$f":"IF(AND(F170=0,F171=0),\"\",IF(F170>F171,E170,E171))","v":""},null,{"$f":"IFERROR(VLOOKUP(C170,Katılım!$A$4:$G$20,6,0),0)","v":0},null,null,"E56",56,{"$f":"OFFSET(Sablon!$DN$1,M170,Main!R2)","v":0},{"$f":"IFERROR(VLOOKUP(N170,Katılım!$A$4:$Z$20,26,0),0)","v":0},{"$f":"IFERROR(VLOOKUP(N170,Katılım!$A$4:$G$20,6,0),0)","v":0}]
["56.56",null,null,null,{"$f":"IFERROR(VLOOKUP(C171,Katılım!$A$4:$Z$20,26,0),0)","v":0},{"$f":"BA60","v":0},null,null,{"$f":"IFERROR(VLOOKUP(C171,Katılım!$A$4:$G$20,6,0),0)","v":0}]
[]
[57,"E57",null,null,{"$f":"IFERROR(VLOOKUP(C173,Katılım!$A$4:$Z$20,26,0),0)","v":0},{"$f":"AZ61","v":0},{"$f":"IF(AND(F173=0,F174=0),\"\",IF(F173>F174,E173,E174))","v":""},null,{"$f":"IFERROR(VLOOKUP(C173,Katılım!$A$4:$G$20,6,0),0)","v":0},null,null,"E57",57,{"$f":"OFFSET(Sablon!$DN$1,M173,Main!R2)","v":0},{"$f":"IFERROR(VLOOKUP(N173,Katılım!$A$4:$Z$20,26,0),0)","v":0},{"$f":"IFERROR(VLOOKUP(N173,Katılım!$A$4:$G$20,6,0),0)","v":0}]
["57.57",null,null,null,{"$f":"IFERROR(VLOOKUP(C174,Katılım!$A$4:$Z$20,26,0),0)","v":0},{"$f":"BA61","v":0},null,null,{"$f":"IFERROR(VLOOKUP(C174,Katılım!$A$4:$G$20,6,0),0)","v":0}]
[]
[58,"E58",null,null,{"$f":"IFERROR(VLOOKUP(C176,Katılım!$A$4:$Z$20,26,0),0)","v":0},{"$f":"AZ62","v":0},{"$f":"IF(AND(F176=0,F177=0),\"\",IF(F176>F177,E176,E177))","v":""},null,{"$f":"IFERROR(VLOOKUP(C176,Katılım!$A$4:$G$20,6,0),0)","v":0},null,null,"E58",58,{"$f":"OFFSET(Sablon!$DN$1,M176,Main!R2)","v":0},{"$f":"IFERROR(VLOOKUP(N176,Katılım!$A$4:$Z$20,26,0),0)","v":0},{"$f":"IFERROR(VLOOKUP(N176,Katılım!$A$4:$G$20,6,0),0)","v":0}]
["58.58",null,null,null,{"$f":"IFERROR(VLOOKUP(C177,Katılım!$A$4:$Z$20,26,0),0)","v":0},{"$f":"BA62","v":0},null,null,{"$f":"IFERROR(VLOOKUP(C177,Katılım!$A$4:$G$20,6,0),0)","v":0}]
[]
[59,"E59",null,null,{"$f":"IFERROR(VLOOKUP(C179,Katılım!$A$4:$Z$20,26,0),0)","v":0},{"$f":"AZ63","v":0},{"$f":"IF(AND(F179=0,F180=0),\"\",IF(F179>F180,E179,E180))","v":""},null,{"$f":"IFERROR(VLOOKUP(C179,Katılım!$A$4:$G$20,6,0),0)","v":0},null,null,"E59",59,{"$f":"OFFSET(Sablon!$DN$1,M179,Main!R2)","v":0},{"$f":"IFERROR(VLOOKUP(N179,Katılım!$A$4:$Z$20,26,0),0)","v":0},{"$f":"IFERROR(VLOOKUP(N179,Katılım!$A$4:$G$20,6,0),0)","v":0}]
["59.59",null,null,null,{"$f":"IFERROR(VLOOKUP(C180,Katılım!$A$4:$Z$20,26,0),0)","v":0},{"$f":"BA63","v":0},null,null,{"$f":"IFERROR(VLOOKUP(C180,Katılım!$A$4:$G$20,6,0),0)","v":0}]
[]
[60,"E60",null,null,{"$f":"IFERROR(VLOOKUP(C182,Katılım!$A$4:$Z$20,26,0),0)","v":0},{"$f":"AZ64","v":0},{"$f":"IF(AND(F182=0,F183=0),\"\",IF(F182>F183,E182,E183))","v":""},null,{"$f":"IFERROR(VLOOKUP(C182,Katılım!$A$4:$G$20,6,0),0)","v":0},null,null,"E60",60,{"$f":"OFFSET(Sablon!$DN$1,M182,Main!R2)","v":0},{"$f":"IFERROR(VLOOKUP(N182,Katılım!$A$4:$Z$20,26,0),0)","v":0},{"$f":"IFERROR(VLOOKUP(N182,Katılım!$A$4:$G$20,6,0),0)","v":0}]
["60.60",null,null,null,{"$f":"IFERROR(VLOOKUP(C183,Katılım!$A$4:$Z$20,26,0),0)","v":0},{"$f":"BA64","v":0},null,null,{"$f":"IFERROR(VLOOKUP(C183,Katılım!$A$4:$G$20,6,0),0)","v":0}]
[]
[61,"E61",null,null,{"$f":"IFERROR(VLOOKUP(C185,Katılım!$A$4:$Z$20,26,0),0)","v":0},{"$f":"AZ65","v":0},{"$f":"IF(AND(F185=0,F186=0),\"\",IF(F185>F186,E185,E186))","v":""},null,{"$f":"IFERROR(VLOOKUP(C185,Katılım!$A$4:$G$20,6,0),0)","v":0},null,null,"E61",61,{"$f":"OFFSET(Sablon!$DN$1,M185,Main!R2)","v":0},{"$f":"IFERROR(VLOOKUP(N185,Katılım!$A$4:$Z$20,26,0),0)","v":0},{"$f":"IFERROR(VLOOKUP(N185,Katılım!$A$4:$G$20,6,0),0)","v":0}]
["61.61",null,null,null,{"$f":"IFERROR(VLOOKUP(C186,Katılım!$A$4:$Z$20,26,0),0)","v":0},{"$f":"BA65","v":0},null,null,{"$f":"IFERROR(VLOOKUP(C186,Katılım!$A$4:$G$20,6,0),0)","v":0}]
[]
[62,"E62",null,null,{"$f":"IFERROR(VLOOKUP(C188,Katılım!$A$4:$Z$20,26,0),0)","v":0},{"$f":"AZ66","v":0},{"$f":"IF(AND(F188=0,F189=0),\"\",IF(F188>F189,E188,E189))","v":""},null,{"$f":"IFERROR(VLOOKUP(C188,Katılım!$A$4:$G$20,6,0),0)","v":0},null,null,"E62",62,{"$f":"OFFSET(Sablon!$DN$1,M188,Main!R2)","v":0},{"$f":"IFERROR(VLOOKUP(N188,Katılım!$A$4:$Z$20,26,0),0)","v":0},{"$f":"IFERROR(VLOOKUP(N188,Katılım!$A$4:$G$20,6,0),0)","v":0}]
["62.62",null,null,null,{"$f":"IFERROR(VLOOKUP(C189,Katılım!$A$4:$Z$20,26,0),0)","v":0},{"$f":"BA66","v":0},null,null,{"$f":"IFERROR(VLOOKUP(C189,Katılım!$A$4:$G$20,6,0),0)","v":0}]
[]
[63,"E63",null,null,{"$f":"IFERROR(VLOOKUP(C191,Katılım!$A$4:$Z$20,26,0),0)","v":0},{"$f":"AZ67","v":0},{"$f":"IF(AND(F191=0,F192=0),\"\",IF(F191>F192,E191,E192))","v":""},null,{"$f":"IFERROR(VLOOKUP(C191,Katılım!$A$4:$G$20,6,0),0)","v":0},null,null,"E63",63,{"$f":"OFFSET(Sablon!$DN$1,M191,Main!R2)","v":0},{"$f":"IFERROR(VLOOKUP(N191,Katılım!$A$4:$Z$20,26,0),0)","v":0},{"$f":"IFERROR(VLOOKUP(N191,Katılım!$A$4:$G$20,6,0),0)","v":0}]
["63.63",null,null,null,{"$f":"IFERROR(VLOOKUP(C192,Katılım!$A$4:$Z$20,26,0),0)","v":0},{"$f":"BA67","v":0},null,null,{"$f":"IFERROR(VLOOKUP(C192,Katılım!$A$4:$G$20,6,0),0)","v":0}]
[]
[64,"E64",null,null,{"$f":"IFERROR(VLOOKUP(C194,Katılım!$A$4:$Z$20,26,0),0)","v":0},{"$f":"AZ68","v":0},{"$f":"IF(AND(F194=0,F195=0),\"\",IF(F194>F195,E194,E195))","v":""},null,{"$f":"IFERROR(VLOOKUP(C194,Katılım!$A$4:$G$20,6,0),0)","v":0},null,null,"E64",64,{"$f":"OFFSET(Sablon!$DN$1,M194,Main!R2)","v":0},{"$f":"IFERROR(VLOOKUP(N194,Katılım!$A$4:$Z$20,26,0),0)","v":0},{"$f":"IFERROR(VLOOKUP(N194,Katılım!$A$4:$G$20,6,0),0)","v":0}]
["64.64",null,null,null,{"$f":"IFERROR(VLOOKUP(C195,Katılım!$A$4:$Z$20,26,0),0)","v":0},{"$f":"BA68","v":0},null,null,{"$f":"IFERROR(VLOOKUP(C195,Katılım!$A$4:$G$20,6,0),0)","v":0}]

{"sheet":"Eleme","index":5,"n_rows":769,"n_cols":107,"rows_kept":769,"cut":false,"hidden":true,"merged":[[189,26,189,32],[190,12,190,18],[191,5,191,11],[192,5,192,11],[192,19,192,25],[0,0,0,32],[1,0,1,32],[187,12,187,18],[188,5,188,11],[189,5,189,11],[182,5,182,11],[183,5,183,11],[184,12,184,18],[185,5,185,11],[169,12,169,18],[170,5,170,11],[164,5,164,11],[165,5,165,11],[165,26,165,32],[166,12,166,18],[167,5,167,11],[177,26,177,32],[171,5,171,11],[172,12,172,18],[193,12,193,18],[194,5,194,11],[185,19,185,25],[179,5,179,11],[180,5,180,11],[180,19,180,25],[181,12,181,18],[175,12,175,18],[176,5,176,11],[177,5,177,11],[186,5,186,11],[178,12,178,18],[173,5,173,11],[173,19,173,25],[174,5,174,11],[161,5,161,11],[161,19,161,25],[162,5,162,11],[163,12,163,18],[157,12,157,18],[158,5,158,11],[159,5,159,11],[160,12,160,18],[168,5,168,11],[168,19,168,25],[153,26,153,32],[154,12,154,18],[155,5,155,11],[156,5,156,11],[156,19,156,25],[150,5,150,11],[151,12,151,18],[152,5,152,11],[153,5,153,11],[146,5,146,11],[147,5,147,11],[148,12,148,18],[149,5,149,11],[149,19,149,25],[143,5,143,11],[144,5,144,11],[144,19,144,25],[145,12,145,18],[129,26,129,32],[130,12,130,18],[131,5,131,11],[139,12,139,18],[140,5,140,11],[141,5,141,11],[141,26,141,32],[142,12,142,18],[135,5,135,11],[136,12,136,18],[137,5,137,11],[137,19,137,25],[138,5,138,11],[127,12,127,18],[121,12,121,18],[122,5,122,11],[123,5,123,11],[124,12,124,18],[132,5,132,11],[132,19,132,25],[133,12,133,18],[134,5,134,11],[128,5,128,11],[129,5,129,11],[120,5,120,11],[120,19,120,25],[114,5,114,11],[115,12,115,18],[116,5,116,11],[117,5,117,11],[125,5,125,11],[125,19,125,25],[126,5,126,11],[113,5,113,11],[113,19,113,25],[107,5,107,11],[108,5,108,11],[108,19,108,25],[109,12,109,18],[117,26,117,32],[118,12,118,18],[119,5,119,11],[106,12,106,18],[99,5,99,11],[100,12,100,18],[101,5,101,11],[101,19,101,25],[102,5,102,11],[110,5,110,11],[111,5,111,11],[112,12,112,18],[98,5,98,11],[92,5,92,11],[93,5,93,11],[93,26,93,32],[94,12,94,18],[95,5,95,11],[103,12,103,18],[104,5,104,11],[105,5,105,11],[105,26,105,32],[90,5,90,11],[91,12,91,18],[85,12,85,18],[86,5,86,11],[87,5,87,11],[88,12,88,18],[96,5,96,11],[96,19,96,25],[97,12,97,18],[82,12,82,18],[83,5,83,11],[84,5,84,11],[84,19,84,25],[78,5,78,11],[79,12,79,18],[80,5,80,11],[81,5,81,11],[89,5,89,11],[89,19,89,25],[75,5,75,11],[76,12,76,18],[77,5,77,11],[77,19,77,25],[71,5,71,11],[72,5,72,11],[72,19,72,25],[73,12,73,18],[81,26,81,32],[69,5,69,11],[69,26,69,32],[70,12,70,18],[63,5,63,11],[64,12,64,18],[65,5,65,11],[65,19,65,25],[66,5,66,11],[74,5,74,11],[61,12,61,18],[62,5,62,11],[56,5,56,11],[57,5,57,11],[57,26,57,32],[58,12,58,18],[59,5,59,11],[67,12,67,18],[68,5,68,11],[53,5,53,11],[53,19,53,25],[54,5,54,11],[55,12,55,18],[49,12,49,18],[50,5,50,11],[51,5,51,11],[52,12,52,18],[60,5,60,11],[60,19,60,25],[45,26,45,32],[46,12,46,18],[47,5,47,11],[48,5,48,11],[48,19,48,25],[42,5,42,11],[43,12,43,18],[44,5,44,11],[45,5,45,11],[38,5,38,11],[39,5,39,11],[40,12,40,18],[41,5,41,11],[41,19,41,25],[35,5,35,11],[36,5,36,11],[36,19,36,25],[37,12,37,18],[32,5,32,11],[33,5,33,11],[33,26,33,32],[34,12,34,18],[27,5,27,11],[28,12,28,18],[29,5,29,11],[29,19,29,25],[30,5,30,11],[24,19,24,25],[25,12,25,18],[26,5,26,11],[20,5,20,11],[21,5,21,11],[21,26,21,32],[22,12,22,18],[23,5,23,11],[31,12,31,18],[3,5,3,11],[4,12,4,18],[5,5,5,11],[9,5,9,11],[9,26,9,32],[10,12,10,18],[11,5,11,11],[195,5,195,11],[197,5,197,11],[12,5,12,11],[12,19,12,25],[5,19,5,25],[6,5,6,11],[7,12,7,18],[8,5,8,11],[17,5,17,11],[17,19,17,25],[18,5,18,11],[19,12,19,18],[13,12,13,18],[14,5,14,11],[15,5,15,11],[16,12,16,18],[24,5,24,11],[198,5,198,11],[200,5,200,11],[201,5,201,11],[203,5,203,11],[204,5,204,11],[206,5,206,11],[207,5,207,11],[209,5,209,11],[210,5,210,11],[212,5,212,11],[213,5,213,11],[215,5,215,11],[216,5,216,11],[218,5,218,11],[219,5,219,11],[221,5,221,11],[222,5,222,11],[224,5,224,11],[225,5,225,11],[227,5,227,11],[228,5,228,11],[230,5,230,11],[231,5,231,11],[233,5,233,11],[234,5,234,11],[236,5,236,11],[237,5,237,11],[239,5,239,11],[240,5,240,11],[242,5,242,11],[243,5,243,11],[245,5,245,11],[246,5,246,11],[248,5,248,11],[249,5,249,11],[251,5,251,11],[252,5,252,11],[254,5,254,11],[255,5,255,11],[257,5,257,11],[258,5,258,11],[260,5,260,11],[261,5,261,11],[263,5,263,11],[264,5,264,11],[266,5,266,11],[267,5,267,11],[269,5,269,11],[270,5,270,11],[272,5,272,11],[273,5,273,11],[275,5,275,11],[276,5,276,11],[278,5,278,11],[279,5,279,11],[281,5,281,11],[282,5,282,11],[284,5,284,11],[285,5,285,11],[287,5,287,11],[288,5,288,11],[290,5,290,11],[291,5,291,11],[293,5,293,11],[294,5,294,11],[296,5,296,11],[297,5,297,11],[299,5,299,11],[300,5,300,11],[302,5,302,11],[303,5,303,11],[305,5,305,11],[306,5,306,11],[308,5,308,11],[309,5,309,11],[311,5,311,11],[312,5,312,11],[314,5,314,11],[315,5,315,11],[317,5,317,11],[318,5,318,11],[320,5,320,11],[321,5,321,11],[323,5,323,11],[324,5,324,11],[326,5,326,11],[327,5,327,11],[329,5,329,11],[330,5,330,11],[332,5,332,11],[333,5,333,11],[335,5,335,11],[336,5,336,11],[338,5,338,11],[339,5,339,11],[341,5,341,11],[342,5,342,11],[359,5,359,11],[360,5,360,11],[368,5,368,11],[369,5,369,11],[344,5,344,11],[345,5,345,11],[347,5,347,11],[348,5,348,11],[350,5,350,11],[351,5,351,11],[353,5,353,11],[354,5,354,11],[356,5,356,11],[201,26,201,32],[202,12,202,18],[204,19,204,25],[205,12,205,18],[208,12,208,18],[209,19,209,25],[211,12,211,18],[213,26,213,32],[214,12,214,18],[216,19,216,25],[217,12,217,18],[220,12,220,18],[221,19,221,25],[223,12,223,18],[384,5,384,11],[386,5,386,11],[196,12,196,18],[197,19,197,25],[199,12,199,18],[371,5,371,11],[372,5,372,11],[374,5,374,11],[375,5,375,11],[377,5,377,11],[378,5,378,11],[380,5,380,11],[381,5,381,11],[383,5,383,11],[357,5,357,11],[362,5,362,11],[363,5,363,11],[365,5,365,11],[366,5,366,11],[249,26,249,32],[233,19,233,25],[235,12,235,18],[237,26,237,32],[238,12,238,18],[240,19,240,25],[225,26,225,32],[226,12,226,18],[228,19,228,25],[229,12,229,18],[232,12,232,18],[250,12,250,18],[252,19,252,25],[253,12,253,18],[256,12,256,18],[257,19,257,25],[241,12,241,18],[244,12,244,18],[245,19,245,25],[247,12,247,18],[268,12,268,18],[269,19,269,25],[271,12,271,18],[273,26,273,32],[274,12,274,18],[259,12,259,18],[261,26,261,32],[262,12,262,18],[264,19,264,25],[265,12,265,18],[285,26,285,32],[286,12,286,18],[288,19,288,25],[289,12,289,18],[292,12,292,18],[276,19,276,25],[277,12,277,18],[280,12,280,18],[281,19,281,25],[283,12,283,18],[301,12,301,18],[304,12,304,18],[305,19,305,25],[307,12,307,18],[309,26,309,32],[293,19,293,25],[295,12,295,18],[297,26,297,32],[298,12,298,18],[300,19,300,25],[319,12,319,18],[321,26,321,32],[322,12,322,18],[324,19,324,25],[325,12,325,18],[310,12,310,18],[312,19,312,25],[313,12,313,18],[316,12,316,18],[317,19,317,25],[336,19,336,25],[337,12,337,18],[340,12,340,18],[341,19,341,25],[343,12,343,18],[328,12,328,18],[329,19,329,25],[331,12,331,18],[333,26,333,32],[334,12,334,18],[367,12,367,18],[369,26,369,32],[353,19,353,25],[355,12,355,18],[357,26,357,32],[358,12,358,18],[360,19,360,25],[345,26,345,32],[346,12,346,18],[348,19,348,25],[349,12,349,18],[352,12,352,18],[2,65,2,66],[2,67,2,68],[2,69,2,70],[2,71,2,72],[2,73,2,74],[2,75,2,76],[27,40,27,46],[375,33,375,39],[87,33,87,39],[111,33,111,39],[135,33,135,39],[159,33,159,39],[183,33,183,39],[207,33,207,39],[231,33,231,39],[255,33,255,39],[279,33,279,39],[303,33,303,39],[327,33,327,39],[351,33,351,39],[75,40,75,46],[123,40,123,46],[171,40,171,46],[219,40,219,46],[389,5,389,11],[390,12,390,18],[391,5,391,11],[391,19,391,25],[392,5,392,11],[393,12,393,18],[394,5,394,11],[395,5,395,11],[15,33,15,39],[39,33,39,39],[63,33,63,39],[379,12,379,18],[381,26,381,32],[382,12,382,18],[384,19,384,25],[385,12,385,18],[370,12,370,18],[372,19,372,25],[373,12,373,18],[376,12,376,18],[377,19,377,25],[361,12,361,18],[364,12,364,18],[365,19,365,25],[395,26,395,32],[396,12,396,18],[397,5,397,11],[398,5,398,11],[398,19,398,25],[399,12,399,18],[400,5,400,11],[401,5,401,11],[401,33,401,39],[402,12,402,18],[403,5,403,11],[403,19,403,25],[404,5,404,11],[405,12,405,18],[406,5,406,11],[407,5,407,11],[407,26,407,32],[408,12,408,18],[409,5,409,11],[410,5,410,11],[410,19,410,25],[411,12,411,18],[412,5,412,11],[413,5,413,11],[414,12,414,18],[415,5,415,11],[415,19,415,25],[416,5,416,11],[417,12,417,18],[418,5,418,11],[419,5,419,11],[419,26,419,32],[420,12,420,18],[421,5,421,11],[422,5,422,11],[422,19,422,25],[423,12,423,18],[424,5,424,11],[425,5,425,11],[425,33,425,39],[426,12,426,18],[427,5,427,11],[427,19,427,25],[428,5,428,11],[429,12,429,18],[430,5,430,11],[431,5,431,11],[431,26,431,32],[432,12,432,18],[433,5,433,11],[434,5,434,11],[434,19,434,25],[435,12,435,18],[436,5,436,11],[437,5,437,11],[438,12,438,18],[439,5,439,11],[439,19,439,25],[440,5,440,11],[441,12,441,18],[442,5,442,11],[443,5,443,11],[443,26,443,32],[444,12,444,18],[445,5,445,11],[446,5,446,11],[446,19,446,25],[447,12,447,18],[448,5,448,11],[449,5,449,11],[449,33,449,39],[450,12,450,18],[451,5,451,11],[451,19,451,25],[452,5,452,11],[453,12,453,18],[454,5,454,11],[455,5,455,11],[455,26,455,32],[456,12,456,18],[457,5,457,11],[458,5,458,11],[458,19,458,25],[459,12,459,18],[460,5,460,11],[461,5,461,11],[462,12,462,18],[463,5,463,11],[463,19,463,25],[464,5,464,11],[465,12,465,18],[466,5,466,11],[467,5,467,11],[467,26,467,32],[468,12,468,18],[469,5,469,11],[470,5,470,11],[470,19,470,25],[471,12,471,18],[472,5,472,11],[473,5,473,11],[473,33,473,39],[474,12,474,18],[475,5,475,11],[475,19,475,25],[476,5,476,11],[477,12,477,18],[478,5,478,11],[479,5,479,11],[479,26,479,32],[480,12,480,18],[481,5,481,11],[482,5,482,11],[482,19,482,25],[483,12,483,18],[484,5,484,11],[485,5,485,11],[486,12,486,18],[487,5,487,11],[487,19,487,25],[488,5,488,11],[489,12,489,18],[490,5,490,11],[491,5,491,11],[491,26,491,32],[492,12,492,18],[493,5,493,11],[494,5,494,11],[494,19,494,25],[495,12,495,18],[496,5,496,11],[497,5,497,11],[497,33,497,39],[498,12,498,18],[499,5,499,11],[499,19,499,25],[500,5,500,11],[501,12,501,18],[502,5,502,11],[503,5,503,11],[503,26,503,32],[504,12,504,18],[505,5,505,11],[506,5,506,11],[506,19,506,25],[507,12,507,18],[508,5,508,11],[509,5,509,11],[510,12,510,18],[511,5,511,11],[511,19,511,25],[512,5,512,11],[513,12,513,18],[514,5,514,11],[515,5,515,11],[515,26,515,32],[516,12,516,18],[517,5,517,11],[518,5,518,11],[518,19,518,25],[519,12,519,18],[520,5,520,11],[521,5,521,11],[521,33,521,39],[522,12,522,18],[523,5,523,11],[523,19,523,25],[524,5,524,11],[525,12,525,18],[526,5,526,11],[527,5,527,11],[527,26,527,32],[528,12,528,18],[529,5,529,11],[530,5,530,11],[530,19,530,25],[531,12,531,18],[532,5,532,11],[533,5,533,11],[534,12,534,18],[535,5,535,11],[535,19,535,25],[536,5,536,11],[537,12,537,18],[538,5,538,11],[539,5,539,11],[539,26,539,32],[540,12,540,18],[541,5,541,11],[542,5,542,11],[542,19,542,25],[543,12,543,18],[544,5,544,11],[545,5,545,11],[545,33,545,39],[546,12,546,18],[547,5,547,11],[547,19,547,25],[548,5,548,11],[549,12,549,18],[550,5,550,11],[551,5,551,11],[551,26,551,32],[552,12,552,18],[553,5,553,11],[554,5,554,11],[554,19,554,25],[555,12,555,18],[556,5,556,11],[569,33,569,39],[570,12,570,18],[557,5,557,11],[558,12,558,18],[559,5,559,11],[559,19,559,25],[560,5,560,11],[561,12,561,18],[562,5,562,11],[563,5,563,11],[563,26,563,32],[575,26,575,32],[576,12,576,18],[577,5,577,11],[564,12,564,18],[565,5,565,11],[566,5,566,11],[566,19,566,25],[567,12,567,18],[568,5,568,11],[569,5,569,11],[578,5,578,11],[578,19,578,25],[579,12,579,18],[580,5,580,11],[571,5,571,11],[571,19,571,25],[572,5,572,11],[573,12,573,18],[574,5,574,11],[575,5,575,11],[607,5,607,11],[610,5,610,11],[609,5,609,11],[609,19,609,25],[611,12,611,18],[612,5,612,11],[601,5,601,11],[604,5,604,11],[601,26,601,32],[603,5,603,11],[604,19,604,25],[605,12,605,18],[606,5,606,11],[608,12,608,18],[620,12,620,18],[621,5,621,11],[621,19,621,25],[623,12,623,18],[624,5,624,11],[625,26,625,32],[626,12,626,18],[613,5,613,11],[616,5,616,11],[619,5,619,11],[613,26,613,32],[614,12,614,18],[615,5,615,11],[616,19,616,25],[617,12,617,18],[618,5,618,11],[627,5,627,11],[628,19,628,25],[629,12,629,18],[630,5,630,11],[632,12,632,18],[633,5,633,11],[633,19,633,25],[622,5,622,11],[625,5,625,11],[637,5,637,11],[640,5,640,11],[635,12,635,18],[636,5,636,11],[637,26,637,32],[638,12,638,18],[639,5,639,11],[640,19,640,25],[628,5,628,11],[631,5,631,11],[634,5,634,11],[648,5,648,11],[643,5,643,11],[646,5,646,11],[641,12,641,18],[642,5,642,11],[644,12,644,18],[645,5,645,11],[645,19,645,25],[647,12,647,18],[658,5,658,11],[661,5,661,11],[659,12,659,18],[660,5,660,11],[661,26,661,32],[662,12,662,18],[649,5,649,11],[652,5,652,11],[655,5,655,11],[664,5,664,11],[667,5,667,11],[663,5,663,11],[664,19,664,25],[665,12,665,18],[666,5,666,11],[668,12,668,18],[669,5,669,11],[669,19,669,25],[670,5,670,11],[673,5,673,11],[676,5,676,11],[671,12,671,18],[672,5,672,11],[673,26,673,32],[674,12,674,18],[675,5,675,11],[676,19,676,25],[684,5,684,11],[687,5,687,11],[690,5,690,11],[685,12,685,18],[688,12,688,18],[690,19,690,25],[683,5,683,11],[677,12,677,18],[678,5,678,11],[681,5,681,11],[682,12,682,18],[683,19,683,25],[704,5,704,11],[702,5,702,11],[700,12,700,18],[702,19,702,25],[703,12,703,18],[692,5,692,11],[695,5,695,11],[686,5,686,11],[689,5,689,11],[751,5,751,11],[752,5,752,11],[753,12,753,18],[754,5,754,11],[740,5,740,11],[741,12,741,18],[742,5,742,11],[743,5,743,11],[744,12,744,18],[745,5,745,11],[746,5,746,11],[747,12,747,18],[748,5,748,11],[749,5,749,11],[750,12,750,18],[733,5,733,11],[734,5,734,11],[735,12,735,18],[736,5,736,11],[737,5,737,11],[738,12,738,18],[739,5,739,11],[728,5,728,11],[731,5,731,11],[732,12,732,18],[727,12,727,18],[719,5,719,11],[722,5,722,11],[592,19,592,25],[593,12,593,18],[594,5,594,11],[596,12,596,18],[597,5,597,11],[597,19,597,25],[599,12,599,18],[600,5,600,11],[602,12,602,18],[592,5,592,11],[595,5,595,11],[598,5,598,11],[725,5,725,11],[720,5,720,11],[723,5,723,11],[719,19,719,25],[721,12,721,18],[724,12,724,18],[713,5,713,11],[716,5,716,11],[714,5,714,11],[588,5,588,11],[589,26,589,32],[590,12,590,18],[583,5,583,11],[591,5,591,11],[586,5,586,11],[589,5,589,11],[726,5,726,11],[726,19,726,25],[717,5,717,11],[712,12,712,18],[714,19,714,25],[715,12,715,18],[718,12,718,18],[707,5,707,11],[710,5,710,11],[705,5,705,11],[708,5,708,11],[711,5,711,11],[706,12,706,18],[707,19,707,25],[709,12,709,18],[698,5,698,11],[701,5,701,11],[267,40,267,46],[315,40,315,46],[363,40,363,46],[733,19,733,25],[693,5,693,11],[696,5,696,11],[699,5,699,11],[691,12,691,18],[694,12,694,18],[695,19,695,25],[697,12,697,18],[649,26,649,32],[650,12,650,18],[651,5,651,11],[652,19,652,25],[653,12,653,18],[654,5,654,11],[656,12,656,18],[657,5,657,11],[657,19,657,25],[584,12,584,18],[585,5,585,11],[585,19,585,25],[587,12,587,18],[765,5,765,11],[766,5,766,11],[767,12,767,18],[768,5,768,11],[757,5,757,11],[758,12,758,18],[759,5,759,11],[759,19,759,25],[760,5,760,11],[761,12,761,18],[762,5,762,11],[763,5,763,11],[764,12,764,18]]}
[{"$f":"Katılım!AC1","v":"TÜRKİYE MASA TENİSİ FEDERASYONU                                                                                                                                                                                                     İsmail Eren ALICI Küçükler Ferdi-Takım Türkiye Şampiyonası  "},null,null,null,null,null,null,null,null,null,null,null,null,null,null,null,null,null,null,null,null,null,null,null,null,null,null,null,null,null,null,null,null,null,null,null,null,null,null,null,null,null,null,null,null,null,null,null,null,null,null,null,null,null,null,null,null,null,null,null,null,null,null,null,null,null,null,null,null,null,null,null,null,null,null,null,null,null,null,null,null,null,null,null,"1st Round",1]
[{"$f":"Katılım!AC2&\" \"&Katılım!AD3","v":"KIZ TAKIM  [09-13 Nisan 2025 ÇORUM] [ Eleme ]"},null,null,null,null,null,null,null,null,null,null,null,null,null,null,null,null,null,null,null,null,null,null,null,null,null,null,null,null,null,null,null,null,null,null,null,null,null,null,null,null,null,null,null,null,null,null,null,null,null,null,null,null,null,null,null,null,null,null,null,null,null,null,null,null,null,null,null,null,null,null,null,null,null,null,null,null,null,null,null,null,null,null,null,"2sn Round"]
["Y","S","B","Q","#",null,null,null,null,null,null,null,null,null,null,null,null,null,null,null,null,null,null,null,null,null,null,null,null,null,null,null,null,null,null,null,null,null,null,null,null,null,null,null,null,null,null,null,null,null,null,null,null,null,null,null,null,null,"#","Date","Time","Table","Competition","Player A","Player B","Set1",null,"Set2",null,"Set3",null,"Set4",null,"Set5",null,"Result",null,null,null,null,null,null,null,null,"3th Round"]
[1,1,null,null,1,{"$f":"IF(Main!$Q$2=3,VLOOKUP(E4,Katılım!$A$4:$Z$55,26,0),#REF!)","v":{"$error":"#REF!"}},null,null,null,null,null,null,null,null,null,null,null,null,null,null,null,null,null,null,null,null,null,null,null,null,null,null,null,null,null,null,null,null,null,null,null,null,null,null,null,null,null,null,null,null,null,null,null,null,null,null,null,null,1,null,null,null,null,{"$f":"F4","v":{"$error":"#REF!"}},{"$f":"F6","v":{"$error":"#REF!"}},null,null,null,null,null,null,null,null,null,null,null,null,null,null,null,null,null,null,null,"4th Round"]
[null,null,null,null,null,null,null,{"$f":"BX4","v":0},{"$f":"BY4","v":0},null,null,1,{"$f":"IF(AND(H5=0,I5=0),\"\",IF(H5>I5,F4,F6))","v":""},null,null,null,null,null,null,null,null,null,null,null,null,null,null,null,null,null,null,null,null,null,null,null,null,null,null,null,null,null,null,null,null,null,null,null,null,null,null,null,null,null,null,null,null,null,2,null,null,null,null,{"$f":"F7","v":{"$error":"#REF!"}},{"$f":"F9","v":{"$error":"#REF!"}},null,null,null,null,null,null,null,null,null,null,null,null,null,null,null,null,null,null,null,"5th Round",null,null,null,null,null,null,"Ön eleme müsabakasını kazanan…"]
[2,129,999,"",256,{"$f":"IF(Main!$Q$2=3,VLOOKUP(E6,Katılım!$A$4:$Z$55,26,0),#REF!)","v":{"$error":"#REF!"}},null,null,null,null,null,null,null,null,null,null,null,null,{"$f":"IF(Main!R2=2,129,IF(Main!R2=3,65,IF(Main!R2=4,33,IF(Main!R2=5,17,IF(Main!R2=6,9,IF(Main!R2=7,5))))))","v":5},{"$f":"IF(AND(O7=0,P7=0),\"\",IF(O7>P7,M5,M8))","v":""},null,null,null,null,null,null,null,null,null,null,null,null,null,null,null,null,null,null,null,null,null,null,null,null,null,null,null,null,null,null,null,null,null,null,null,null,null,null,3,null,null,null,null,{"$f":"F10","v":{"$error":"#REF!"}},{"$f":"F12","v":{"$error":"#REF!"}},null,null,null,null,null,null,null,null,null,null,null,null,null,null,null,null,null,null,null,"6th Round",null,null,null,null,null,null,"E1",{"$f":"VLOOKUP(On_Eleme!$G$5,CHOOSE({3,2,1},On_Eleme!$C$5:$C$200,On_Eleme!$D$5:$D$200,On_Eleme!$E$5:$E$200),3,0)","v":{"$error":"#N/A"}},"E9",{"$f":"VLOOKUP(On_Eleme!$G$29,CHOOSE({3,2,1},On_Eleme!$C$5:$C$200,On_Eleme!$D$5:$D$200,On_Eleme!$E$5:$E$200),3,0)","v":{"$error":"#N/A"}},"E17",{"$f":"VLOOKUP(On_Eleme!$G$53,CHOOSE({3,2,1},On_Eleme!$C$5:$C$200,On_Eleme!$D$5:$D$200,On_Eleme!$E$5:$E$200),3,0)","v":{"$error":"#N/A"}},"E25",{"$f":"VLOOKUP(On_Eleme!$G$77,CHOOSE({3,2,1},On_Eleme!$C$5:$C$200,On_Eleme!$D$5:$D$200,On_Eleme!$E$5:$E$200),3,0)","v":{"$error":"#N/A"}},"E33",{"$f":"VLOOKUP(On_Eleme!$G$101,CHOOSE({3,2,1},On_Eleme!$C$5:$C$200,On_Eleme!$D$5:$D$200,On_Eleme!$E$5:$E$200),3,0)","v":{"$error":"#N/A"}},"E41",{"$f":"VLOOKUP(On_Eleme!$G$125,CHOOSE({3,2,1},On_Eleme!$C$5:$C$200,On_Eleme!$D$5:$D$200,On_Eleme!$E$5:$E$200),3,0)","v":{"$error":"#N/A"}},"E49",{"$f":"VLOOKUP(On_Eleme!$G$149,CHOOSE({3,2,1},On_Eleme!$C$5:$C$200,On_Eleme!$D$5:$D$200,On_Eleme!$E$5:$E$200),3,0)","v":{"$error":"#N/A"}},"E57",{"$f":"VLOOKUP(On_Eleme!$G$173,CHOOSE({3,2,1},On_Eleme!$C$5:$C$200,On_Eleme!$D$5:$D$200,On_Eleme!$E$5:$E$200),3,0)","v":{"$error":"#N/A"}}]
[3,129,999,"",128,{"$f":"IF(Main!$Q$2=3,VLOOKUP(E7,Katılım!$A$4:$Z$55,26,0),#REF!)","v":{"$error":"#REF!"}},null,null,null,null,null,null,null,null,{"$f":"BX132","v":0},{"$f":"BY132","v":0},null,null,null,null,null,null,null,null,null,{"$f":"IF(Main!R2=2,193,IF(Main!R2=3,97,IF(Main!R2=4,49,IF(Main!R2=5,25,IF(Main!R2=6,13,IF(Main!R2=7,7))))))","v":7},null,null,null,null,null,null,null,null,null,null,null,null,null,null,null,null,null,null,null,null,null,null,null,null,null,null,null,null,null,null,null,null,4,null,null,null,null,{"$f":"F13","v":{"$error":"#REF!"}},{"$f":"F15","v":{"$error":"#REF!"}},null,null,null,null,null,null,null,null,null,null,null,null,null,null,null,null,null,null,null,null,null,null,null,null,null,null,"E2",{"$f":"VLOOKUP(On_Eleme!$G$8,CHOOSE({3,2,1},On_Eleme!$C$5:$C$200,On_Eleme!$D$5:$D$200,On_Eleme!$E$5:$E$200),3,0)","v":{"$error":"#N/A"}},"E10",{"$f":"VLOOKUP(On_Eleme!$G$32,CHOOSE({3,2,1},On_Eleme!$C$5:$C$200,On_Eleme!$D$5:$D$200,On_Eleme!$E$5:$E$200),3,0)","v":{"$error":"#N/A"}},"E18",{"$f":"VLOOKUP(On_Eleme!$G$56,CHOOSE({3,2,1},On_Eleme!$C$5:$C$200,On_Eleme!$D$5:$D$200,On_Eleme!$E$5:$E$200),3,0)","v":{"$error":"#N/A"}},"E26",{"$f":"VLOOKUP(On_Eleme!$G$80,CHOOSE({3,2,1},On_Eleme!$C$5:$C$200,On_Eleme!$D$5:$D$200,On_Eleme!$E$5:$E$200),3,0)","v":{"$error":"#N/A"}},"E34",{"$f":"VLOOKUP(On_Eleme!$G$104,CHOOSE({3,2,1},On_Eleme!$C$5:$C$200,On_Eleme!$D$5:$D$200,On_Eleme!$E$5:$E$200),3,0)","v":{"$error":"#N/A"}},"E42",{"$f":"VLOOKUP(On_Eleme!$G$128,CHOOSE({3,2,1},On_Eleme!$C$5:$C$200,On_Eleme!$D$5:$D$200,On_Eleme!$E$5:$E$200),3,0)","v":{"$error":"#N/A"}},"E50",{"$f":"VLOOKUP(On_Eleme!$G$152,CHOOSE({3,2,1},On_Eleme!$C$5:$C$200,On_Eleme!$D$5:$D$200,On_Eleme!$E$5:$E$200),3,0)","v":{"$error":"#N/A"}},"E58",{"$f":"VLOOKUP(On_Eleme!$G$176,CHOOSE({3,2,1},On_Eleme!$C$5:$C$200,On_Eleme!$D$5:$D$200,On_Eleme!$E$5:$E$200),3,0)","v":{"$error":"#N/A"}}]
[null,null,null,"",null,null,null,{"$f":"BX5","v":0},{"$f":"BY5","v":0},null,null,2,{"$f":"IF(AND(H8=0,I8=0),\"\",IF(H8>I8,F7,F9))","v":""},null,null,null,null,null,null,null,null,null,null,null,null,null,null,null,null,null,null,null,null,null,null,null,null,null,null,null,null,null,null,null,null,null,null,null,null,null,null,null,null,null,null,null,null,null,5,null,null,null,null,{"$f":"F16","v":{"$error":"#REF!"}},{"$f":"F18","v":{"$error":"#REF!"}},null,null,null,null,null,null,null,null,null,null,null,null,null,null,null,null,null,null,null,null,null,null,null,null,null,null,"E3",{"$f":"VLOOKUP(On_Eleme!$G$11,CHOOSE({3,2,1},On_Eleme!$C$5:$C$200,On_Eleme!$D$5:$D$200,On_Eleme!$E$5:$E$200),3,0)","v":{"$error":"#N/A"}},"E11",{"$f":"VLOOKUP(On_Eleme!$G$35,CHOOSE({3,2,1},On_Eleme!$C$5:$C$200,On_Eleme!$D$5:$D$200,On_Eleme!$E$5:$E$200),3,0)","v":{"$error":"#N/A"}},"E19",{"$f":"VLOOKUP(On_Eleme!$G$59,CHOOSE({3,2,1},On_Eleme!$C$5:$C$200,On_Eleme!$D$5:$D$200,On_Eleme!$E$5:$E$200),3,0)","v":{"$error":"#N/A"}},"E27",{"$f":"VLOOKUP(On_Eleme!$G$83,CHOOSE({3,2,1},On_Eleme!$C$5:$C$200,On_Eleme!$D$5:$D$200,On_Eleme!$E$5:$E$200),3,0)","v":{"$error":"#N/A"}},"E35",{"$f":"VLOOKUP(On_Eleme!$G$107,CHOOSE({3,2,1},On_Eleme!$C$5:$C$200,On_Eleme!$D$5:$D$200,On_Eleme!$E$5:$E$200),3,0)","v":{"$error":"#N/A"}},"E43",{"$f":"VLOOKUP(On_Eleme!$G$131,CHOOSE({3,2,1},On_Eleme!$C$5:$C$200,On_Eleme!$D$5:$D$200,On_Eleme!$E$5:$E$200),3,0)","v":{"$error":"#N/A"}},"E51",{"$f":"VLOOKUP(On_Eleme!$G$155,CHOOSE({3,2,1},On_Eleme!$C$5:$C$200,On_Eleme!$D$5:$D$200,On_Eleme!$E$5:$E$200),3,0)","v":{"$error":"#N/A"}},"E59",{"$f":"VLOOKUP(On_Eleme!$G$179,CHOOSE({3,2,1},On_Eleme!$C$5:$C$200,On_Eleme!$D$5:$D$200,On_Eleme!$E$5:$E$200),3,0)","v":{"$error":"#N/A"}}]
[4,65,999,"",129,{"$f":"IF(Main!$Q$2=3,VLOOKUP(E9,Katılım!$A$4:$Z$55,26,0),#REF!)","v":{"$error":"#REF!"}},null,null,null,null,null,null,null,null,null,null,null,null,null,null,null,null,null,null,null,null,null,null,null,null,null,null,null,null,null,null,null,null,null,null,null,null,null,null,null,null,null,null,null,null,null,null,null,null,null,null,null,null,6,null,null,null,null,{"$f":"F19","v":{"$error":"#REF!"}},{"$f":"F21","v":{"$error":"#REF!"}},null,null,null,null,null,null,null,null,null,null,null,null,null,null,null,null,null,null,null,null,null,null,null,null,null,null,"E4",{"$f":"VLOOKUP(On_Eleme!$G$14,CHOOSE({3,2,1},On_Eleme!$C$5:$C$200,On_Eleme!$D$5:$D$200,On_Eleme!$E$5:$E$200),3,0)","v":{"$error":"#N/A"}},"E12",{"$f":"VLOOKUP(On_Eleme!$G$38,CHOOSE({3,2,1},On_Eleme!$C$5:$C$200,On_Eleme!$D$5:$D$200,On_Eleme!$E$5:$E$200),3,0)","v":{"$error":"#N/A"}},"E20",{"$f":"VLOOKUP(On_Eleme!$G$62,CHOOSE({3,2,1},On_Eleme!$C$5:$C$200,On_Eleme!$D$5:$D$200,On_Eleme!$E$5:$E$200),3,0)","v":{"$error":"#N/A"}},"E28",{"$f":"VLOOKUP(On_Eleme!$G$86,CHOOSE({3,2,1},On_Eleme!$C$5:$C$200,On_Eleme!$D$5:$D$200,On_Eleme!$E$5:$E$200),3,0)","v":{"$error":"#N/A"}},"E36",{"$f":"VLOOKUP(On_Eleme!$G$110,CHOOSE({3,2,1},On_Eleme!$C$5:$C$200,On_Eleme!$D$5:$D$200,On_Eleme!$E$5:$E$200),3,0)","v":{"$error":"#N/A"}},"E44",{"$f":"VLOOKUP(On_Eleme!$G$134,CHOOSE({3,2,1},On_Eleme!$C$5:$C$200,On_Eleme!$D$5:$D$200,On_Eleme!$E$5:$E$200),3,0)","v":{"$error":"#N/A"}},"E52",{"$f":"VLOOKUP(On_Eleme!$G$158,CHOOSE({3,2,1},On_Eleme!$C$5:$C$200,On_Eleme!$D$5:$D$200,On_Eleme!$E$5:$E$200),3,0)","v":{"$error":"#N/A"}},"E60",{"$f":"VLOOKUP(On_Eleme!$G$182,CHOOSE({3,2,1},On_Eleme!$C$5:$C$200,On_Eleme!$D$5:$D$200,On_Eleme!$E$5:$E$200),3,0)","v":{"$error":"#N/A"}}]
[5,65,999,"",65,{"$f":"IF(Main!$Q$2=3,VLOOKUP(E10,Katılım!$A$4:$Z$55,26,0),#REF!)","v":{"$error":"#REF!"}},null,null,null,null,null,null,null,null,null,null,null,null,null,null,null,{"$f":"BX196","v":0},{"$f":"BY196","v":0},null,null,null,{"$f":"IF(AND(V10=0,W10=0),\"\",IF(V10>W10,T6,T13))","v":""},null,null,null,null,null,null,null,null,null,null,null,null,null,null,null,null,null,null,null,null,null,null,null,null,null,null,null,null,null,null,null,7,null,null,null,null,{"$f":"F22","v":{"$error":"#REF!"}},{"$f":"F24","v":{"$error":"#REF!"}},null,null,null,null,null,null,null,null,null,null,null,null,null,null,null,null,null,null,null,null,null,null,null,null,null,null,"E5",{"$f":"VLOOKUP(On_Eleme!$G$17,CHOOSE({3,2,1},On_Eleme!$C$5:$C$200,On_Eleme!$D$5:$D$200,On_Eleme!$E$5:$E$200),3,0)","v":{"$error":"#N/A"}},"E13",{"$f":"VLOOKUP(On_Eleme!$G$41,CHOOSE({3,2,1},On_Eleme!$C$5:$C$200,On_Eleme!$D$5:$D$200,On_Eleme!$E$5:$E$200),3,0)","v":{"$error":"#N/A"}},"E21",{"$f":"VLOOKUP(On_Eleme!$G$65,CHOOSE({3,2,1},On_Eleme!$C$5:$C$200,On_Eleme!$D$5:$D$200,On_Eleme!$E$5:$E$200),3,0)","v":{"$error":"#N/A"}},"E29",{"$f":"VLOOKUP(On_Eleme!$G$89,CHOOSE({3,2,1},On_Eleme!$C$5:$C$200,On_Eleme!$D$5:$D$200,On_Eleme!$E$5:$E$200),3,0)","v":{"$error":"#N/A"}},"E37",{"$f":"VLOOKUP(On_Eleme!$G$113,CHOOSE({3,2,1},On_Eleme!$C$5:$C$200,On_Eleme!$D$5:$D$200,On_Eleme!$E$5:$E$200),3,0)","v":{"$error":"#N/A"}},"E45",{"$f":"VLOOKUP(On_Eleme!$G$137,CHOOSE({3,2,1},On_Eleme!$C$5:$C$200,On_Eleme!$D$5:$D$200,On_Eleme!$E$5:$E$200),3,0)","v":{"$error":"#N/A"}},"E53",{"$f":"VLOOKUP(On_Eleme!$G$161,CHOOSE({3,2,1},On_Eleme!$C$5:$C$200,On_Eleme!$D$5:$D$200,On_Eleme!$E$5:$E$200),3,0)","v":{"$error":"#N/A"}},"E61",{"$f":"VLOOKUP(On_Eleme!$G$185,CHOOSE({3,2,1},On_Eleme!$C$5:$C$200,On_Eleme!$D$5:$D$200,On_Eleme!$E$5:$E$200),3,0)","v":{"$error":"#N/A"}}]
[null,null,null,"",null,null,null,{"$f":"BX6","v":0},{"$f":"BY6","v":0},null,null,3,{"$f":"IF(AND(H11=0,I11=0),\"\",IF(H11>I11,F10,F12))","v":""},null,null,null,null,null,null,null,null,null,null,null,null,null,null,null,null,null,null,null,{"$f":"IF(Main!R2=2,225,IF(Main!R2=3,113,IF(Main!R2=4,57,IF(Main!R2=5,29,IF(Main!R2=6,15,IF(Main!R2=7,\"\"))))))","v":""},null,null,null,null,null,null,null,null,null,null,null,null,null,null,null,null,null,null,null,null,null,null,null,null,null,8,null,null,null,null,{"$f":"F25","v":{"$error":"#REF!"}},{"$f":"F27","v":{"$error":"#REF!"}},null,null,null,null,null,null,null,null,null,null,null,null,null,null,null,null,null,null,null,null,null,null,null,null,null,null,"E6",{"$f":"VLOOKUP(On_Eleme!$G$20,CHOOSE({3,2,1},On_Eleme!$C$5:$C$200,On_Eleme!$D$5:$D$200,On_Eleme!$E$5:$E$200),3,0)","v":{"$error":"#N/A"}},"E14",{"$f":"VLOOKUP(On_Eleme!$G$44,CHOOSE({3,2,1},On_Eleme!$C$5:$C$200,On_Eleme!$D$5:$D$200,On_Eleme!$E$5:$E$200),3,0)","v":{"$error":"#N/A"}},"E22",{"$f":"VLOOKUP(On_Eleme!$G$68,CHOOSE({3,2,1},On_Eleme!$C$5:$C$200,On_Eleme!$D$5:$D$200,On_Eleme!$E$5:$E$200),3,0)","v":{"$error":"#N/A"}},"E30",{"$f":"VLOOKUP(On_Eleme!$G$92,CHOOSE({3,2,1},On_Eleme!$C$5:$C$200,On_Eleme!$D$5:$D$200,On_Eleme!$E$5:$E$200),3,0)","v":{"$error":"#N/A"}},"E38",{"$f":"VLOOKUP(On_Eleme!$G$116,CHOOSE({3,2,1},On_Eleme!$C$5:$C$200,On_Eleme!$D$5:$D$200,On_Eleme!$E$5:$E$200),3,0)","v":{"$error":"#N/A"}},"E46",{"$f":"VLOOKUP(On_Eleme!$G$140,CHOOSE({3,2,1},On_Eleme!$C$5:$C$200,On_Eleme!$D$5:$D$200,On_Eleme!$E$5:$E$200),3,0)","v":{"$error":"#N/A"}},"E54",{"$f":"VLOOKUP(On_Eleme!$G$164,CHOOSE({3,2,1},On_Eleme!$C$5:$C$200,On_Eleme!$D$5:$D$200,On_Eleme!$E$5:$E$200),3,0)","v":{"$error":"#N/A"}},"E62",{"$f":"VLOOKUP(On_Eleme!$G$188,CHOOSE({3,2,1},On_Eleme!$C$5:$C$200,On_Eleme!$D$5:$D$200,On_Eleme!$E$5:$E$200),3,0)","v":{"$error":"#N/A"}}]
[6,129,999,"",192,{"$f":"IF(Main!$Q$2=3,VLOOKUP(E12,Katılım!$A$4:$Z$55,26,0),#REF!)","v":{"$error":"#REF!"}},null,null,null,null,null,null,null,null,null,null,null,null,{"$f":"+S6+1","v":6},null,null,null,null,null,null,null,null,null,null,null,null,null,null,null,null,null,null,null,null,null,null,null,null,null,null,null,null,null,null,null,null,null,null,null,null,null,null,null,9,null,null,null,null,{"$f":"F28","v":{"$error":"#REF!"}},{"$f":"F30","v":{"$error":"#REF!"}},null,null,null,null,null,null,null,null,null,null,null,null,null,null,null,null,null,null,null,null,null,null,null,null,null,null,"E7",{"$f":"VLOOKUP(On_Eleme!$G$23,CHOOSE({3,2,1},On_Eleme!$C$5:$C$200,On_Eleme!$D$5:$D$200,On_Eleme!$E$5:$E$200),3,0)","v":{"$error":"#N/A"}},"E15",{"$f":"VLOOKUP(On_Eleme!$G$47,CHOOSE({3,2,1},On_Eleme!$C$5:$C$200,On_Eleme!$D$5:$D$200,On_Eleme!$E$5:$E$200),3,0)","v":{"$error":"#N/A"}},"E23",{"$f":"VLOOKUP(On_Eleme!$G$71,CHOOSE({3,2,1},On_Eleme!$C$5:$C$200,On_Eleme!$D$5:$D$200,On_Eleme!$E$5:$E$200),3,0)","v":{"$error":"#N/A"}},"E31",{"$f":"VLOOKUP(On_Eleme!$G$95,CHOOSE({3,2,1},On_Eleme!$C$5:$C$200,On_Eleme!$D$5:$D$200,On_Eleme!$E$5:$E$200),3,0)","v":{"$error":"#N/A"}},"E39",{"$f":"VLOOKUP(On_Eleme!$G$119,CHOOSE({3,2,1},On_Eleme!$C$5:$C$200,On_Eleme!$D$5:$D$200,On_Eleme!$E$5:$E$200),3,0)","v":{"$error":"#N/A"}},"E47",{"$f":"VLOOKUP(On_Eleme!$G$143,CHOOSE({3,2,1},On_Eleme!$C$5:$C$200,On_Eleme!$D$5:$D$200,On_Eleme!$E$5:$E$200),3,0)","v":{"$error":"#N/A"}},"E55",{"$f":"VLOOKUP(On_Eleme!$G$167,CHOOSE({3,2,1},On_Eleme!$C$5:$C$200,On_Eleme!$D$5:$D$200,On_Eleme!$E$5:$E$200),3,0)","v":{"$error":"#N/A"}},"E63",{"$f":"VLOOKUP(On_Eleme!$G$191,CHOOSE({3,2,1},On_Eleme!$C$5:$C$200,On_Eleme!$D$5:$D$200,On_Eleme!$E$5:$E$200),3,0)","v":{"$error":"#N/A"}}]
[7,129,999,"",64,{"$f":"IF(Main!$Q$2=3,VLOOKUP(E13,Katılım!$A$4:$Z$55,26,0),#REF!)","v":{"$error":"#REF!"}},null,null,null,null,null,null,null,null,{"$f":"BX133","v":0},{"$f":"BY133","v":0},null,null,null,{"$f":"IF(AND(O13=0,P13=0),\"\",IF(O13>P13,M11,M14))","v":""},null,null,null,null,null,null,null,null,null,null,null,null,null,null,null,null,null,null,null,null,null,null,null,null,null,null,null,null,null,null,null,null,null,null,null,null,null,null,10,null,null,null,null,{"$f":"F31","v":{"$error":"#REF!"}},{"$f":"F33","v":{"$error":"#REF!"}},null,null,null,null,null,null,null,null,null,null,null,null,null,null,null,null,null,null,null,null,null,null,null,null,null,null,"E8",{"$f":"VLOOKUP(On_Eleme!$G$26,CHOOSE({3,2,1},On_Eleme!$C$5:$C$200,On_Eleme!$D$5:$D$200,On_Eleme!$E$5:$E$200),3,0)","v":{"$error":"#N/A"}},"E16",{"$f":"VLOOKUP(On_Eleme!$G$50,CHOOSE({3,2,1},On_Eleme!$C$5:$C$200,On_Eleme!$D$5:$D$200,On_Eleme!$E$5:$E$200),3,0)","v":{"$error":"#N/A"}},"E24",{"$f":"VLOOKUP(On_Eleme!$G$74,CHOOSE({3,2,1},On_Eleme!$C$5:$C$200,On_Eleme!$D$5:$D$200,On_Eleme!$E$5:$E$200),3,0)","v":{"$error":"#N/A"}},"E32",{"$f":"VLOOKUP(On_Eleme!$G$98,CHOOSE({3,2,1},On_Eleme!$C$5:$C$200,On_Eleme!$D$5:$D$200,On_Eleme!$E$5:$E$200),3,0)","v":{"$error":"#N/A"}},"E40",{"$f":"VLOOKUP(On_Eleme!$G$122,CHOOSE({3,2,1},On_Eleme!$C$5:$C$200,On_Eleme!$D$5:$D$200,On_Eleme!$E$5:$E$200),3,0)","v":{"$error":"#N/A"}},"E48",{"$f":"VLOOKUP(On_Eleme!$G$146,CHOOSE({3,2,1},On_Eleme!$C$5:$C$200,On_Eleme!$D$5:$D$200,On_Eleme!$E$5:$E$200),3,0)","v":{"$error":"#N/A"}},"E56",{"$f":"VLOOKUP(On_Eleme!$G$170,CHOOSE({3,2,1},On_Eleme!$C$5:$C$200,On_Eleme!$D$5:$D$200,On_Eleme!$E$5:$E$200),3,0)","v":{"$error":"#N/A"}},"E64",{"$f":"VLOOKUP(On_Eleme!$G$194,CHOOSE({3,2,1},On_Eleme!$C$5:$C$200,On_Eleme!$D$5:$D$200,On_Eleme!$E$5:$E$200),3,0)","v":{"$error":"#N/A"}}]
[null,null,null,"",null,null,null,{"$f":"BX7","v":0},{"$f":"BY7","v":0},null,null,4,{"$f":"IF(AND(H14=0,I14=0),\"\",IF(H14>I14,F13,F15))","v":""},null,null,null,null,null,null,null,null,null,null,null,null,null,null,null,null,null,null,null,null,null,null,null,null,null,null,null,null,null,null,null,null,null,null,null,null,null,null,null,null,null,null,null,null,null,11,null,null,null,null,{"$f":"F34","v":{"$error":"#REF!"}},{"$f":"F36","v":{"$error":"#REF!"}}]
[8,64,999,"",193,{"$f":"IF(Main!$Q$2=3,VLOOKUP(E15,Katılım!$A$4:$Z$55,26,0),#REF!)","v":{"$error":"#REF!"}},null,null,null,null,null,null,null,null,null,null,null,null,null,null,null,null,null,null,null,null,null,null,null,null,null,null,null,null,null,null,null,null,null,null,null,null,null,null,null,null,null,null,null,null,null,null,null,null,null,null,null,null,12,null,null,null,null,{"$f":"F37","v":{"$error":"#REF!"}},{"$f":"F39","v":{"$error":"#REF!"}}]
[9,49,null,"",33,{"$f":"IF(Main!$Q$2=3,VLOOKUP(E16,Katılım!$A$4:$Z$55,26,0),#REF!)","v":{"$error":"#REF!"}},null,null,null,null,null,null,null,null,null,null,null,null,null,null,null,null,null,null,null,null,null,null,null,{"$f":"BX228","v":0},{"$f":"BY228","v":0},null,null,{"$f":"IF(AND(AD16=0,AE16=0),\"\",IF(AD16>AE16,AA10,AA22))","v":""},null,null,null,null,null,null,null,null,null,null,null,null,null,null,null,null,null,null,null,null,null,null,null,null,13,null,null,null,null,{"$f":"F40","v":{"$error":"#REF!"}},{"$f":"F42","v":{"$error":"#REF!"}}]
[null,null,null,"",null,null,null,{"$f":"BX8","v":0},{"$f":"BY8","v":0},null,null,5,{"$f":"IF(AND(H17=0,I17=0),\"\",IF(H17>I17,F16,F18))","v":""},null,null,null,null,null,null,null,null,null,null,null,null,null,null,null,null,null,null,null,null,null,null,null,null,null,null,241,null,null,null,null,null,null,null,null,null,null,null,null,null,null,null,null,null,null,14,null,null,null,null,{"$f":"F43","v":{"$error":"#REF!"}},{"$f":"F45","v":{"$error":"#REF!"}}]
[10,129,49,"",224,{"$f":"IF(Main!$Q$2=3,VLOOKUP(E18,Katılım!$A$4:$Z$55,26,0),#REF!)","v":{"$error":"#REF!"}},null,null,null,null,null,null,null,null,null,null,null,null,{"$f":"+S12+1","v":7},{"$f":"IF(AND(O19=0,P19=0),\"\",IF(O19>P19,M17,M20))","v":""},null,null,null,null,null,null,null,null,null,null,null,null,null,null,null,null,null,null,null,null,null,null,null,null,null,null,null,null,null,null,null,null,null,null,null,null,null,null,15,null,null,null,null,{"$f":"F46","v":{"$error":"#REF!"}},{"$f":"F48","v":{"$error":"#REF!"}}]
[11,129,null,"",96,{"$f":"IF(Main!$Q$2=3,VLOOKUP(E19,Katılım!$A$4:$Z$55,26,0),#REF!)","v":{"$error":"#REF!"}},null,null,null,null,null,null,null,null,{"$f":"BX134","v":0},{"$f":"BY134","v":0},null,null,null,null,null,null,null,null,null,{"$f":"+Z7+1","v":8},null,null,null,null,null,null,null,null,null,null,null,null,null,null,null,null,null,null,null,null,null,null,null,null,null,null,null,null,null,null,null,null,16,null,null,null,null,{"$f":"F49","v":{"$error":"#REF!"}},{"$f":"F51","v":{"$error":"#REF!"}}]
[null,null,null,"",null,null,null,{"$f":"BX9","v":0},{"$f":"BY9","v":0},null,null,6,{"$f":"IF(AND(H20=0,I20=0),\"\",IF(H20>I20,F19,F21))","v":""},null,null,null,null,null,null,null,null,null,null,null,null,null,null,null,null,null,null,null,null,null,null,null,null,null,null,null,null,null,null,null,null,null,null,null,null,null,null,null,null,null,null,null,null,null,17,null,null,null,null,{"$f":"F52","v":{"$error":"#REF!"}},{"$f":"F54","v":{"$error":"#REF!"}}]
[12,65,null,"",161,{"$f":"IF(Main!$Q$2=3,VLOOKUP(E21,Katılım!$A$4:$Z$55,26,0),#REF!)","v":{"$error":"#REF!"}},null,null,null,null,null,null,null,null,null,null,null,null,null,null,null,null,null,null,null,null,null,null,null,null,null,null,null,null,null,null,null,null,null,null,null,null,null,null,null,null,null,null,null,null,null,null,null,null,null,null,null,null,18,null,null,null,null,{"$f":"F55","v":{"$error":"#REF!"}},{"$f":"F57","v":{"$error":"#REF!"}}]
[13,65,null,"",97,{"$f":"IF(Main!$Q$2=3,VLOOKUP(E22,Katılım!$A$4:$Z$55,26,0),#REF!)","v":{"$error":"#REF!"}},null,null,null,null,null,null,null,null,null,null,null,null,null,null,null,{"$f":"BX197","v":0},{"$f":"BY197","v":0},null,null,null,{"$f":"IF(AND(V22=0,W22=0),\"\",IF(V22>W22,T18,T25))","v":""},null,null,null,null,null,null,null,null,null,null,null,null,null,null,null,null,null,null,null,null,null,null,null,null,null,null,null,null,null,null,null,19,null,null,null,null,{"$f":"F58","v":{"$error":"#REF!"}},{"$f":"F60","v":{"$error":"#REF!"}}]
[null,null,null,"",null,null,null,{"$f":"BX10","v":0},{"$f":"BY10","v":0},null,null,7,{"$f":"IF(AND(H23=0,I23=0),\"\",IF(H23>I23,F22,F24))","v":""},null,null,null,null,null,null,null,null,null,null,null,null,null,null,null,null,null,null,null,null,null,null,null,null,null,null,null,null,null,null,null,null,null,null,null,null,null,null,null,null,null,null,null,null,null,20,null,null,null,null,{"$f":"F61","v":{"$error":"#REF!"}},{"$f":"F63","v":{"$error":"#REF!"}}]
[14,129,null,"",160,{"$f":"IF(Main!$Q$2=3,VLOOKUP(E24,Katılım!$A$4:$Z$55,26,0),#REF!)","v":{"$error":"#REF!"}},null,null,null,null,null,null,null,null,null,null,null,null,{"$f":"+S18+1","v":8},null,null,null,null,null,null,null,null,null,null,null,null,null,null,null,null,null,null,null,null,null,null,null,null,null,null,null,null,null,null,null,null,null,null,null,null,null,null,null,21,null,null,null,null,{"$f":"F64","v":{"$error":"#REF!"}},{"$f":"F66","v":{"$error":"#REF!"}}]
[15,129,32,"E29",32,{"$f":"IF(Main!$Q$2=3,VLOOKUP(E25,Katılım!$A$4:$Z$55,26,0),#REF!)","v":{"$error":"#REF!"}},null,null,null,null,null,null,null,null,{"$f":"BX135","v":0},{"$f":"BY135","v":0},null,null,null,{"$f":"IF(AND(O25=0,P25=0),\"\",IF(O25>P25,M23,M26))","v":""},null,null,null,null,null,null,null,null,null,null,null,null,null,null,null,null,null,null,null,null,null,null,null,null,null,null,null,null,null,null,null,null,null,null,null,null,null,null,22,null,null,null,null,{"$f":"F67","v":{"$error":"#REF!"}},{"$f":"F69","v":{"$error":"#REF!"}}]
[null,null,null,"",null,null,null,{"$f":"BX11","v":0},{"$f":"BY11","v":0},null,null,8,{"$f":"IF(AND(H26=0,I26=0),\"\",IF(H26>I26,F25,F27))","v":""},null,null,null,null,null,null,null,null,null,null,null,null,null,null,null,null,null,null,null,null,null,null,null,null,null,null,null,null,null,null,null,null,null,null,null,null,null,null,null,null,null,null,null,null,null,23,null,null,null,null,{"$f":"F70","v":{"$error":"#REF!"}},{"$f":"F72","v":{"$error":"#REF!"}}]
[16,32,null,"",225,{"$f":"IF(Main!$Q$2=3,VLOOKUP(E27,Katılım!$A$4:$Z$55,26,0),#REF!)","v":{"$error":"#REF!"}},null,null,null,null,null,null,null,null,null,null,null,null,null,null,null,null,null,null,null,null,null,null,null,null,null,null,null,null,null,null,null,null,null,null,null,null,null,null,null,null,null,null,null,null,null,null,null,null,null,null,null,null,24,null,null,null,null,{"$f":"F73","v":{"$error":"#REF!"}},{"$f":"F75","v":{"$error":"#REF!"}}]
[17,17,null,"",17,{"$f":"IF(Main!$Q$2=3,VLOOKUP(E28,Katılım!$A$4:$Z$55,26,0),#REF!)","v":{"$error":"#REF!"}},null,null,null,null,null,null,null,null,null,null,null,null,null,null,null,null,null,null,null,null,null,null,null,null,null,null,null,null,null,null,{"$f":"BX244","v":0},{"$f":"BY244","v":0},null,null,{"$f":"IF(AND(AK28=0,AL28=0),\"\",IF(AK28>AL28,AH16,AH40))","v":""},null,null,null,null,null,null,null,null,null,null,null,null,null,null,null,null,null,25,null,null,null,null,{"$f":"F76","v":{"$error":"#REF!"}},{"$f":"F78","v":{"$error":"#REF!"}}]
[null,null,null,"",null,null,null,{"$f":"BX12","v":0},{"$f":"BY12","v":0},null,null,9,{"$f":"IF(AND(H29=0,I29=0),\"\",IF(H29>I29,F28,F30))","v":""},null,null,null,null,null,null,null,null,null,null,null,null,null,null,null,null,null,null,null,null,null,null,null,null,null,null,null,null,null,null,null,null,null,null,null,null,null,null,null,null,null,null,null,null,null,26,null,null,null,null,{"$f":"F79","v":{"$error":"#REF!"}},{"$f":"F81","v":{"$error":"#REF!"}}]
[18,129,17,"",240,{"$f":"IF(Main!$Q$2=3,VLOOKUP(E30,Katılım!$A$4:$Z$55,26,0),#REF!)","v":{"$error":"#REF!"}},null,null,null,null,null,null,null,null,null,null,null,null,{"$f":"+S24+1","v":9},{"$f":"IF(AND(O31=0,P31=0),\"\",IF(O31>P31,M29,M32))","v":""},null,null,null,null,null,null,null,null,null,null,null,null,null,null,null,null,null,null,null,null,null,null,null,null,null,null,null,null,null,null,null,null,null,null,null,null,null,null,27,null,null,null,null,{"$f":"F82","v":{"$error":"#REF!"}},{"$f":"F84","v":{"$error":"#REF!"}}]
[19,129,null,"",112,{"$f":"IF(Main!$Q$2=3,VLOOKUP(E31,Katılım!$A$4:$Z$55,26,0),#REF!)","v":{"$error":"#REF!"}},null,null,null,null,null,null,null,null,{"$f":"BX136","v":0},{"$f":"BY136","v":0},null,null,null,null,null,null,null,null,null,{"$f":"+Z19+1","v":9},null,null,null,null,null,null,null,null,null,null,null,null,null,null,null,null,null,null,null,null,null,null,null,null,null,null,null,null,null,null,null,null,28,null,null,null,null,{"$f":"F85","v":{"$error":"#REF!"}},{"$f":"F87","v":{"$error":"#REF!"}}]
[null,null,null,"",null,null,null,{"$f":"BX13","v":0},{"$f":"BY13","v":0},null,null,10,{"$f":"IF(AND(H32=0,I32=0),\"\",IF(H32>I32,F31,F33))","v":""},null,null,null,null,null,null,null,null,null,null,null,null,null,null,null,null,null,null,null,null,null,null,null,null,null,null,null,null,null,null,null,null,null,null,null,null,null,null,null,null,null,null,null,null,null,29,null,null,null,null,{"$f":"F88","v":{"$error":"#REF!"}},{"$f":"F90","v":{"$error":"#REF!"}}]
[20,65,null,"",145,{"$f":"IF(Main!$Q$2=3,VLOOKUP(E33,Katılım!$A$4:$Z$55,26,0),#REF!)","v":{"$error":"#REF!"}},null,null,null,null,null,null,null,null,null,null,null,null,null,null,null,null,null,null,null,null,null,null,null,null,null,null,null,null,null,null,null,null,null,null,null,null,null,null,null,null,null,null,null,null,null,null,null,null,null,null,null,null,30,null,null,null,null,{"$f":"F91","v":{"$error":"#REF!"}},{"$f":"F93","v":{"$error":"#REF!"}}]
[21,65,null,"",81,{"$f":"IF(Main!$Q$2=3,VLOOKUP(E34,Katılım!$A$4:$Z$55,26,0),#REF!)","v":{"$error":"#REF!"}},null,null,null,null,null,null,null,null,null,null,null,null,null,null,null,{"$f":"BX198","v":0},{"$f":"BY198","v":0},null,null,null,{"$f":"IF(AND(V34=0,W34=0),\"\",IF(V34>W34,T30,T37))","v":""},null,null,null,null,null,null,null,null,null,null,null,null,null,null,null,null,null,null,null,null,null,null,null,null,null,null,null,null,null,null,null,31,null,null,null,null,{"$f":"F94","v":{"$error":"#REF!"}},{"$f":"F96","v":{"$error":"#REF!"}}]
[null,null,null,"",null,null,null,{"$f":"BX14","v":0},{"$f":"BY14","v":0},null,null,11,{"$f":"IF(AND(H35=0,I35=0),\"\",IF(H35>I35,F34,F36))","v":""},null,null,null,null,null,null,null,null,null,null,null,null,null,null,null,null,null,null,null,{"$f":"+AG11+1","v":{"$error":"#VALUE!"}},null,null,null,null,null,null,null,null,null,null,null,null,null,null,null,null,null,null,null,null,null,null,null,null,null,32,null,null,null,null,{"$f":"F97","v":{"$error":"#REF!"}},{"$f":"F99","v":{"$error":"#REF!"}}]
[22,129,null,"E8",176,{"$f":"IF(Main!$Q$2=3,VLOOKUP(E36,Katılım!$A$4:$Z$55,26,0),#REF!)","v":{"$error":"#REF!"}},null,null,null,null,null,null,null,null,null,null,null,null,{"$f":"+S30+1","v":10},null,null,null,null,null,null,null,null,null,null,null,null,null,null,null,null,null,null,null,null,null,null,null,null,null,null,null,null,null,null,null,null,null,null,null,null,null,null,null,33,null,null,null,null,{"$f":"F100","v":{"$error":"#REF!"}},{"$f":"F102","v":{"$error":"#REF!"}}]
[23,129,48,"",48,{"$f":"IF(Main!$Q$2=3,VLOOKUP(E37,Katılım!$A$4:$Z$55,26,0),#REF!)","v":{"$error":"#REF!"}},null,null,null,null,null,null,null,null,{"$f":"BX137","v":0},{"$f":"BY137","v":0},null,null,null,{"$f":"IF(AND(O37=0,P37=0),\"\",IF(O37>P37,M35,M38))","v":""},null,null,null,null,null,null,null,null,null,null,null,null,null,null,null,null,null,null,null,null,null,null,null,null,null,null,null,null,null,null,null,null,null,null,null,null,null,null,34,null,null,null,null,{"$f":"F103","v":{"$error":"#REF!"}},{"$f":"F105","v":{"$error":"#REF!"}}]
[null,null,null,"",null,null,null,{"$f":"BX15","v":0},{"$f":"BY15","v":0},null,null,12,{"$f":"IF(AND(H38=0,I38=0),\"\",IF(H38>I38,F37,F39))","v":""},null,null,null,null,null,null,null,null,null,null,null,null,null,null,null,null,null,null,null,null,null,null,null,null,null,null,null,null,null,null,null,null,null,null,null,null,null,null,null,null,null,null,null,null,null,35,null,null,null,null,{"$f":"F106","v":{"$error":"#REF!"}},{"$f":"F108","v":{"$error":"#REF!"}}]
[24,48,null,"",209,{"$f":"IF(Main!$Q$2=3,VLOOKUP(E39,Katılım!$A$4:$Z$55,26,0),#REF!)","v":{"$error":"#REF!"}},null,null,null,null,null,null,null,null,null,null,null,null,null,null,null,null,null,null,null,null,null,null,null,null,null,null,null,null,null,null,null,null,null,null,null,null,null,null,null,null,null,null,null,null,null,null,null,null,null,null,null,null,36,null,null,null,null,{"$f":"F109","v":{"$error":"#REF!"}},{"$f":"F111","v":{"$error":"#REF!"}}]
[25,33,null,"",49,{"$f":"IF(Main!$Q$2=3,VLOOKUP(E40,Katılım!$A$4:$Z$55,26,0),#REF!)","v":{"$error":"#REF!"}},null,null,null,null,null,null,null,null,null,null,null,null,null,null,null,null,null,null,null,null,null,null,null,{"$f":"BX229","v":0},{"$f":"BY229","v":0},null,null,{"$f":"IF(AND(AD40=0,AE40=0),\"\",IF(AD40>AE40,AA34,AA46))","v":""},null,null,null,null,null,null,null,null,null,null,null,null,null,null,null,null,null,null,null,null,null,null,null,null,37,null,null,null,null,{"$f":"F112","v":{"$error":"#REF!"}},{"$f":"F114","v":{"$error":"#REF!"}}]
[null,null,null,"",null,null,null,{"$f":"BX16","v":0},{"$f":"BY16","v":0},null,null,13,{"$f":"IF(AND(H41=0,I41=0),\"\",IF(H41>I41,F40,F42))","v":""},null,null,null,null,null,null,null,null,null,null,null,null,null,null,null,null,null,null,null,null,null,null,null,null,null,null,null,null,null,null,null,null,null,null,null,null,null,null,null,null,null,null,null,null,null,38,null,null,null,null,{"$f":"F115","v":{"$error":"#REF!"}},{"$f":"F117","v":{"$error":"#REF!"}}]
[26,129,33,"",208,{"$f":"IF(Main!$Q$2=3,VLOOKUP(E42,Katılım!$A$4:$Z$55,26,0),#REF!)","v":{"$error":"#REF!"}},null,null,null,null,null,null,null,null,null,null,null,null,{"$f":"+S36+1","v":11},{"$f":"IF(AND(O43=0,P43=0),\"\",IF(O43>P43,M41,M44))","v":""},null,null,null,null,null,null,null,null,null,null,null,null,null,null,null,null,null,null,null,null,null,null,null,null,null,null,null,null,null,null,null,null,null,null,null,null,null,null,39,null,null,null,null,{"$f":"F118","v":{"$error":"#REF!"}},{"$f":"F120","v":{"$error":"#REF!"}}]
[27,129,null,"E24",80,{"$f":"IF(Main!$Q$2=3,VLOOKUP(E43,Katılım!$A$4:$Z$55,26,0),#REF!)","v":{"$error":"#REF!"}},null,null,null,null,null,null,null,null,{"$f":"BX138","v":0},{"$f":"BY138","v":0},null,null,null,null,null,null,null,null,null,{"$f":"+Z31+1","v":10},null,null,null,null,null,null,null,null,null,null,null,null,null,null,null,null,null,null,null,null,null,null,null,null,null,null,null,null,null,null,null,null,40,null,null,null,null,{"$f":"F121","v":{"$error":"#REF!"}},{"$f":"F123","v":{"$error":"#REF!"}}]
[null,null,null,"",null,null,null,{"$f":"BX17","v":0},{"$f":"BY17","v":0},null,null,14,{"$f":"IF(AND(H44=0,I44=0),\"\",IF(H44>I44,F43,F45))","v":""},null,null,null,null,null,null,null,null,null,null,null,null,null,null,null,null,null,null,null,null,null,null,null,null,null,null,null,null,null,null,null,null,null,null,null,null,null,null,null,null,null,null,null,null,null,41,null,null,null,null,{"$f":"F124","v":{"$error":"#REF!"}},{"$f":"F126","v":{"$error":"#REF!"}}]
[28,65,null,"",177,{"$f":"IF(Main!$Q$2=3,VLOOKUP(E45,Katılım!$A$4:$Z$55,26,0),#REF!)","v":{"$error":"#REF!"}},null,null,null,null,null,null,null,null,null,null,null,null,null,null,null,null,null,null,null,null,null,null,null,null,null,null,null,null,null,null,null,null,null,null,null,null,null,null,null,null,null,null,null,null,null,null,null,null,null,null,null,null,42,null,null,null,null,{"$f":"F127","v":{"$error":"#REF!"}},{"$f":"F129","v":{"$error":"#REF!"}}]
[29,65,null,"",113,{"$f":"IF(Main!$Q$2=3,VLOOKUP(E46,Katılım!$A$4:$Z$55,26,0),#REF!)","v":{"$error":"#REF!"}},null,null,null,null,null,null,null,null,null,null,null,null,null,null,null,{"$f":"BX199","v":0},{"$f":"BY199","v":0},null,null,null,{"$f":"IF(AND(V46=0,W46=0),\"\",IF(V46>W46,T42,T49))","v":""},null,null,null,null,null,null,null,null,null,null,null,null,null,null,null,null,null,null,null,null,null,null,null,null,null,null,null,null,null,null,null,43,null,null,null,null,{"$f":"F130","v":{"$error":"#REF!"}},{"$f":"F132","v":{"$error":"#REF!"}}]
[null,null,null,"",null,null,null,{"$f":"BX18","v":0},{"$f":"BY18","v":0},null,null,15,{"$f":"IF(AND(H47=0,I47=0),\"\",IF(H47>I47,F46,F48))","v":""},null,null,null,null,null,null,null,null,null,null,null,null,null,null,null,null,null,null,null,null,null,null,null,null,null,null,null,null,null,null,null,null,null,null,null,null,null,null,null,null,null,null,null,null,null,44,null,null,null,null,{"$f":"F133","v":{"$error":"#REF!"}},{"$f":"F135","v":{"$error":"#REF!"}}]
[30,129,null,"",144,{"$f":"IF(Main!$Q$2=3,VLOOKUP(E48,Katılım!$A$4:$Z$55,26,0),#REF!)","v":{"$error":"#REF!"}},null,null,null,null,null,null,null,null,null,null,null,null,{"$f":"+S42+1","v":12},null,null,null,null,null,null,null,null,null,null,null,null,null,null,null,null,null,null,null,null,null,null,null,null,null,null,null,null,null,null,null,null,null,null,null,null,null,null,null,45,null,null,null,null,{"$f":"F136","v":{"$error":"#REF!"}},{"$f":"F138","v":{"$error":"#REF!"}}]
[31,129,16,"",16,{"$f":"IF(Main!$Q$2=3,VLOOKUP(E49,Katılım!$A$4:$Z$55,26,0),#REF!)","v":{"$error":"#REF!"}},null,null,null,null,null,null,null,null,{"$f":"BX139","v":0},{"$f":"BY139","v":0},null,null,null,{"$f":"IF(AND(O49=0,P49=0),\"\",IF(O49>P49,M47,M50))","v":""},null,null,null,null,null,null,null,null,null,null,null,null,null,null,null,null,null,null,null,null,null,null,null,null,null,null,null,null,null,null,null,null,null,null,null,null,null,null,46,null,null,null,null,{"$f":"F139","v":{"$error":"#REF!"}},{"$f":"F141","v":{"$error":"#REF!"}}]
[null,null,null,"",null,null,null,{"$f":"BX19","v":0},{"$f":"BY19","v":0},null,null,16,{"$f":"IF(AND(H50=0,I50=0),\"\",IF(H50>I50,F49,F51))","v":""},null,null,null,null,null,null,null,null,null,null,null,null,null,null,null,null,null,null,null,null,null,null,null,null,null,null,null,null,null,null,null,null,null,null,null,null,null,null,null,null,null,null,null,null,null,47,null,null,null,null,{"$f":"F142","v":{"$error":"#REF!"}},{"$f":"F144","v":{"$error":"#REF!"}}]
[32,16,null,"",241,{"$f":"IF(Main!$Q$2=3,VLOOKUP(E51,Katılım!$A$4:$Z$55,26,0),#REF!)","v":{"$error":"#REF!"}},null,null,null,null,null,null,null,null,null,null,null,null,null,null,null,null,null,null,null,null,null,null,null,null,null,null,null,null,null,null,null,null,null,null,null,null,null,null,null,null,null,null,null,null,null,null,null,null,null,null,null,null,48,null,null,null,null,{"$f":"F145","v":{"$error":"#REF!"}},{"$f":"F147","v":{"$error":"#REF!"}}]
[33,9,null,"",9,{"$f":"IF(Main!$Q$2=3,VLOOKUP(E52,Katılım!$A$4:$Z$55,26,0),#REF!)","v":{"$error":"#REF!"}},null,null,null,null,null,null,null,null,null,null,null,null,null,null,null,null,null,null,null,null,null,null,null,null,null,null,null,null,null,null,null,null,null,null,null,null,null,null,null,null,null,null,null,null,null,null,null,null,null,null,null,null,49,null,null,null,null,{"$f":"F148","v":{"$error":"#REF!"}},{"$f":"F150","v":{"$error":"#REF!"}}]
[null,null,null,"",null,null,null,{"$f":"BX20","v":0},{"$f":"BY20","v":0},null,null,17,{"$f":"IF(AND(H53=0,I53=0),\"\",IF(H53>I53,F52,F54))","v":""},null,null,null,null,null,null,null,null,null,null,null,null,null,null,null,null,null,null,null,null,null,null,null,null,null,null,null,null,null,null,null,null,null,null,null,null,null,null,null,null,null,null,null,null,null,50,null,null,null,null,{"$f":"F151","v":{"$error":"#REF!"}},{"$f":"F153","v":{"$error":"#REF!"}}]
[34,129,9,"",248,{"$f":"IF(Main!$Q$2=3,VLOOKUP(E54,Katılım!$A$4:$Z$55,26,0),#REF!)","v":{"$error":"#REF!"}},null,null,null,null,null,null,null,null,null,null,null,null,{"$f":"+S48+1","v":13},{"$f":"IF(AND(O55=0,P55=0),\"\",IF(O55>P55,M53,M56))","v":""},null,null,null,null,null,null,null,null,null,null,null,null,null,null,null,null,null,null,null,null,null,null,null,null,null,null,null,null,null,null,null,null,null,null,null,null,null,null,51,null,null,null,null,{"$f":"F154","v":{"$error":"#REF!"}},{"$f":"F156","v":{"$error":"#REF!"}}]
[35,129,null,"",120,{"$f":"IF(Main!$Q$2=3,VLOOKUP(E55,Katılım!$A$4:$Z$55,26,0),#REF!)","v":{"$error":"#REF!"}},null,null,null,null,null,null,null,null,{"$f":"BX140","v":0},{"$f":"BY140","v":0},null,null,null,null,null,null,null,null,null,{"$f":"+Z43+1","v":11},null,null,null,null,null,null,null,null,null,null,null,null,null,null,null,null,null,null,null,null,null,null,null,null,null,null,null,null,null,null,null,null,52,null,null,null,null,{"$f":"F157","v":{"$error":"#REF!"}},{"$f":"F159","v":{"$error":"#REF!"}}]
[null,null,null,"",null,null,null,{"$f":"BX21","v":0},{"$f":"BY21","v":0},null,null,18,{"$f":"IF(AND(H56=0,I56=0),\"\",IF(H56>I56,F55,F57))","v":""},null,null,null,null,null,null,null,null,null,null,null,null,null,null,null,null,null,null,null,null,null,null,null,null,null,null,null,null,null,null,null,null,null,null,null,null,null,null,null,null,null,null,null,null,null,53,null,null,null,null,{"$f":"F160","v":{"$error":"#REF!"}},{"$f":"F162","v":{"$error":"#REF!"}}]
[36,65,null,"",137,{"$f":"IF(Main!$Q$2=3,VLOOKUP(E57,Katılım!$A$4:$Z$55,26,0),#REF!)","v":{"$error":"#REF!"}},null,null,null,null,null,null,null,null,null,null,null,null,null,null,null,null,null,null,null,null,null,null,null,null,null,null,null,null,null,null,null,null,null,null,null,null,null,null,null,null,null,null,null,null,null,null,null,null,null,null,null,null,54,null,null,null,null,{"$f":"F163","v":{"$error":"#REF!"}},{"$f":"F165","v":{"$error":"#REF!"}}]
[37,65,null,"",73,{"$f":"IF(Main!$Q$2=3,VLOOKUP(E58,Katılım!$A$4:$Z$55,26,0),#REF!)","v":{"$error":"#REF!"}},null,null,null,null,null,null,null,null,null,null,null,null,null,null,null,{"$f":"BX200","v":0},{"$f":"BY200","v":0},null,null,null,{"$f":"IF(AND(V58=0,W58=0),\"\",IF(V58>W58,T54,T61))","v":""},null,null,null,null,null,null,null,null,null,null,null,null,null,null,null,null,null,null,null,null,null,null,null,null,null,null,null,null,null,null,null,55,null,null,null,null,{"$f":"F166","v":{"$error":"#REF!"}},{"$f":"F168","v":{"$error":"#REF!"}}]
[null,null,null,"",null,null,null,{"$f":"BX22","v":0},{"$f":"BY22","v":0},null,null,19,{"$f":"IF(AND(H59=0,I59=0),\"\",IF(H59>I59,F58,F60))","v":""},null,null,null,null,null,null,null,null,null,null,null,null,null,null,null,null,null,null,null,{"$f":"+AG35+1","v":{"$error":"#VALUE!"}},null,null,null,null,null,null,null,null,null,null,null,null,null,null,null,null,null,null,null,null,null,null,null,null,null,56,null,null,null,null,{"$f":"F169","v":{"$error":"#REF!"}},{"$f":"F171","v":{"$error":"#REF!"}}]
[38,129,null,"E20",184,{"$f":"IF(Main!$Q$2=3,VLOOKUP(E60,Katılım!$A$4:$Z$55,26,0),#REF!)","v":{"$error":"#REF!"}},null,null,null,null,null,null,null,null,null,null,null,null,{"$f":"+S54+1","v":14},null,null,null,null,null,null,null,null,null,null,null,null,null,null,null,null,null,null,null,null,null,null,null,null,null,null,null,null,null,null,null,null,null,null,null,null,null,null,null,57,null,null,null,null,{"$f":"F172","v":{"$error":"#REF!"}},{"$f":"F174","v":{"$error":"#REF!"}}]
[39,129,40,"",56,{"$f":"IF(Main!$Q$2=3,VLOOKUP(E61,Katılım!$A$4:$Z$55,26,0),#REF!)","v":{"$error":"#REF!"}},null,null,null,null,null,null,null,null,{"$f":"BX141","v":0},{"$f":"BY141","v":0},null,null,null,{"$f":"IF(AND(O61=0,P61=0),\"\",IF(O61>P61,M59,M62))","v":""},null,null,null,null,null,null,null,null,null,null,null,null,null,null,null,null,null,null,null,null,null,null,null,null,null,null,null,null,null,null,null,null,null,null,null,null,null,null,58,null,null,null,null,{"$f":"F175","v":{"$error":"#REF!"}},{"$f":"F177","v":{"$error":"#REF!"}}]
[null,null,null,"",null,null,null,{"$f":"BX23","v":0},{"$f":"BY23","v":0},null,null,20,{"$f":"IF(AND(H62=0,I62=0),\"\",IF(H62>I62,F61,F63))","v":""},null,null,null,null,null,null,null,null,null,null,null,null,null,null,null,null,null,null,null,null,null,null,null,null,null,null,null,null,null,null,null,null,null,null,null,null,null,null,null,null,null,null,null,null,null,59,null,null,null,null,{"$f":"F178","v":{"$error":"#REF!"}},{"$f":"F180","v":{"$error":"#REF!"}}]
[40,40,null,"",201,{"$f":"IF(Main!$Q$2=3,VLOOKUP(E63,Katılım!$A$4:$Z$55,26,0),#REF!)","v":{"$error":"#REF!"}},null,null,null,null,null,null,null,null,null,null,null,null,null,null,null,null,null,null,null,null,null,null,null,null,null,null,null,null,null,null,null,null,null,null,null,null,null,null,null,null,null,null,null,null,null,null,null,null,null,null,null,null,60,null,null,null,null,{"$f":"F181","v":{"$error":"#REF!"}},{"$f":"F183","v":{"$error":"#REF!"}}]
[41,41,null,"",41,{"$f":"IF(Main!$Q$2=3,VLOOKUP(E64,Katılım!$A$4:$Z$55,26,0),#REF!)","v":{"$error":"#REF!"}},null,null,null,null,null,null,null,null,null,null,null,null,null,null,null,null,null,null,null,null,null,null,null,{"$f":"BX230","v":0},{"$f":"BY230","v":0},null,null,{"$f":"IF(AND(AD64=0,AE64=0),\"\",IF(AD64>AE64,AA58,AA70))","v":""},null,null,null,null,null,null,null,null,null,null,null,null,null,null,null,null,null,null,null,null,null,null,null,null,61,null,null,null,null,{"$f":"F184","v":{"$error":"#REF!"}},{"$f":"F186","v":{"$error":"#REF!"}}]
[null,null,null,"",null,null,null,{"$f":"BX24","v":0},{"$f":"BY24","v":0},null,null,21,{"$f":"IF(AND(H65=0,I65=0),\"\",IF(H65>I65,F64,F66))","v":""},null,null,null,null,null,null,null,null,null,null,null,null,null,null,null,null,null,null,null,null,null,null,null,null,null,null,242,null,null,null,null,null,null,null,null,null,null,null,null,null,null,null,null,null,null,62,null,null,null,null,{"$f":"F187","v":{"$error":"#REF!"}},{"$f":"F189","v":{"$error":"#REF!"}}]
[42,129,41,"",216,{"$f":"IF(Main!$Q$2=3,VLOOKUP(E66,Katılım!$A$4:$Z$55,26,0),#REF!)","v":{"$error":"#REF!"}},null,null,null,null,null,null,null,null,null,null,null,null,{"$f":"+S60+1","v":15},{"$f":"IF(AND(O67=0,P67=0),\"\",IF(O67>P67,M65,M68))","v":""},null,null,null,null,null,null,null,null,null,null,null,null,null,null,null,null,null,null,null,null,null,null,null,null,null,null,null,null,null,null,null,null,null,null,null,null,null,null,63,null,null,null,null,{"$f":"F190","v":{"$error":"#REF!"}},{"$f":"F192","v":{"$error":"#REF!"}}]
[43,129,null,"E4",88,{"$f":"IF(Main!$Q$2=3,VLOOKUP(E67,Katılım!$A$4:$Z$55,26,0),#REF!)","v":{"$error":"#REF!"}},null,null,null,null,null,null,null,null,{"$f":"BX142","v":0},{"$f":"BY142","v":0},null,null,null,null,null,null,null,null,null,{"$f":"+Z55+1","v":12},null,null,null,null,null,null,null,null,null,null,null,null,null,null,null,null,null,null,null,null,null,null,null,null,null,null,null,null,null,null,null,null,64,null,null,null,null,{"$f":"F193","v":{"$error":"#REF!"}},{"$f":"F195","v":{"$error":"#REF!"}}]
[null,null,null,"",null,null,null,{"$f":"BX25","v":0},{"$f":"BY25","v":0},null,null,22,{"$f":"IF(AND(H68=0,I68=0),\"\",IF(H68>I68,F67,F69))","v":""},null,null,null,null,null,null,null,null,null,null,null,null,null,null,null,null,null,null,null,null,null,null,null,null,null,null,null,null,null,null,null,null,null,null,null,null,null,null,null,null,null,null,null,null,null,65,null,null,null,null,{"$f":"F196","v":{"$error":"#REF!"}},{"$f":"F198","v":{"$error":"#REF!"}}]
[44,65,null,"",169,{"$f":"IF(Main!$Q$2=3,VLOOKUP(E69,Katılım!$A$4:$Z$55,26,0),#REF!)","v":{"$error":"#REF!"}},null,null,null,null,null,null,null,null,null,null,null,null,null,null,null,null,null,null,null,null,null,null,null,null,null,null,null,null,null,null,null,null,null,null,null,null,null,null,null,null,null,null,null,null,null,null,null,null,null,null,null,null,66,null,null,null,null,{"$f":"F199","v":{"$error":"#REF!"}},{"$f":"F201","v":{"$error":"#REF!"}}]
[45,65,null,"",105,{"$f":"IF(Main!$Q$2=3,VLOOKUP(E70,Katılım!$A$4:$Z$55,26,0),#REF!)","v":{"$error":"#REF!"}},null,null,null,null,null,null,null,null,null,null,null,null,null,null,null,{"$f":"BX201","v":0},{"$f":"BY201","v":0},null,null,null,{"$f":"IF(AND(V70=0,W70=0),\"\",IF(V70>W70,T66,T73))","v":""},null,null,null,null,null,null,null,null,null,null,null,null,null,null,null,null,null,null,null,null,null,null,null,null,null,null,null,null,null,null,null,67,null,null,null,null,{"$f":"F202","v":{"$error":"#REF!"}},{"$f":"F204","v":{"$error":"#REF!"}}]
[null,null,null,"",null,null,null,{"$f":"BX26","v":0},{"$f":"BY26","v":0},null,null,23,{"$f":"IF(AND(H71=0,I71=0),\"\",IF(H71>I71,F70,F72))","v":""},null,null,null,null,null,null,null,null,null,null,null,null,null,null,null,null,null,null,null,null,null,null,null,null,null,null,null,null,null,null,null,null,null,null,null,null,null,null,null,null,null,null,null,null,null,68,null,null,null,null,{"$f":"F205","v":{"$error":"#REF!"}},{"$f":"F207","v":{"$error":"#REF!"}}]
[46,129,null,"",152,{"$f":"IF(Main!$Q$2=3,VLOOKUP(E72,Katılım!$A$4:$Z$55,26,0),#REF!)","v":{"$error":"#REF!"}},null,null,null,null,null,null,null,null,null,null,null,null,{"$f":"+S66+1","v":16},null,null,null,null,null,null,null,null,null,null,null,null,null,null,null,null,null,null,null,null,null,null,null,null,null,null,null,null,null,null,null,null,null,null,null,null,null,null,null,69,null,null,null,null,{"$f":"F208","v":{"$error":"#REF!"}},{"$f":"F210","v":{"$error":"#REF!"}}]
[47,129,24,"",24,{"$f":"IF(Main!$Q$2=3,VLOOKUP(E73,Katılım!$A$4:$Z$55,26,0),#REF!)","v":{"$error":"#REF!"}},null,null,null,null,null,null,null,null,{"$f":"BX143","v":0},{"$f":"BY143","v":0},null,null,null,{"$f":"IF(AND(O73=0,P73=0),\"\",IF(O73>P73,M71,M74))","v":""},null,null,null,null,null,null,null,null,null,null,null,null,null,null,null,null,null,null,null,null,null,null,null,null,null,null,null,null,null,null,null,null,null,null,null,null,null,null,70,null,null,null,null,{"$f":"F211","v":{"$error":"#REF!"}},{"$f":"F213","v":{"$error":"#REF!"}}]
[null,null,null,"",null,null,null,{"$f":"BX27","v":0},{"$f":"BY27","v":0},null,null,24,{"$f":"IF(AND(H74=0,I74=0),\"\",IF(H74>I74,F73,F75))","v":""},null,null,null,null,null,null,null,null,null,null,null,null,null,null,null,null,null,null,null,null,null,null,null,null,null,null,null,null,null,null,null,null,null,null,null,null,null,null,null,null,null,null,null,null,null,71,null,null,null,null,{"$f":"F214","v":{"$error":"#REF!"}},{"$f":"F216","v":{"$error":"#REF!"}}]
[48,24,null,"",233,{"$f":"IF(Main!$Q$2=3,VLOOKUP(E75,Katılım!$A$4:$Z$55,26,0),#REF!)","v":{"$error":"#REF!"}},null,null,null,null,null,null,null,null,null,null,null,null,null,null,null,null,null,null,null,null,null,null,null,null,null,null,null,null,null,null,null,null,null,null,null,null,null,null,null,null,null,null,null,null,null,null,null,null,null,null,null,null,72,null,null,null,null,{"$f":"F217","v":{"$error":"#REF!"}},{"$f":"F219","v":{"$error":"#REF!"}}]
[49,25,null,"",25,{"$f":"IF(Main!$Q$2=3,VLOOKUP(E76,Katılım!$A$4:$Z$55,26,0),#REF!)","v":{"$error":"#REF!"}},null,null,null,null,null,null,null,null,null,null,null,null,null,null,null,null,null,null,null,null,null,null,null,null,null,null,null,null,null,null,{"$f":"BX245","v":0},{"$f":"BY245","v":0},null,null,{"$f":"IF(AND(AK76=0,AL76=0),\"\",IF(AK76>AL76,AH64,AH88))","v":""},null,null,null,null,null,null,null,null,null,null,null,null,null,null,null,null,null,73,null,null,null,null,{"$f":"F220","v":{"$error":"#REF!"}},{"$f":"F222","v":{"$error":"#REF!"}}]
[null,null,null,"",null,null,null,{"$f":"BX28","v":0},{"$f":"BY28","v":0},null,null,25,{"$f":"IF(AND(H77=0,I77=0),\"\",IF(H77>I77,F76,F78))","v":""},null,null,null,null,null,null,null,null,null,null,null,null,null,null,null,null,null,null,null,null,null,null,null,null,null,null,null,null,null,null,null,null,null,null,null,null,null,null,null,null,null,null,null,null,null,74,null,null,null,null,{"$f":"F223","v":{"$error":"#REF!"}},{"$f":"F225","v":{"$error":"#REF!"}}]
[50,129,25,"",232,{"$f":"IF(Main!$Q$2=3,VLOOKUP(E78,Katılım!$A$4:$Z$55,26,0),#REF!)","v":{"$error":"#REF!"}},null,null,null,null,null,null,null,null,null,null,null,null,{"$f":"+S72+1","v":17},{"$f":"IF(AND(O79=0,P79=0),\"\",IF(O79>P79,M77,M80))","v":""},null,null,null,null,null,null,null,null,null,null,null,null,null,null,null,null,null,null,null,null,null,null,null,null,null,null,null,null,null,null,null,null,null,null,null,null,null,null,75,null,null,null,null,{"$f":"F226","v":{"$error":"#REF!"}},{"$f":"F228","v":{"$error":"#REF!"}}]
[51,129,null,"",104,{"$f":"IF(Main!$Q$2=3,VLOOKUP(E79,Katılım!$A$4:$Z$55,26,0),#REF!)","v":{"$error":"#REF!"}},null,null,null,null,null,null,null,null,{"$f":"BX144","v":0},{"$f":"BY144","v":0},null,null,null,null,null,null,null,null,null,{"$f":"+Z67+1","v":13},null,null,null,null,null,null,null,null,null,null,null,null,null,null,null,null,null,null,null,null,null,null,null,null,null,null,null,null,null,null,null,null,76,null,null,null,null,{"$f":"F229","v":{"$error":"#REF!"}},{"$f":"F231","v":{"$error":"#REF!"}}]
[null,null,null,"",null,null,null,{"$f":"BX29","v":0},{"$f":"BY29","v":0},null,null,26,{"$f":"IF(AND(H80=0,I80=0),\"\",IF(H80>I80,F79,F81))","v":""},null,null,null,null,null,null,null,null,null,null,null,null,null,null,null,null,null,null,null,null,null,null,null,null,null,null,null,null,null,null,null,null,null,null,null,null,null,null,null,null,null,null,null,null,null,77,null,null,null,null,{"$f":"F232","v":{"$error":"#REF!"}},{"$f":"F234","v":{"$error":"#REF!"}}]
[52,65,null,"",153,{"$f":"IF(Main!$Q$2=3,VLOOKUP(E81,Katılım!$A$4:$Z$55,26,0),#REF!)","v":{"$error":"#REF!"}},null,null,null,null,null,null,null,null,null,null,null,null,null,null,null,null,null,null,null,null,null,null,null,null,null,null,null,null,null,null,null,null,null,null,null,null,null,null,null,null,null,null,null,null,null,null,null,null,null,null,null,null,78,null,null,null,null,{"$f":"F235","v":{"$error":"#REF!"}},{"$f":"F237","v":{"$error":"#REF!"}}]
[53,65,null,"",89,{"$f":"IF(Main!$Q$2=3,VLOOKUP(E82,Katılım!$A$4:$Z$55,26,0),#REF!)","v":{"$error":"#REF!"}},null,null,null,null,null,null,null,null,null,null,null,null,null,null,null,{"$f":"BX202","v":0},{"$f":"BY202","v":0},null,null,null,{"$f":"IF(AND(V82=0,W82=0),\"\",IF(V82>W82,T78,T85))","v":""},null,null,null,null,null,null,null,null,null,null,null,null,null,null,null,null,null,null,null,null,null,null,null,null,null,null,null,null,null,null,null,79,null,null,null,null,{"$f":"F238","v":{"$error":"#REF!"}},{"$f":"F240","v":{"$error":"#REF!"}}]
[null,null,null,"",null,null,null,{"$f":"BX30","v":0},{"$f":"BY30","v":0},null,null,27,{"$f":"IF(AND(H83=0,I83=0),\"\",IF(H83>I83,F82,F84))","v":""},null,null,null,null,null,null,null,null,null,null,null,null,null,null,null,null,null,null,null,{"$f":"+AG59+1","v":{"$error":"#VALUE!"}},null,null,null,null,null,null,null,null,null,null,null,null,null,null,null,null,null,null,null,null,null,null,null,null,null,80,null,null,null,null,{"$f":"F241","v":{"$error":"#REF!"}},{"$f":"F243","v":{"$error":"#REF!"}}]
[54,129,null,"E26",168,{"$f":"IF(Main!$Q$2=3,VLOOKUP(E84,Katılım!$A$4:$Z$55,26,0),#REF!)","v":{"$error":"#REF!"}},null,null,null,null,null,null,null,null,null,null,null,null,{"$f":"+S78+1","v":18},null,null,null,null,null,null,null,null,null,null,null,null,null,null,null,null,null,null,null,null,null,null,null,null,null,null,null,null,null,null,null,null,null,null,null,null,null,null,null,81,null,null,null,null,{"$f":"F244","v":{"$error":"#REF!"}},{"$f":"F246","v":{"$error":"#REF!"}}]
[55,129,56,"",40,{"$f":"IF(Main!$Q$2=3,VLOOKUP(E85,Katılım!$A$4:$Z$55,26,0),#REF!)","v":{"$error":"#REF!"}},null,null,null,null,null,null,null,null,{"$f":"BX145","v":0},{"$f":"BY145","v":0},null,null,null,{"$f":"IF(AND(O85=0,P85=0),\"\",IF(O85>P85,M83,M86))","v":""},null,null,null,null,null,null,null,null,null,null,null,null,null,null,null,null,null,null,null,null,null,null,null,null,null,null,null,null,null,null,null,null,null,null,null,null,null,null,82,null,null,null,null,{"$f":"F247","v":{"$error":"#REF!"}},{"$f":"F249","v":{"$error":"#REF!"}}]
[null,null,null,"",null,null,null,{"$f":"BX31","v":0},{"$f":"BY31","v":0},null,null,28,{"$f":"IF(AND(H86=0,I86=0),\"\",IF(H86>I86,F85,F87))","v":""},null,null,null,null,null,null,null,null,null,null,null,null,null,null,null,null,null,null,null,null,null,null,null,null,null,null,null,null,null,null,null,null,null,null,null,null,null,null,null,null,null,null,null,null,null,83,null,null,null,null,{"$f":"F250","v":{"$error":"#REF!"}},{"$f":"F252","v":{"$error":"#REF!"}}]
[56,56,null,"",217,{"$f":"IF(Main!$Q$2=3,VLOOKUP(E87,Katılım!$A$4:$Z$55,26,0),#REF!)","v":{"$error":"#REF!"}},null,null,null,null,null,null,null,null,null,null,null,null,null,null,null,null,null,null,null,null,null,null,null,null,null,null,null,null,null,null,null,null,null,null,null,null,null,null,null,null,null,null,null,null,null,null,null,null,null,null,null,null,84,null,null,null,null,{"$f":"F253","v":{"$error":"#REF!"}},{"$f":"F255","v":{"$error":"#REF!"}}]
[57,57,999,"",57,{"$f":"IF(Main!$Q$2=3,VLOOKUP(E88,Katılım!$A$4:$Z$55,26,0),#REF!)","v":{"$error":"#REF!"}},null,null,null,null,null,null,null,null,null,null,null,null,null,null,null,null,null,null,null,null,null,null,null,{"$f":"BX231","v":0},{"$f":"BY231","v":0},null,null,{"$f":"IF(AND(AD88=0,AE88=0),\"\",IF(AD88>AE88,AA82,AA94))","v":""},null,null,null,null,null,null,null,null,null,null,null,null,null,null,null,null,null,null,null,null,null,null,null,null,85,null,null,null,null,{"$f":"F256","v":{"$error":"#REF!"}},{"$f":"F258","v":{"$error":"#REF!"}}]
[null,null,null,"",null,null,null,{"$f":"BX32","v":0},{"$f":"BY32","v":0},null,null,29,{"$f":"IF(AND(H89=0,I89=0),\"\",IF(H89>I89,F88,F90))","v":""},null,null,null,null,null,null,null,null,null,null,null,null,null,null,null,null,null,null,null,null,null,null,null,null,null,null,null,null,null,null,null,null,null,null,null,null,null,null,null,null,null,null,null,null,null,86,null,null,null,null,{"$f":"F259","v":{"$error":"#REF!"}},{"$f":"F261","v":{"$error":"#REF!"}}]
[58,129,999,"",200,{"$f":"IF(Main!$Q$2=3,VLOOKUP(E90,Katılım!$A$4:$Z$55,26,0),#REF!)","v":{"$error":"#REF!"}},null,null,null,null,null,null,null,null,null,null,null,null,{"$f":"+S84+1","v":19},{"$f":"IF(AND(O91=0,P91=0),\"\",IF(O91>P91,M89,M92))","v":""},null,null,null,null,null,null,null,null,null,null,null,null,null,null,null,null,null,null,null,null,null,null,null,null,null,null,null,null,null,null,null,null,null,null,null,null,null,null,87,null,null,null,null,{"$f":"F262","v":{"$error":"#REF!"}},{"$f":"F264","v":{"$error":"#REF!"}}]
[59,129,999,"",72,{"$f":"IF(Main!$Q$2=3,VLOOKUP(E91,Katılım!$A$4:$Z$55,26,0),#REF!)","v":{"$error":"#REF!"}},null,null,null,null,null,null,null,null,{"$f":"BX146","v":0},{"$f":"BY146","v":0},null,null,null,null,null,null,null,null,null,{"$f":"+Z79+1","v":14},null,null,null,null,null,null,null,null,null,null,null,null,null,null,null,null,null,null,null,null,null,null,null,null,null,null,null,null,null,null,null,null,88,null,null,null,null,{"$f":"F265","v":{"$error":"#REF!"}},{"$f":"F267","v":{"$error":"#REF!"}}]
[null,null,null,"",null,null,null,{"$f":"BX33","v":0},{"$f":"BY33","v":0},null,null,30,{"$f":"IF(AND(H92=0,I92=0),\"\",IF(H92>I92,F91,F93))","v":""},null,null,null,null,null,null,null,null,null,null,null,null,null,null,null,null,null,null,null,null,null,null,null,null,null,null,null,null,null,null,null,null,null,null,null,null,null,null,null,null,null,null,null,null,null,89,null,null,null,null,{"$f":"F268","v":{"$error":"#REF!"}},{"$f":"F270","v":{"$error":"#REF!"}}]
[60,65,999,"",185,{"$f":"IF(Main!$Q$2=3,VLOOKUP(E93,Katılım!$A$4:$Z$55,26,0),#REF!)","v":{"$error":"#REF!"}},null,null,null,null,null,null,null,null,null,null,null,null,null,null,null,null,null,null,null,null,null,null,null,null,null,null,null,null,null,null,null,null,null,null,null,null,null,null,null,null,null,null,null,null,null,null,null,null,null,null,null,null,90,null,null,null,null,{"$f":"F271","v":{"$error":"#REF!"}},{"$f":"F273","v":{"$error":"#REF!"}}]
[61,65,999,"",121,{"$f":"IF(Main!$Q$2=3,VLOOKUP(E94,Katılım!$A$4:$Z$55,26,0),#REF!)","v":{"$error":"#REF!"}},null,null,null,null,null,null,null,null,null,null,null,null,null,null,null,{"$f":"BX203","v":0},{"$f":"BY203","v":0},null,null,null,{"$f":"IF(AND(V94=0,W94=0),\"\",IF(V94>W94,T90,T97))","v":""},null,null,null,null,null,null,null,null,null,null,null,null,null,null,null,null,null,null,null,null,null,null,null,null,null,null,null,null,null,null,null,91,null,null,null,null,{"$f":"F274","v":{"$error":"#REF!"}},{"$f":"F276","v":{"$error":"#REF!"}}]
[null,null,null,"",null,null,null,{"$f":"BX34","v":0},{"$f":"BY34","v":0},null,null,31,{"$f":"IF(AND(H95=0,I95=0),\"\",IF(H95>I95,F94,F96))","v":""},null,null,null,null,null,null,null,null,null,null,null,null,null,null,null,null,null,null,null,null,null,null,null,null,null,null,null,null,null,null,null,null,null,null,null,null,null,null,null,null,null,null,null,null,null,92,null,null,null,null,{"$f":"F277","v":{"$error":"#REF!"}},{"$f":"F279","v":{"$error":"#REF!"}}]
[62,129,999,"",136,{"$f":"IF(Main!$Q$2=3,VLOOKUP(E96,Katılım!$A$4:$Z$55,26,0),#REF!)","v":{"$error":"#REF!"}},null,null,null,null,null,null,null,null,null,null,null,null,{"$f":"+S90+1","v":20},null,null,null,null,null,null,null,null,null,null,null,null,null,null,null,null,null,null,null,null,null,null,null,null,null,null,null,null,null,null,null,null,null,null,null,null,null,null,null,93,null,null,null,null,{"$f":"F280","v":{"$error":"#REF!"}},{"$f":"F282","v":{"$error":"#REF!"}}]
[63,129,999,"",249,{"$f":"IF(Main!$Q$2=3,VLOOKUP(E97,Katılım!$A$4:$Z$55,26,0),#REF!)","v":{"$error":"#REF!"}},null,null,null,null,null,null,null,null,{"$f":"BX147","v":0},{"$f":"BY147","v":0},null,null,null,{"$f":"IF(AND(O97=0,P97=0),\"\",IF(O97>P97,M95,M98))","v":""},null,null,null,null,null,null,null,null,null,null,null,null,null,null,null,null,null,null,null,null,null,null,null,null,null,null,null,null,null,null,null,null,null,null,null,null,null,null,94,null,null,null,null,{"$f":"F283","v":{"$error":"#REF!"}},{"$f":"F285","v":{"$error":"#REF!"}}]
[null,null,null,"",null,null,null,{"$f":"BX35","v":0},{"$f":"BY35","v":0},null,null,32,{"$f":"IF(AND(H98=0,I98=0),\"\",IF(H98>I98,F97,F99))","v":""},null,null,null,null,null,null,null,null,null,null,null,null,null,null,null,null,null,null,null,null,null,null,null,null,null,null,null,null,null,null,null,null,null,null,null,null,null,null,null,null,null,null,null,null,null,95,null,null,null,null,{"$f":"F286","v":{"$error":"#REF!"}},{"$f":"F288","v":{"$error":"#REF!"}}]
[64,8,null,"",8,{"$f":"IF(Main!$Q$2=3,VLOOKUP(E99,Katılım!$A$4:$Z$55,26,0),#REF!)","v":{"$error":"#REF!"}},null,null,null,null,null,null,null,null,null,null,null,null,null,null,null,null,null,null,null,null,null,null,null,null,null,null,null,null,null,null,null,null,null,null,null,null,null,null,null,null,null,null,null,null,null,null,null,null,null,null,null,null,96,null,null,null,null,{"$f":"F289","v":{"$error":"#REF!"}},{"$f":"F291","v":{"$error":"#REF!"}}]
[65,5,null,"",5,{"$f":"IF(Main!$Q$2=3,VLOOKUP(E100,Katılım!$A$4:$Z$55,26,0),#REF!)","v":{"$error":"#REF!"}},null,null,null,null,null,null,null,null,null,null,null,null,null,null,null,null,null,null,null,null,null,null,null,null,null,null,null,null,null,null,null,null,null,null,null,null,null,null,null,null,null,null,null,null,null,null,null,null,null,null,null,null,97,null,null,null,null,{"$f":"F292","v":{"$error":"#REF!"}},{"$f":"F294","v":{"$error":"#REF!"}}]
[null,null,null,"",null,null,null,{"$f":"BX36","v":0},{"$f":"BY36","v":0},null,null,33,{"$f":"IF(AND(H101=0,I101=0),\"\",IF(H101>I101,F100,F102))","v":""},null,null,null,null,null,null,null,null,null,null,null,null,null,null,null,null,null,null,null,null,null,null,null,null,null,null,null,null,null,null,null,null,null,null,null,null,null,null,null,null,null,null,null,null,null,98,null,null,null,null,{"$f":"F295","v":{"$error":"#REF!"}},{"$f":"F297","v":{"$error":"#REF!"}}]
[66,129,999,"",252,{"$f":"IF(Main!$Q$2=3,VLOOKUP(E102,Katılım!$A$4:$Z$55,26,0),#REF!)","v":{"$error":"#REF!"}},null,null,null,null,null,null,null,null,null,null,null,null,{"$f":"+S96+1","v":21},{"$f":"IF(AND(O103=0,P103=0),\"\",IF(O103>P103,M101,M104))","v":""},null,null,null,null,null,null,null,null,null,null,null,null,null,null,null,null,null,null,null,null,null,null,null,null,null,null,null,null,null,null,null,null,null,null,null,null,null,null,99,null,null,null,null,{"$f":"F298","v":{"$error":"#REF!"}},{"$f":"F300","v":{"$error":"#REF!"}}]
[67,129,999,"",124,{"$f":"IF(Main!$Q$2=3,VLOOKUP(E103,Katılım!$A$4:$Z$55,26,0),#REF!)","v":{"$error":"#REF!"}},null,null,null,null,null,null,null,null,{"$f":"BX148","v":0},{"$f":"BY148","v":0},null,null,null,null,null,null,null,null,null,{"$f":"+Z91+1","v":15},null,null,null,null,null,null,null,null,null,null,null,null,null,null,null,null,null,null,null,null,null,null,null,null,null,null,null,null,null,null,null,null,100,null,null,null,null,{"$f":"F301","v":{"$error":"#REF!"}},{"$f":"F303","v":{"$error":"#REF!"}}]
[null,null,null,"",null,null,null,{"$f":"BX37","v":0},{"$f":"BY37","v":0},null,null,34,{"$f":"IF(AND(H104=0,I104=0),\"\",IF(H104>I104,F103,F105))","v":""},null,null,null,null,null,null,null,null,null,null,null,null,null,null,null,null,null,null,null,null,null,null,null,null,null,null,null,null,null,null,null,null,null,null,null,null,null,null,null,null,null,null,null,null,null,101,null,null,null,null,{"$f":"F304","v":{"$error":"#REF!"}},{"$f":"F306","v":{"$error":"#REF!"}}]
[68,65,999,"",133,{"$f":"IF(Main!$Q$2=3,VLOOKUP(E105,Katılım!$A$4:$Z$55,26,0),#REF!)","v":{"$error":"#REF!"}},null,null,null,null,null,null,null,null,null,null,null,null,null,null,null,null,null,null,null,null,null,null,null,null,null,null,null,null,null,null,null,null,null,null,null,null,null,null,null,null,null,null,null,null,null,null,null,null,null,null,null,null,102,null,null,null,null,{"$f":"F307","v":{"$error":"#REF!"}},{"$f":"F309","v":{"$error":"#REF!"}}]
[69,65,999,"",69,{"$f":"IF(Main!$Q$2=3,VLOOKUP(E106,Katılım!$A$4:$Z$55,26,0),#REF!)","v":{"$error":"#REF!"}},null,null,null,null,null,null,null,null,null,null,null,null,null,null,null,{"$f":"BX204","v":0},{"$f":"BY204","v":0},null,null,null,{"$f":"IF(AND(V106=0,W106=0),\"\",IF(V106>W106,T102,T109))","v":""},null,null,null,null,null,null,null,null,null,null,null,null,null,null,null,null,null,null,null,null,null,null,null,null,null,null,null,null,null,null,null,103,null,null,null,null,{"$f":"F310","v":{"$error":"#REF!"}},{"$f":"F312","v":{"$error":"#REF!"}}]
[null,null,null,"",null,null,null,{"$f":"BX38","v":0},{"$f":"BY38","v":0},null,null,35,{"$f":"IF(AND(H107=0,I107=0),\"\",IF(H107>I107,F106,F108))","v":""},null,null,null,null,null,null,null,null,null,null,null,null,null,null,null,null,null,null,null,{"$f":"+AG83+1","v":{"$error":"#VALUE!"}},null,null,null,null,null,null,null,null,null,null,null,null,null,null,null,null,null,null,null,null,null,null,null,null,null,104,null,null,null,null,{"$f":"F313","v":{"$error":"#REF!"}},{"$f":"F315","v":{"$error":"#REF!"}}]
[70,129,999,"",188,{"$f":"IF(Main!$Q$2=3,VLOOKUP(E108,Katılım!$A$4:$Z$55,26,0),#REF!)","v":{"$error":"#REF!"}},null,null,null,null,null,null,null,null,null,null,null,null,{"$f":"+S102+1","v":22},null,null,null,null,null,null,null,null,null,null,null,null,null,null,null,null,null,null,null,null,null,null,null,null,null,null,null,null,null,null,null,null,null,null,null,null,null,null,null,105,null,null,null,null,{"$f":"F316","v":{"$error":"#REF!"}},{"$f":"F318","v":{"$error":"#REF!"}}]
[71,129,999,"",60,{"$f":"IF(Main!$Q$2=3,VLOOKUP(E109,Katılım!$A$4:$Z$55,26,0),#REF!)","v":{"$error":"#REF!"}},null,null,null,null,null,null,null,null,{"$f":"BX149","v":0},{"$f":"BY149","v":0},null,null,null,{"$f":"IF(AND(O109=0,P109=0),\"\",IF(O109>P109,M107,M110))","v":""},null,null,null,null,null,null,null,null,null,null,null,null,null,null,null,null,null,null,null,null,null,null,null,null,null,null,null,null,null,null,null,null,null,null,null,null,null,null,106,null,null,null,null,{"$f":"F319","v":{"$error":"#REF!"}},{"$f":"F321","v":{"$error":"#REF!"}}]
[null,null,null,"",null,null,null,{"$f":"BX39","v":0},{"$f":"BY39","v":0},null,null,36,{"$f":"IF(AND(H110=0,I110=0),\"\",IF(H110>I110,F109,F111))","v":""},null,null,null,null,null,null,null,null,null,null,null,null,null,null,null,null,null,null,null,null,null,null,null,null,null,null,null,null,null,null,null,null,null,null,null,null,null,null,null,null,null,null,null,null,null,107,null,null,null,null,{"$f":"F322","v":{"$error":"#REF!"}},{"$f":"F324","v":{"$error":"#REF!"}}]
[72,60,999,"",197,{"$f":"IF(Main!$Q$2=3,VLOOKUP(E111,Katılım!$A$4:$Z$55,26,0),#REF!)","v":{"$error":"#REF!"}},null,null,null,null,null,null,null,null,null,null,null,null,null,null,null,null,null,null,null,null,null,null,null,null,null,null,null,null,null,null,null,null,null,null,null,null,null,null,null,null,null,null,null,null,null,null,null,null,null,null,null,null,108,null,null,null,null,{"$f":"F325","v":{"$error":"#REF!"}},{"$f":"F327","v":{"$error":"#REF!"}}]
[73,53,null,"",37,{"$f":"IF(Main!$Q$2=3,VLOOKUP(E112,Katılım!$A$4:$Z$55,26,0),#REF!)","v":{"$error":"#REF!"}},null,null,null,null,null,null,null,null,null,null,null,null,null,null,null,null,null,null,null,null,null,null,null,{"$f":"BX232","v":0},{"$f":"BY232","v":0},null,null,{"$f":"IF(AND(AD112=0,AE112=0),\"\",IF(AD112>AE112,AA106,AA118))","v":""},null,null,null,null,null,null,null,null,null,null,null,null,null,null,null,null,null,null,null,null,null,null,null,null,109,null,null,null,null,{"$f":"F328","v":{"$error":"#REF!"}},{"$f":"F330","v":{"$error":"#REF!"}}]
[null,null,null,"",null,null,null,{"$f":"BX40","v":0},{"$f":"BY40","v":0},null,null,37,{"$f":"IF(AND(H113=0,I113=0),\"\",IF(H113>I113,F112,F114))","v":""},null,null,null,null,null,null,null,null,null,null,null,null,null,null,null,null,null,null,null,null,null,null,null,null,null,null,243,null,null,null,null,null,null,null,null,null,null,null,null,null,null,null,null,null,null,110,null,null,null,null,{"$f":"F331","v":{"$error":"#REF!"}},{"$f":"F333","v":{"$error":"#REF!"}}]
[74,129,53,"",220,{"$f":"IF(Main!$Q$2=3,VLOOKUP(E114,Katılım!$A$4:$Z$55,26,0),#REF!)","v":{"$error":"#REF!"}},null,null,null,null,null,null,null,null,null,null,null,null,{"$f":"+S108+1","v":23},{"$f":"IF(AND(O115=0,P115=0),\"\",IF(O115>P115,M113,M116))","v":""},null,null,null,null,null,null,null,null,null,null,null,null,null,null,null,null,null,null,null,null,null,null,null,null,null,null,null,null,null,null,null,null,null,null,null,null,null,null,111,null,null,null,null,{"$f":"F334","v":{"$error":"#REF!"}},{"$f":"F336","v":{"$error":"#REF!"}}]
[75,129,null,"E10",92,{"$f":"IF(Main!$Q$2=3,VLOOKUP(E115,Katılım!$A$4:$Z$55,26,0),#REF!)","v":{"$error":"#REF!"}},null,null,null,null,null,null,null,null,{"$f":"BX150","v":0},{"$f":"BY150","v":0},null,null,null,null,null,null,null,null,null,{"$f":"+Z103+1","v":16},null,null,null,null,null,null,null,null,null,null,null,null,null,null,null,null,null,null,null,null,null,null,null,null,null,null,null,null,null,null,null,null,112,null,null,null,null,{"$f":"F337","v":{"$error":"#REF!"}},{"$f":"F339","v":{"$error":"#REF!"}}]
[null,null,null,"",null,null,null,{"$f":"BX41","v":0},{"$f":"BY41","v":0},null,null,38,{"$f":"IF(AND(H116=0,I116=0),\"\",IF(H116>I116,F115,F117))","v":""},null,null,null,null,null,null,null,null,null,null,null,null,null,null,null,null,null,null,null,null,null,null,null,null,null,null,null,null,null,null,null,null,null,null,null,null,null,null,null,null,null,null,null,null,null,113,null,null,null,null,{"$f":"F340","v":{"$error":"#REF!"}},{"$f":"F342","v":{"$error":"#REF!"}}]
[76,65,null,"",165,{"$f":"IF(Main!$Q$2=3,VLOOKUP(E117,Katılım!$A$4:$Z$55,26,0),#REF!)","v":{"$error":"#REF!"}},null,null,null,null,null,null,null,null,null,null,null,null,null,null,null,null,null,null,null,null,null,null,null,null,null,null,null,null,null,null,null,null,null,null,null,null,null,null,null,null,null,null,null,null,null,null,null,null,null,null,null,null,114,null,null,null,null,{"$f":"F343","v":{"$error":"#REF!"}},{"$f":"F345","v":{"$error":"#REF!"}}]
[77,65,null,"",101,{"$f":"IF(Main!$Q$2=3,VLOOKUP(E118,Katılım!$A$4:$Z$55,26,0),#REF!)","v":{"$error":"#REF!"}},null,null,null,null,null,null,null,null,null,null,null,null,null,null,null,{"$f":"BX205","v":0},{"$f":"BY205","v":0},null,null,null,{"$f":"IF(AND(V118=0,W118=0),\"\",IF(V118>W118,T114,T121))","v":""},null,null,null,null,null,null,null,null,null,null,null,null,null,null,null,null,null,null,null,null,null,null,null,null,null,null,null,null,null,null,null,115,null,null,null,null,{"$f":"F346","v":{"$error":"#REF!"}},{"$f":"F348","v":{"$error":"#REF!"}}]
[null,null,null,"",null,null,null,{"$f":"BX42","v":0},{"$f":"BY42","v":0},null,null,39,{"$f":"IF(AND(H119=0,I119=0),\"\",IF(H119>I119,F118,F120))","v":""},null,null,null,null,null,null,null,null,null,null,null,null,null,null,null,null,null,null,null,null,null,null,null,null,null,null,null,null,null,null,null,null,null,null,null,null,null,null,null,null,null,null,null,null,null,116,null,null,null,null,{"$f":"F349","v":{"$error":"#REF!"}},{"$f":"F351","v":{"$error":"#REF!"}}]
[78,129,null,"",156,{"$f":"IF(Main!$Q$2=3,VLOOKUP(E120,Katılım!$A$4:$Z$55,26,0),#REF!)","v":{"$error":"#REF!"}},null,null,null,null,null,null,null,null,null,null,null,null,{"$f":"+S114+1","v":24},null,null,null,null,null,null,null,null,null,null,null,null,null,null,null,null,null,null,null,null,null,null,null,null,null,null,null,null,null,null,null,null,null,null,null,null,null,null,null,117,null,null,null,null,{"$f":"F352","v":{"$error":"#REF!"}},{"$f":"F354","v":{"$error":"#REF!"}}]
[79,129,28,"E2",28,{"$f":"IF(Main!$Q$2=3,VLOOKUP(E121,Katılım!$A$4:$Z$55,26,0),#REF!)","v":{"$error":"#REF!"}},null,null,null,null,null,null,null,null,{"$f":"BX151","v":0},{"$f":"BY151","v":0},null,null,null,{"$f":"IF(AND(O121=0,P121=0),\"\",IF(O121>P121,M119,M122))","v":""},null,null,null,null,null,null,null,null,null,null,null,null,null,null,null,null,null,null,null,null,null,null,null,null,null,null,null,null,null,null,null,null,null,null,null,null,null,null,118,null,null,null,null,{"$f":"F355","v":{"$error":"#REF!"}},{"$f":"F357","v":{"$error":"#REF!"}}]
[null,null,null,"",null,null,null,{"$f":"BX43","v":0},{"$f":"BY43","v":0},null,null,40,{"$f":"IF(AND(H122=0,I122=0),\"\",IF(H122>I122,F121,F123))","v":""},null,null,null,null,null,null,null,null,null,null,null,null,null,null,null,null,null,null,null,null,null,null,null,null,null,null,null,null,null,null,null,null,null,null,null,null,null,null,null,null,null,null,null,null,null,119,null,null,null,null,{"$f":"F358","v":{"$error":"#REF!"}},{"$f":"F360","v":{"$error":"#REF!"}}]
[80,28,null,"",229,{"$f":"IF(Main!$Q$2=3,VLOOKUP(E123,Katılım!$A$4:$Z$55,26,0),#REF!)","v":{"$error":"#REF!"}},null,null,null,null,null,null,null,null,null,null,null,null,null,null,null,null,null,null,null,null,null,null,null,null,null,null,null,null,null,null,null,null,null,null,null,null,null,null,null,null,null,null,null,null,null,null,null,null,null,null,null,null,120,null,null,null,null,{"$f":"F361","v":{"$error":"#REF!"}},{"$f":"F363","v":{"$error":"#REF!"}}]
[81,21,null,"",21,{"$f":"IF(Main!$Q$2=3,VLOOKUP(E124,Katılım!$A$4:$Z$55,26,0),#REF!)","v":{"$error":"#REF!"}},null,null,null,null,null,null,null,null,null,null,null,null,null,null,null,null,null,null,null,null,null,null,null,null,null,null,null,null,null,null,{"$f":"BX246","v":0},{"$f":"BY246","v":0},null,null,{"$f":"IF(AND(AK124=0,AL124=0),\"\",IF(AK124>AL124,AH112,AH136))","v":""},null,null,null,null,null,null,null,null,null,null,null,null,null,null,null,null,null,121,null,null,null,null,{"$f":"F364","v":{"$error":"#REF!"}},{"$f":"F366","v":{"$error":"#REF!"}}]
[null,null,null,"",null,null,null,{"$f":"BX44","v":0},{"$f":"BY44","v":0},null,null,41,{"$f":"IF(AND(H125=0,I125=0),\"\",IF(H125>I125,F124,F126))","v":""},null,null,null,null,null,null,null,null,null,null,null,null,null,null,null,null,null,null,null,null,null,null,null,null,null,null,null,null,null,null,null,null,null,null,null,null,null,null,null,null,null,null,null,null,null,122,null,null,null,null,{"$f":"F367","v":{"$error":"#REF!"}},{"$f":"F369","v":{"$error":"#REF!"}}]
[82,129,21,"E30",236,{"$f":"IF(Main!$Q$2=3,VLOOKUP(E126,Katılım!$A$4:$Z$55,26,0),#REF!)","v":{"$error":"#REF!"}},null,null,null,null,null,null,null,null,null,null,null,null,{"$f":"+S120+1","v":25},{"$f":"IF(AND(O127=0,P127=0),\"\",IF(O127>P127,M125,M128))","v":""},null,null,null,null,null,null,null,null,null,null,null,null,null,null,null,null,null,null,null,null,null,null,null,null,null,null,null,null,null,null,null,null,null,null,null,null,null,null,123,null,null,null,null,{"$f":"F370","v":{"$error":"#REF!"}},{"$f":"F372","v":{"$error":"#REF!"}}]
[83,129,null,"",108,{"$f":"IF(Main!$Q$2=3,VLOOKUP(E127,Katılım!$A$4:$Z$55,26,0),#REF!)","v":{"$error":"#REF!"}},null,null,null,null,null,null,null,null,{"$f":"BX152","v":0},{"$f":"BY152","v":0},null,null,null,null,null,null,null,null,null,{"$f":"+Z115+1","v":17},null,null,null,null,null,null,null,null,null,null,null,null,null,null,null,null,null,null,null,null,null,null,null,null,null,null,null,null,null,null,null,null,124,null,null,null,null,{"$f":"F373","v":{"$error":"#REF!"}},{"$f":"F375","v":{"$error":"#REF!"}}]
[null,null,null,"",null,null,null,{"$f":"BX45","v":0},{"$f":"BY45","v":0},null,null,42,{"$f":"IF(AND(H128=0,I128=0),\"\",IF(H128>I128,F127,F129))","v":""},null,null,null,null,null,null,null,null,null,null,null,null,null,null,null,null,null,null,null,null,null,null,null,null,null,null,null,null,null,null,null,null,null,null,null,null,null,null,null,null,null,null,null,null,null,125,null,null,null,null,{"$f":"F376","v":{"$error":"#REF!"}},{"$f":"F378","v":{"$error":"#REF!"}}]
[84,65,null,"",149,{"$f":"IF(Main!$Q$2=3,VLOOKUP(E129,Katılım!$A$4:$Z$55,26,0),#REF!)","v":{"$error":"#REF!"}},null,null,null,null,null,null,null,null,null,null,null,null,null,null,null,null,null,null,null,null,null,null,null,null,null,null,null,null,null,null,null,null,null,null,null,null,null,null,null,null,null,null,null,null,null,null,null,null,null,null,null,null,126,null,null,null,null,{"$f":"F379","v":{"$error":"#REF!"}},{"$f":"F381","v":{"$error":"#REF!"}}]
[85,65,null,"",85,{"$f":"IF(Main!$Q$2=3,VLOOKUP(E130,Katılım!$A$4:$Z$55,26,0),#REF!)","v":{"$error":"#REF!"}},null,null,null,null,null,null,null,null,null,null,null,null,null,null,null,{"$f":"BX206","v":0},{"$f":"BY206","v":0},null,null,null,{"$f":"IF(AND(V130=0,W130=0),\"\",IF(V130>W130,T126,T133))","v":""},null,null,null,null,null,null,null,null,null,null,null,null,null,null,null,null,null,null,null,null,null,null,null,null,null,null,null,null,null,null,null,127,null,null,null,null,{"$f":"F382","v":{"$error":"#REF!"}},{"$f":"F384","v":{"$error":"#REF!"}}]
[null,null,null,"",null,null,null,{"$f":"BX46","v":0},{"$f":"BY46","v":0},null,null,43,{"$f":"IF(AND(H131=0,I131=0),\"\",IF(H131>I131,F130,F132))","v":""},null,null,null,null,null,null,null,null,null,null,null,null,null,null,null,null,null,null,null,{"$f":"+AG107+1","v":{"$error":"#VALUE!"}},null,null,null,null,null,null,null,null,null,null,null,null,null,null,null,null,null,null,null,null,null,null,null,null,null,128,null,null,null,null,{"$f":"F385","v":{"$error":"#REF!"}},{"$f":"F387","v":{"$error":"#REF!"}}]
[86,129,null,"E16",172,{"$f":"IF(Main!$Q$2=3,VLOOKUP(E132,Katılım!$A$4:$Z$55,26,0),#REF!)","v":{"$error":"#REF!"}},null,null,null,null,null,null,null,null,null,null,null,null,{"$f":"+S126+1","v":26},null,null,null,null,null,null,null,null,null,null,null,null,null,null,null,null,null,null,null,null,null,null,null,null,null,null,null,null,null,null,null,null,null,null,null,null,null,null,null,129,null,null,null,null,{"$f":"M5","v":""},{"$f":"M8","v":""}]
[87,129,44,"",44,{"$f":"IF(Main!$Q$2=3,VLOOKUP(E133,Katılım!$A$4:$Z$55,26,0),#REF!)","v":{"$error":"#REF!"}},null,null,null,null,null,null,null,null,{"$f":"BX153","v":0},{"$f":"BY153","v":0},null,null,null,{"$f":"IF(AND(O133=0,P133=0),\"\",IF(O133>P133,M131,M134))","v":""},null,null,null,null,null,null,null,null,null,null,null,null,null,null,null,null,null,null,null,null,null,null,null,null,null,null,null,null,null,null,null,null,null,null,null,null,null,null,130,null,null,null,null,{"$f":"M11","v":""},{"$f":"M14","v":""}]
[null,null,null,"",null,null,null,{"$f":"BX47","v":0},{"$f":"BY47","v":0},null,null,44,{"$f":"IF(AND(H134=0,I134=0),\"\",IF(H134>I134,F133,F135))","v":""},null,null,null,null,null,null,null,null,null,null,null,null,null,null,null,null,null,null,null,null,null,null,null,null,null,null,null,null,null,null,null,null,null,null,null,null,null,null,null,null,null,null,null,null,null,131,null,null,null,null,{"$f":"M17","v":""},{"$f":"M20","v":""}]
[88,44,null,"",213,{"$f":"IF(Main!$Q$2=3,VLOOKUP(E135,Katılım!$A$4:$Z$55,26,0),#REF!)","v":{"$error":"#REF!"}},null,null,null,null,null,null,null,null,null,null,null,null,null,null,null,null,null,null,null,null,null,null,null,null,null,null,null,null,null,null,null,null,null,null,null,null,null,null,null,null,null,null,null,null,null,null,null,null,null,null,null,null,132,null,null,null,null,{"$f":"M23","v":""},{"$f":"M26","v":""}]
[89,37,null,"",53,{"$f":"IF(Main!$Q$2=3,VLOOKUP(E136,Katılım!$A$4:$Z$55,26,0),#REF!)","v":{"$error":"#REF!"}},null,null,null,null,null,null,null,null,null,null,null,null,null,null,null,null,null,null,null,null,null,null,null,{"$f":"BX233","v":0},{"$f":"BY233","v":0},null,null,{"$f":"IF(AND(AD136=0,AE136=0),\"\",IF(AD136>AE136,AA130,AA142))","v":""},null,null,null,null,null,null,null,null,null,null,null,null,null,null,null,null,null,null,null,null,null,null,null,null,133,null,null,null,null,{"$f":"M29","v":""},{"$f":"M32","v":""}]
[null,null,null,"",null,null,null,{"$f":"BX48","v":0},{"$f":"BY48","v":0},null,null,45,{"$f":"IF(AND(H137=0,I137=0),\"\",IF(H137>I137,F136,F138))","v":""},null,null,null,null,null,null,null,null,null,null,null,null,null,null,null,null,null,null,null,null,null,null,null,null,null,null,null,null,null,null,null,null,null,null,null,null,null,null,null,null,null,null,null,null,null,134,null,null,null,null,{"$f":"M35","v":""},{"$f":"M38","v":""}]
[90,129,37,"",204,{"$f":"IF(Main!$Q$2=3,VLOOKUP(E138,Katılım!$A$4:$Z$55,26,0),#REF!)","v":{"$error":"#REF!"}},null,null,null,null,null,null,null,null,null,null,null,null,{"$f":"+S132+1","v":27},{"$f":"IF(AND(O139=0,P139=0),\"\",IF(O139>P139,M137,M140))","v":""},null,null,null,null,null,null,null,null,null,null,null,null,null,null,null,null,null,null,null,null,null,null,null,null,null,null,null,null,null,null,null,null,null,null,null,null,null,null,135,null,null,null,null,{"$f":"M41","v":""},{"$f":"M44","v":""}]
[91,129,null,"E18",76,{"$f":"IF(Main!$Q$2=3,VLOOKUP(E139,Katılım!$A$4:$Z$55,26,0),#REF!)","v":{"$error":"#REF!"}},null,null,null,null,null,null,null,null,{"$f":"BX154","v":0},{"$f":"BY154","v":0},null,null,null,null,null,null,null,null,null,{"$f":"+Z127+1","v":18},null,null,null,null,null,null,null,null,null,null,null,null,null,null,null,null,null,null,null,null,null,null,null,null,null,null,null,null,null,null,null,null,136,null,null,null,null,{"$f":"M47","v":""},{"$f":"M50","v":""}]
[null,null,null,"",null,null,null,{"$f":"BX49","v":0},{"$f":"BY49","v":0},null,null,46,{"$f":"IF(AND(H140=0,I140=0),\"\",IF(H140>I140,F139,F141))","v":""},null,null,null,null,null,null,null,null,null,null,null,null,null,null,null,null,null,null,null,null,null,null,null,null,null,null,null,null,null,null,null,null,null,null,null,null,null,null,null,null,null,null,null,null,null,137,null,null,null,null,{"$f":"M53","v":""},{"$f":"M56","v":""}]
[92,65,null,"",181,{"$f":"IF(Main!$Q$2=3,VLOOKUP(E141,Katılım!$A$4:$Z$55,26,0),#REF!)","v":{"$error":"#REF!"}},null,null,null,null,null,null,null,null,null,null,null,null,null,null,null,null,null,null,null,null,null,null,null,null,null,null,null,null,null,null,null,null,null,null,null,null,null,null,null,null,null,null,null,null,null,null,null,null,null,null,null,null,138,null,null,null,null,{"$f":"M59","v":""},{"$f":"M62","v":""}]
[93,65,null,"",117,{"$f":"IF(Main!$Q$2=3,VLOOKUP(E142,Katılım!$A$4:$Z$55,26,0),#REF!)","v":{"$error":"#REF!"}},null,null,null,null,null,null,null,null,null,null,null,null,null,null,null,{"$f":"BX207","v":0},{"$f":"BY207","v":0},null,null,null,{"$f":"IF(AND(V142=0,W142=0),\"\",IF(V142>W142,T138,T145))","v":""},null,null,null,null,null,null,null,null,null,null,null,null,null,null,null,null,null,null,null,null,null,null,null,null,null,null,null,null,null,null,null,139,null,null,null,null,{"$f":"M65","v":""},{"$f":"M68","v":""}]
[null,null,null,"",null,null,null,{"$f":"BX50","v":0},{"$f":"BY50","v":0},null,null,47,{"$f":"IF(AND(H143=0,I143=0),\"\",IF(H143>I143,F142,F144))","v":""},null,null,null,null,null,null,null,null,null,null,null,null,null,null,null,null,null,null,null,null,null,null,null,null,null,null,null,null,null,null,null,null,null,null,null,null,null,null,null,null,null,null,null,null,null,140,null,null,null,null,{"$f":"M71","v":""},{"$f":"M74","v":""}]
[94,129,null,"",140,{"$f":"IF(Main!$Q$2=3,VLOOKUP(E144,Katılım!$A$4:$Z$55,26,0),#REF!)","v":{"$error":"#REF!"}},null,null,null,null,null,null,null,null,null,null,null,null,{"$f":"+S138+1","v":28},null,null,null,null,null,null,null,null,null,null,null,null,null,null,null,null,null,null,null,null,null,null,null,null,null,null,null,null,null,null,null,null,null,null,null,null,null,null,null,141,null,null,null,null,{"$f":"M77","v":""},{"$f":"M80","v":""}]
[95,129,12,"",12,{"$f":"IF(Main!$Q$2=3,VLOOKUP(E145,Katılım!$A$4:$Z$55,26,0),#REF!)","v":{"$error":"#REF!"}},null,null,null,null,null,null,null,null,{"$f":"BX155","v":0},{"$f":"BY155","v":0},null,null,null,{"$f":"IF(AND(O145=0,P145=0),\"\",IF(O145>P145,M143,M146))","v":""},null,null,null,null,null,null,null,null,null,null,null,null,null,null,null,null,null,null,null,null,null,null,null,null,null,null,null,null,null,null,null,null,null,null,null,null,null,null,142,null,null,null,null,{"$f":"M83","v":""},{"$f":"M86","v":""}]
[null,null,null,"",null,null,null,{"$f":"BX51","v":0},{"$f":"BY51","v":0},null,null,48,{"$f":"IF(AND(H146=0,I146=0),\"\",IF(H146>I146,F145,F147))","v":""},null,null,null,null,null,null,null,null,null,null,null,null,null,null,null,null,null,null,null,null,null,null,null,null,null,null,null,null,null,null,null,null,null,null,null,null,null,null,null,null,null,null,null,null,null,143,null,null,null,null,{"$f":"M89","v":""},{"$f":"M92","v":""}]
[96,12,null,"",245,{"$f":"IF(Main!$Q$2=3,VLOOKUP(E147,Katılım!$A$4:$Z$55,26,0),#REF!)","v":{"$error":"#REF!"}},null,null,null,null,null,null,null,null,null,null,null,null,null,null,null,null,null,null,null,null,null,null,null,null,null,null,null,null,null,null,null,null,null,null,null,null,null,null,null,null,null,null,null,null,null,null,null,null,null,null,null,null,144,null,null,null,null,{"$f":"M95","v":""},{"$f":"M98","v":""}]
[97,13,null,"",13,{"$f":"IF(Main!$Q$2=3,VLOOKUP(E148,Katılım!$A$4:$Z$55,26,0),#REF!)","v":{"$error":"#REF!"}},null,null,null,null,null,null,null,null,null,null,null,null,null,null,null,null,null,null,null,null,null,null,null,null,null,null,null,null,null,null,null,null,null,null,null,null,null,null,null,null,null,null,null,null,null,null,null,null,null,null,null,null,145,null,null,null,null,{"$f":"M101","v":""},{"$f":"M104","v":""}]
[null,null,null,"",null,null,null,{"$f":"BX52","v":0},{"$f":"BY52","v":0},null,null,49,{"$f":"IF(AND(H149=0,I149=0),\"\",IF(H149>I149,F148,F150))","v":""},null,null,null,null,null,null,null,null,null,null,null,null,null,null,null,null,null,null,null,null,null,null,null,null,null,null,null,null,null,null,null,null,null,null,null,null,null,null,null,null,null,null,null,null,null,146,null,null,null,null,{"$f":"M107","v":""},{"$f":"M110","v":""}]
[98,129,13,"",244,{"$f":"IF(Main!$Q$2=3,VLOOKUP(E150,Katılım!$A$4:$Z$55,26,0),#REF!)","v":{"$error":"#REF!"}},null,null,null,null,null,null,null,null,null,null,null,null,{"$f":"+S144+1","v":29},{"$f":"IF(AND(O151=0,P151=0),\"\",IF(O151>P151,M149,M152))","v":""},null,null,null,null,null,null,null,null,null,null,null,null,null,null,null,null,null,null,null,null,null,null,null,null,null,null,null,null,null,null,null,null,null,null,null,null,null,null,147,null,null,null,null,{"$f":"M113","v":""},{"$f":"M116","v":""}]
[99,129,null,"E27",116,{"$f":"IF(Main!$Q$2=3,VLOOKUP(E151,Katılım!$A$4:$Z$55,26,0),#REF!)","v":{"$error":"#REF!"}},null,null,null,null,null,null,null,null,{"$f":"BX156","v":0},{"$f":"BY156","v":0},null,null,null,null,null,null,null,null,null,{"$f":"+Z139+1","v":19},null,null,null,null,null,null,null,null,null,null,null,null,null,null,null,null,null,null,null,null,null,null,null,null,null,null,null,null,null,null,null,null,148,null,null,null,null,{"$f":"M119","v":""},{"$f":"M122","v":""}]
[null,null,null,"",null,null,null,{"$f":"BX53","v":0},{"$f":"BY53","v":0},null,null,50,{"$f":"IF(AND(H152=0,I152=0),\"\",IF(H152>I152,F151,F153))","v":""},null,null,null,null,null,null,null,null,null,null,null,null,null,null,null,null,null,null,null,null,null,null,null,null,null,null,null,null,null,null,null,null,null,null,null,null,null,null,null,null,null,null,null,null,null,149,null,null,null,null,{"$f":"M125","v":""},{"$f":"M128","v":""}]
[100,65,null,"",141,{"$f":"IF(Main!$Q$2=3,VLOOKUP(E153,Katılım!$A$4:$Z$55,26,0),#REF!)","v":{"$error":"#REF!"}},null,null,null,null,null,null,null,null,null,null,null,null,null,null,null,null,null,null,null,null,null,null,null,null,null,null,null,null,null,null,null,null,null,null,null,null,null,null,null,null,null,null,null,null,null,null,null,null,null,null,null,null,150,null,null,null,null,{"$f":"M131","v":""},{"$f":"M134","v":""}]
[101,65,null,"",77,{"$f":"IF(Main!$Q$2=3,VLOOKUP(E154,Katılım!$A$4:$Z$55,26,0),#REF!)","v":{"$error":"#REF!"}},null,null,null,null,null,null,null,null,null,null,null,null,null,null,null,{"$f":"BX208","v":0},{"$f":"BY208","v":0},null,null,null,{"$f":"IF(AND(V154=0,W154=0),\"\",IF(V154>W154,T150,T157))","v":""},null,null,null,null,null,null,null,null,null,null,null,null,null,null,null,null,null,null,null,null,null,null,null,null,null,null,null,null,null,null,null,151,null,null,null,null,{"$f":"M137","v":""},{"$f":"M140","v":""}]
[null,null,null,"",null,null,null,{"$f":"BX54","v":0},{"$f":"BY54","v":0},null,null,51,{"$f":"IF(AND(H155=0,I155=0),\"\",IF(H155>I155,F154,F156))","v":""},null,null,null,null,null,null,null,null,null,null,null,null,null,null,null,null,null,null,null,{"$f":"+AG131+1","v":{"$error":"#VALUE!"}},null,null,null,null,null,null,null,null,null,null,null,null,null,null,null,null,null,null,null,null,null,null,null,null,null,152,null,null,null,null,{"$f":"M143","v":""},{"$f":"M146","v":""}]
[102,129,null,"E22",180,{"$f":"IF(Main!$Q$2=3,VLOOKUP(E156,Katılım!$A$4:$Z$55,26,0),#REF!)","v":{"$error":"#REF!"}},null,null,null,null,null,null,null,null,null,null,null,null,{"$f":"+S150+1","v":30},null,null,null,null,null,null,null,null,null,null,null,null,null,null,null,null,null,null,null,null,null,null,null,null,null,null,null,null,null,null,null,null,null,null,null,null,null,null,null,153,null,null,null,null,{"$f":"M149","v":""},{"$f":"M152","v":""}]
[103,129,36,"",52,{"$f":"IF(Main!$Q$2=3,VLOOKUP(E157,Katılım!$A$4:$Z$55,26,0),#REF!)","v":{"$error":"#REF!"}},null,null,null,null,null,null,null,null,{"$f":"BX157","v":0},{"$f":"BY157","v":0},null,null,null,{"$f":"IF(AND(O157=0,P157=0),\"\",IF(O157>P157,M155,M158))","v":""},null,null,null,null,null,null,null,null,null,null,null,null,null,null,null,null,null,null,null,null,null,null,null,null,null,null,null,null,null,null,null,null,null,null,null,null,null,null,154,null,null,null,null,{"$f":"M155","v":""},{"$f":"M158","v":""}]
[null,null,null,"",null,null,null,{"$f":"BX55","v":0},{"$f":"BY55","v":0},null,null,52,{"$f":"IF(AND(H158=0,I158=0),\"\",IF(H158>I158,F157,F159))","v":""},null,null,null,null,null,null,null,null,null,null,null,null,null,null,null,null,null,null,null,null,null,null,null,null,null,null,null,null,null,null,null,null,null,null,null,null,null,null,null,null,null,null,null,null,null,155,null,null,null,null,{"$f":"M161","v":""},{"$f":"M164","v":""}]
[104,36,null,"",205,{"$f":"IF(Main!$Q$2=3,VLOOKUP(E159,Katılım!$A$4:$Z$55,26,0),#REF!)","v":{"$error":"#REF!"}},null,null,null,null,null,null,null,null,null,null,null,null,null,null,null,null,null,null,null,null,null,null,null,null,null,null,null,null,null,null,null,null,null,null,null,null,null,null,null,null,null,null,null,null,null,null,null,null,null,null,null,null,156,null,null,null,null,{"$f":"M167","v":""},{"$f":"M170","v":""}]
[105,45,null,"",45,{"$f":"IF(Main!$Q$2=3,VLOOKUP(E160,Katılım!$A$4:$Z$55,26,0),#REF!)","v":{"$error":"#REF!"}},null,null,null,null,null,null,null,null,null,null,null,null,null,null,null,null,null,null,null,null,null,null,null,{"$f":"BX234","v":0},{"$f":"BY234","v":0},null,null,{"$f":"IF(AND(AD160=0,AE160=0),\"\",IF(AD160>AE160,AA154,AA166))","v":""},null,null,null,null,null,null,null,null,null,null,null,null,null,null,null,null,null,null,null,null,null,null,null,null,157,null,null,null,null,{"$f":"M173","v":""},{"$f":"M176","v":""}]
[null,null,null,"",null,null,null,{"$f":"BX56","v":0},{"$f":"BY56","v":0},null,null,53,{"$f":"IF(AND(H161=0,I161=0),\"\",IF(H161>I161,F160,F162))","v":""},null,null,null,null,null,null,null,null,null,null,null,null,null,null,null,null,null,null,null,null,null,null,null,null,null,null,244,null,null,null,null,null,null,null,null,null,null,null,null,null,null,null,null,null,null,158,null,null,null,null,{"$f":"M179","v":""},{"$f":"M182","v":""}]
[106,129,45,"",212,{"$f":"IF(Main!$Q$2=3,VLOOKUP(E162,Katılım!$A$4:$Z$55,26,0),#REF!)","v":{"$error":"#REF!"}},null,null,null,null,null,null,null,null,null,null,null,null,{"$f":"+S156+1","v":31},{"$f":"IF(AND(O163=0,P163=0),\"\",IF(O163>P163,M161,M164))","v":""},null,null,null,null,null,null,null,null,null,null,null,null,null,null,null,null,null,null,null,null,null,null,null,null,null,null,null,null,null,null,null,null,null,null,null,null,null,null,159,null,null,null,null,{"$f":"M185","v":""},{"$f":"M188","v":""}]
[107,129,null,"E6",84,{"$f":"IF(Main!$Q$2=3,VLOOKUP(E163,Katılım!$A$4:$Z$55,26,0),#REF!)","v":{"$error":"#REF!"}},null,null,null,null,null,null,null,null,{"$f":"BX158","v":0},{"$f":"BY158","v":0},null,null,null,null,null,null,null,null,null,{"$f":"+Z151+1","v":20},null,null,null,null,null,null,null,null,null,null,null,null,null,null,null,null,null,null,null,null,null,null,null,null,null,null,null,null,null,null,null,null,160,null,null,null,null,{"$f":"M191","v":""},{"$f":"M194","v":""}]
[null,null,null,"",null,null,null,{"$f":"BX57","v":0},{"$f":"BY57","v":0},null,null,54,{"$f":"IF(AND(H164=0,I164=0),\"\",IF(H164>I164,F163,F165))","v":""},null,null,null,null,null,null,null,null,null,null,null,null,null,null,null,null,null,null,null,null,null,null,null,null,null,null,null,null,null,null,null,null,null,null,null,null,null,null,null,null,null,null,null,null,null,161,null,null,null,null,{"$f":"M197","v":""},{"$f":"M200","v":""}]
[108,65,null,"",173,{"$f":"IF(Main!$Q$2=3,VLOOKUP(E165,Katılım!$A$4:$Z$55,26,0),#REF!)","v":{"$error":"#REF!"}},null,null,null,null,null,null,null,null,null,null,null,null,null,null,null,null,null,null,null,null,null,null,null,null,null,null,null,null,null,null,null,null,null,null,null,null,null,null,null,null,null,null,null,null,null,null,null,null,null,null,null,null,162,null,null,null,null,{"$f":"M203","v":""},{"$f":"M206","v":""}]
[109,65,null,"",109,{"$f":"IF(Main!$Q$2=3,VLOOKUP(E166,Katılım!$A$4:$Z$55,26,0),#REF!)","v":{"$error":"#REF!"}},null,null,null,null,null,null,null,null,null,null,null,null,null,null,null,{"$f":"BX209","v":0},{"$f":"BY209","v":0},null,null,null,{"$f":"IF(AND(V166=0,W166=0),\"\",IF(V166>W166,T162,T169))","v":""},null,null,null,null,null,null,null,null,null,null,null,null,null,null,null,null,null,null,null,null,null,null,null,null,null,null,null,null,null,null,null,163,null,null,null,null,{"$f":"M209","v":""},{"$f":"M212","v":""}]
[null,null,null,"",null,null,null,{"$f":"BX58","v":0},{"$f":"BY58","v":0},null,null,55,{"$f":"IF(AND(H167=0,I167=0),\"\",IF(H167>I167,F166,F168))","v":""},null,null,null,null,null,null,null,null,null,null,null,null,null,null,null,null,null,null,null,null,null,null,null,null,null,null,null,null,null,null,null,null,null,null,null,null,null,null,null,null,null,null,null,null,null,164,null,null,null,null,{"$f":"M215","v":""},{"$f":"M218","v":""}]
[110,129,null,"E12",148,{"$f":"IF(Main!$Q$2=3,VLOOKUP(E168,Katılım!$A$4:$Z$55,26,0),#REF!)","v":{"$error":"#REF!"}},null,null,null,null,null,null,null,null,null,null,null,null,{"$f":"+S162+1","v":32},null,null,null,null,null,null,null,null,null,null,null,null,null,null,null,null,null,null,null,null,null,null,null,null,null,null,null,null,null,null,null,null,null,null,null,null,null,null,null,165,null,null,null,null,{"$f":"M221","v":""},{"$f":"M224","v":""}]
[111,129,20,"",20,{"$f":"IF(Main!$Q$2=3,VLOOKUP(E169,Katılım!$A$4:$Z$55,26,0),#REF!)","v":{"$error":"#REF!"}},null,null,null,null,null,null,null,null,{"$f":"BX159","v":0},{"$f":"BY159","v":0},null,null,null,{"$f":"IF(AND(O169=0,P169=0),\"\",IF(O169>P169,M167,M170))","v":""},null,null,null,null,null,null,null,null,null,null,null,null,null,null,null,null,null,null,null,null,null,null,null,null,null,null,null,null,null,null,null,null,null,null,null,null,null,null,166,null,null,null,null,{"$f":"M227","v":""},{"$f":"M230","v":""}]
[null,null,null,"",null,null,null,{"$f":"BX59","v":0},{"$f":"BY59","v":0},null,null,56,{"$f":"IF(AND(H170=0,I170=0),\"\",IF(H170>I170,F169,F171))","v":""},null,null,null,null,null,null,null,null,null,null,null,null,null,null,null,null,null,null,null,null,null,null,null,null,null,null,null,null,null,null,null,null,null,null,null,null,null,null,null,null,null,null,null,null,null,167,null,null,null,null,{"$f":"M233","v":""},{"$f":"M236","v":""}]
[112,20,null,"",237,{"$f":"IF(Main!$Q$2=3,VLOOKUP(E171,Katılım!$A$4:$Z$55,26,0),#REF!)","v":{"$error":"#REF!"}},null,null,null,null,null,null,null,null,null,null,null,null,null,null,null,null,null,null,null,null,null,null,null,null,null,null,null,null,null,null,null,null,null,null,null,null,null,null,null,null,null,null,null,null,null,null,null,null,null,null,null,null,168,null,null,null,null,{"$f":"M239","v":""},{"$f":"M242","v":""}]
[113,29,null,"",29,{"$f":"IF(Main!$Q$2=3,VLOOKUP(E172,Katılım!$A$4:$Z$55,26,0),#REF!)","v":{"$error":"#REF!"}},null,null,null,null,null,null,null,null,null,null,null,null,null,null,null,null,null,null,null,null,null,null,null,null,null,null,null,null,null,null,{"$f":"BX247","v":0},{"$f":"BY247","v":0},null,null,{"$f":"IF(AND(AK172=0,AL172=0),\"\",IF(AK172>AL172,AH160,AH184))","v":""},null,null,null,null,null,null,null,null,null,null,null,null,null,null,null,null,null,169,null,null,null,null,{"$f":"M245","v":""},{"$f":"M248","v":""}]
[null,null,null,"",null,null,null,{"$f":"BX60","v":0},{"$f":"BY60","v":0},null,null,57,{"$f":"IF(AND(H173=0,I173=0),\"\",IF(H173>I173,F172,F174))","v":""},null,null,null,null,null,null,null,null,null,null,null,null,null,null,null,null,null,null,null,null,null,null,null,null,null,null,null,null,null,null,null,null,null,null,null,null,null,null,null,null,null,null,null,null,null,170,null,null,null,null,{"$f":"M251","v":""},{"$f":"M254","v":""}]
[114,129,29,"",228,{"$f":"IF(Main!$Q$2=3,VLOOKUP(E174,Katılım!$A$4:$Z$55,26,0),#REF!)","v":{"$error":"#REF!"}},null,null,null,null,null,null,null,null,null,null,null,null,{"$f":"+S168+1","v":33},{"$f":"IF(AND(O175=0,P175=0),\"\",IF(O175>P175,M173,M176))","v":""},null,null,null,null,null,null,null,null,null,null,null,null,null,null,null,null,null,null,null,null,null,null,null,null,null,null,null,null,null,null,null,null,null,null,null,null,null,null,171,null,null,null,null,{"$f":"M257","v":""},{"$f":"M260","v":""}]
[115,129,null,"",100,{"$f":"IF(Main!$Q$2=3,VLOOKUP(E175,Katılım!$A$4:$Z$55,26,0),#REF!)","v":{"$error":"#REF!"}},null,null,null,null,null,null,null,null,{"$f":"BX160","v":0},{"$f":"BY160","v":0},null,null,null,null,null,null,null,null,null,{"$f":"+Z163+1","v":21},null,null,null,null,null,null,null,null,null,null,null,null,null,null,null,null,null,null,null,null,null,null,null,null,null,null,null,null,null,null,null,null,172,null,null,null,null,{"$f":"M263","v":""},{"$f":"M266","v":""}]
[null,null,null,"",null,null,null,{"$f":"BX61","v":0},{"$f":"BY61","v":0},null,null,58,{"$f":"IF(AND(H176=0,I176=0),\"\",IF(H176>I176,F175,F177))","v":""},null,null,null,null,null,null,null,null,null,null,null,null,null,null,null,null,null,null,null,null,null,null,null,null,null,null,null,null,null,null,null,null,null,null,null,null,null,null,null,null,null,null,null,null,null,173,null,null,null,null,{"$f":"M269","v":""},{"$f":"M272","v":""}]
[116,65,null,"",157,{"$f":"IF(Main!$Q$2=3,VLOOKUP(E177,Katılım!$A$4:$Z$55,26,0),#REF!)","v":{"$error":"#REF!"}},null,null,null,null,null,null,null,null,null,null,null,null,null,null,null,null,null,null,null,null,null,null,null,null,null,null,null,null,null,null,null,null,null,null,null,null,null,null,null,null,null,null,null,null,null,null,null,null,null,null,null,null,174,null,null,null,null,{"$f":"M275","v":""},{"$f":"M278","v":""}]
[117,65,null,"",93,{"$f":"IF(Main!$Q$2=3,VLOOKUP(E178,Katılım!$A$4:$Z$55,26,0),#REF!)","v":{"$error":"#REF!"}},null,null,null,null,null,null,null,null,null,null,null,null,null,null,null,{"$f":"BX210","v":0},{"$f":"BY210","v":0},null,null,null,{"$f":"IF(AND(V178=0,W178=0),\"\",IF(V178>W178,T174,T181))","v":""},null,null,null,null,null,null,null,null,null,null,null,null,null,null,null,null,null,null,null,null,null,null,null,null,null,null,null,null,null,null,null,175,null,null,null,null,{"$f":"M281","v":""},{"$f":"M284","v":""}]
[null,null,null,"",null,null,null,{"$f":"BX62","v":0},{"$f":"BY62","v":0},null,null,59,{"$f":"IF(AND(H179=0,I179=0),\"\",IF(H179>I179,F178,F180))","v":""},null,null,null,null,null,null,null,null,null,null,null,null,null,null,null,null,null,null,null,{"$f":"+AG155+1","v":{"$error":"#VALUE!"}},null,null,null,null,null,null,null,null,null,null,null,null,null,null,null,null,null,null,null,null,null,null,null,null,null,176,null,null,null,null,{"$f":"M287","v":""},{"$f":"M290","v":""}]
[118,129,null,"E14",164,{"$f":"IF(Main!$Q$2=3,VLOOKUP(E180,Katılım!$A$4:$Z$55,26,0),#REF!)","v":{"$error":"#REF!"}},null,null,null,null,null,null,null,null,null,null,null,null,{"$f":"+S174+1","v":34},null,null,null,null,null,null,null,null,null,null,null,null,null,null,null,null,null,null,null,null,null,null,null,null,null,null,null,null,null,null,null,null,null,null,null,null,null,null,null,177,null,null,null,null,{"$f":"M293","v":""},{"$f":"M296","v":""}]
[119,129,52,"",36,{"$f":"IF(Main!$Q$2=3,VLOOKUP(E181,Katılım!$A$4:$Z$55,26,0),#REF!)","v":{"$error":"#REF!"}},null,null,null,null,null,null,null,null,{"$f":"BX161","v":0},{"$f":"BY161","v":0},null,null,null,{"$f":"IF(AND(O181=0,P181=0),\"\",IF(O181>P181,M179,M182))","v":""},null,null,null,null,null,null,null,null,null,null,null,null,null,null,null,null,null,null,null,null,null,null,null,null,null,null,null,null,null,null,null,null,null,null,null,null,null,null,178,null,null,null,null,{"$f":"M299","v":""},{"$f":"M302","v":""}]
[null,null,null,"",null,null,null,{"$f":"BX63","v":0},{"$f":"BY63","v":0},null,null,60,{"$f":"IF(AND(H182=0,I182=0),\"\",IF(H182>I182,F181,F183))","v":""},null,null,null,null,null,null,null,null,null,null,null,null,null,null,null,null,null,null,null,null,null,null,null,null,null,null,null,null,null,null,null,null,null,null,null,null,null,null,null,null,null,null,null,null,null,179,null,null,null,null,{"$f":"M305","v":""},{"$f":"M308","v":""}]
[120,52,null,"",221,{"$f":"IF(Main!$Q$2=3,VLOOKUP(E183,Katılım!$A$4:$Z$55,26,0),#REF!)","v":{"$error":"#REF!"}},null,null,null,null,null,null,null,null,null,null,null,null,null,null,null,null,null,null,null,null,null,null,null,null,null,null,null,null,null,null,null,null,null,null,null,null,null,null,null,null,null,null,null,null,null,null,null,null,null,null,null,null,180,null,null,null,null,{"$f":"M311","v":""},{"$f":"M314","v":""}]
[121,61,999,"",61,{"$f":"IF(Main!$Q$2=3,VLOOKUP(E184,Katılım!$A$4:$Z$55,26,0),#REF!)","v":{"$error":"#REF!"}},null,null,null,null,null,null,null,null,null,null,null,null,null,null,null,null,null,null,null,null,null,null,null,{"$f":"BX235","v":0},{"$f":"BY235","v":0},null,null,{"$f":"IF(AND(AD184=0,AE184=0),\"\",IF(AD184>AE184,AA178,AA190))","v":""},null,null,null,null,null,null,null,null,null,null,null,null,null,null,null,null,null,null,null,null,null,null,null,null,181,null,null,null,null,{"$f":"M317","v":""},{"$f":"M320","v":""}]
[null,null,null,"",null,null,null,{"$f":"BX64","v":0},{"$f":"BY64","v":0},null,null,61,{"$f":"IF(AND(H185=0,I185=0),\"\",IF(H185>I185,F184,F186))","v":""},null,null,null,null,null,null,null,null,null,null,null,null,null,null,null,null,null,null,null,null,null,null,null,null,null,null,null,null,null,null,null,null,null,null,null,null,null,null,null,null,null,null,null,null,null,182,null,null,null,null,{"$f":"M323","v":""},{"$f":"M326","v":""}]
[122,129,999,"",196,{"$f":"IF(Main!$Q$2=3,VLOOKUP(E186,Katılım!$A$4:$Z$55,26,0),#REF!)","v":{"$error":"#REF!"}},null,null,null,null,null,null,null,null,null,null,null,null,{"$f":"+S180+1","v":35},{"$f":"IF(AND(O187=0,P187=0),\"\",IF(O187>P187,M185,M188))","v":""},null,null,null,null,null,null,null,null,null,null,null,null,null,null,null,null,null,null,null,null,null,null,null,null,null,null,null,null,null,null,null,null,null,null,null,null,null,null,183,null,null,null,null,{"$f":"M329","v":""},{"$f":"M332","v":""}]
[123,129,999,"",68,{"$f":"IF(Main!$Q$2=3,VLOOKUP(E187,Katılım!$A$4:$Z$55,26,0),#REF!)","v":{"$error":"#REF!"}},null,null,null,null,null,null,null,null,{"$f":"BX162","v":0},{"$f":"BY162","v":0},null,null,null,null,null,null,null,null,null,{"$f":"+Z175+1","v":22},null,null,null,null,null,null,null,null,null,null,null,null,null,null,null,null,null,null,null,null,null,null,null,null,null,null,null,null,null,null,null,null,184,null,null,null,null,{"$f":"M335","v":""},{"$f":"M338","v":""}]
[null,null,null,"",null,null,null,{"$f":"BX65","v":0},{"$f":"BY65","v":0},null,null,62,{"$f":"IF(AND(H188=0,I188=0),\"\",IF(H188>I188,F187,F189))","v":""},null,null,null,null,null,null,null,null,null,null,null,null,null,null,null,null,null,null,null,null,null,null,null,null,null,null,null,null,null,null,null,null,null,null,null,null,null,null,null,null,null,null,null,null,null,185,null,null,null,null,{"$f":"M341","v":""},{"$f":"M344","v":""}]
[124,65,999,"",189,{"$f":"IF(Main!$Q$2=3,VLOOKUP(E189,Katılım!$A$4:$Z$55,26,0),#REF!)","v":{"$error":"#REF!"}},null,null,null,null,null,null,null,null,null,null,null,null,null,null,null,null,null,null,null,null,null,null,null,null,null,null,null,null,null,null,null,null,null,null,null,null,null,null,null,null,null,null,null,null,null,null,null,null,null,null,null,null,186,null,null,null,null,{"$f":"M347","v":""},{"$f":"M350","v":""}]
[125,65,999,"",125,{"$f":"IF(Main!$Q$2=3,VLOOKUP(E190,Katılım!$A$4:$Z$55,26,0),#REF!)","v":{"$error":"#REF!"}},null,null,null,null,null,null,null,null,null,null,null,null,null,null,null,{"$f":"BX211","v":0},{"$f":"BY211","v":0},null,null,null,{"$f":"IF(AND(V190=0,W190=0),\"\",IF(V190>W190,T186,T193))","v":""},null,null,null,null,null,null,null,null,null,null,null,null,null,null,null,null,null,null,null,null,null,null,null,null,null,null,null,null,null,null,null,187,null,null,null,null,{"$f":"M353","v":""},{"$f":"M356","v":""}]
[null,null,null,"",null,null,null,{"$f":"BX66","v":0},{"$f":"BY66","v":0},null,null,63,{"$f":"IF(AND(H191=0,I191=0),\"\",IF(H191>I191,F190,F192))","v":""},null,null,null,null,null,null,null,null,null,null,null,null,null,null,null,null,null,null,null,null,null,null,null,null,null,null,null,null,null,null,null,null,null,null,null,null,null,null,null,null,null,null,null,null,null,188,null,null,null,null,{"$f":"M359","v":""},{"$f":"M362","v":""}]
[126,129,999,"",132,{"$f":"IF(Main!$Q$2=3,VLOOKUP(E192,Katılım!$A$4:$Z$55,26,0),#REF!)","v":{"$error":"#REF!"}},null,null,null,null,null,null,null,null,null,null,null,null,{"$f":"+S186+1","v":36},null,null,null,null,null,null,null,null,null,null,null,null,null,null,null,null,null,null,null,null,null,null,null,null,null,null,null,null,null,null,null,null,null,null,null,null,null,null,null,189,null,null,null,null,{"$f":"M365","v":""},{"$f":"M368","v":""}]
[127,129,999,"",253,{"$f":"IF(Main!$Q$2=3,VLOOKUP(E193,Katılım!$A$4:$Z$55,26,0),#REF!)","v":{"$error":"#REF!"}},null,null,null,null,null,null,null,null,{"$f":"BX163","v":0},{"$f":"BY163","v":0},null,null,null,{"$f":"IF(AND(O193=0,P193=0),\"\",IF(O193>P193,M191,M194))","v":""},null,null,null,null,null,null,null,null,null,null,null,null,null,null,null,null,null,null,null,null,null,null,null,null,null,null,null,null,null,null,null,null,null,null,null,null,null,null,190,null,null,null,null,{"$f":"M371","v":""},{"$f":"M374","v":""}]
[null,null,null,"",null,null,null,{"$f":"BX67","v":0},{"$f":"BY67","v":0},null,null,64,{"$f":"IF(AND(H194=0,I194=0),\"\",IF(H194>I194,F193,F195))","v":""},null,null,null,null,null,null,null,null,null,null,null,null,null,null,null,null,null,null,null,null,null,null,null,null,null,null,null,null,null,null,null,null,null,null,null,null,null,null,null,null,null,null,null,null,null,191,null,null,null,null,{"$f":"M377","v":""},{"$f":"M380","v":""}]
[128,4,null,"",4,{"$f":"IF(Main!$Q$2=3,VLOOKUP(E195,Katılım!$A$4:$Z$55,26,0),#REF!)","v":{"$error":"#REF!"}},null,null,null,null,null,null,null,null,null,null,null,null,null,null,null,null,null,null,null,null,null,null,null,null,null,null,null,null,null,null,null,null,null,null,null,null,null,null,null,null,null,null,null,null,null,null,null,null,null,null,null,null,192,null,null,null,null,{"$f":"M383","v":""},{"$f":"M386","v":""}]
[129,3,null,"",3,{"$f":"IF(Main!$Q$2=3,VLOOKUP(E196,Katılım!$A$4:$Z$55,26,0),#REF!)","v":{"$error":"#REF!"}},null,null,null,null,null,null,null,null,null,null,null,null,null,null,null,null,null,null,null,null,null,null,null,null,null,null,null,null,null,null,null,null,null,null,null,null,null,null,null,null,null,null,null,null,null,null,null,null,null,null,null,null,193,null,null,null,null,{"$f":"T6","v":""},{"$f":"T13","v":""}]
[null,null,null,"",null,null,null,{"$f":"BX68","v":0},{"$f":"BY68","v":0},null,null,65,{"$f":"IF(AND(H197=0,I197=0),\"\",IF(H197>I197,F196,F198))","v":""},null,null,null,null,null,null,null,null,null,null,null,null,null,null,null,null,null,null,null,null,null,null,null,null,null,null,null,null,null,null,null,null,null,null,null,null,null,null,null,null,null,null,null,null,null,194,null,null,null,null,{"$f":"T18","v":""},{"$f":"T25","v":""}]
[130,129,999,"",254,{"$f":"IF(Main!$Q$2=3,VLOOKUP(E198,Katılım!$A$4:$Z$55,26,0),#REF!)","v":{"$error":"#REF!"}},null,null,null,null,null,null,null,null,null,null,null,null,{"$f":"+S192+1","v":37},{"$f":"IF(AND(O199=0,P199=0),\"\",IF(O199>P199,M197,M200))","v":""},null,null,null,null,null,null,null,null,null,null,null,null,null,null,null,null,null,null,null,null,null,null,null,null,null,null,null,null,null,null,null,null,null,null,null,null,null,null,195,null,null,null,null,{"$f":"T30","v":""},{"$f":"T37","v":""}]
[131,129,999,"",126,{"$f":"IF(Main!$Q$2=3,VLOOKUP(E199,Katılım!$A$4:$Z$55,26,0),#REF!)","v":{"$error":"#REF!"}},null,null,null,null,null,null,null,null,{"$f":"BX164","v":0},{"$f":"BY164","v":0},null,null,null,null,null,null,null,null,null,{"$f":"+Z187+1","v":23},null,null,null,null,null,null,null,null,null,null,null,null,null,null,null,null,null,null,null,null,null,null,null,null,null,null,null,null,null,null,null,null,196,null,null,null,null,{"$f":"T42","v":""},{"$f":"T49","v":""}]
[null,null,null,"",null,null,null,{"$f":"BX69","v":0},{"$f":"BY69","v":0},null,null,66,{"$f":"IF(AND(H200=0,I200=0),\"\",IF(H200>I200,F199,F201))","v":""},null,null,null,null,null,null,null,null,null,null,null,null,null,null,null,null,null,null,null,null,null,null,null,null,null,null,null,null,null,null,null,null,null,null,null,null,null,null,null,null,null,null,null,null,null,197,null,null,null,null,{"$f":"T54","v":""},{"$f":"T61","v":""}]
[132,65,999,"",131,{"$f":"IF(Main!$Q$2=3,VLOOKUP(E201,Katılım!$A$4:$Z$55,26,0),#REF!)","v":{"$error":"#REF!"}},null,null,null,null,null,null,null,null,null,null,null,null,null,null,null,null,null,null,null,null,null,null,null,null,null,null,null,null,null,null,null,null,null,null,null,null,null,null,null,null,null,null,null,null,null,null,null,null,null,null,null,null,198,null,null,null,null,{"$f":"T66","v":""},{"$f":"T73","v":""}]
[133,65,999,"",67,{"$f":"IF(Main!$Q$2=3,VLOOKUP(E202,Katılım!$A$4:$Z$55,26,0),#REF!)","v":{"$error":"#REF!"}},null,null,null,null,null,null,null,null,null,null,null,null,null,null,null,{"$f":"BX212","v":0},{"$f":"BY212","v":0},null,null,null,{"$f":"IF(AND(V202=0,W202=0),\"\",IF(V202>W202,T198,T205))","v":""},null,null,null,null,null,null,null,null,null,null,null,null,null,null,null,null,null,null,null,null,null,null,null,null,null,null,null,null,null,null,null,199,null,null,null,null,{"$f":"T78","v":""},{"$f":"T85","v":""}]
[null,null,null,"",null,null,null,{"$f":"BX70","v":0},{"$f":"BY70","v":0},null,null,67,{"$f":"IF(AND(H203=0,I203=0),\"\",IF(H203>I203,F202,F204))","v":""},null,null,null,null,null,null,null,null,null,null,null,null,null,null,null,null,null,null,null,{"$f":"+AG179+1","v":{"$error":"#VALUE!"}},null,null,null,null,null,null,null,null,null,null,null,null,null,null,null,null,null,null,null,null,null,null,null,null,null,200,null,null,null,null,{"$f":"T90","v":""},{"$f":"T97","v":""}]
[134,129,999,"",190,{"$f":"IF(Main!$Q$2=3,VLOOKUP(E204,Katılım!$A$4:$Z$55,26,0),#REF!)","v":{"$error":"#REF!"}},null,null,null,null,null,null,null,null,null,null,null,null,{"$f":"+S198+1","v":38},null,null,null,null,null,null,null,null,null,null,null,null,null,null,null,null,null,null,null,null,null,null,null,null,null,null,null,null,null,null,null,null,null,null,null,null,null,null,null,201,null,null,null,null,{"$f":"T102","v":""},{"$f":"T109","v":""}]
[135,129,999,"",62,{"$f":"IF(Main!$Q$2=3,VLOOKUP(E205,Katılım!$A$4:$Z$55,26,0),#REF!)","v":{"$error":"#REF!"}},null,null,null,null,null,null,null,null,{"$f":"BX165","v":0},{"$f":"BY165","v":0},null,null,null,{"$f":"IF(AND(O205=0,P205=0),\"\",IF(O205>P205,M203,M206))","v":""},null,null,null,null,null,null,null,null,null,null,null,null,null,null,null,null,null,null,null,null,null,null,null,null,null,null,null,null,null,null,null,null,null,null,null,null,null,null,202,null,null,null,null,{"$f":"T114","v":""},{"$f":"T121","v":""}]
[null,null,null,"",null,null,null,{"$f":"BX71","v":0},{"$f":"BY71","v":0},null,null,68,{"$f":"IF(AND(H206=0,I206=0),\"\",IF(H206>I206,F205,F207))","v":""},null,null,null,null,null,null,null,null,null,null,null,null,null,null,null,null,null,null,null,null,null,null,null,null,null,null,null,null,null,null,null,null,null,null,null,null,null,null,null,null,null,null,null,null,null,203,null,null,null,null,{"$f":"T126","v":""},{"$f":"T133","v":""}]
[136,62,999,"",195,{"$f":"IF(Main!$Q$2=3,VLOOKUP(E207,Katılım!$A$4:$Z$55,26,0),#REF!)","v":{"$error":"#REF!"}},null,null,null,null,null,null,null,null,null,null,null,null,null,null,null,null,null,null,null,null,null,null,null,null,null,null,null,null,null,null,null,null,null,null,null,null,null,null,null,null,null,null,null,null,null,null,null,null,null,null,null,null,204,null,null,null,null,{"$f":"T138","v":""},{"$f":"T145","v":""}]
[137,51,null,"",35,{"$f":"IF(Main!$Q$2=3,VLOOKUP(E208,Katılım!$A$4:$Z$55,26,0),#REF!)","v":{"$error":"#REF!"}},null,null,null,null,null,null,null,null,null,null,null,null,null,null,null,null,null,null,null,null,null,null,null,{"$f":"BX236","v":0},{"$f":"BY236","v":0},null,null,{"$f":"IF(AND(AD208=0,AE208=0),\"\",IF(AD208>AE208,AA202,AA214))","v":""},null,null,null,null,null,null,null,null,null,null,null,null,null,null,null,null,null,null,null,null,null,null,null,null,205,null,null,null,null,{"$f":"T150","v":""},{"$f":"T157","v":""}]
[null,null,null,"",null,null,null,{"$f":"BX72","v":0},{"$f":"BY72","v":0},null,null,69,{"$f":"IF(AND(H209=0,I209=0),\"\",IF(H209>I209,F208,F210))","v":""},null,null,null,null,null,null,null,null,null,null,null,null,null,null,null,null,null,null,null,null,null,null,null,null,null,null,245,null,null,null,null,null,null,null,null,null,null,null,null,null,null,null,null,null,null,206,null,null,null,null,{"$f":"T162","v":""},{"$f":"T169","v":""}]
[138,129,51,"",222,{"$f":"IF(Main!$Q$2=3,VLOOKUP(E210,Katılım!$A$4:$Z$55,26,0),#REF!)","v":{"$error":"#REF!"}},null,null,null,null,null,null,null,null,null,null,null,null,{"$f":"+S204+1","v":39},{"$f":"IF(AND(O211=0,P211=0),\"\",IF(O211>P211,M209,M212))","v":""},null,null,null,null,null,null,null,null,null,null,null,null,null,null,null,null,null,null,null,null,null,null,null,null,null,null,null,null,null,null,null,null,null,null,null,null,null,null,207,null,null,null,null,{"$f":"T174","v":""},{"$f":"T181","v":""}]
[139,129,null,"E13",94,{"$f":"IF(Main!$Q$2=3,VLOOKUP(E211,Katılım!$A$4:$Z$55,26,0),#REF!)","v":{"$error":"#REF!"}},null,null,null,null,null,null,null,null,{"$f":"BX166","v":0},{"$f":"BY166","v":0},null,null,null,null,null,null,null,null,null,{"$f":"+Z199+1","v":24},null,null,null,null,null,null,null,null,null,null,null,null,null,null,null,null,null,null,null,null,null,null,null,null,null,null,null,null,null,null,null,null,208,null,null,null,null,{"$f":"T186","v":""},{"$f":"T193","v":""}]
[null,null,null,"",null,null,null,{"$f":"BX73","v":0},{"$f":"BY73","v":0},null,null,70,{"$f":"IF(AND(H212=0,I212=0),\"\",IF(H212>I212,F211,F213))","v":""},null,null,null,null,null,null,null,null,null,null,null,null,null,null,null,null,null,null,null,null,null,null,null,null,null,null,null,null,null,null,null,null,null,null,null,null,null,null,null,null,null,null,null,null,null,209,null,null,null,null,{"$f":"T198","v":""},{"$f":"T205","v":""}]
[140,65,null,"",163,{"$f":"IF(Main!$Q$2=3,VLOOKUP(E213,Katılım!$A$4:$Z$55,26,0),#REF!)","v":{"$error":"#REF!"}},null,null,null,null,null,null,null,null,null,null,null,null,null,null,null,null,null,null,null,null,null,null,null,null,null,null,null,null,null,null,null,null,null,null,null,null,null,null,null,null,null,null,null,null,null,null,null,null,null,null,null,null,210,null,null,null,null,{"$f":"T210","v":""},{"$f":"T217","v":""}]
[141,65,null,"",99,{"$f":"IF(Main!$Q$2=3,VLOOKUP(E214,Katılım!$A$4:$Z$55,26,0),#REF!)","v":{"$error":"#REF!"}},null,null,null,null,null,null,null,null,null,null,null,null,null,null,null,{"$f":"BX213","v":0},{"$f":"BY213","v":0},null,null,null,{"$f":"IF(AND(V214=0,W214=0),\"\",IF(V214>W214,T210,T217))","v":""},null,null,null,null,null,null,null,null,null,null,null,null,null,null,null,null,null,null,null,null,null,null,null,null,null,null,null,null,null,null,null,211,null,null,null,null,{"$f":"T222","v":""},{"$f":"T229","v":""}]
[null,null,null,"",null,null,null,{"$f":"BX74","v":0},{"$f":"BY74","v":0},null,null,71,{"$f":"IF(AND(H215=0,I215=0),\"\",IF(H215>I215,F214,F216))","v":""},null,null,null,null,null,null,null,null,null,null,null,null,null,null,null,null,null,null,null,null,null,null,null,null,null,null,null,null,null,null,null,null,null,null,null,null,null,null,null,null,null,null,null,null,null,212,null,null,null,null,{"$f":"T234","v":""},{"$f":"T241","v":""}]
[142,129,null,"",158,{"$f":"IF(Main!$Q$2=3,VLOOKUP(E216,Katılım!$A$4:$Z$55,26,0),#REF!)","v":{"$error":"#REF!"}},null,null,null,null,null,null,null,null,null,null,null,null,{"$f":"+S210+1","v":40},null,null,null,null,null,null,null,null,null,null,null,null,null,null,null,null,null,null,null,null,null,null,null,null,null,null,null,null,null,null,null,null,null,null,null,null,null,null,null,213,null,null,null,null,{"$f":"T246","v":""},{"$f":"T253","v":""}]
[143,129,30,"E28",30,{"$f":"IF(Main!$Q$2=3,VLOOKUP(E217,Katılım!$A$4:$Z$55,26,0),#REF!)","v":{"$error":"#REF!"}},null,null,null,null,null,null,null,null,{"$f":"BX167","v":0},{"$f":"BY167","v":0},null,null,null,{"$f":"IF(AND(O217=0,P217=0),\"\",IF(O217>P217,M215,M218))","v":""},null,null,null,null,null,null,null,null,null,null,null,null,null,null,null,null,null,null,null,null,null,null,null,null,null,null,null,null,null,null,null,null,null,null,null,null,null,null,214,null,null,null,null,{"$f":"T258","v":""},{"$f":"T265","v":""}]
[null,null,null,"",null,null,null,{"$f":"BX75","v":0},{"$f":"BY75","v":0},null,null,72,{"$f":"IF(AND(H218=0,I218=0),\"\",IF(H218>I218,F217,F219))","v":""},null,null,null,null,null,null,null,null,null,null,null,null,null,null,null,null,null,null,null,null,null,null,null,null,null,null,null,null,null,null,null,null,null,null,null,null,null,null,null,null,null,null,null,null,null,215,null,null,null,null,{"$f":"T270","v":""},{"$f":"T277","v":""}]
[144,30,null,"",227,{"$f":"IF(Main!$Q$2=3,VLOOKUP(E219,Katılım!$A$4:$Z$55,26,0),#REF!)","v":{"$error":"#REF!"}},null,null,null,null,null,null,null,null,null,null,null,null,null,null,null,null,null,null,null,null,null,null,null,null,null,null,null,null,null,null,null,null,null,null,null,null,null,null,null,null,null,null,null,null,null,null,null,null,null,null,null,null,216,null,null,null,null,{"$f":"T282","v":""},{"$f":"T289","v":""}]
[145,19,null,"",19,{"$f":"IF(Main!$Q$2=3,VLOOKUP(E220,Katılım!$A$4:$Z$55,26,0),#REF!)","v":{"$error":"#REF!"}},null,null,null,null,null,null,null,null,null,null,null,null,null,null,null,null,null,null,null,null,null,null,null,null,null,null,null,null,null,null,{"$f":"BX248","v":0},{"$f":"BY248","v":0},null,null,{"$f":"IF(AND(AK220=0,AL220=0),\"\",IF(AK220>AL220,AH208,AH232))","v":""},null,null,null,null,null,null,null,null,null,null,null,null,null,null,null,null,null,217,null,null,null,null,{"$f":"T294","v":""},{"$f":"T301","v":""}]
[null,null,null,"",null,null,null,{"$f":"BX76","v":0},{"$f":"BY76","v":0},null,null,73,{"$f":"IF(AND(H221=0,I221=0),\"\",IF(H221>I221,F220,F222))","v":""},null,null,null,null,null,null,null,null,null,null,null,null,null,null,null,null,null,null,null,null,null,null,null,null,null,null,null,null,null,null,null,null,null,null,null,null,null,null,null,null,null,null,null,null,null,218,null,null,null,null,{"$f":"T306","v":""},{"$f":"T313","v":""}]
[146,129,19,"",238,{"$f":"IF(Main!$Q$2=3,VLOOKUP(E222,Katılım!$A$4:$Z$55,26,0),#REF!)","v":{"$error":"#REF!"}},null,null,null,null,null,null,null,null,null,null,null,null,{"$f":"+S216+1","v":41},{"$f":"IF(AND(O223=0,P223=0),\"\",IF(O223>P223,M221,M224))","v":""},null,null,null,null,null,null,null,null,null,null,null,null,null,null,null,null,null,null,null,null,null,null,null,null,null,null,null,null,null,null,null,null,null,null,null,null,null,null,219,null,null,null,null,{"$f":"T318","v":""},{"$f":"T325","v":""}]
[147,129,null,"",110,{"$f":"IF(Main!$Q$2=3,VLOOKUP(E223,Katılım!$A$4:$Z$55,26,0),#REF!)","v":{"$error":"#REF!"}},null,null,null,null,null,null,null,null,{"$f":"BX168","v":0},{"$f":"BY168","v":0},null,null,null,null,null,null,null,null,null,{"$f":"+Z211+1","v":25},null,null,null,null,null,null,null,null,null,null,null,null,null,null,null,null,null,null,null,null,null,null,null,null,null,null,null,null,null,null,null,null,220,null,null,null,null,{"$f":"T330","v":""},{"$f":"T337","v":""}]
[null,null,null,"",null,null,null,{"$f":"BX77","v":0},{"$f":"BY77","v":0},null,null,74,{"$f":"IF(AND(H224=0,I224=0),\"\",IF(H224>I224,F223,F225))","v":""},null,null,null,null,null,null,null,null,null,null,null,null,null,null,null,null,null,null,null,null,null,null,null,null,null,null,null,null,null,null,null,null,null,null,null,null,null,null,null,null,null,null,null,null,null,221,null,null,null,null,{"$f":"T342","v":""},{"$f":"T349","v":""}]
[148,65,null,"",147,{"$f":"IF(Main!$Q$2=3,VLOOKUP(E225,Katılım!$A$4:$Z$55,26,0),#REF!)","v":{"$error":"#REF!"}},null,null,null,null,null,null,null,null,null,null,null,null,null,null,null,null,null,null,null,null,null,null,null,null,null,null,null,null,null,null,null,null,null,null,null,null,null,null,null,null,null,null,null,null,null,null,null,null,null,null,null,null,222,null,null,null,null,{"$f":"T354","v":""},{"$f":"T361","v":""}]
[149,65,null,"",83,{"$f":"IF(Main!$Q$2=3,VLOOKUP(E226,Katılım!$A$4:$Z$55,26,0),#REF!)","v":{"$error":"#REF!"}},null,null,null,null,null,null,null,null,null,null,null,null,null,null,null,{"$f":"BX214","v":0},{"$f":"BY214","v":0},null,null,null,{"$f":"IF(AND(V226=0,W226=0),\"\",IF(V226>W226,T222,T229))","v":""},null,null,null,null,null,null,null,null,null,null,null,null,null,null,null,null,null,null,null,null,null,null,null,null,null,null,null,null,null,null,null,223,null,null,null,null,{"$f":"T366","v":""},{"$f":"T373","v":""}]
[null,null,null,"",null,null,null,{"$f":"BX78","v":0},{"$f":"BY78","v":0},null,null,75,{"$f":"IF(AND(H227=0,I227=0),\"\",IF(H227>I227,F226,F228))","v":""},null,null,null,null,null,null,null,null,null,null,null,null,null,null,null,null,null,null,null,{"$f":"+AG203+1","v":{"$error":"#VALUE!"}},null,null,null,null,null,null,null,null,null,null,null,null,null,null,null,null,null,null,null,null,null,null,null,null,null,224,null,null,null,null,{"$f":"T378","v":""},{"$f":"T385","v":""}]
[150,129,null,"E5",174,{"$f":"IF(Main!$Q$2=3,VLOOKUP(E228,Katılım!$A$4:$Z$55,26,0),#REF!)","v":{"$error":"#REF!"}},null,null,null,null,null,null,null,null,null,null,null,null,{"$f":"+S222+1","v":42},null,null,null,null,null,null,null,null,null,null,null,null,null,null,null,null,null,null,null,null,null,null,null,null,null,null,null,null,null,null,null,null,null,null,null,null,null,null,null,225,null,null,null,null,{"$f":"AA10","v":""},{"$f":"AA22","v":""}]
[151,129,46,"",46,{"$f":"IF(Main!$Q$2=3,VLOOKUP(E229,Katılım!$A$4:$Z$55,26,0),#REF!)","v":{"$error":"#REF!"}},null,null,null,null,null,null,null,null,{"$f":"BX169","v":0},{"$f":"BY169","v":0},null,null,null,{"$f":"IF(AND(O229=0,P229=0),\"\",IF(O229>P229,M227,M230))","v":""},null,null,null,null,null,null,null,null,null,null,null,null,null,null,null,null,null,null,null,null,null,null,null,null,null,null,null,null,null,null,null,null,null,null,null,null,null,null,226,null,null,null,null,{"$f":"AA34","v":""},{"$f":"AA46","v":""}]
[null,null,null,"",null,null,null,{"$f":"BX79","v":0},{"$f":"BY79","v":0},null,null,76,{"$f":"IF(AND(H230=0,I230=0),\"\",IF(H230>I230,F229,F231))","v":""},null,null,null,null,null,null,null,null,null,null,null,null,null,null,null,null,null,null,null,null,null,null,null,null,null,null,null,null,null,null,null,null,null,null,null,null,null,null,null,null,null,null,null,null,null,227,null,null,null,null,{"$f":"AA58","v":""},{"$f":"AA70","v":""}]
[152,46,null,"",211,{"$f":"IF(Main!$Q$2=3,VLOOKUP(E231,Katılım!$A$4:$Z$55,26,0),#REF!)","v":{"$error":"#REF!"}},null,null,null,null,null,null,null,null,null,null,null,null,null,null,null,null,null,null,null,null,null,null,null,null,null,null,null,null,null,null,null,null,null,null,null,null,null,null,null,null,null,null,null,null,null,null,null,null,null,null,null,null,228,null,null,null,null,{"$f":"AA82","v":""},{"$f":"AA94","v":""}]
[153,35,null,"",51,{"$f":"IF(Main!$Q$2=3,VLOOKUP(E232,Katılım!$A$4:$Z$55,26,0),#REF!)","v":{"$error":"#REF!"}},null,null,null,null,null,null,null,null,null,null,null,null,null,null,null,null,null,null,null,null,null,null,null,{"$f":"BX237","v":0},{"$f":"BY237","v":0},null,null,{"$f":"IF(AND(AD232=0,AE232=0),\"\",IF(AD232>AE232,AA226,AA238))","v":""},null,null,null,null,null,null,null,null,null,null,null,null,null,null,null,null,null,null,null,null,null,null,null,null,229,null,null,null,null,{"$f":"AA106","v":""},{"$f":"AA118","v":""}]
[null,null,null,"",null,null,null,{"$f":"BX80","v":0},{"$f":"BY80","v":0},null,null,77,{"$f":"IF(AND(H233=0,I233=0),\"\",IF(H233>I233,F232,F234))","v":""},null,null,null,null,null,null,null,null,null,null,null,null,null,null,null,null,null,null,null,null,null,null,null,null,null,null,null,null,null,null,null,null,null,null,null,null,null,null,null,null,null,null,null,null,null,230,null,null,null,null,{"$f":"AA130","v":""},{"$f":"AA142","v":""}]
[154,129,35,"",206,{"$f":"IF(Main!$Q$2=3,VLOOKUP(E234,Katılım!$A$4:$Z$55,26,0),#REF!)","v":{"$error":"#REF!"}},null,null,null,null,null,null,null,null,null,null,null,null,{"$f":"+S228+1","v":43},{"$f":"IF(AND(O235=0,P235=0),\"\",IF(O235>P235,M233,M236))","v":""},null,null,null,null,null,null,null,null,null,null,null,null,null,null,null,null,null,null,null,null,null,null,null,null,null,null,null,null,null,null,null,null,null,null,null,null,null,null,231,null,null,null,null,{"$f":"AA154","v":""},{"$f":"AA166","v":""}]
[155,129,null,"E21",78,{"$f":"IF(Main!$Q$2=3,VLOOKUP(E235,Katılım!$A$4:$Z$55,26,0),#REF!)","v":{"$error":"#REF!"}},null,null,null,null,null,null,null,null,{"$f":"BX170","v":0},{"$f":"BY170","v":0},null,null,null,null,null,null,null,null,null,{"$f":"+Z223+1","v":26},null,null,null,null,null,null,null,null,null,null,null,null,null,null,null,null,null,null,null,null,null,null,null,null,null,null,null,null,null,null,null,null,232,null,null,null,null,{"$f":"AA178","v":""},{"$f":"AA190","v":""}]
[null,null,null,"",null,null,null,{"$f":"BX81","v":0},{"$f":"BY81","v":0},null,null,78,{"$f":"IF(AND(H236=0,I236=0),\"\",IF(H236>I236,F235,F237))","v":""},null,null,null,null,null,null,null,null,null,null,null,null,null,null,null,null,null,null,null,null,null,null,null,null,null,null,null,null,null,null,null,null,null,null,null,null,null,null,null,null,null,null,null,null,null,233,null,null,null,null,{"$f":"AA202","v":""},{"$f":"AA214","v":""}]
[156,65,null,"",179,{"$f":"IF(Main!$Q$2=3,VLOOKUP(E237,Katılım!$A$4:$Z$55,26,0),#REF!)","v":{"$error":"#REF!"}},null,null,null,null,null,null,null,null,null,null,null,null,null,null,null,null,null,null,null,null,null,null,null,null,null,null,null,null,null,null,null,null,null,null,null,null,null,null,null,null,null,null,null,null,null,null,null,null,null,null,null,null,234,null,null,null,null,{"$f":"AA226","v":""},{"$f":"AA238","v":""}]
[157,65,null,"",115,{"$f":"IF(Main!$Q$2=3,VLOOKUP(E238,Katılım!$A$4:$Z$55,26,0),#REF!)","v":{"$error":"#REF!"}},null,null,null,null,null,null,null,null,null,null,null,null,null,null,null,{"$f":"BX215","v":0},{"$f":"BY215","v":0},null,null,null,{"$f":"IF(AND(V238=0,W238=0),\"\",IF(V238>W238,T234,T241))","v":""},null,null,null,null,null,null,null,null,null,null,null,null,null,null,null,null,null,null,null,null,null,null,null,null,null,null,null,null,null,null,null,235,null,null,null,null,{"$f":"AA250","v":""},{"$f":"AA262","v":""}]
[null,null,null,"",null,null,null,{"$f":"BX82","v":0},{"$f":"BY82","v":0},null,null,79,{"$f":"IF(AND(H239=0,I239=0),\"\",IF(H239>I239,F238,F240))","v":""},null,null,null,null,null,null,null,null,null,null,null,null,null,null,null,null,null,null,null,null,null,null,null,null,null,null,null,null,null,null,null,null,null,null,null,null,null,null,null,null,null,null,null,null,null,236,null,null,null,null,{"$f":"AA274","v":""},{"$f":"AA286","v":""}]
[158,129,null,"E31",142,{"$f":"IF(Main!$Q$2=3,VLOOKUP(E240,Katılım!$A$4:$Z$55,26,0),#REF!)","v":{"$error":"#REF!"}},null,null,null,null,null,null,null,null,null,null,null,null,{"$f":"+S234+1","v":44},null,null,null,null,null,null,null,null,null,null,null,null,null,null,null,null,null,null,null,null,null,null,null,null,null,null,null,null,null,null,null,null,null,null,null,null,null,null,null,237,null,null,null,null,{"$f":"AA298","v":""},{"$f":"AA310","v":""}]
[159,129,14,"",14,{"$f":"IF(Main!$Q$2=3,VLOOKUP(E241,Katılım!$A$4:$Z$55,26,0),#REF!)","v":{"$error":"#REF!"}},null,null,null,null,null,null,null,null,{"$f":"BX171","v":0},{"$f":"BY171","v":0},null,null,null,{"$f":"IF(AND(O241=0,P241=0),\"\",IF(O241>P241,M239,M242))","v":""},null,null,null,null,null,null,null,null,null,null,null,null,null,null,null,null,null,null,null,null,null,null,null,null,null,null,null,null,null,null,null,null,null,null,null,null,null,null,238,null,null,null,null,{"$f":"AA322","v":""},{"$f":"AA334","v":""}]
[null,null,null,"",null,null,null,{"$f":"BX83","v":0},{"$f":"BY83","v":0},null,null,80,{"$f":"IF(AND(H242=0,I242=0),\"\",IF(H242>I242,F241,F243))","v":""},null,null,null,null,null,null,null,null,null,null,null,null,null,null,null,null,null,null,null,null,null,null,null,null,null,null,null,null,null,null,null,null,null,null,null,null,null,null,null,null,null,null,null,null,null,239,null,null,null,null,{"$f":"AA346","v":""},{"$f":"AA358","v":""}]
[160,14,null,"",243,{"$f":"IF(Main!$Q$2=3,VLOOKUP(E243,Katılım!$A$4:$Z$55,26,0),#REF!)","v":{"$error":"#REF!"}},null,null,null,null,null,null,null,null,null,null,null,null,null,null,null,null,null,null,null,null,null,null,null,null,null,null,null,null,null,null,null,null,null,null,null,null,null,null,null,null,null,null,null,null,null,null,null,null,null,null,null,null,240,null,null,null,null,{"$f":"AA370","v":""},{"$f":"AA382","v":""}]
[161,11,null,"",11,{"$f":"IF(Main!$Q$2=3,VLOOKUP(E244,Katılım!$A$4:$Z$55,26,0),#REF!)","v":{"$error":"#REF!"}},null,null,null,null,null,null,null,null,null,null,null,null,null,null,null,null,null,null,null,null,null,null,null,null,null,null,null,null,null,null,null,null,null,null,null,null,null,null,null,null,null,null,null,null,null,null,null,null,null,null,null,null,241,null,null,null,null,{"$f":"AH16","v":""},{"$f":"AH40","v":""}]
[null,null,null,"",null,null,null,{"$f":"BX84","v":0},{"$f":"BY84","v":0},null,null,81,{"$f":"IF(AND(H245=0,I245=0),\"\",IF(H245>I245,F244,F246))","v":""},null,null,null,null,null,null,null,null,null,null,null,null,null,null,null,null,null,null,null,null,null,null,null,null,null,null,null,null,null,null,null,null,null,null,null,null,null,null,null,null,null,null,null,null,null,242,null,null,null,null,{"$f":"AH64","v":""},{"$f":"AH88","v":""}]
[162,129,11,"",246,{"$f":"IF(Main!$Q$2=3,VLOOKUP(E246,Katılım!$A$4:$Z$55,26,0),#REF!)","v":{"$error":"#REF!"}},null,null,null,null,null,null,null,null,null,null,null,null,{"$f":"+S240+1","v":45},{"$f":"IF(AND(O247=0,P247=0),\"\",IF(O247>P247,M245,M248))","v":""},null,null,null,null,null,null,null,null,null,null,null,null,null,null,null,null,null,null,null,null,null,null,null,null,null,null,null,null,null,null,null,null,null,null,null,null,null,null,243,null,null,null,null,{"$f":"AH112","v":""},{"$f":"AH136","v":""}]
[163,129,null,"",118,{"$f":"IF(Main!$Q$2=3,VLOOKUP(E247,Katılım!$A$4:$Z$55,26,0),#REF!)","v":{"$error":"#REF!"}},null,null,null,null,null,null,null,null,{"$f":"BX172","v":0},{"$f":"BY172","v":0},null,null,null,null,null,null,null,null,null,{"$f":"+Z235+1","v":27},null,null,null,null,null,null,null,null,null,null,null,null,null,null,null,null,null,null,null,null,null,null,null,null,null,null,null,null,null,null,null,null,244,null,null,null,null,{"$f":"AH160","v":""},{"$f":"AH184","v":""}]
[null,null,null,"",null,null,null,{"$f":"BX85","v":0},{"$f":"BY85","v":0},null,null,82,{"$f":"IF(AND(H248=0,I248=0),\"\",IF(H248>I248,F247,F249))","v":""},null,null,null,null,null,null,null,null,null,null,null,null,null,null,null,null,null,null,null,null,null,null,null,null,null,null,null,null,null,null,null,null,null,null,null,null,null,null,null,null,null,null,null,null,null,245,null,null,null,null,{"$f":"AH208","v":""},{"$f":"AH232","v":""}]
[164,65,null,"",139,{"$f":"IF(Main!$Q$2=3,VLOOKUP(E249,Katılım!$A$4:$Z$55,26,0),#REF!)","v":{"$error":"#REF!"}},null,null,null,null,null,null,null,null,null,null,null,null,null,null,null,null,null,null,null,null,null,null,null,null,null,null,null,null,null,null,null,null,null,null,null,null,null,null,null,null,null,null,null,null,null,null,null,null,null,null,null,null,246,null,null,null,null,{"$f":"AH256","v":""},{"$f":"AH280","v":""}]
[165,65,null,"",75,{"$f":"IF(Main!$Q$2=3,VLOOKUP(E250,Katılım!$A$4:$Z$55,26,0),#REF!)","v":{"$error":"#REF!"}},null,null,null,null,null,null,null,null,null,null,null,null,null,null,null,{"$f":"BX216","v":0},{"$f":"BY216","v":0},null,null,null,{"$f":"IF(AND(V250=0,W250=0),\"\",IF(V250>W250,T246,T253))","v":""},null,null,null,null,null,null,null,null,null,null,null,null,null,null,null,null,null,null,null,null,null,null,null,null,null,null,null,null,null,null,null,247,null,null,null,null,{"$f":"AH304","v":""},{"$f":"AH328","v":""}]
[null,null,null,"",null,null,null,{"$f":"BX86","v":0},{"$f":"BY86","v":0},null,null,83,{"$f":"IF(AND(H251=0,I251=0),\"\",IF(H251>I251,F250,F252))","v":""},null,null,null,null,null,null,null,null,null,null,null,null,null,null,null,null,null,null,null,{"$f":"+AG227+1","v":{"$error":"#VALUE!"}},null,null,null,null,null,null,null,null,null,null,null,null,null,null,null,null,null,null,null,null,null,null,null,null,null,248,null,null,null,null,{"$f":"AH352","v":""},{"$f":"AH376","v":""}]
[166,129,null,"E17",182,{"$f":"IF(Main!$Q$2=3,VLOOKUP(E252,Katılım!$A$4:$Z$55,26,0),#REF!)","v":{"$error":"#REF!"}},null,null,null,null,null,null,null,null,null,null,null,null,{"$f":"+S246+1","v":46},null,null,null,null,null,null,null,null,null,null,null,null,null,null,null,null,null,null,null,null,null,null,null,null,null,null,null,null,null,null,null,null,null,null,null,null,null,null,null,249,null,null,null,null,{"$f":"AO28","v":""},{"$f":"AO76","v":""}]
[167,129,38,"",54,{"$f":"IF(Main!$Q$2=3,VLOOKUP(E253,Katılım!$A$4:$Z$55,26,0),#REF!)","v":{"$error":"#REF!"}},null,null,null,null,null,null,null,null,{"$f":"BX173","v":0},{"$f":"BY173","v":0},null,null,null,{"$f":"IF(AND(O253=0,P253=0),\"\",IF(O253>P253,M251,M254))","v":""},null,null,null,null,null,null,null,null,null,null,null,null,null,null,null,null,null,null,null,null,null,null,null,null,null,null,null,null,null,null,null,null,null,null,null,null,null,null,250,null,null,null,null,{"$f":"AO124","v":""},{"$f":"AO172","v":""}]
[null,null,null,"",null,null,null,{"$f":"BX87","v":0},{"$f":"BY87","v":0},null,null,84,{"$f":"IF(AND(H254=0,I254=0),\"\",IF(H254>I254,F253,F255))","v":""},null,null,null,null,null,null,null,null,null,null,null,null,null,null,null,null,null,null,null,null,null,null,null,null,null,null,null,null,null,null,null,null,null,null,null,null,null,null,null,null,null,null,null,null,null,251,null,null,null,null,{"$f":"AO220","v":""},{"$f":"AO268","v":""}]
[168,38,null,"",203,{"$f":"IF(Main!$Q$2=3,VLOOKUP(E255,Katılım!$A$4:$Z$55,26,0),#REF!)","v":{"$error":"#REF!"}},null,null,null,null,null,null,null,null,null,null,null,null,null,null,null,null,null,null,null,null,null,null,null,null,null,null,null,null,null,null,null,null,null,null,null,null,null,null,null,null,null,null,null,null,null,null,null,null,null,null,null,null,252,null,null,null,null,{"$f":"AO316","v":""},{"$f":"AO364","v":""}]
[169,43,null,"",43,{"$f":"IF(Main!$Q$2=3,VLOOKUP(E256,Katılım!$A$4:$Z$55,26,0),#REF!)","v":{"$error":"#REF!"}},null,null,null,null,null,null,null,null,null,null,null,null,null,null,null,null,null,null,null,null,null,null,null,{"$f":"BX238","v":0},{"$f":"BY238","v":0},null,null,{"$f":"IF(AND(AD256=0,AE256=0),\"\",IF(AD256>AE256,AA250,AA262))","v":""}]
[null,null,null,"",null,null,null,{"$f":"BX88","v":0},{"$f":"BY88","v":0},null,null,85,{"$f":"IF(AND(H257=0,I257=0),\"\",IF(H257>I257,F256,F258))","v":""},null,null,null,null,null,null,null,null,null,null,null,null,null,null,null,null,null,null,null,null,null,null,null,null,null,null,246]
[170,129,43,"",214,{"$f":"IF(Main!$Q$2=3,VLOOKUP(E258,Katılım!$A$4:$Z$55,26,0),#REF!)","v":{"$error":"#REF!"}},null,null,null,null,null,null,null,null,null,null,null,null,{"$f":"+S252+1","v":47},{"$f":"IF(AND(O259=0,P259=0),\"\",IF(O259>P259,M257,M260))","v":""}]
[171,129,null,"E1",86,{"$f":"IF(Main!$Q$2=3,VLOOKUP(E259,Katılım!$A$4:$Z$55,26,0),#REF!)","v":{"$error":"#REF!"}},null,null,null,null,null,null,null,null,{"$f":"BX174","v":0},{"$f":"BY174","v":0},null,null,null,null,null,null,null,null,null,{"$f":"+Z247+1","v":28}]
[null,null,null,"",null,null,null,{"$f":"BX89","v":0},{"$f":"BY89","v":0},null,null,86,{"$f":"IF(AND(H260=0,I260=0),\"\",IF(H260>I260,F259,F261))","v":""}]
[172,65,null,"",171,{"$f":"IF(Main!$Q$2=3,VLOOKUP(E261,Katılım!$A$4:$Z$55,26,0),#REF!)","v":{"$error":"#REF!"}}]
[173,65,null,"",107,{"$f":"IF(Main!$Q$2=3,VLOOKUP(E262,Katılım!$A$4:$Z$55,26,0),#REF!)","v":{"$error":"#REF!"}},null,null,null,null,null,null,null,null,null,null,null,null,null,null,null,{"$f":"BX217","v":0},{"$f":"BY217","v":0},null,null,null,{"$f":"IF(AND(V262=0,W262=0),\"\",IF(V262>W262,T258,T265))","v":""}]
[null,null,null,"",null,null,null,{"$f":"BX90","v":0},{"$f":"BY90","v":0},null,null,87,{"$f":"IF(AND(H263=0,I263=0),\"\",IF(H263>I263,F262,F264))","v":""}]
[174,129,null,"",150,{"$f":"IF(Main!$Q$2=3,VLOOKUP(E264,Katılım!$A$4:$Z$55,26,0),#REF!)","v":{"$error":"#REF!"}},null,null,null,null,null,null,null,null,null,null,null,null,{"$f":"+S258+1","v":48}]
[175,129,22,"",22,{"$f":"IF(Main!$Q$2=3,VLOOKUP(E265,Katılım!$A$4:$Z$55,26,0),#REF!)","v":{"$error":"#REF!"}},null,null,null,null,null,null,null,null,{"$f":"BX175","v":0},{"$f":"BY175","v":0},null,null,null,{"$f":"IF(AND(O265=0,P265=0),\"\",IF(O265>P265,M263,M266))","v":""}]
[null,null,null,"",null,null,null,{"$f":"BX91","v":0},{"$f":"BY91","v":0},null,null,88,{"$f":"IF(AND(H266=0,I266=0),\"\",IF(H266>I266,F265,F267))","v":""}]
[176,22,null,"",235,{"$f":"IF(Main!$Q$2=3,VLOOKUP(E267,Katılım!$A$4:$Z$55,26,0),#REF!)","v":{"$error":"#REF!"}}]
[177,27,null,"",27,{"$f":"IF(Main!$Q$2=3,VLOOKUP(E268,Katılım!$A$4:$Z$55,26,0),#REF!)","v":{"$error":"#REF!"}},null,null,null,null,null,null,null,null,null,null,null,null,null,null,null,null,null,null,null,null,null,null,null,null,null,null,null,null,null,null,{"$f":"BX249","v":0},{"$f":"BY249","v":0},null,null,{"$f":"IF(AND(AK268=0,AL268=0),\"\",IF(AK268>AL268,AH256,AH280))","v":""}]
[null,null,null,"",null,null,null,{"$f":"BX92","v":0},{"$f":"BY92","v":0},null,null,89,{"$f":"IF(AND(H269=0,I269=0),\"\",IF(H269>I269,F268,F270))","v":""}]
[178,129,27,"",230,{"$f":"IF(Main!$Q$2=3,VLOOKUP(E270,Katılım!$A$4:$Z$55,26,0),#REF!)","v":{"$error":"#REF!"}},null,null,null,null,null,null,null,null,null,null,null,null,{"$f":"+S264+1","v":49},{"$f":"IF(AND(O271=0,P271=0),\"\",IF(O271>P271,M269,M272))","v":""}]
[179,129,null,"",102,{"$f":"IF(Main!$Q$2=3,VLOOKUP(E271,Katılım!$A$4:$Z$55,26,0),#REF!)","v":{"$error":"#REF!"}},null,null,null,null,null,null,null,null,{"$f":"BX176","v":0},{"$f":"BY176","v":0},null,null,null,null,null,null,null,null,null,{"$f":"+Z259+1","v":29}]
[null,null,null,"",null,null,null,{"$f":"BX93","v":0},{"$f":"BY93","v":0},null,null,90,{"$f":"IF(AND(H272=0,I272=0),\"\",IF(H272>I272,F271,F273))","v":""}]
[180,65,null,"",155,{"$f":"IF(Main!$Q$2=3,VLOOKUP(E273,Katılım!$A$4:$Z$55,26,0),#REF!)","v":{"$error":"#REF!"}}]
[181,65,null,"",91,{"$f":"IF(Main!$Q$2=3,VLOOKUP(E274,Katılım!$A$4:$Z$55,26,0),#REF!)","v":{"$error":"#REF!"}},null,null,null,null,null,null,null,null,null,null,null,null,null,null,null,{"$f":"BX218","v":0},{"$f":"BY218","v":0},null,null,null,{"$f":"IF(AND(V274=0,W274=0),\"\",IF(V274>W274,T270,T277))","v":""}]
[null,null,null,"",null,null,null,{"$f":"BX94","v":0},{"$f":"BY94","v":0},null,null,91,{"$f":"IF(AND(H275=0,I275=0),\"\",IF(H275>I275,F274,F276))","v":""},null,null,null,null,null,null,null,null,null,null,null,null,null,null,null,null,null,null,null,{"$f":"+AG251+1","v":{"$error":"#VALUE!"}}]
[182,129,null,"E9",166,{"$f":"IF(Main!$Q$2=3,VLOOKUP(E276,Katılım!$A$4:$Z$55,26,0),#REF!)","v":{"$error":"#REF!"}},null,null,null,null,null,null,null,null,null,null,null,null,{"$f":"+S270+1","v":50}]
[183,129,54,"",38,{"$f":"IF(Main!$Q$2=3,VLOOKUP(E277,Katılım!$A$4:$Z$55,26,0),#REF!)","v":{"$error":"#REF!"}},null,null,null,null,null,null,null,null,{"$f":"BX177","v":0},{"$f":"BY177","v":0},null,null,null,{"$f":"IF(AND(O277=0,P277=0),\"\",IF(O277>P277,M275,M278))","v":""}]
[null,null,null,"",null,null,null,{"$f":"BX95","v":0},{"$f":"BY95","v":0},null,null,92,{"$f":"IF(AND(H278=0,I278=0),\"\",IF(H278>I278,F277,F279))","v":""}]
[184,54,null,"",219,{"$f":"IF(Main!$Q$2=3,VLOOKUP(E279,Katılım!$A$4:$Z$55,26,0),#REF!)","v":{"$error":"#REF!"}}]
[185,59,999,"",59,{"$f":"IF(Main!$Q$2=3,VLOOKUP(E280,Katılım!$A$4:$Z$55,26,0),#REF!)","v":{"$error":"#REF!"}},null,null,null,null,null,null,null,null,null,null,null,null,null,null,null,null,null,null,null,null,null,null,null,{"$f":"BX239","v":0},{"$f":"BY239","v":0},null,null,{"$f":"IF(AND(AD280=0,AE280=0),\"\",IF(AD280>AE280,AA274,AA286))","v":""}]
[null,null,null,"",null,null,null,{"$f":"BX96","v":0},{"$f":"BY96","v":0},null,null,93,{"$f":"IF(AND(H281=0,I281=0),\"\",IF(H281>I281,F280,F282))","v":""}]
[186,129,999,"",198,{"$f":"IF(Main!$Q$2=3,VLOOKUP(E282,Katılım!$A$4:$Z$55,26,0),#REF!)","v":{"$error":"#REF!"}},null,null,null,null,null,null,null,null,null,null,null,null,{"$f":"+S276+1","v":51},{"$f":"IF(AND(O283=0,P283=0),\"\",IF(O283>P283,M281,M284))","v":""}]
[187,129,999,"",70,{"$f":"IF(Main!$Q$2=3,VLOOKUP(E283,Katılım!$A$4:$Z$55,26,0),#REF!)","v":{"$error":"#REF!"}},null,null,null,null,null,null,null,null,{"$f":"BX178","v":0},{"$f":"BY178","v":0},null,null,null,null,null,null,null,null,null,{"$f":"+Z271+1","v":30}]
[null,null,null,"",null,null,null,{"$f":"BX97","v":0},{"$f":"BY97","v":0},null,null,94,{"$f":"IF(AND(H284=0,I284=0),\"\",IF(H284>I284,F283,F285))","v":""}]
[188,65,999,"",187,{"$f":"IF(Main!$Q$2=3,VLOOKUP(E285,Katılım!$A$4:$Z$55,26,0),#REF!)","v":{"$error":"#REF!"}}]
[189,65,999,"",123,{"$f":"IF(Main!$Q$2=3,VLOOKUP(E286,Katılım!$A$4:$Z$55,26,0),#REF!)","v":{"$error":"#REF!"}},null,null,null,null,null,null,null,null,null,null,null,null,null,null,null,{"$f":"BX219","v":0},{"$f":"BY219","v":0},null,null,null,{"$f":"IF(AND(V286=0,W286=0),\"\",IF(V286>W286,T282,T289))","v":""}]
[null,null,null,"",null,null,null,{"$f":"BX98","v":0},{"$f":"BY98","v":0},null,null,95,{"$f":"IF(AND(H287=0,I287=0),\"\",IF(H287>I287,F286,F288))","v":""}]
[190,129,999,"",134,{"$f":"IF(Main!$Q$2=3,VLOOKUP(E288,Katılım!$A$4:$Z$55,26,0),#REF!)","v":{"$error":"#REF!"}},null,null,null,null,null,null,null,null,null,null,null,null,{"$f":"+S282+1","v":52}]
[191,129,999,"",251,{"$f":"IF(Main!$Q$2=3,VLOOKUP(E289,Katılım!$A$4:$Z$55,26,0),#REF!)","v":{"$error":"#REF!"}},null,null,null,null,null,null,null,null,{"$f":"BX179","v":0},{"$f":"BY179","v":0},null,null,null,{"$f":"IF(AND(O289=0,P289=0),\"\",IF(O289>P289,M287,M290))","v":""}]
[null,null,null,"",null,null,null,{"$f":"BX99","v":0},{"$f":"BY99","v":0},null,null,96,{"$f":"IF(AND(H290=0,I290=0),\"\",IF(H290>I290,F289,F291))","v":""}]
[192,6,null,"",6,{"$f":"IF(Main!$Q$2=3,VLOOKUP(E291,Katılım!$A$4:$Z$55,26,0),#REF!)","v":{"$error":"#REF!"}}]
[193,7,null,"",7,{"$f":"IF(Main!$Q$2=3,VLOOKUP(E292,Katılım!$A$4:$Z$55,26,0),#REF!)","v":{"$error":"#REF!"}}]
[null,null,null,"",null,null,null,{"$f":"BX100","v":0},{"$f":"BY100","v":0},null,null,97,{"$f":"IF(AND(H293=0,I293=0),\"\",IF(H293>I293,F292,F294))","v":""}]
[194,129,999,"",250,{"$f":"IF(Main!$Q$2=3,VLOOKUP(E294,Katılım!$A$4:$Z$55,26,0),#REF!)","v":{"$error":"#REF!"}},null,null,null,null,null,null,null,null,null,null,null,null,{"$f":"+S288+1","v":53},{"$f":"IF(AND(O295=0,P295=0),\"\",IF(O295>P295,M293,M296))","v":""}]
[195,129,999,"",122,{"$f":"IF(Main!$Q$2=3,VLOOKUP(E295,Katılım!$A$4:$Z$55,26,0),#REF!)","v":{"$error":"#REF!"}},null,null,null,null,null,null,null,null,{"$f":"BX180","v":0},{"$f":"BY180","v":0},null,null,null,null,null,null,null,null,null,{"$f":"+Z283+1","v":31}]
[null,null,null,"",null,null,null,{"$f":"BX101","v":0},{"$f":"BY101","v":0},null,null,98,{"$f":"IF(AND(H296=0,I296=0),\"\",IF(H296>I296,F295,F297))","v":""}]
[196,65,999,"",135,{"$f":"IF(Main!$Q$2=3,VLOOKUP(E297,Katılım!$A$4:$Z$55,26,0),#REF!)","v":{"$error":"#REF!"}}]
[197,65,999,"",71,{"$f":"IF(Main!$Q$2=3,VLOOKUP(E298,Katılım!$A$4:$Z$55,26,0),#REF!)","v":{"$error":"#REF!"}},null,null,null,null,null,null,null,null,null,null,null,null,null,null,null,{"$f":"BX220","v":0},{"$f":"BY220","v":0},null,null,null,{"$f":"IF(AND(V298=0,W298=0),\"\",IF(V298>W298,T294,T301))","v":""}]
[null,null,null,"",null,null,null,{"$f":"BX102","v":0},{"$f":"BY102","v":0},null,null,99,{"$f":"IF(AND(H299=0,I299=0),\"\",IF(H299>I299,F298,F300))","v":""},null,null,null,null,null,null,null,null,null,null,null,null,null,null,null,null,null,null,null,{"$f":"+AG275+1","v":{"$error":"#VALUE!"}}]
[198,129,999,"",186,{"$f":"IF(Main!$Q$2=3,VLOOKUP(E300,Katılım!$A$4:$Z$55,26,0),#REF!)","v":{"$error":"#REF!"}},null,null,null,null,null,null,null,null,null,null,null,null,{"$f":"+S294+1","v":54}]
[199,129,999,"",58,{"$f":"IF(Main!$Q$2=3,VLOOKUP(E301,Katılım!$A$4:$Z$55,26,0),#REF!)","v":{"$error":"#REF!"}},null,null,null,null,null,null,null,null,{"$f":"BX181","v":0},{"$f":"BY181","v":0},null,null,null,{"$f":"IF(AND(O301=0,P301=0),\"\",IF(O301>P301,M299,M302))","v":""}]
[null,null,null,"",null,null,null,{"$f":"BX103","v":0},{"$f":"BY103","v":0},null,null,100,{"$f":"IF(AND(H302=0,I302=0),\"\",IF(H302>I302,F301,F303))","v":""}]
[200,58,999,"",199,{"$f":"IF(Main!$Q$2=3,VLOOKUP(E303,Katılım!$A$4:$Z$55,26,0),#REF!)","v":{"$error":"#REF!"}}]
[201,55,null,"",39,{"$f":"IF(Main!$Q$2=3,VLOOKUP(E304,Katılım!$A$4:$Z$55,26,0),#REF!)","v":{"$error":"#REF!"}},null,null,null,null,null,null,null,null,null,null,null,null,null,null,null,null,null,null,null,null,null,null,null,{"$f":"BX240","v":0},{"$f":"BY240","v":0},null,null,{"$f":"IF(AND(AD304=0,AE304=0),\"\",IF(AD304>AE304,AA298,AA310))","v":""}]
[null,null,null,"",null,null,null,{"$f":"BX104","v":0},{"$f":"BY104","v":0},null,null,101,{"$f":"IF(AND(H305=0,I305=0),\"\",IF(H305>I305,F304,F306))","v":""},null,null,null,null,null,null,null,null,null,null,null,null,null,null,null,null,null,null,null,null,null,null,null,null,null,null,247]
[202,129,55,"",218,{"$f":"IF(Main!$Q$2=3,VLOOKUP(E306,Katılım!$A$4:$Z$55,26,0),#REF!)","v":{"$error":"#REF!"}},null,null,null,null,null,null,null,null,null,null,null,null,{"$f":"+S300+1","v":55},{"$f":"IF(AND(O307=0,P307=0),\"\",IF(O307>P307,M305,M308))","v":""}]
[203,129,null,"E11",90,{"$f":"IF(Main!$Q$2=3,VLOOKUP(E307,Katılım!$A$4:$Z$55,26,0),#REF!)","v":{"$error":"#REF!"}},null,null,null,null,null,null,null,null,{"$f":"BX182","v":0},{"$f":"BY182","v":0},null,null,null,null,null,null,null,null,null,{"$f":"+Z295+1","v":32}]
[null,null,null,"",null,null,null,{"$f":"BX105","v":0},{"$f":"BY105","v":0},null,null,102,{"$f":"IF(AND(H308=0,I308=0),\"\",IF(H308>I308,F307,F309))","v":""}]
[204,65,null,"",167,{"$f":"IF(Main!$Q$2=3,VLOOKUP(E309,Katılım!$A$4:$Z$55,26,0),#REF!)","v":{"$error":"#REF!"}}]
[205,65,null,"",103,{"$f":"IF(Main!$Q$2=3,VLOOKUP(E310,Katılım!$A$4:$Z$55,26,0),#REF!)","v":{"$error":"#REF!"}},null,null,null,null,null,null,null,null,null,null,null,null,null,null,null,{"$f":"BX221","v":0},{"$f":"BY221","v":0},null,null,null,{"$f":"IF(AND(V310=0,W310=0),\"\",IF(V310>W310,T306,T313))","v":""}]
[null,null,null,"",null,null,null,{"$f":"BX106","v":0},{"$f":"BY106","v":0},null,null,103,{"$f":"IF(AND(H311=0,I311=0),\"\",IF(H311>I311,F310,F312))","v":""}]
[206,129,null,"E25",154,{"$f":"IF(Main!$Q$2=3,VLOOKUP(E312,Katılım!$A$4:$Z$55,26,0),#REF!)","v":{"$error":"#REF!"}},null,null,null,null,null,null,null,null,null,null,null,null,{"$f":"+S306+1","v":56}]
[207,129,26,"",26,{"$f":"IF(Main!$Q$2=3,VLOOKUP(E313,Katılım!$A$4:$Z$55,26,0),#REF!)","v":{"$error":"#REF!"}},null,null,null,null,null,null,null,null,{"$f":"BX183","v":0},{"$f":"BY183","v":0},null,null,null,{"$f":"IF(AND(O313=0,P313=0),\"\",IF(O313>P313,M311,M314))","v":""}]
[null,null,null,"",null,null,null,{"$f":"BX107","v":0},{"$f":"BY107","v":0},null,null,104,{"$f":"IF(AND(H314=0,I314=0),\"\",IF(H314>I314,F313,F315))","v":""}]
[208,26,null,"",231,{"$f":"IF(Main!$Q$2=3,VLOOKUP(E315,Katılım!$A$4:$Z$55,26,0),#REF!)","v":{"$error":"#REF!"}}]
[209,23,null,"",23,{"$f":"IF(Main!$Q$2=3,VLOOKUP(E316,Katılım!$A$4:$Z$55,26,0),#REF!)","v":{"$error":"#REF!"}},null,null,null,null,null,null,null,null,null,null,null,null,null,null,null,null,null,null,null,null,null,null,null,null,null,null,null,null,null,null,{"$f":"BX250","v":0},{"$f":"BY250","v":0},null,null,{"$f":"IF(AND(AK316=0,AL316=0),\"\",IF(AK316>AL316,AH304,AH328))","v":""}]
[null,null,null,"",null,null,null,{"$f":"BX108","v":0},{"$f":"BY108","v":0},null,null,105,{"$f":"IF(AND(H317=0,I317=0),\"\",IF(H317>I317,F316,F318))","v":""}]
[210,129,23,"",234,{"$f":"IF(Main!$Q$2=3,VLOOKUP(E318,Katılım!$A$4:$Z$55,26,0),#REF!)","v":{"$error":"#REF!"}},null,null,null,null,null,null,null,null,null,null,null,null,{"$f":"+S312+1","v":57},{"$f":"IF(AND(O319=0,P319=0),\"\",IF(O319>P319,M317,M320))","v":""}]
[211,129,null,"",106,{"$f":"IF(Main!$Q$2=3,VLOOKUP(E319,Katılım!$A$4:$Z$55,26,0),#REF!)","v":{"$error":"#REF!"}},null,null,null,null,null,null,null,null,{"$f":"BX184","v":0},{"$f":"BY184","v":0},null,null,null,null,null,null,null,null,null,{"$f":"+Z307+1","v":33}]
[null,null,null,"",null,null,null,{"$f":"BX109","v":0},{"$f":"BY109","v":0},null,null,106,{"$f":"IF(AND(H320=0,I320=0),\"\",IF(H320>I320,F319,F321))","v":""}]
[212,65,null,"",151,{"$f":"IF(Main!$Q$2=3,VLOOKUP(E321,Katılım!$A$4:$Z$55,26,0),#REF!)","v":{"$error":"#REF!"}}]
[213,65,null,"",87,{"$f":"IF(Main!$Q$2=3,VLOOKUP(E322,Katılım!$A$4:$Z$55,26,0),#REF!)","v":{"$error":"#REF!"}},null,null,null,null,null,null,null,null,null,null,null,null,null,null,null,{"$f":"BX222","v":0},{"$f":"BY222","v":0},null,null,null,{"$f":"IF(AND(V322=0,W322=0),\"\",IF(V322>W322,T318,T325))","v":""}]
[null,null,null,"",null,null,null,{"$f":"BX110","v":0},{"$f":"BY110","v":0},null,null,107,{"$f":"IF(AND(H323=0,I323=0),\"\",IF(H323>I323,F322,F324))","v":""},null,null,null,null,null,null,null,null,null,null,null,null,null,null,null,null,null,null,null,{"$f":"+AG299+1","v":{"$error":"#VALUE!"}}]
[214,129,null,"E3",170,{"$f":"IF(Main!$Q$2=3,VLOOKUP(E324,Katılım!$A$4:$Z$55,26,0),#REF!)","v":{"$error":"#REF!"}},null,null,null,null,null,null,null,null,null,null,null,null,{"$f":"+S318+1","v":58}]
[215,129,42,"",42,{"$f":"IF(Main!$Q$2=3,VLOOKUP(E325,Katılım!$A$4:$Z$55,26,0),#REF!)","v":{"$error":"#REF!"}},null,null,null,null,null,null,null,null,{"$f":"BX185","v":0},{"$f":"BY185","v":0},null,null,null,{"$f":"IF(AND(O325=0,P325=0),\"\",IF(O325>P325,M323,M326))","v":""}]
[null,null,null,"",null,null,null,{"$f":"BX111","v":0},{"$f":"BY111","v":0},null,null,108,{"$f":"IF(AND(H326=0,I326=0),\"\",IF(H326>I326,F325,F327))","v":""}]
[216,42,null,"",215,{"$f":"IF(Main!$Q$2=3,VLOOKUP(E327,Katılım!$A$4:$Z$55,26,0),#REF!)","v":{"$error":"#REF!"}}]
[217,39,null,"",55,{"$f":"IF(Main!$Q$2=3,VLOOKUP(E328,Katılım!$A$4:$Z$55,26,0),#REF!)","v":{"$error":"#REF!"}},null,null,null,null,null,null,null,null,null,null,null,null,null,null,null,null,null,null,null,null,null,null,null,{"$f":"BX241","v":0},{"$f":"BY241","v":0},null,null,{"$f":"IF(AND(AD328=0,AE328=0),\"\",IF(AD328>AE328,AA322,AA334))","v":""}]
[null,null,null,"",null,null,null,{"$f":"BX112","v":0},{"$f":"BY112","v":0},null,null,109,{"$f":"IF(AND(H329=0,I329=0),\"\",IF(H329>I329,F328,F330))","v":""}]
[218,129,39,"",202,{"$f":"IF(Main!$Q$2=3,VLOOKUP(E330,Katılım!$A$4:$Z$55,26,0),#REF!)","v":{"$error":"#REF!"}},null,null,null,null,null,null,null,null,null,null,null,null,{"$f":"+S324+1","v":59},{"$f":"IF(AND(O331=0,P331=0),\"\",IF(O331>P331,M329,M332))","v":""}]
[219,129,null,"E19",74,{"$f":"IF(Main!$Q$2=3,VLOOKUP(E331,Katılım!$A$4:$Z$55,26,0),#REF!)","v":{"$error":"#REF!"}},null,null,null,null,null,null,null,null,{"$f":"BX186","v":0},{"$f":"BY186","v":0},null,null,null,null,null,null,null,null,null,{"$f":"+Z319+1","v":34}]
[null,null,null,"",null,null,null,{"$f":"BX113","v":0},{"$f":"BY113","v":0},null,null,110,{"$f":"IF(AND(H332=0,I332=0),\"\",IF(H332>I332,F331,F333))","v":""}]
[220,65,null,"",183,{"$f":"IF(Main!$Q$2=3,VLOOKUP(E333,Katılım!$A$4:$Z$55,26,0),#REF!)","v":{"$error":"#REF!"}}]
[221,65,null,"",119,{"$f":"IF(Main!$Q$2=3,VLOOKUP(E334,Katılım!$A$4:$Z$55,26,0),#REF!)","v":{"$error":"#REF!"}},null,null,null,null,null,null,null,null,null,null,null,null,null,null,null,{"$f":"BX223","v":0},{"$f":"BY223","v":0},null,null,null,{"$f":"IF(AND(V334=0,W334=0),\"\",IF(V334>W334,T330,T337))","v":""}]
[null,null,null,"",null,null,null,{"$f":"BX114","v":0},{"$f":"BY114","v":0},null,null,111,{"$f":"IF(AND(H335=0,I335=0),\"\",IF(H335>I335,F334,F336))","v":""}]
[222,129,null,"",138,{"$f":"IF(Main!$Q$2=3,VLOOKUP(E336,Katılım!$A$4:$Z$55,26,0),#REF!)","v":{"$error":"#REF!"}},null,null,null,null,null,null,null,null,null,null,null,null,{"$f":"+S330+1","v":60}]
[223,129,10,"",10,{"$f":"IF(Main!$Q$2=3,VLOOKUP(E337,Katılım!$A$4:$Z$55,26,0),#REF!)","v":{"$error":"#REF!"}},null,null,null,null,null,null,null,null,{"$f":"BX187","v":0},{"$f":"BY187","v":0},null,null,null,{"$f":"IF(AND(O337=0,P337=0),\"\",IF(O337>P337,M335,M338))","v":""}]
[null,null,null,"",null,null,null,{"$f":"BX115","v":0},{"$f":"BY115","v":0},null,null,112,{"$f":"IF(AND(H338=0,I338=0),\"\",IF(H338>I338,F337,F339))","v":""}]
[224,10,null,"",247,{"$f":"IF(Main!$Q$2=3,VLOOKUP(E339,Katılım!$A$4:$Z$55,26,0),#REF!)","v":{"$error":"#REF!"}}]
[225,15,null,"",15,{"$f":"IF(Main!$Q$2=3,VLOOKUP(E340,Katılım!$A$4:$Z$55,26,0),#REF!)","v":{"$error":"#REF!"}}]
[null,null,null,"",null,null,null,{"$f":"BX116","v":0},{"$f":"BY116","v":0},null,null,113,{"$f":"IF(AND(H341=0,I341=0),\"\",IF(H341>I341,F340,F342))","v":""}]
[226,129,15,"",242,{"$f":"IF(Main!$Q$2=3,VLOOKUP(E342,Katılım!$A$4:$Z$55,26,0),#REF!)","v":{"$error":"#REF!"}},null,null,null,null,null,null,null,null,null,null,null,null,{"$f":"+S336+1","v":61},{"$f":"IF(AND(O343=0,P343=0),\"\",IF(O343>P343,M341,M344))","v":""}]
[227,129,null,"E32",114,{"$f":"IF(Main!$Q$2=3,VLOOKUP(E343,Katılım!$A$4:$Z$55,26,0),#REF!)","v":{"$error":"#REF!"}},null,null,null,null,null,null,null,null,{"$f":"BX188","v":0},{"$f":"BY188","v":0},null,null,null,null,null,null,null,null,null,{"$f":"+Z331+1","v":35}]
[null,null,null,"",null,null,null,{"$f":"BX117","v":0},{"$f":"BY117","v":0},null,null,114,{"$f":"IF(AND(H344=0,I344=0),\"\",IF(H344>I344,F343,F345))","v":""}]
[228,65,null,"",143,{"$f":"IF(Main!$Q$2=3,VLOOKUP(E345,Katılım!$A$4:$Z$55,26,0),#REF!)","v":{"$error":"#REF!"}}]
[229,65,null,"",79,{"$f":"IF(Main!$Q$2=3,VLOOKUP(E346,Katılım!$A$4:$Z$55,26,0),#REF!)","v":{"$error":"#REF!"}},null,null,null,null,null,null,null,null,null,null,null,null,null,null,null,{"$f":"BX224","v":0},{"$f":"BY224","v":0},null,null,null,{"$f":"IF(AND(V346=0,W346=0),\"\",IF(V346>W346,T342,T349))","v":""}]
[null,null,null,"",null,null,null,{"$f":"BX118","v":0},{"$f":"BY118","v":0},null,null,115,{"$f":"IF(AND(H347=0,I347=0),\"\",IF(H347>I347,F346,F348))","v":""},null,null,null,null,null,null,null,null,null,null,null,null,null,null,null,null,null,null,null,{"$f":"+AG323+1","v":{"$error":"#VALUE!"}}]
[230,129,null,"E23",178,{"$f":"IF(Main!$Q$2=3,VLOOKUP(E348,Katılım!$A$4:$Z$55,26,0),#REF!)","v":{"$error":"#REF!"}},null,null,null,null,null,null,null,null,null,null,null,null,{"$f":"+S342+1","v":62}]
[231,129,34,"",50,{"$f":"IF(Main!$Q$2=3,VLOOKUP(E349,Katılım!$A$4:$Z$55,26,0),#REF!)","v":{"$error":"#REF!"}},null,null,null,null,null,null,null,null,{"$f":"BX189","v":0},{"$f":"BY189","v":0},null,null,null,{"$f":"IF(AND(O349=0,P349=0),\"\",IF(O349>P349,M347,M350))","v":""}]
[null,null,null,"",null,null,null,{"$f":"BX119","v":0},{"$f":"BY119","v":0},null,null,116,{"$f":"IF(AND(H350=0,I350=0),\"\",IF(H350>I350,F349,F351))","v":""}]
[232,34,null,"",207,{"$f":"IF(Main!$Q$2=3,VLOOKUP(E351,Katılım!$A$4:$Z$55,26,0),#REF!)","v":{"$error":"#REF!"}}]
[233,47,null,"",47,{"$f":"IF(Main!$Q$2=3,VLOOKUP(E352,Katılım!$A$4:$Z$55,26,0),#REF!)","v":{"$error":"#REF!"}},null,null,null,null,null,null,null,null,null,null,null,null,null,null,null,null,null,null,null,null,null,null,null,{"$f":"BX242","v":0},{"$f":"BY242","v":0},null,null,{"$f":"IF(AND(AD352=0,AE352=0),\"\",IF(AD352>AE352,AA346,AA358))","v":""}]
[null,null,null,"",null,null,null,{"$f":"BX120","v":0},{"$f":"BY120","v":0},null,null,117,{"$f":"IF(AND(H353=0,I353=0),\"\",IF(H353>I353,F352,F354))","v":""},null,null,null,null,null,null,null,null,null,null,null,null,null,null,null,null,null,null,null,null,null,null,null,null,null,null,248]
[234,129,47,"",210,{"$f":"IF(Main!$Q$2=3,VLOOKUP(E354,Katılım!$A$4:$Z$55,26,0),#REF!)","v":{"$error":"#REF!"}},null,null,null,null,null,null,null,null,null,null,null,null,{"$f":"+S348+1","v":63},{"$f":"IF(AND(O355=0,P355=0),\"\",IF(O355>P355,M353,M356))","v":""}]
[235,129,null,"E7",82,{"$f":"IF(Main!$Q$2=3,VLOOKUP(E355,Katılım!$A$4:$Z$55,26,0),#REF!)","v":{"$error":"#REF!"}},null,null,null,null,null,null,null,null,{"$f":"BX190","v":0},{"$f":"BY190","v":0},null,null,null,null,null,null,null,null,null,{"$f":"+Z343+1","v":36}]
[null,null,null,"",null,null,null,{"$f":"BX121","v":0},{"$f":"BY121","v":0},null,null,118,{"$f":"IF(AND(H356=0,I356=0),\"\",IF(H356>I356,F355,F357))","v":""}]
[236,65,null,"",175,{"$f":"IF(Main!$Q$2=3,VLOOKUP(E357,Katılım!$A$4:$Z$55,26,0),#REF!)","v":{"$error":"#REF!"}}]
[237,65,null,"",111,{"$f":"IF(Main!$Q$2=3,VLOOKUP(E358,Katılım!$A$4:$Z$55,26,0),#REF!)","v":{"$error":"#REF!"}},null,null,null,null,null,null,null,null,null,null,null,null,null,null,null,{"$f":"BX225","v":0},{"$f":"BY225","v":0},null,null,null,{"$f":"IF(AND(V358=0,W358=0),\"\",IF(V358>W358,T354,T361))","v":""}]
[null,null,null,"",null,null,null,{"$f":"BX122","v":0},{"$f":"BY122","v":0},null,null,119,{"$f":"IF(AND(H359=0,I359=0),\"\",IF(H359>I359,F358,F360))","v":""}]
[238,129,null,"",146,{"$f":"IF(Main!$Q$2=3,VLOOKUP(E360,Katılım!$A$4:$Z$55,26,0),#REF!)","v":{"$error":"#REF!"}},null,null,null,null,null,null,null,null,null,null,null,null,{"$f":"+S354+1","v":64}]
[239,129,18,"",18,{"$f":"IF(Main!$Q$2=3,VLOOKUP(E361,Katılım!$A$4:$Z$55,26,0),#REF!)","v":{"$error":"#REF!"}},null,null,null,null,null,null,null,null,{"$f":"BX191","v":0},{"$f":"BY191","v":0},null,null,null,{"$f":"IF(AND(O361=0,P361=0),\"\",IF(O361>P361,M359,M362))","v":""}]
[null,null,null,"",null,null,null,{"$f":"BX123","v":0},{"$f":"BY123","v":0},null,null,120,{"$f":"IF(AND(H362=0,I362=0),\"\",IF(H362>I362,F361,F363))","v":""}]
[240,18,null,"",239,{"$f":"IF(Main!$Q$2=3,VLOOKUP(E363,Katılım!$A$4:$Z$55,26,0),#REF!)","v":{"$error":"#REF!"}}]
[241,31,null,"",31,{"$f":"IF(Main!$Q$2=3,VLOOKUP(E364,Katılım!$A$4:$Z$55,26,0),#REF!)","v":{"$error":"#REF!"}},null,null,null,null,null,null,null,null,null,null,null,null,null,null,null,null,null,null,null,null,null,null,null,null,null,null,null,null,null,null,{"$f":"BX251","v":0},{"$f":"BY251","v":0},null,null,{"$f":"IF(AND(AK364=0,AL364=0),\"\",IF(AK364>AL364,AH352,AH376))","v":""}]
[null,null,null,"",null,null,null,{"$f":"BX124","v":0},{"$f":"BY124","v":0},null,null,121,{"$f":"IF(AND(H365=0,I365=0),\"\",IF(H365>I365,F364,F366))","v":""}]
[242,129,31,"",226,{"$f":"IF(Main!$Q$2=3,VLOOKUP(E366,Katılım!$A$4:$Z$55,26,0),#REF!)","v":{"$error":"#REF!"}},null,null,null,null,null,null,null,null,null,null,null,null,{"$f":"+S360+1","v":65},{"$f":"IF(AND(O367=0,P367=0),\"\",IF(O367>P367,M365,M368))","v":""}]
[243,129,null,"",98,{"$f":"IF(Main!$Q$2=3,VLOOKUP(E367,Katılım!$A$4:$Z$55,26,0),#REF!)","v":{"$error":"#REF!"}},null,null,null,null,null,null,null,null,{"$f":"BX192","v":0},{"$f":"BY192","v":0},null,null,null,null,null,null,null,null,null,{"$f":"+Z355+1","v":37}]
[null,null,null,"",null,null,null,{"$f":"BX125","v":0},{"$f":"BY125","v":0},null,null,122,{"$f":"IF(AND(H368=0,I368=0),\"\",IF(H368>I368,F367,F369))","v":""}]
[244,65,null,"",159,{"$f":"IF(Main!$Q$2=3,VLOOKUP(E369,Katılım!$A$4:$Z$55,26,0),#REF!)","v":{"$error":"#REF!"}}]
[245,65,null,"",95,{"$f":"IF(Main!$Q$2=3,VLOOKUP(E370,Katılım!$A$4:$Z$55,26,0),#REF!)","v":{"$error":"#REF!"}},null,null,null,null,null,null,null,null,null,null,null,null,null,null,null,{"$f":"BX226","v":0},{"$f":"BY226","v":0},null,null,null,{"$f":"IF(AND(V370=0,W370=0),\"\",IF(V370>W370,T366,T373))","v":""}]
[null,null,null,"",null,null,null,{"$f":"BX126","v":0},{"$f":"BY126","v":0},null,null,123,{"$f":"IF(AND(H371=0,I371=0),\"\",IF(H371>I371,F370,F372))","v":""},null,null,null,null,null,null,null,null,null,null,null,null,null,null,null,null,null,null,null,{"$f":"+AG347+1","v":{"$error":"#VALUE!"}}]
[246,129,null,"E15",162,{"$f":"IF(Main!$Q$2=3,VLOOKUP(E372,Katılım!$A$4:$Z$55,26,0),#REF!)","v":{"$error":"#REF!"}},null,null,null,null,null,null,null,null,null,null,null,null,{"$f":"+S366+1","v":66}]
[247,129,50,"",34,{"$f":"IF(Main!$Q$2=3,VLOOKUP(E373,Katılım!$A$4:$Z$55,26,0),#REF!)","v":{"$error":"#REF!"}},null,null,null,null,null,null,null,null,{"$f":"BX193","v":0},{"$f":"BY193","v":0},null,null,null,{"$f":"IF(AND(O373=0,P373=0),\"\",IF(O373>P373,M371,M374))","v":""}]
[null,null,null,"",null,null,null,{"$f":"BX127","v":0},{"$f":"BY127","v":0},null,null,124,{"$f":"IF(AND(H374=0,I374=0),\"\",IF(H374>I374,F373,F375))","v":""}]
[248,50,null,"",223,{"$f":"IF(Main!$Q$2=3,VLOOKUP(E375,Katılım!$A$4:$Z$55,26,0),#REF!)","v":{"$error":"#REF!"}}]
[249,63,999,"",63,{"$f":"IF(Main!$Q$2=3,VLOOKUP(E376,Katılım!$A$4:$Z$55,26,0),#REF!)","v":{"$error":"#REF!"}},null,null,null,null,null,null,null,null,null,null,null,null,null,null,null,null,null,null,null,null,null,null,null,{"$f":"BX243","v":0},{"$f":"BY243","v":0},null,null,{"$f":"IF(AND(AD376=0,AE376=0),\"\",IF(AD376>AE376,AA370,AA382))","v":""}]
[null,null,null,"",null,null,null,{"$f":"BX128","v":0},{"$f":"BY128","v":0},null,null,125,{"$f":"IF(AND(H377=0,I377=0),\"\",IF(H377>I377,F376,F378))","v":""}]
[250,129,999,"",194,{"$f":"IF(Main!$Q$2=3,VLOOKUP(E378,Katılım!$A$4:$Z$55,26,0),#REF!)","v":{"$error":"#REF!"}},null,null,null,null,null,null,null,null,null,null,null,null,{"$f":"+S372+1","v":67},{"$f":"IF(AND(O379=0,P379=0),\"\",IF(O379>P379,M377,M380))","v":""}]
[251,129,999,"",66,{"$f":"IF(Main!$Q$2=3,VLOOKUP(E379,Katılım!$A$4:$Z$55,26,0),#REF!)","v":{"$error":"#REF!"}},null,null,null,null,null,null,null,null,{"$f":"BX194","v":0},{"$f":"BY194","v":0},null,null,null,null,null,null,null,null,null,{"$f":"+Z367+1","v":38}]
[null,null,null,"",null,null,null,{"$f":"BX129","v":0},{"$f":"BY129","v":0},null,null,126,{"$f":"IF(AND(H380=0,I380=0),\"\",IF(H380>I380,F379,F381))","v":""}]
[252,65,999,"",191,{"$f":"IF(Main!$Q$2=3,VLOOKUP(E381,Katılım!$A$4:$Z$55,26,0),#REF!)","v":{"$error":"#REF!"}}]
[253,65,999,"",127,{"$f":"IF(Main!$Q$2=3,VLOOKUP(E382,Katılım!$A$4:$Z$55,26,0),#REF!)","v":{"$error":"#REF!"}},null,null,null,null,null,null,null,null,null,null,null,null,null,null,null,{"$f":"BX227","v":0},{"$f":"BY227","v":0},null,null,null,{"$f":"IF(AND(V382=0,W382=0),\"\",IF(V382>W382,T378,T385))","v":""}]
[null,null,null,"",null,null,null,{"$f":"BX130","v":0},{"$f":"BY130","v":0},null,null,127,{"$f":"IF(AND(H383=0,I383=0),\"\",IF(H383>I383,F382,F384))","v":""}]
[254,129,999,"",130,{"$f":"IF(Main!$Q$2=3,VLOOKUP(E384,Katılım!$A$4:$Z$55,26,0),#REF!)","v":{"$error":"#REF!"}},null,null,null,null,null,null,null,null,null,null,null,null,{"$f":"+S378+1","v":68}]
[255,129,999,"",255,{"$f":"IF(Main!$Q$2=3,VLOOKUP(E385,Katılım!$A$4:$Z$55,26,0),#REF!)","v":{"$error":"#REF!"}},null,null,null,null,null,null,null,null,{"$f":"BX195","v":0},{"$f":"BY195","v":0},null,null,null,{"$f":"IF(AND(O385=0,P385=0),\"\",IF(O385>P385,M383,M386))","v":""}]
[null,null,null,"",null,null,null,{"$f":"BX131","v":0},{"$f":"BY131","v":0},null,null,128,{"$f":"IF(AND(H386=0,I386=0),\"\",IF(H386>I386,F385,F387))","v":""}]
[256,2,null,"",2,{"$f":"IF(Main!$Q$2=3,VLOOKUP(E387,Katılım!$A$4:$Z$55,26,0),#REF!)","v":{"$error":"#REF!"}}]
[]
[]
[1,1,0,0,1,{"$f":"IF(Main!$Q$2=3,VLOOKUP(E390,Katılım!$A$4:$Z$55,26,0),#REF!)","v":{"$error":"#REF!"}},null,null,null,null,null,null,null,null,null,null,null,null,null,null,null,null,null,null,null,null,null,null,null,null,null,null,null,null,null,null,null,null,null,null,null,null,null,null,null,null,null,null,null,null,null,null,null,null,null,null,null,null,1,null,null,null,null,{"$f":"F390","v":{"$error":"#REF!"}},{"$f":"F392","v":{"$error":"#REF!"}}]
[null,null,null,null,null,null,null,{"$f":"BX390","v":0},{"$f":"BY390","v":0},null,null,1,{"$f":"IF(AND(H391=0,I391=0),\"\",IF(H391>I391,F390,F392))","v":""},null,null,null,null,null,null,null,null,null,null,null,null,null,null,null,null,null,null,null,null,null,null,null,null,null,null,null,null,null,null,null,null,null,null,null,null,null,null,null,null,null,null,null,null,null,2,null,null,null,null,{"$f":"F393","v":{"$error":"#REF!"}},{"$f":"F395","v":{"$error":"#REF!"}}]
[2,65,1,"E64",128,{"$f":"IF(Main!$Q$2=3,VLOOKUP(E392,Katılım!$A$4:$Z$55,26,0),#REF!)","v":{"$error":"#REF!"}},null,null,null,null,null,null,null,null,null,null,null,null,65,{"$f":"IF(AND(O393=0,P393=0),\"\",IF(O393>P393,M391,M394))","v":""},null,null,null,null,null,null,null,null,null,null,null,null,null,null,null,null,null,null,null,null,null,null,null,null,null,null,null,null,null,null,null,null,null,null,null,null,null,null,3,null,null,null,null,{"$f":"F396","v":{"$error":"#REF!"}},{"$f":"F398","v":{"$error":"#REF!"}}]
[3,65,33,"E32",64,{"$f":"IF(Main!$Q$2=3,VLOOKUP(E393,Katılım!$A$4:$Z$55,26,0),#REF!)","v":{"$error":"#REF!"}},null,null,null,null,null,null,null,null,{"$f":"BX454","v":0},{"$f":"BY454","v":0},null,null,null,null,null,null,null,null,null,97,null,null,null,null,null,null,null,null,null,null,null,null,null,null,null,null,null,null,null,null,null,null,null,null,null,null,null,null,null,null,null,null,4,null,null,null,null,{"$f":"F399","v":{"$error":"#REF!"}},{"$f":"F401","v":{"$error":"#REF!"}}]
[null,null,null,"",null,null,null,{"$f":"BX391","v":0},{"$f":"BY391","v":0},null,null,2,{"$f":"IF(AND(H394=0,I394=0),\"\",IF(H394>I394,F393,F395))","v":""},null,null,null,null,null,null,null,null,null,null,null,null,null,null,null,null,null,null,null,null,null,null,null,null,null,null,null,null,null,null,null,null,null,null,null,null,null,null,null,null,null,null,null,null,null,5,null,null,null,null,{"$f":"F402","v":{"$error":"#REF!"}},{"$f":"F404","v":{"$error":"#REF!"}}]
[4,33,0,"",65,{"$f":"IF(Main!$Q$2=3,VLOOKUP(E395,Katılım!$A$4:$Z$55,26,0),#REF!)","v":{"$error":"#REF!"}},null,null,null,null,null,null,null,null,null,null,null,null,null,null,null,null,null,null,null,null,null,null,null,null,null,null,null,null,null,null,null,null,null,null,null,null,null,null,null,null,null,null,null,null,null,null,null,null,null,null,null,null,6,null,null,null,null,{"$f":"F405","v":{"$error":"#REF!"}},{"$f":"F407","v":{"$error":"#REF!"}}]
[5,33,0,"",32,{"$f":"IF(Main!$Q$2=3,VLOOKUP(E396,Katılım!$A$4:$Z$55,26,0),#REF!)","v":{"$error":"#REF!"}},null,null,null,null,null,null,null,null,null,null,null,null,null,null,null,{"$f":"BX486","v":0},{"$f":"BY486","v":0},null,null,null,{"$f":"IF(AND(V396=0,W396=0),\"\",IF(V396>W396,T392,T399))","v":""},null,null,null,null,null,null,null,null,null,null,null,null,null,null,null,null,null,null,null,null,null,null,null,null,null,null,null,null,null,null,null,7,null,null,null,null,{"$f":"F408","v":{"$error":"#REF!"}},{"$f":"F410","v":{"$error":"#REF!"}}]
[null,null,null,"",null,null,null,{"$f":"BX392","v":0},{"$f":"BY392","v":0},null,null,3,{"$f":"IF(AND(H397=0,I397=0),\"\",IF(H397>I397,F396,F398))","v":""},null,null,null,null,null,null,null,null,null,null,null,null,null,null,null,null,null,null,null,113,null,null,null,null,null,null,null,null,null,null,null,null,null,null,null,null,null,null,null,null,null,null,null,null,null,8,null,null,null,null,{"$f":"F411","v":{"$error":"#REF!"}},{"$f":"F413","v":{"$error":"#REF!"}}]
[6,65,49,"E16",97,{"$f":"IF(Main!$Q$2=3,VLOOKUP(E398,Katılım!$A$4:$Z$55,26,0),#REF!)","v":{"$error":"#REF!"}},null,null,null,null,null,null,null,null,null,null,null,null,{"$f":"+S392+1","v":66},null,null,null,null,null,null,null,null,null,null,null,null,null,null,null,null,null,null,null,null,null,null,null,null,null,null,null,null,null,null,null,null,null,null,null,null,null,null,null,9,null,null,null,null,{"$f":"F414","v":{"$error":"#REF!"}},{"$f":"F416","v":{"$error":"#REF!"}}]
[7,65,17,"E48",33,{"$f":"IF(Main!$Q$2=3,VLOOKUP(E399,Katılım!$A$4:$Z$55,26,0),#REF!)","v":{"$error":"#REF!"}},null,null,null,null,null,null,null,null,{"$f":"BX455","v":0},{"$f":"BY455","v":0},null,null,null,{"$f":"IF(AND(O399=0,P399=0),\"\",IF(O399>P399,M397,M400))","v":""},null,null,null,null,null,null,null,null,null,null,null,null,null,null,null,null,null,null,null,null,null,null,null,null,null,null,null,null,null,null,null,null,null,null,null,null,null,null,10,null,null,null,null,{"$f":"F417","v":{"$error":"#REF!"}},{"$f":"F419","v":{"$error":"#REF!"}}]
[null,null,null,"",null,null,null,{"$f":"BX393","v":0},{"$f":"BY393","v":0},null,null,4,{"$f":"IF(AND(H400=0,I400=0),\"\",IF(H400>I400,F399,F401))","v":""},null,null,null,null,null,null,null,null,null,null,null,null,null,null,null,null,null,null,null,null,null,null,null,null,null,null,null,null,null,null,null,null,null,null,null,null,null,null,null,null,null,null,null,null,null,11,null,null,null,null,{"$f":"F420","v":{"$error":"#REF!"}},{"$f":"F422","v":{"$error":"#REF!"}}]
[8,17,0,"",96,{"$f":"IF(Main!$Q$2=3,VLOOKUP(E401,Katılım!$A$4:$Z$55,26,0),#REF!)","v":{"$error":"#REF!"}},null,null,null,null,null,null,null,null,null,null,null,null,null,null,null,null,null,null,null,null,null,null,null,null,null,null,null,null,null,null,null,null,null,null,null,null,null,null,null,null,null,null,null,null,null,null,null,null,null,null,null,null,12,null,null,null,null,{"$f":"F423","v":{"$error":"#REF!"}},{"$f":"F425","v":{"$error":"#REF!"}}]
[9,17,0,"",16,{"$f":"IF(Main!$Q$2=3,VLOOKUP(E402,Katılım!$A$4:$Z$55,26,0),#REF!)","v":{"$error":"#REF!"}},null,null,null,null,null,null,null,null,null,null,null,null,null,null,null,null,null,null,null,null,null,null,null,{"$f":"BX502","v":0},{"$f":"BY502","v":0},null,null,{"$f":"IF(AND(AD402=0,AE402=0),\"\",IF(AD402>AE402,AA396,AA408))","v":""},null,null,null,null,null,null,null,null,null,null,null,null,null,null,null,null,null,null,null,null,null,null,null,null,13,null,null,null,null,{"$f":"F426","v":{"$error":"#REF!"}},{"$f":"F428","v":{"$error":"#REF!"}}]
[null,null,null,"",null,null,null,{"$f":"BX394","v":0},{"$f":"BY394","v":0},null,null,5,{"$f":"IF(AND(H403=0,I403=0),\"\",IF(H403>I403,F402,F404))","v":""},null,null,null,null,null,null,null,null,null,null,null,null,null,null,null,null,null,null,null,null,null,null,null,null,null,null,null,null,null,null,null,null,null,null,null,null,null,null,null,null,null,null,null,null,null,14,null,null,null,null,{"$f":"F429","v":{"$error":"#REF!"}},{"$f":"F431","v":{"$error":"#REF!"}}]
[10,65,25,"E40",113,{"$f":"IF(Main!$Q$2=3,VLOOKUP(E404,Katılım!$A$4:$Z$55,26,0),#REF!)","v":{"$error":"#REF!"}},null,null,null,null,null,null,null,null,null,null,null,null,{"$f":"+S398+1","v":67},{"$f":"IF(AND(O405=0,P405=0),\"\",IF(O405>P405,M403,M406))","v":""},null,null,null,null,null,null,null,null,null,null,null,null,null,null,null,null,null,null,null,null,null,null,null,null,null,null,null,null,null,null,null,null,null,null,null,null,null,null,15,null,null,null,null,{"$f":"F432","v":{"$error":"#REF!"}},{"$f":"F434","v":{"$error":"#REF!"}}]
[11,65,57,"E8",49,{"$f":"IF(Main!$Q$2=3,VLOOKUP(E405,Katılım!$A$4:$Z$55,26,0),#REF!)","v":{"$error":"#REF!"}},null,null,null,null,null,null,null,null,{"$f":"BX456","v":0},{"$f":"BY456","v":0},null,null,null,null,null,null,null,null,null,{"$f":"+Z393+1","v":98},null,null,null,null,null,null,null,null,null,null,null,null,null,null,null,null,null,null,null,null,null,null,null,null,null,null,null,null,null,null,null,null,16,null,null,null,null,{"$f":"F435","v":{"$error":"#REF!"}},{"$f":"F437","v":{"$error":"#REF!"}}]
[null,null,null,"",null,null,null,{"$f":"BX395","v":0},{"$f":"BY395","v":0},null,null,6,{"$f":"IF(AND(H406=0,I406=0),\"\",IF(H406>I406,F405,F407))","v":""},null,null,null,null,null,null,null,null,null,null,null,null,null,null,null,null,null,null,null,null,null,null,null,null,null,null,null,null,null,null,null,null,null,null,null,null,null,null,null,null,null,null,null,null,null,17,null,null,null,null,{"$f":"F438","v":{"$error":"#REF!"}},{"$f":"F440","v":{"$error":"#REF!"}}]
[12,33,0,"",80,{"$f":"IF(Main!$Q$2=3,VLOOKUP(E407,Katılım!$A$4:$Z$55,26,0),#REF!)","v":{"$error":"#REF!"}},null,null,null,null,null,null,null,null,null,null,null,null,null,null,null,null,null,null,null,null,null,null,null,null,null,null,null,null,null,null,null,null,null,null,null,null,null,null,null,null,null,null,null,null,null,null,null,null,null,null,null,null,18,null,null,null,null,{"$f":"F441","v":{"$error":"#REF!"}},{"$f":"F443","v":{"$error":"#REF!"}}]
[13,33,0,"",17,{"$f":"IF(Main!$Q$2=3,VLOOKUP(E408,Katılım!$A$4:$Z$55,26,0),#REF!)","v":{"$error":"#REF!"}},null,null,null,null,null,null,null,null,null,null,null,null,null,null,null,{"$f":"BX487","v":0},{"$f":"BY487","v":0},null,null,null,{"$f":"IF(AND(V408=0,W408=0),\"\",IF(V408>W408,T404,T411))","v":""},null,null,null,null,null,null,null,null,null,null,null,null,null,null,null,null,null,null,null,null,null,null,null,null,null,null,null,null,null,null,null,19,null,null,null,null,{"$f":"F444","v":{"$error":"#REF!"}},{"$f":"F446","v":{"$error":"#REF!"}}]
[null,null,null,"",null,null,null,{"$f":"BX396","v":0},{"$f":"BY396","v":0},null,null,7,{"$f":"IF(AND(H409=0,I409=0),\"\",IF(H409>I409,F408,F410))","v":""},null,null,null,null,null,null,null,null,null,null,null,null,null,null,null,null,null,null,null,null,null,null,null,null,null,null,null,null,null,null,null,null,null,null,null,null,null,null,null,null,null,null,null,null,null,20,null,null,null,null,{"$f":"F447","v":{"$error":"#REF!"}},{"$f":"F449","v":{"$error":"#REF!"}}]
[14,65,41,"E24",112,{"$f":"IF(Main!$Q$2=3,VLOOKUP(E410,Katılım!$A$4:$Z$55,26,0),#REF!)","v":{"$error":"#REF!"}},null,null,null,null,null,null,null,null,null,null,null,null,{"$f":"+S404+1","v":68},null,null,null,null,null,null,null,null,null,null,null,null,null,null,null,null,null,null,null,null,null,null,null,null,null,null,null,null,null,null,null,null,null,null,null,null,null,null,null,21,null,null,null,null,{"$f":"F450","v":{"$error":"#REF!"}},{"$f":"F452","v":{"$error":"#REF!"}}]
[15,65,9,"E56",48,{"$f":"IF(Main!$Q$2=3,VLOOKUP(E411,Katılım!$A$4:$Z$55,26,0),#REF!)","v":{"$error":"#REF!"}},null,null,null,null,null,null,null,null,{"$f":"BX457","v":0},{"$f":"BY457","v":0},null,null,null,{"$f":"IF(AND(O411=0,P411=0),\"\",IF(O411>P411,M409,M412))","v":""},null,null,null,null,null,null,null,null,null,null,null,null,null,null,null,null,null,null,null,null,null,null,null,null,null,null,null,null,null,null,null,null,null,null,null,null,null,null,22,null,null,null,null,{"$f":"F453","v":{"$error":"#REF!"}},{"$f":"F455","v":{"$error":"#REF!"}}]
[null,null,null,"",null,null,null,{"$f":"BX397","v":0},{"$f":"BY397","v":0},null,null,8,{"$f":"IF(AND(H412=0,I412=0),\"\",IF(H412>I412,F411,F413))","v":""},null,null,null,null,null,null,null,null,null,null,null,null,null,null,null,null,null,null,null,null,null,null,null,null,null,null,null,null,null,null,null,null,null,null,null,null,null,null,null,null,null,null,null,null,null,23,null,null,null,null,{"$f":"F456","v":{"$error":"#REF!"}},{"$f":"F458","v":{"$error":"#REF!"}}]
[16,9,0,"",81,{"$f":"IF(Main!$Q$2=3,VLOOKUP(E413,Katılım!$A$4:$Z$55,26,0),#REF!)","v":{"$error":"#REF!"}},null,null,null,null,null,null,null,null,null,null,null,null,null,null,null,null,null,null,null,null,null,null,null,null,null,null,null,null,null,null,null,null,null,null,null,null,null,null,null,null,null,null,null,null,null,null,null,null,null,null,null,null,24,null,null,null,null,{"$f":"F459","v":{"$error":"#REF!"}},{"$f":"F461","v":{"$error":"#REF!"}}]
[17,9,0,"",88,{"$f":"IF(Main!$Q$2=3,VLOOKUP(E414,Katılım!$A$4:$Z$55,26,0),#REF!)","v":{"$error":"#REF!"}},null,null,null,null,null,null,null,null,null,null,null,null,null,null,null,null,null,null,null,null,null,null,null,null,null,null,null,null,null,null,null,null,null,null,null,null,null,null,null,null,null,null,null,null,null,null,null,null,null,null,null,null,25,null,null,null,null,{"$f":"F462","v":{"$error":"#REF!"}},{"$f":"F464","v":{"$error":"#REF!"}}]
[null,null,null,"",null,null,null,{"$f":"BX398","v":0},{"$f":"BY398","v":0},null,null,9,{"$f":"IF(AND(H415=0,I415=0),\"\",IF(H415>I415,F414,F416))","v":""},null,null,null,null,null,null,null,null,null,null,null,null,null,null,null,null,null,null,null,null,null,null,null,null,null,null,null,null,null,null,null,null,null,null,null,null,null,null,null,null,null,null,null,null,null,26,null,null,null,null,{"$f":"F465","v":{"$error":"#REF!"}},{"$f":"F467","v":{"$error":"#REF!"}}]
[18,65,13,"E52",41,{"$f":"IF(Main!$Q$2=3,VLOOKUP(E416,Katılım!$A$4:$Z$55,26,0),#REF!)","v":{"$error":"#REF!"}},null,null,null,null,null,null,null,null,null,null,null,null,{"$f":"+S410+1","v":69},{"$f":"IF(AND(O417=0,P417=0),\"\",IF(O417>P417,M415,M418))","v":""},null,null,null,null,null,null,null,null,null,null,null,null,null,null,null,null,null,null,null,null,null,null,null,null,null,null,null,null,null,null,null,null,null,null,null,null,null,null,27,null,null,null,null,{"$f":"F468","v":{"$error":"#REF!"}},{"$f":"F470","v":{"$error":"#REF!"}}]
[19,65,45,"E20",105,{"$f":"IF(Main!$Q$2=3,VLOOKUP(E417,Katılım!$A$4:$Z$55,26,0),#REF!)","v":{"$error":"#REF!"}},null,null,null,null,null,null,null,null,{"$f":"BX458","v":0},{"$f":"BY458","v":0},null,null,null,null,null,null,null,null,null,{"$f":"+Z405+1","v":99},null,null,null,null,null,null,null,null,null,null,null,null,null,null,null,null,null,null,null,null,null,null,null,null,null,null,null,null,null,null,null,null,28,null,null,null,null,{"$f":"F471","v":{"$error":"#REF!"}},{"$f":"F473","v":{"$error":"#REF!"}}]
[null,null,null,"",null,null,null,{"$f":"BX399","v":0},{"$f":"BY399","v":0},null,null,10,{"$f":"IF(AND(H418=0,I418=0),\"\",IF(H418>I418,F417,F419))","v":""},null,null,null,null,null,null,null,null,null,null,null,null,null,null,null,null,null,null,null,null,null,null,null,null,null,null,null,null,null,null,null,null,null,null,null,null,null,null,null,null,null,null,null,null,null,29,null,null,null,null,{"$f":"F474","v":{"$error":"#REF!"}},{"$f":"F476","v":{"$error":"#REF!"}}]
[20,33,0,"",24,{"$f":"IF(Main!$Q$2=3,VLOOKUP(E419,Katılım!$A$4:$Z$55,26,0),#REF!)","v":{"$error":"#REF!"}},null,null,null,null,null,null,null,null,null,null,null,null,null,null,null,null,null,null,null,null,null,null,null,null,null,null,null,null,null,null,null,null,null,null,null,null,null,null,null,null,null,null,null,null,null,null,null,null,null,null,null,null,30,null,null,null,null,{"$f":"F477","v":{"$error":"#REF!"}},{"$f":"F479","v":{"$error":"#REF!"}}]
[21,33,0,"",73,{"$f":"IF(Main!$Q$2=3,VLOOKUP(E420,Katılım!$A$4:$Z$55,26,0),#REF!)","v":{"$error":"#REF!"}},null,null,null,null,null,null,null,null,null,null,null,null,null,null,null,{"$f":"BX488","v":0},{"$f":"BY488","v":0},null,null,null,{"$f":"IF(AND(V420=0,W420=0),\"\",IF(V420>W420,T416,T423))","v":""},null,null,null,null,null,null,null,null,null,null,null,null,null,null,null,null,null,null,null,null,null,null,null,null,null,null,null,null,null,null,null,31,null,null,null,null,{"$f":"F480","v":{"$error":"#REF!"}},{"$f":"F482","v":{"$error":"#REF!"}}]
[null,null,null,"",null,null,null,{"$f":"BX400","v":0},{"$f":"BY400","v":0},null,null,11,{"$f":"IF(AND(H421=0,I421=0),\"\",IF(H421>I421,F420,F422))","v":""},null,null,null,null,null,null,null,null,null,null,null,null,null,null,null,null,null,null,null,{"$f":"+AG397+1","v":114},null,null,null,null,null,null,null,null,null,null,null,null,null,null,null,null,null,null,null,null,null,null,null,null,null,32,null,null,null,null,{"$f":"F483","v":{"$error":"#REF!"}},{"$f":"F485","v":{"$error":"#REF!"}}]
[22,65,61,"E4",56,{"$f":"IF(Main!$Q$2=3,VLOOKUP(E422,Katılım!$A$4:$Z$55,26,0),#REF!)","v":{"$error":"#REF!"}},null,null,null,null,null,null,null,null,null,null,null,null,{"$f":"+S416+1","v":70},null,null,null,null,null,null,null,null,null,null,null,null,null,null,null,null,null,null,null,null,null,null,null,null,null,null,null,null,null,null,null,null,null,null,null,null,null,null,null,33,null,null,null,null,{"$f":"F486","v":{"$error":"#REF!"}},{"$f":"F488","v":{"$error":"#REF!"}}]
[23,65,29,"E36",120,{"$f":"IF(Main!$Q$2=3,VLOOKUP(E423,Katılım!$A$4:$Z$55,26,0),#REF!)","v":{"$error":"#REF!"}},null,null,null,null,null,null,null,null,{"$f":"BX459","v":0},{"$f":"BY459","v":0},null,null,null,{"$f":"IF(AND(O423=0,P423=0),\"\",IF(O423>P423,M421,M424))","v":""},null,null,null,null,null,null,null,null,null,null,null,null,null,null,null,null,null,null,null,null,null,null,null,null,null,null,null,null,null,null,null,null,null,null,null,null,null,null,34,null,null,null,null,{"$f":"F489","v":{"$error":"#REF!"}},{"$f":"F491","v":{"$error":"#REF!"}}]
[null,null,null,"",null,null,null,{"$f":"BX401","v":0},{"$f":"BY401","v":0},null,null,12,{"$f":"IF(AND(H424=0,I424=0),\"\",IF(H424>I424,F423,F425))","v":""},null,null,null,null,null,null,null,null,null,null,null,null,null,null,null,null,null,null,null,null,null,null,null,null,null,null,null,null,null,null,null,null,null,null,null,null,null,null,null,null,null,null,null,null,null,35,null,null,null,null,{"$f":"F492","v":{"$error":"#REF!"}},{"$f":"F494","v":{"$error":"#REF!"}}]
[24,17,0,"",9,{"$f":"IF(Main!$Q$2=3,VLOOKUP(E425,Katılım!$A$4:$Z$55,26,0),#REF!)","v":{"$error":"#REF!"}},null,null,null,null,null,null,null,null,null,null,null,null,null,null,null,null,null,null,null,null,null,null,null,null,null,null,null,null,null,null,null,null,null,null,null,null,null,null,null,null,null,null,null,null,null,null,null,null,null,null,null,null,36,null,null,null,null,{"$f":"F495","v":{"$error":"#REF!"}},{"$f":"F497","v":{"$error":"#REF!"}}]
[25,17,0,"",89,{"$f":"IF(Main!$Q$2=3,VLOOKUP(E426,Katılım!$A$4:$Z$55,26,0),#REF!)","v":{"$error":"#REF!"}},null,null,null,null,null,null,null,null,null,null,null,null,null,null,null,null,null,null,null,null,null,null,null,{"$f":"BX503","v":0},{"$f":"BY503","v":0},null,null,{"$f":"IF(AND(AD426=0,AE426=0),\"\",IF(AD426>AE426,AA420,AA432))","v":""},null,null,null,null,null,null,null,null,null,null,null,null,null,null,null,null,null,null,null,null,null,null,null,null,37,null,null,null,null,{"$f":"F498","v":{"$error":"#REF!"}},{"$f":"F500","v":{"$error":"#REF!"}}]
[null,null,null,"",null,null,null,{"$f":"BX402","v":0},{"$f":"BY402","v":0},null,null,13,{"$f":"IF(AND(H427=0,I427=0),\"\",IF(H427>I427,F426,F428))","v":""},null,null,null,null,null,null,null,null,null,null,null,null,null,null,null,null,null,null,null,null,null,null,null,null,null,null,null,null,null,null,null,null,null,null,null,null,null,null,null,null,null,null,null,null,null,38,null,null,null,null,{"$f":"F501","v":{"$error":"#REF!"}},{"$f":"F503","v":{"$error":"#REF!"}}]
[26,65,21,"E44",40,{"$f":"IF(Main!$Q$2=3,VLOOKUP(E428,Katılım!$A$4:$Z$55,26,0),#REF!)","v":{"$error":"#REF!"}},null,null,null,null,null,null,null,null,null,null,null,null,{"$f":"+S422+1","v":71},{"$f":"IF(AND(O429=0,P429=0),\"\",IF(O429>P429,M427,M430))","v":""},null,null,null,null,null,null,null,null,null,null,null,null,null,null,null,null,null,null,null,null,null,null,null,null,null,null,null,null,null,null,null,null,null,null,null,null,null,null,39,null,null,null,null,{"$f":"F504","v":{"$error":"#REF!"}},{"$f":"F506","v":{"$error":"#REF!"}}]
[27,65,53,"E12",104,{"$f":"IF(Main!$Q$2=3,VLOOKUP(E429,Katılım!$A$4:$Z$55,26,0),#REF!)","v":{"$error":"#REF!"}},null,null,null,null,null,null,null,null,{"$f":"BX460","v":0},{"$f":"BY460","v":0},null,null,null,null,null,null,null,null,null,{"$f":"+Z417+1","v":100},null,null,null,null,null,null,null,null,null,null,null,null,null,null,null,null,null,null,null,null,null,null,null,null,null,null,null,null,null,null,null,null,40,null,null,null,null,{"$f":"F507","v":{"$error":"#REF!"}},{"$f":"F509","v":{"$error":"#REF!"}}]
[null,null,null,"",null,null,null,{"$f":"BX403","v":0},{"$f":"BY403","v":0},null,null,14,{"$f":"IF(AND(H430=0,I430=0),\"\",IF(H430>I430,F429,F431))","v":""},null,null,null,null,null,null,null,null,null,null,null,null,null,null,null,null,null,null,null,null,null,null,null,null,null,null,null,null,null,null,null,null,null,null,null,null,null,null,null,null,null,null,null,null,null,41,null,null,null,null,{"$f":"F510","v":{"$error":"#REF!"}},{"$f":"F512","v":{"$error":"#REF!"}}]
[28,33,0,"",25,{"$f":"IF(Main!$Q$2=3,VLOOKUP(E431,Katılım!$A$4:$Z$55,26,0),#REF!)","v":{"$error":"#REF!"}},null,null,null,null,null,null,null,null,null,null,null,null,null,null,null,null,null,null,null,null,null,null,null,null,null,null,null,null,null,null,null,null,null,null,null,null,null,null,null,null,null,null,null,null,null,null,null,null,null,null,null,null,42,null,null,null,null,{"$f":"F513","v":{"$error":"#REF!"}},{"$f":"F515","v":{"$error":"#REF!"}}]
[29,33,0,"",72,{"$f":"IF(Main!$Q$2=3,VLOOKUP(E432,Katılım!$A$4:$Z$55,26,0),#REF!)","v":{"$error":"#REF!"}},null,null,null,null,null,null,null,null,null,null,null,null,null,null,null,{"$f":"BX489","v":0},{"$f":"BY489","v":0},null,null,null,{"$f":"IF(AND(V432=0,W432=0),\"\",IF(V432>W432,T428,T435))","v":""},null,null,null,null,null,null,null,null,null,null,null,null,null,null,null,null,null,null,null,null,null,null,null,null,null,null,null,null,null,null,null,43,null,null,null,null,{"$f":"F516","v":{"$error":"#REF!"}},{"$f":"F518","v":{"$error":"#REF!"}}]
[null,null,null,"",null,null,null,{"$f":"BX404","v":0},{"$f":"BY404","v":0},null,null,15,{"$f":"IF(AND(H433=0,I433=0),\"\",IF(H433>I433,F432,F434))","v":""},null,null,null,null,null,null,null,null,null,null,null,null,null,null,null,null,null,null,null,null,null,null,null,null,null,null,null,null,null,null,null,null,null,null,null,null,null,null,null,null,null,null,null,null,null,44,null,null,null,null,{"$f":"F519","v":{"$error":"#REF!"}},{"$f":"F521","v":{"$error":"#REF!"}}]
[30,65,37,"E28",57,{"$f":"IF(Main!$Q$2=3,VLOOKUP(E434,Katılım!$A$4:$Z$55,26,0),#REF!)","v":{"$error":"#REF!"}},null,null,null,null,null,null,null,null,null,null,null,null,{"$f":"+S428+1","v":72},null,null,null,null,null,null,null,null,null,null,null,null,null,null,null,null,null,null,null,null,null,null,null,null,null,null,null,null,null,null,null,null,null,null,null,null,null,null,null,45,null,null,null,null,{"$f":"F522","v":{"$error":"#REF!"}},{"$f":"F524","v":{"$error":"#REF!"}}]
[31,65,5,"E60",121,{"$f":"IF(Main!$Q$2=3,VLOOKUP(E435,Katılım!$A$4:$Z$55,26,0),#REF!)","v":{"$error":"#REF!"}},null,null,null,null,null,null,null,null,{"$f":"BX461","v":0},{"$f":"BY461","v":0},null,null,null,{"$f":"IF(AND(O435=0,P435=0),\"\",IF(O435>P435,M433,M436))","v":""},null,null,null,null,null,null,null,null,null,null,null,null,null,null,null,null,null,null,null,null,null,null,null,null,null,null,null,null,null,null,null,null,null,null,null,null,null,null,46,null,null,null,null,{"$f":"F525","v":{"$error":"#REF!"}},{"$f":"F527","v":{"$error":"#REF!"}}]
[null,null,null,"",null,null,null,{"$f":"BX405","v":0},{"$f":"BY405","v":0},null,null,16,{"$f":"IF(AND(H436=0,I436=0),\"\",IF(H436>I436,F435,F437))","v":""},null,null,null,null,null,null,null,null,null,null,null,null,null,null,null,null,null,null,null,null,null,null,null,null,null,null,null,null,null,null,null,null,null,null,null,null,null,null,null,null,null,null,null,null,null,47,null,null,null,null,{"$f":"F528","v":{"$error":"#REF!"}},{"$f":"F530","v":{"$error":"#REF!"}}]
[32,5,0,"",8,{"$f":"IF(Main!$Q$2=3,VLOOKUP(E437,Katılım!$A$4:$Z$55,26,0),#REF!)","v":{"$error":"#REF!"}},null,null,null,null,null,null,null,null,null,null,null,null,null,null,null,null,null,null,null,null,null,null,null,null,null,null,null,null,null,null,null,null,null,null,null,null,null,null,null,null,null,null,null,null,null,null,null,null,null,null,null,null,48,null,null,null,null,{"$f":"F531","v":{"$error":"#REF!"}},{"$f":"F533","v":{"$error":"#REF!"}}]
[33,5,0,"",5,{"$f":"IF(Main!$Q$2=3,VLOOKUP(E438,Katılım!$A$4:$Z$55,26,0),#REF!)","v":{"$error":"#REF!"}},null,null,null,null,null,null,null,null,null,null,null,null,null,null,null,null,null,null,null,null,null,null,null,null,null,null,null,null,null,null,null,null,null,null,null,null,null,null,null,null,null,null,null,null,null,null,null,null,null,null,null,null,49,null,null,null,null,{"$f":"F534","v":{"$error":"#REF!"}},{"$f":"F536","v":{"$error":"#REF!"}}]
[null,null,null,"",null,null,null,{"$f":"BX406","v":0},{"$f":"BY406","v":0},null,null,17,{"$f":"IF(AND(H439=0,I439=0),\"\",IF(H439>I439,F438,F440))","v":""},null,null,null,null,null,null,null,null,null,null,null,null,null,null,null,null,null,null,null,null,null,null,null,null,null,null,null,null,null,null,null,null,null,null,null,null,null,null,null,null,null,null,null,null,null,50,null,null,null,null,{"$f":"F537","v":{"$error":"#REF!"}},{"$f":"F539","v":{"$error":"#REF!"}}]
[34,65,7,"E58",124,{"$f":"IF(Main!$Q$2=3,VLOOKUP(E440,Katılım!$A$4:$Z$55,26,0),#REF!)","v":{"$error":"#REF!"}},null,null,null,null,null,null,null,null,null,null,null,null,{"$f":"+S434+1","v":73},{"$f":"IF(AND(O441=0,P441=0),\"\",IF(O441>P441,M439,M442))","v":""},null,null,null,null,null,null,null,null,null,null,null,null,null,null,null,null,null,null,null,null,null,null,null,null,null,null,null,null,null,null,null,null,null,null,null,null,null,null,51,null,null,null,null,{"$f":"F540","v":{"$error":"#REF!"}},{"$f":"F542","v":{"$error":"#REF!"}}]
[35,65,39,"E26",60,{"$f":"IF(Main!$Q$2=3,VLOOKUP(E441,Katılım!$A$4:$Z$55,26,0),#REF!)","v":{"$error":"#REF!"}},null,null,null,null,null,null,null,null,{"$f":"BX462","v":0},{"$f":"BY462","v":0},null,null,null,null,null,null,null,null,null,{"$f":"+Z429+1","v":101},null,null,null,null,null,null,null,null,null,null,null,null,null,null,null,null,null,null,null,null,null,null,null,null,null,null,null,null,null,null,null,null,52,null,null,null,null,{"$f":"F543","v":{"$error":"#REF!"}},{"$f":"F545","v":{"$error":"#REF!"}}]
[null,null,null,"",null,null,null,{"$f":"BX407","v":0},{"$f":"BY407","v":0},null,null,18,{"$f":"IF(AND(H442=0,I442=0),\"\",IF(H442>I442,F441,F443))","v":""},null,null,null,null,null,null,null,null,null,null,null,null,null,null,null,null,null,null,null,null,null,null,null,null,null,null,null,null,null,null,null,null,null,null,null,null,null,null,null,null,null,null,null,null,null,53,null,null,null,null,{"$f":"F546","v":{"$error":"#REF!"}},{"$f":"F548","v":{"$error":"#REF!"}}]
[36,33,0,"",69,{"$f":"IF(Main!$Q$2=3,VLOOKUP(E443,Katılım!$A$4:$Z$55,26,0),#REF!)","v":{"$error":"#REF!"}},null,null,null,null,null,null,null,null,null,null,null,null,null,null,null,null,null,null,null,null,null,null,null,null,null,null,null,null,null,null,null,null,null,null,null,null,null,null,null,null,null,null,null,null,null,null,null,null,null,null,null,null,54,null,null,null,null,{"$f":"F549","v":{"$error":"#REF!"}},{"$f":"F551","v":{"$error":"#REF!"}}]
[37,33,0,"",28,{"$f":"IF(Main!$Q$2=3,VLOOKUP(E444,Katılım!$A$4:$Z$55,26,0),#REF!)","v":{"$error":"#REF!"}},null,null,null,null,null,null,null,null,null,null,null,null,null,null,null,{"$f":"BX490","v":0},{"$f":"BY490","v":0},null,null,null,{"$f":"IF(AND(V444=0,W444=0),\"\",IF(V444>W444,T440,T447))","v":""},null,null,null,null,null,null,null,null,null,null,null,null,null,null,null,null,null,null,null,null,null,null,null,null,null,null,null,null,null,null,null,55,null,null,null,null,{"$f":"F552","v":{"$error":"#REF!"}},{"$f":"F554","v":{"$error":"#REF!"}}]
[null,null,null,"",null,null,null,{"$f":"BX408","v":0},{"$f":"BY408","v":0},null,null,19,{"$f":"IF(AND(H445=0,I445=0),\"\",IF(H445>I445,F444,F446))","v":""},null,null,null,null,null,null,null,null,null,null,null,null,null,null,null,null,null,null,null,{"$f":"+AG421+1","v":115},null,null,null,null,null,null,null,null,null,null,null,null,null,null,null,null,null,null,null,null,null,null,null,null,null,56,null,null,null,null,{"$f":"F555","v":{"$error":"#REF!"}},{"$f":"F557","v":{"$error":"#REF!"}}]
[38,65,55,"E10",101,{"$f":"IF(Main!$Q$2=3,VLOOKUP(E446,Katılım!$A$4:$Z$55,26,0),#REF!)","v":{"$error":"#REF!"}},null,null,null,null,null,null,null,null,null,null,null,null,{"$f":"+S440+1","v":74},null,null,null,null,null,null,null,null,null,null,null,null,null,null,null,null,null,null,null,null,null,null,null,null,null,null,null,null,null,null,null,null,null,null,null,null,null,null,null,57,null,null,null,null,{"$f":"F558","v":{"$error":"#REF!"}},{"$f":"F560","v":{"$error":"#REF!"}}]
[39,65,23,"E42",37,{"$f":"IF(Main!$Q$2=3,VLOOKUP(E447,Katılım!$A$4:$Z$55,26,0),#REF!)","v":{"$error":"#REF!"}},null,null,null,null,null,null,null,null,{"$f":"BX463","v":0},{"$f":"BY463","v":0},null,null,null,{"$f":"IF(AND(O447=0,P447=0),\"\",IF(O447>P447,M445,M448))","v":""},null,null,null,null,null,null,null,null,null,null,null,null,null,null,null,null,null,null,null,null,null,null,null,null,null,null,null,null,null,null,null,null,null,null,null,null,null,null,58,null,null,null,null,{"$f":"F561","v":{"$error":"#REF!"}},{"$f":"F563","v":{"$error":"#REF!"}}]
[null,null,null,"",null,null,null,{"$f":"BX409","v":0},{"$f":"BY409","v":0},null,null,20,{"$f":"IF(AND(H448=0,I448=0),\"\",IF(H448>I448,F447,F449))","v":""},null,null,null,null,null,null,null,null,null,null,null,null,null,null,null,null,null,null,null,null,null,null,null,null,null,null,null,null,null,null,null,null,null,null,null,null,null,null,null,null,null,null,null,null,null,59,null,null,null,null,{"$f":"F564","v":{"$error":"#REF!"}},{"$f":"F566","v":{"$error":"#REF!"}}]
[40,17,0,"",92,{"$f":"IF(Main!$Q$2=3,VLOOKUP(E449,Katılım!$A$4:$Z$55,26,0),#REF!)","v":{"$error":"#REF!"}},null,null,null,null,null,null,null,null,null,null,null,null,null,null,null,null,null,null,null,null,null,null,null,null,null,null,null,null,null,null,null,null,null,null,null,null,null,null,null,null,null,null,null,null,null,null,null,null,null,null,null,null,60,null,null,null,null,{"$f":"F567","v":{"$error":"#REF!"}},{"$f":"F569","v":{"$error":"#REF!"}}]
[41,17,0,"",12,{"$f":"IF(Main!$Q$2=3,VLOOKUP(E450,Katılım!$A$4:$Z$55,26,0),#REF!)","v":{"$error":"#REF!"}},null,null,null,null,null,null,null,null,null,null,null,null,null,null,null,null,null,null,null,null,null,null,null,{"$f":"BX504","v":0},{"$f":"BY504","v":0},null,null,{"$f":"IF(AND(AD450=0,AE450=0),\"\",IF(AD450>AE450,AA444,AA456))","v":""},null,null,null,null,null,null,null,null,null,null,null,null,null,null,null,null,null,null,null,null,null,null,null,null,61,null,null,null,null,{"$f":"F570","v":{"$error":"#REF!"}},{"$f":"F572","v":{"$error":"#REF!"}}]
[null,null,null,"",null,null,null,{"$f":"BX410","v":0},{"$f":"BY410","v":0},null,null,21,{"$f":"IF(AND(H451=0,I451=0),\"\",IF(H451>I451,F450,F452))","v":""},null,null,null,null,null,null,null,null,null,null,null,null,null,null,null,null,null,null,null,null,null,null,null,null,null,null,null,null,null,null,null,null,null,null,null,null,null,null,null,null,null,null,null,null,null,62,null,null,null,null,{"$f":"F573","v":{"$error":"#REF!"}},{"$f":"F575","v":{"$error":"#REF!"}}]
[42,65,31,"E34",117,{"$f":"IF(Main!$Q$2=3,VLOOKUP(E452,Katılım!$A$4:$Z$55,26,0),#REF!)","v":{"$error":"#REF!"}},null,null,null,null,null,null,null,null,null,null,null,null,{"$f":"+S446+1","v":75},{"$f":"IF(AND(O453=0,P453=0),\"\",IF(O453>P453,M451,M454))","v":""},null,null,null,null,null,null,null,null,null,null,null,null,null,null,null,null,null,null,null,null,null,null,null,null,null,null,null,null,null,null,null,null,null,null,null,null,null,null,63,null,null,null,null,{"$f":"F576","v":{"$error":"#REF!"}},{"$f":"F578","v":{"$error":"#REF!"}}]
[43,65,63,"E2",53,{"$f":"IF(Main!$Q$2=3,VLOOKUP(E453,Katılım!$A$4:$Z$55,26,0),#REF!)","v":{"$error":"#REF!"}},null,null,null,null,null,null,null,null,{"$f":"BX464","v":0},{"$f":"BY464","v":0},null,null,null,null,null,null,null,null,null,{"$f":"+Z441+1","v":102},null,null,null,null,null,null,null,null,null,null,null,null,null,null,null,null,null,null,null,null,null,null,null,null,null,null,null,null,null,null,null,null,64,null,null,null,null,{"$f":"F579","v":{"$error":"#REF!"}},{"$f":"F581","v":{"$error":"#REF!"}}]
[null,null,null,"",null,null,null,{"$f":"BX411","v":0},{"$f":"BY411","v":0},null,null,22,{"$f":"IF(AND(H454=0,I454=0),\"\",IF(H454>I454,F453,F455))","v":""},null,null,null,null,null,null,null,null,null,null,null,null,null,null,null,null,null,null,null,null,null,null,null,null,null,null,null,null,null,null,null,null,null,null,null,null,null,null,null,null,null,null,null,null,null,65,null,null,null,null,{"$f":"M391","v":""},{"$f":"M394","v":""}]
[44,33,0,"",76,{"$f":"IF(Main!$Q$2=3,VLOOKUP(E455,Katılım!$A$4:$Z$55,26,0),#REF!)","v":{"$error":"#REF!"}},null,null,null,null,null,null,null,null,null,null,null,null,null,null,null,null,null,null,null,null,null,null,null,null,null,null,null,null,null,null,null,null,null,null,null,null,null,null,null,null,null,null,null,null,null,null,null,null,null,null,null,null,66,null,null,null,null,{"$f":"M397","v":""},{"$f":"M400","v":""}]
[45,33,0,"",21,{"$f":"IF(Main!$Q$2=3,VLOOKUP(E456,Katılım!$A$4:$Z$55,26,0),#REF!)","v":{"$error":"#REF!"}},null,null,null,null,null,null,null,null,null,null,null,null,null,null,null,{"$f":"BX491","v":0},{"$f":"BY491","v":0},null,null,null,{"$f":"IF(AND(V456=0,W456=0),\"\",IF(V456>W456,T452,T459))","v":""},null,null,null,null,null,null,null,null,null,null,null,null,null,null,null,null,null,null,null,null,null,null,null,null,null,null,null,null,null,null,null,67,null,null,null,null,{"$f":"M403","v":""},{"$f":"M406","v":""}]
[null,null,null,"",null,null,null,{"$f":"BX412","v":0},{"$f":"BY412","v":0},null,null,23,{"$f":"IF(AND(H457=0,I457=0),\"\",IF(H457>I457,F456,F458))","v":""},null,null,null,null,null,null,null,null,null,null,null,null,null,null,null,null,null,null,null,null,null,null,null,null,null,null,null,null,null,null,null,null,null,null,null,null,null,null,null,null,null,null,null,null,null,68,null,null,null,null,{"$f":"M409","v":""},{"$f":"M412","v":""}]
[46,65,47,"E18",108,{"$f":"IF(Main!$Q$2=3,VLOOKUP(E458,Katılım!$A$4:$Z$55,26,0),#REF!)","v":{"$error":"#REF!"}},null,null,null,null,null,null,null,null,null,null,null,null,{"$f":"+S452+1","v":76},null,null,null,null,null,null,null,null,null,null,null,null,null,null,null,null,null,null,null,null,null,null,null,null,null,null,null,null,null,null,null,null,null,null,null,null,null,null,null,69,null,null,null,null,{"$f":"M415","v":""},{"$f":"M418","v":""}]
[47,65,15,"E50",44,{"$f":"IF(Main!$Q$2=3,VLOOKUP(E459,Katılım!$A$4:$Z$55,26,0),#REF!)","v":{"$error":"#REF!"}},null,null,null,null,null,null,null,null,{"$f":"BX465","v":0},{"$f":"BY465","v":0},null,null,null,{"$f":"IF(AND(O459=0,P459=0),\"\",IF(O459>P459,M457,M460))","v":""},null,null,null,null,null,null,null,null,null,null,null,null,null,null,null,null,null,null,null,null,null,null,null,null,null,null,null,null,null,null,null,null,null,null,null,null,null,null,70,null,null,null,null,{"$f":"M421","v":""},{"$f":"M424","v":""}]
[null,null,null,"",null,null,null,{"$f":"BX413","v":0},{"$f":"BY413","v":0},null,null,24,{"$f":"IF(AND(H460=0,I460=0),\"\",IF(H460>I460,F459,F461))","v":""},null,null,null,null,null,null,null,null,null,null,null,null,null,null,null,null,null,null,null,null,null,null,null,null,null,null,null,null,null,null,null,null,null,null,null,null,null,null,null,null,null,null,null,null,null,71,null,null,null,null,{"$f":"M427","v":""},{"$f":"M430","v":""}]
[48,9,0,"",85,{"$f":"IF(Main!$Q$2=3,VLOOKUP(E461,Katılım!$A$4:$Z$55,26,0),#REF!)","v":{"$error":"#REF!"}},null,null,null,null,null,null,null,null,null,null,null,null,null,null,null,null,null,null,null,null,null,null,null,null,null,null,null,null,null,null,null,null,null,null,null,null,null,null,null,null,null,null,null,null,null,null,null,null,null,null,null,null,72,null,null,null,null,{"$f":"M433","v":""},{"$f":"M436","v":""}]
[49,9,0,"",84,{"$f":"IF(Main!$Q$2=3,VLOOKUP(E462,Katılım!$A$4:$Z$55,26,0),#REF!)","v":{"$error":"#REF!"}},null,null,null,null,null,null,null,null,null,null,null,null,null,null,null,null,null,null,null,null,null,null,null,null,null,null,null,null,null,null,null,null,null,null,null,null,null,null,null,null,null,null,null,null,null,null,null,null,null,null,null,null,73,null,null,null,null,{"$f":"M439","v":""},{"$f":"M442","v":""}]
[null,null,null,"",null,null,null,{"$f":"BX414","v":0},{"$f":"BY414","v":0},null,null,25,{"$f":"IF(AND(H463=0,I463=0),\"\",IF(H463>I463,F462,F464))","v":""},null,null,null,null,null,null,null,null,null,null,null,null,null,null,null,null,null,null,null,null,null,null,null,null,null,null,null,null,null,null,null,null,null,null,null,null,null,null,null,null,null,null,null,null,null,74,null,null,null,null,{"$f":"M445","v":""},{"$f":"M448","v":""}]
[50,65,11,"E54",45,{"$f":"IF(Main!$Q$2=3,VLOOKUP(E464,Katılım!$A$4:$Z$55,26,0),#REF!)","v":{"$error":"#REF!"}},null,null,null,null,null,null,null,null,null,null,null,null,{"$f":"+S458+1","v":77},{"$f":"IF(AND(O465=0,P465=0),\"\",IF(O465>P465,M463,M466))","v":""},null,null,null,null,null,null,null,null,null,null,null,null,null,null,null,null,null,null,null,null,null,null,null,null,null,null,null,null,null,null,null,null,null,null,null,null,null,null,75,null,null,null,null,{"$f":"M451","v":""},{"$f":"M454","v":""}]
[51,65,43,"E22",109,{"$f":"IF(Main!$Q$2=3,VLOOKUP(E465,Katılım!$A$4:$Z$55,26,0),#REF!)","v":{"$error":"#REF!"}},null,null,null,null,null,null,null,null,{"$f":"BX466","v":0},{"$f":"BY466","v":0},null,null,null,null,null,null,null,null,null,{"$f":"+Z453+1","v":103},null,null,null,null,null,null,null,null,null,null,null,null,null,null,null,null,null,null,null,null,null,null,null,null,null,null,null,null,null,null,null,null,76,null,null,null,null,{"$f":"M457","v":""},{"$f":"M460","v":""}]
[null,null,null,"",null,null,null,{"$f":"BX415","v":0},{"$f":"BY415","v":0},null,null,26,{"$f":"IF(AND(H466=0,I466=0),\"\",IF(H466>I466,F465,F467))","v":""},null,null,null,null,null,null,null,null,null,null,null,null,null,null,null,null,null,null,null,null,null,null,null,null,null,null,null,null,null,null,null,null,null,null,null,null,null,null,null,null,null,null,null,null,null,77,null,null,null,null,{"$f":"M463","v":""},{"$f":"M466","v":""}]
[52,33,0,"",20,{"$f":"IF(Main!$Q$2=3,VLOOKUP(E467,Katılım!$A$4:$Z$55,26,0),#REF!)","v":{"$error":"#REF!"}},null,null,null,null,null,null,null,null,null,null,null,null,null,null,null,null,null,null,null,null,null,null,null,null,null,null,null,null,null,null,null,null,null,null,null,null,null,null,null,null,null,null,null,null,null,null,null,null,null,null,null,null,78,null,null,null,null,{"$f":"M469","v":""},{"$f":"M472","v":""}]
[53,33,0,"",77,{"$f":"IF(Main!$Q$2=3,VLOOKUP(E468,Katılım!$A$4:$Z$55,26,0),#REF!)","v":{"$error":"#REF!"}},null,null,null,null,null,null,null,null,null,null,null,null,null,null,null,{"$f":"BX492","v":0},{"$f":"BY492","v":0},null,null,null,{"$f":"IF(AND(V468=0,W468=0),\"\",IF(V468>W468,T464,T471))","v":""},null,null,null,null,null,null,null,null,null,null,null,null,null,null,null,null,null,null,null,null,null,null,null,null,null,null,null,null,null,null,null,79,null,null,null,null,{"$f":"M475","v":""},{"$f":"M478","v":""}]
[null,null,null,"",null,null,null,{"$f":"BX416","v":0},{"$f":"BY416","v":0},null,null,27,{"$f":"IF(AND(H469=0,I469=0),\"\",IF(H469>I469,F468,F470))","v":""},null,null,null,null,null,null,null,null,null,null,null,null,null,null,null,null,null,null,null,{"$f":"+AG445+1","v":116},null,null,null,null,null,null,null,null,null,null,null,null,null,null,null,null,null,null,null,null,null,null,null,null,null,80,null,null,null,null,{"$f":"M481","v":""},{"$f":"M484","v":""}]
[54,65,59,"E6",52,{"$f":"IF(Main!$Q$2=3,VLOOKUP(E470,Katılım!$A$4:$Z$55,26,0),#REF!)","v":{"$error":"#REF!"}},null,null,null,null,null,null,null,null,null,null,null,null,{"$f":"+S464+1","v":78},null,null,null,null,null,null,null,null,null,null,null,null,null,null,null,null,null,null,null,null,null,null,null,null,null,null,null,null,null,null,null,null,null,null,null,null,null,null,null,81,null,null,null,null,{"$f":"M487","v":""},{"$f":"M490","v":""}]
[55,65,27,"E38",116,{"$f":"IF(Main!$Q$2=3,VLOOKUP(E471,Katılım!$A$4:$Z$55,26,0),#REF!)","v":{"$error":"#REF!"}},null,null,null,null,null,null,null,null,{"$f":"BX467","v":0},{"$f":"BY467","v":0},null,null,null,{"$f":"IF(AND(O471=0,P471=0),\"\",IF(O471>P471,M469,M472))","v":""},null,null,null,null,null,null,null,null,null,null,null,null,null,null,null,null,null,null,null,null,null,null,null,null,null,null,null,null,null,null,null,null,null,null,null,null,null,null,82,null,null,null,null,{"$f":"M493","v":""},{"$f":"M496","v":""}]
[null,null,null,"",null,null,null,{"$f":"BX417","v":0},{"$f":"BY417","v":0},null,null,28,{"$f":"IF(AND(H472=0,I472=0),\"\",IF(H472>I472,F471,F473))","v":""},null,null,null,null,null,null,null,null,null,null,null,null,null,null,null,null,null,null,null,null,null,null,null,null,null,null,null,null,null,null,null,null,null,null,null,null,null,null,null,null,null,null,null,null,null,83,null,null,null,null,{"$f":"M499","v":""},{"$f":"M502","v":""}]
[56,17,0,"",13,{"$f":"IF(Main!$Q$2=3,VLOOKUP(E473,Katılım!$A$4:$Z$55,26,0),#REF!)","v":{"$error":"#REF!"}},null,null,null,null,null,null,null,null,null,null,null,null,null,null,null,null,null,null,null,null,null,null,null,null,null,null,null,null,null,null,null,null,null,null,null,null,null,null,null,null,null,null,null,null,null,null,null,null,null,null,null,null,84,null,null,null,null,{"$f":"M505","v":""},{"$f":"M508","v":""}]
[57,17,0,"",93,{"$f":"IF(Main!$Q$2=3,VLOOKUP(E474,Katılım!$A$4:$Z$55,26,0),#REF!)","v":{"$error":"#REF!"}},null,null,null,null,null,null,null,null,null,null,null,null,null,null,null,null,null,null,null,null,null,null,null,{"$f":"BX505","v":0},{"$f":"BY505","v":0},null,null,{"$f":"IF(AND(AD474=0,AE474=0),\"\",IF(AD474>AE474,AA468,AA480))","v":""},null,null,null,null,null,null,null,null,null,null,null,null,null,null,null,null,null,null,null,null,null,null,null,null,85,null,null,null,null,{"$f":"M511","v":""},{"$f":"M514","v":""}]
[null,null,null,"",null,null,null,{"$f":"BX418","v":0},{"$f":"BY418","v":0},null,null,29,{"$f":"IF(AND(H475=0,I475=0),\"\",IF(H475>I475,F474,F476))","v":""},null,null,null,null,null,null,null,null,null,null,null,null,null,null,null,null,null,null,null,null,null,null,null,null,null,null,null,null,null,null,null,null,null,null,null,null,null,null,null,null,null,null,null,null,null,86,null,null,null,null,{"$f":"M517","v":""},{"$f":"M520","v":""}]
[58,65,19,"E46",36,{"$f":"IF(Main!$Q$2=3,VLOOKUP(E476,Katılım!$A$4:$Z$55,26,0),#REF!)","v":{"$error":"#REF!"}},null,null,null,null,null,null,null,null,null,null,null,null,{"$f":"+S470+1","v":79},{"$f":"IF(AND(O477=0,P477=0),\"\",IF(O477>P477,M475,M478))","v":""},null,null,null,null,null,null,null,null,null,null,null,null,null,null,null,null,null,null,null,null,null,null,null,null,null,null,null,null,null,null,null,null,null,null,null,null,null,null,87,null,null,null,null,{"$f":"M523","v":""},{"$f":"M526","v":""}]
[59,65,51,"E14",100,{"$f":"IF(Main!$Q$2=3,VLOOKUP(E477,Katılım!$A$4:$Z$55,26,0),#REF!)","v":{"$error":"#REF!"}},null,null,null,null,null,null,null,null,{"$f":"BX468","v":0},{"$f":"BY468","v":0},null,null,null,null,null,null,null,null,null,{"$f":"+Z465+1","v":104},null,null,null,null,null,null,null,null,null,null,null,null,null,null,null,null,null,null,null,null,null,null,null,null,null,null,null,null,null,null,null,null,88,null,null,null,null,{"$f":"M529","v":""},{"$f":"M532","v":""}]
[null,null,null,"",null,null,null,{"$f":"BX419","v":0},{"$f":"BY419","v":0},null,null,30,{"$f":"IF(AND(H478=0,I478=0),\"\",IF(H478>I478,F477,F479))","v":""},null,null,null,null,null,null,null,null,null,null,null,null,null,null,null,null,null,null,null,null,null,null,null,null,null,null,null,null,null,null,null,null,null,null,null,null,null,null,null,null,null,null,null,null,null,89,null,null,null,null,{"$f":"M535","v":""},{"$f":"M538","v":""}]
[60,33,0,"",29,{"$f":"IF(Main!$Q$2=3,VLOOKUP(E479,Katılım!$A$4:$Z$55,26,0),#REF!)","v":{"$error":"#REF!"}},null,null,null,null,null,null,null,null,null,null,null,null,null,null,null,null,null,null,null,null,null,null,null,null,null,null,null,null,null,null,null,null,null,null,null,null,null,null,null,null,null,null,null,null,null,null,null,null,null,null,null,null,90,null,null,null,null,{"$f":"M541","v":""},{"$f":"M544","v":""}]
[61,33,0,"",68,{"$f":"IF(Main!$Q$2=3,VLOOKUP(E480,Katılım!$A$4:$Z$55,26,0),#REF!)","v":{"$error":"#REF!"}},null,null,null,null,null,null,null,null,null,null,null,null,null,null,null,{"$f":"BX493","v":0},{"$f":"BY493","v":0},null,null,null,{"$f":"IF(AND(V480=0,W480=0),\"\",IF(V480>W480,T476,T483))","v":""},null,null,null,null,null,null,null,null,null,null,null,null,null,null,null,null,null,null,null,null,null,null,null,null,null,null,null,null,null,null,null,91,null,null,null,null,{"$f":"M547","v":""},{"$f":"M550","v":""}]
[null,null,null,"",null,null,null,{"$f":"BX420","v":0},{"$f":"BY420","v":0},null,null,31,{"$f":"IF(AND(H481=0,I481=0),\"\",IF(H481>I481,F480,F482))","v":""},null,null,null,null,null,null,null,null,null,null,null,null,null,null,null,null,null,null,null,null,null,null,null,null,null,null,null,null,null,null,null,null,null,null,null,null,null,null,null,null,null,null,null,null,null,92,null,null,null,null,{"$f":"M553","v":""},{"$f":"M556","v":""}]
[62,65,35,"E30",61,{"$f":"IF(Main!$Q$2=3,VLOOKUP(E482,Katılım!$A$4:$Z$55,26,0),#REF!)","v":{"$error":"#REF!"}},null,null,null,null,null,null,null,null,null,null,null,null,{"$f":"+S476+1","v":80},null,null,null,null,null,null,null,null,null,null,null,null,null,null,null,null,null,null,null,null,null,null,null,null,null,null,null,null,null,null,null,null,null,null,null,null,null,null,null,93,null,null,null,null,{"$f":"M559","v":""},{"$f":"M562","v":""}]
[63,65,3,"E62",125,{"$f":"IF(Main!$Q$2=3,VLOOKUP(E483,Katılım!$A$4:$Z$55,26,0),#REF!)","v":{"$error":"#REF!"}},null,null,null,null,null,null,null,null,{"$f":"BX469","v":0},{"$f":"BY469","v":0},null,null,null,{"$f":"IF(AND(O483=0,P483=0),\"\",IF(O483>P483,M481,M484))","v":""},null,null,null,null,null,null,null,null,null,null,null,null,null,null,null,null,null,null,null,null,null,null,null,null,null,null,null,null,null,null,null,null,null,null,null,null,null,null,94,null,null,null,null,{"$f":"M565","v":""},{"$f":"M568","v":""}]
[null,null,null,"",null,null,null,{"$f":"BX421","v":0},{"$f":"BY421","v":0},null,null,32,{"$f":"IF(AND(H484=0,I484=0),\"\",IF(H484>I484,F483,F485))","v":""},null,null,null,null,null,null,null,null,null,null,null,null,null,null,null,null,null,null,null,null,null,null,null,null,null,null,null,null,null,null,null,null,null,null,null,null,null,null,null,null,null,null,null,null,null,95,null,null,null,null,{"$f":"M571","v":""},{"$f":"M574","v":""}]
[64,3,0,"",4,{"$f":"IF(Main!$Q$2=3,VLOOKUP(E485,Katılım!$A$4:$Z$55,26,0),#REF!)","v":{"$error":"#REF!"}},null,null,null,null,null,null,null,null,null,null,null,null,null,null,null,null,null,null,null,null,null,null,null,null,null,null,null,null,null,null,null,null,null,null,null,null,null,null,null,null,null,null,null,null,null,null,null,null,null,null,null,null,96,null,null,null,null,{"$f":"M577","v":""},{"$f":"M580","v":""}]
[65,3,0,"",3,{"$f":"IF(Main!$Q$2=3,VLOOKUP(E486,Katılım!$A$4:$Z$55,26,0),#REF!)","v":{"$error":"#REF!"}},null,null,null,null,null,null,null,null,null,null,null,null,null,null,null,null,null,null,null,null,null,null,null,null,null,null,null,null,null,null,null,null,null,null,null,null,null,null,null,null,null,null,null,null,null,null,null,null,null,null,null,null,97,null,null,null,null,{"$f":"T392","v":""},{"$f":"T399","v":""}]
[null,null,null,"",null,null,null,{"$f":"BX422","v":0},{"$f":"BY422","v":0},null,null,33,{"$f":"IF(AND(H487=0,I487=0),\"\",IF(H487>I487,F486,F488))","v":""},null,null,null,null,null,null,null,null,null,null,null,null,null,null,null,null,null,null,null,null,null,null,null,null,null,null,null,null,null,null,null,null,null,null,null,null,null,null,null,null,null,null,null,null,null,98,null,null,null,null,{"$f":"T404","v":""},{"$f":"T411","v":""}]
[66,65,4,"E61",126,{"$f":"IF(Main!$Q$2=3,VLOOKUP(E488,Katılım!$A$4:$Z$55,26,0),#REF!)","v":{"$error":"#REF!"}},null,null,null,null,null,null,null,null,null,null,null,null,{"$f":"+S482+1","v":81},{"$f":"IF(AND(O489=0,P489=0),\"\",IF(O489>P489,M487,M490))","v":""},null,null,null,null,null,null,null,null,null,null,null,null,null,null,null,null,null,null,null,null,null,null,null,null,null,null,null,null,null,null,null,null,null,null,null,null,null,null,99,null,null,null,null,{"$f":"T416","v":""},{"$f":"T423","v":""}]
[67,65,36,"E29",62,{"$f":"IF(Main!$Q$2=3,VLOOKUP(E489,Katılım!$A$4:$Z$55,26,0),#REF!)","v":{"$error":"#REF!"}},null,null,null,null,null,null,null,null,{"$f":"BX470","v":0},{"$f":"BY470","v":0},null,null,null,null,null,null,null,null,null,{"$f":"+Z477+1","v":105},null,null,null,null,null,null,null,null,null,null,null,null,null,null,null,null,null,null,null,null,null,null,null,null,null,null,null,null,null,null,null,null,100,null,null,null,null,{"$f":"T428","v":""},{"$f":"T435","v":""}]
[null,null,null,"",null,null,null,{"$f":"BX423","v":0},{"$f":"BY423","v":0},null,null,34,{"$f":"IF(AND(H490=0,I490=0),\"\",IF(H490>I490,F489,F491))","v":""},null,null,null,null,null,null,null,null,null,null,null,null,null,null,null,null,null,null,null,null,null,null,null,null,null,null,null,null,null,null,null,null,null,null,null,null,null,null,null,null,null,null,null,null,null,101,null,null,null,null,{"$f":"T440","v":""},{"$f":"T447","v":""}]
[68,33,0,"",67,{"$f":"IF(Main!$Q$2=3,VLOOKUP(E491,Katılım!$A$4:$Z$55,26,0),#REF!)","v":{"$error":"#REF!"}},null,null,null,null,null,null,null,null,null,null,null,null,null,null,null,null,null,null,null,null,null,null,null,null,null,null,null,null,null,null,null,null,null,null,null,null,null,null,null,null,null,null,null,null,null,null,null,null,null,null,null,null,102,null,null,null,null,{"$f":"T452","v":""},{"$f":"T459","v":""}]
[69,33,0,"",30,{"$f":"IF(Main!$Q$2=3,VLOOKUP(E492,Katılım!$A$4:$Z$55,26,0),#REF!)","v":{"$error":"#REF!"}},null,null,null,null,null,null,null,null,null,null,null,null,null,null,null,{"$f":"BX494","v":0},{"$f":"BY494","v":0},null,null,null,{"$f":"IF(AND(V492=0,W492=0),\"\",IF(V492>W492,T488,T495))","v":""},null,null,null,null,null,null,null,null,null,null,null,null,null,null,null,null,null,null,null,null,null,null,null,null,null,null,null,null,null,null,null,103,null,null,null,null,{"$f":"T464","v":""},{"$f":"T471","v":""}]
[null,null,null,"",null,null,null,{"$f":"BX424","v":0},{"$f":"BY424","v":0},null,null,35,{"$f":"IF(AND(H493=0,I493=0),\"\",IF(H493>I493,F492,F494))","v":""},null,null,null,null,null,null,null,null,null,null,null,null,null,null,null,null,null,null,null,{"$f":"+AG469+1","v":117},null,null,null,null,null,null,null,null,null,null,null,null,null,null,null,null,null,null,null,null,null,null,null,null,null,104,null,null,null,null,{"$f":"T476","v":""},{"$f":"T483","v":""}]
[70,65,52,"E13",99,{"$f":"IF(Main!$Q$2=3,VLOOKUP(E494,Katılım!$A$4:$Z$55,26,0),#REF!)","v":{"$error":"#REF!"}},null,null,null,null,null,null,null,null,null,null,null,null,{"$f":"+S488+1","v":82},null,null,null,null,null,null,null,null,null,null,null,null,null,null,null,null,null,null,null,null,null,null,null,null,null,null,null,null,null,null,null,null,null,null,null,null,null,null,null,105,null,null,null,null,{"$f":"T488","v":""},{"$f":"T495","v":""}]
[71,65,20,"E45",35,{"$f":"IF(Main!$Q$2=3,VLOOKUP(E495,Katılım!$A$4:$Z$55,26,0),#REF!)","v":{"$error":"#REF!"}},null,null,null,null,null,null,null,null,{"$f":"BX471","v":0},{"$f":"BY471","v":0},null,null,null,{"$f":"IF(AND(O495=0,P495=0),\"\",IF(O495>P495,M493,M496))","v":""},null,null,null,null,null,null,null,null,null,null,null,null,null,null,null,null,null,null,null,null,null,null,null,null,null,null,null,null,null,null,null,null,null,null,null,null,null,null,106,null,null,null,null,{"$f":"T500","v":""},{"$f":"T507","v":""}]
[null,null,null,"",null,null,null,{"$f":"BX425","v":0},{"$f":"BY425","v":0},null,null,36,{"$f":"IF(AND(H496=0,I496=0),\"\",IF(H496>I496,F495,F497))","v":""},null,null,null,null,null,null,null,null,null,null,null,null,null,null,null,null,null,null,null,null,null,null,null,null,null,null,null,null,null,null,null,null,null,null,null,null,null,null,null,null,null,null,null,null,null,107,null,null,null,null,{"$f":"T512","v":""},{"$f":"T519","v":""}]
[72,17,0,"",94,{"$f":"IF(Main!$Q$2=3,VLOOKUP(E497,Katılım!$A$4:$Z$55,26,0),#REF!)","v":{"$error":"#REF!"}},null,null,null,null,null,null,null,null,null,null,null,null,null,null,null,null,null,null,null,null,null,null,null,null,null,null,null,null,null,null,null,null,null,null,null,null,null,null,null,null,null,null,null,null,null,null,null,null,null,null,null,null,108,null,null,null,null,{"$f":"T524","v":""},{"$f":"T531","v":""}]
[73,17,0,"",14,{"$f":"IF(Main!$Q$2=3,VLOOKUP(E498,Katılım!$A$4:$Z$55,26,0),#REF!)","v":{"$error":"#REF!"}},null,null,null,null,null,null,null,null,null,null,null,null,null,null,null,null,null,null,null,null,null,null,null,{"$f":"BX506","v":0},{"$f":"BY506","v":0},null,null,{"$f":"IF(AND(AD498=0,AE498=0),\"\",IF(AD498>AE498,AA492,AA504))","v":""},null,null,null,null,null,null,null,null,null,null,null,null,null,null,null,null,null,null,null,null,null,null,null,null,109,null,null,null,null,{"$f":"T536","v":""},{"$f":"T543","v":""}]
[null,null,null,"",null,null,null,{"$f":"BX426","v":0},{"$f":"BY426","v":0},null,null,37,{"$f":"IF(AND(H499=0,I499=0),\"\",IF(H499>I499,F498,F500))","v":""},null,null,null,null,null,null,null,null,null,null,null,null,null,null,null,null,null,null,null,null,null,null,null,null,null,null,null,null,null,null,null,null,null,null,null,null,null,null,null,null,null,null,null,null,null,110,null,null,null,null,{"$f":"T548","v":""},{"$f":"T555","v":""}]
[74,65,28,"E37",115,{"$f":"IF(Main!$Q$2=3,VLOOKUP(E500,Katılım!$A$4:$Z$55,26,0),#REF!)","v":{"$error":"#REF!"}},null,null,null,null,null,null,null,null,null,null,null,null,{"$f":"+S494+1","v":83},{"$f":"IF(AND(O501=0,P501=0),\"\",IF(O501>P501,M499,M502))","v":""},null,null,null,null,null,null,null,null,null,null,null,null,null,null,null,null,null,null,null,null,null,null,null,null,null,null,null,null,null,null,null,null,null,null,null,null,null,null,111,null,null,null,null,{"$f":"T560","v":""},{"$f":"T567","v":""}]
[75,65,60,"E5",51,{"$f":"IF(Main!$Q$2=3,VLOOKUP(E501,Katılım!$A$4:$Z$55,26,0),#REF!)","v":{"$error":"#REF!"}},null,null,null,null,null,null,null,null,{"$f":"BX472","v":0},{"$f":"BY472","v":0},null,null,null,null,null,null,null,null,null,{"$f":"+Z489+1","v":106},null,null,null,null,null,null,null,null,null,null,null,null,null,null,null,null,null,null,null,null,null,null,null,null,null,null,null,null,null,null,null,null,112,null,null,null,null,{"$f":"T572","v":""},{"$f":"T579","v":""}]
[null,null,null,"",null,null,null,{"$f":"BX427","v":0},{"$f":"BY427","v":0},null,null,38,{"$f":"IF(AND(H502=0,I502=0),\"\",IF(H502>I502,F501,F503))","v":""},null,null,null,null,null,null,null,null,null,null,null,null,null,null,null,null,null,null,null,null,null,null,null,null,null,null,null,null,null,null,null,null,null,null,null,null,null,null,null,null,null,null,null,null,null,113,null,null,null,null,{"$f":"AA396","v":""},{"$f":"AA408","v":""}]
[76,33,0,"",78,{"$f":"IF(Main!$Q$2=3,VLOOKUP(E503,Katılım!$A$4:$Z$55,26,0),#REF!)","v":{"$error":"#REF!"}},null,null,null,null,null,null,null,null,null,null,null,null,null,null,null,null,null,null,null,null,null,null,null,null,null,null,null,null,null,null,null,null,null,null,null,null,null,null,null,null,null,null,null,null,null,null,null,null,null,null,null,null,114,null,null,null,null,{"$f":"AA420","v":""},{"$f":"AA432","v":""}]
[77,33,0,"",19,{"$f":"IF(Main!$Q$2=3,VLOOKUP(E504,Katılım!$A$4:$Z$55,26,0),#REF!)","v":{"$error":"#REF!"}},null,null,null,null,null,null,null,null,null,null,null,null,null,null,null,{"$f":"BX495","v":0},{"$f":"BY495","v":0},null,null,null,{"$f":"IF(AND(V504=0,W504=0),\"\",IF(V504>W504,T500,T507))","v":""},null,null,null,null,null,null,null,null,null,null,null,null,null,null,null,null,null,null,null,null,null,null,null,null,null,null,null,null,null,null,null,115,null,null,null,null,{"$f":"AA444","v":""},{"$f":"AA456","v":""}]
[null,null,null,"",null,null,null,{"$f":"BX428","v":0},{"$f":"BY428","v":0},null,null,39,{"$f":"IF(AND(H505=0,I505=0),\"\",IF(H505>I505,F504,F506))","v":""},null,null,null,null,null,null,null,null,null,null,null,null,null,null,null,null,null,null,null,null,null,null,null,null,null,null,null,null,null,null,null,null,null,null,null,null,null,null,null,null,null,null,null,null,null,116,null,null,null,null,{"$f":"AA468","v":""},{"$f":"AA480","v":""}]
[78,65,44,"E21",110,{"$f":"IF(Main!$Q$2=3,VLOOKUP(E506,Katılım!$A$4:$Z$55,26,0),#REF!)","v":{"$error":"#REF!"}},null,null,null,null,null,null,null,null,null,null,null,null,{"$f":"+S500+1","v":84},null,null,null,null,null,null,null,null,null,null,null,null,null,null,null,null,null,null,null,null,null,null,null,null,null,null,null,null,null,null,null,null,null,null,null,null,null,null,null,117,null,null,null,null,{"$f":"AA492","v":""},{"$f":"AA504","v":""}]
[79,65,12,"E53",46,{"$f":"IF(Main!$Q$2=3,VLOOKUP(E507,Katılım!$A$4:$Z$55,26,0),#REF!)","v":{"$error":"#REF!"}},null,null,null,null,null,null,null,null,{"$f":"BX473","v":0},{"$f":"BY473","v":0},null,null,null,{"$f":"IF(AND(O507=0,P507=0),\"\",IF(O507>P507,M505,M508))","v":""},null,null,null,null,null,null,null,null,null,null,null,null,null,null,null,null,null,null,null,null,null,null,null,null,null,null,null,null,null,null,null,null,null,null,null,null,null,null,118,null,null,null,null,{"$f":"AA516","v":""},{"$f":"AA528","v":""}]
[null,null,null,"",null,null,null,{"$f":"BX429","v":0},{"$f":"BY429","v":0},null,null,40,{"$f":"IF(AND(H508=0,I508=0),\"\",IF(H508>I508,F507,F509))","v":""},null,null,null,null,null,null,null,null,null,null,null,null,null,null,null,null,null,null,null,null,null,null,null,null,null,null,null,null,null,null,null,null,null,null,null,null,null,null,null,null,null,null,null,null,null,119,null,null,null,null,{"$f":"AA540","v":""},{"$f":"AA552","v":""}]
[80,9,0,"",83,{"$f":"IF(Main!$Q$2=3,VLOOKUP(E509,Katılım!$A$4:$Z$55,26,0),#REF!)","v":{"$error":"#REF!"}},null,null,null,null,null,null,null,null,null,null,null,null,null,null,null,null,null,null,null,null,null,null,null,null,null,null,null,null,null,null,null,null,null,null,null,null,null,null,null,null,null,null,null,null,null,null,null,null,null,null,null,null,120,null,null,null,null,{"$f":"AA564","v":""},{"$f":"AA576","v":""}]
[81,9,0,"",86,{"$f":"IF(Main!$Q$2=3,VLOOKUP(E510,Katılım!$A$4:$Z$55,26,0),#REF!)","v":{"$error":"#REF!"}},null,null,null,null,null,null,null,null,null,null,null,null,null,null,null,null,null,null,null,null,null,null,null,null,null,null,null,null,null,null,null,null,null,null,null,null,null,null,null,null,null,null,null,null,null,null,null,null,null,null,null,null,121,null,null,null,null,{"$f":"AH402","v":""},{"$f":"AH426","v":""}]
[null,null,null,"",null,null,null,{"$f":"BX430","v":0},{"$f":"BY430","v":0},null,null,41,{"$f":"IF(AND(H511=0,I511=0),\"\",IF(H511>I511,F510,F512))","v":""},null,null,null,null,null,null,null,null,null,null,null,null,null,null,null,null,null,null,null,null,null,null,null,null,null,null,null,null,null,null,null,null,null,null,null,null,null,null,null,null,null,null,null,null,null,122,null,null,null,null,{"$f":"AH450","v":""},{"$f":"AH474","v":""}]
[82,65,16,"E49",43,{"$f":"IF(Main!$Q$2=3,VLOOKUP(E512,Katılım!$A$4:$Z$55,26,0),#REF!)","v":{"$error":"#REF!"}},null,null,null,null,null,null,null,null,null,null,null,null,{"$f":"+S506+1","v":85},{"$f":"IF(AND(O513=0,P513=0),\"\",IF(O513>P513,M511,M514))","v":""},null,null,null,null,null,null,null,null,null,null,null,null,null,null,null,null,null,null,null,null,null,null,null,null,null,null,null,null,null,null,null,null,null,null,null,null,null,null,123,null,null,null,null,{"$f":"AH498","v":""},{"$f":"AH522","v":""}]
[83,65,48,"E17",107,{"$f":"IF(Main!$Q$2=3,VLOOKUP(E513,Katılım!$A$4:$Z$55,26,0),#REF!)","v":{"$error":"#REF!"}},null,null,null,null,null,null,null,null,{"$f":"BX474","v":0},{"$f":"BY474","v":0},null,null,null,null,null,null,null,null,null,{"$f":"+Z501+1","v":107},null,null,null,null,null,null,null,null,null,null,null,null,null,null,null,null,null,null,null,null,null,null,null,null,null,null,null,null,null,null,null,null,124,null,null,null,null,{"$f":"AH546","v":""},{"$f":"AH570","v":""}]
[null,null,null,"",null,null,null,{"$f":"BX431","v":0},{"$f":"BY431","v":0},null,null,42,{"$f":"IF(AND(H514=0,I514=0),\"\",IF(H514>I514,F513,F515))","v":""}]
[84,33,0,"",22,{"$f":"IF(Main!$Q$2=3,VLOOKUP(E515,Katılım!$A$4:$Z$55,26,0),#REF!)","v":{"$error":"#REF!"}}]
[85,33,0,"",75,{"$f":"IF(Main!$Q$2=3,VLOOKUP(E516,Katılım!$A$4:$Z$55,26,0),#REF!)","v":{"$error":"#REF!"}},null,null,null,null,null,null,null,null,null,null,null,null,null,null,null,{"$f":"BX496","v":0},{"$f":"BY496","v":0},null,null,null,{"$f":"IF(AND(V516=0,W516=0),\"\",IF(V516>W516,T512,T519))","v":""}]
[null,null,null,"",null,null,null,{"$f":"BX432","v":0},{"$f":"BY432","v":0},null,null,43,{"$f":"IF(AND(H517=0,I517=0),\"\",IF(H517>I517,F516,F518))","v":""},null,null,null,null,null,null,null,null,null,null,null,null,null,null,null,null,null,null,null,{"$f":"+AG493+1","v":118}]
[86,65,64,"E1",54,{"$f":"IF(Main!$Q$2=3,VLOOKUP(E518,Katılım!$A$4:$Z$55,26,0),#REF!)","v":{"$error":"#REF!"}},null,null,null,null,null,null,null,null,null,null,null,null,{"$f":"+S512+1","v":86}]
[87,65,32,"E33",118,{"$f":"IF(Main!$Q$2=3,VLOOKUP(E519,Katılım!$A$4:$Z$55,26,0),#REF!)","v":{"$error":"#REF!"}},null,null,null,null,null,null,null,null,{"$f":"BX475","v":0},{"$f":"BY475","v":0},null,null,null,{"$f":"IF(AND(O519=0,P519=0),\"\",IF(O519>P519,M517,M520))","v":""}]
[null,null,null,"",null,null,null,{"$f":"BX433","v":0},{"$f":"BY433","v":0},null,null,44,{"$f":"IF(AND(H520=0,I520=0),\"\",IF(H520>I520,F519,F521))","v":""}]
[88,17,0,"",11,{"$f":"IF(Main!$Q$2=3,VLOOKUP(E521,Katılım!$A$4:$Z$55,26,0),#REF!)","v":{"$error":"#REF!"}}]
[89,17,0,"",91,{"$f":"IF(Main!$Q$2=3,VLOOKUP(E522,Katılım!$A$4:$Z$55,26,0),#REF!)","v":{"$error":"#REF!"}},null,null,null,null,null,null,null,null,null,null,null,null,null,null,null,null,null,null,null,null,null,null,null,{"$f":"BX507","v":0},{"$f":"BY507","v":0},null,null,{"$f":"IF(AND(AD522=0,AE522=0),\"\",IF(AD522>AE522,AA516,AA528))","v":""}]
[null,null,null,"",null,null,null,{"$f":"BX434","v":0},{"$f":"BY434","v":0},null,null,45,{"$f":"IF(AND(H523=0,I523=0),\"\",IF(H523>I523,F522,F524))","v":""}]
[90,65,24,"E41",38,{"$f":"IF(Main!$Q$2=3,VLOOKUP(E524,Katılım!$A$4:$Z$55,26,0),#REF!)","v":{"$error":"#REF!"}},null,null,null,null,null,null,null,null,null,null,null,null,{"$f":"+S518+1","v":87},{"$f":"IF(AND(O525=0,P525=0),\"\",IF(O525>P525,M523,M526))","v":""}]
[91,65,56,"E9",102,{"$f":"IF(Main!$Q$2=3,VLOOKUP(E525,Katılım!$A$4:$Z$55,26,0),#REF!)","v":{"$error":"#REF!"}},null,null,null,null,null,null,null,null,{"$f":"BX476","v":0},{"$f":"BY476","v":0},null,null,null,null,null,null,null,null,null,{"$f":"+Z513+1","v":108}]
[null,null,null,"",null,null,null,{"$f":"BX435","v":0},{"$f":"BY435","v":0},null,null,46,{"$f":"IF(AND(H526=0,I526=0),\"\",IF(H526>I526,F525,F527))","v":""}]
[92,33,0,"",27,{"$f":"IF(Main!$Q$2=3,VLOOKUP(E527,Katılım!$A$4:$Z$55,26,0),#REF!)","v":{"$error":"#REF!"}}]
[93,33,0,"",70,{"$f":"IF(Main!$Q$2=3,VLOOKUP(E528,Katılım!$A$4:$Z$55,26,0),#REF!)","v":{"$error":"#REF!"}},null,null,null,null,null,null,null,null,null,null,null,null,null,null,null,{"$f":"BX497","v":0},{"$f":"BY497","v":0},null,null,null,{"$f":"IF(AND(V528=0,W528=0),\"\",IF(V528>W528,T524,T531))","v":""}]
[null,null,null,"",null,null,null,{"$f":"BX436","v":0},{"$f":"BY436","v":0},null,null,47,{"$f":"IF(AND(H529=0,I529=0),\"\",IF(H529>I529,F528,F530))","v":""}]
[94,65,40,"E25",59,{"$f":"IF(Main!$Q$2=3,VLOOKUP(E530,Katılım!$A$4:$Z$55,26,0),#REF!)","v":{"$error":"#REF!"}},null,null,null,null,null,null,null,null,null,null,null,null,{"$f":"+S524+1","v":88}]
[95,65,8,"E57",123,{"$f":"IF(Main!$Q$2=3,VLOOKUP(E531,Katılım!$A$4:$Z$55,26,0),#REF!)","v":{"$error":"#REF!"}},null,null,null,null,null,null,null,null,{"$f":"BX477","v":0},{"$f":"BY477","v":0},null,null,null,{"$f":"IF(AND(O531=0,P531=0),\"\",IF(O531>P531,M529,M532))","v":""}]
[null,null,null,"",null,null,null,{"$f":"BX437","v":0},{"$f":"BY437","v":0},null,null,48,{"$f":"IF(AND(H532=0,I532=0),\"\",IF(H532>I532,F531,F533))","v":""}]
[96,5,0,"",6,{"$f":"IF(Main!$Q$2=3,VLOOKUP(E533,Katılım!$A$4:$Z$55,26,0),#REF!)","v":{"$error":"#REF!"}}]
[97,5,0,"",7,{"$f":"IF(Main!$Q$2=3,VLOOKUP(E534,Katılım!$A$4:$Z$55,26,0),#REF!)","v":{"$error":"#REF!"}}]
[null,null,null,"",null,null,null,{"$f":"BX438","v":0},{"$f":"BY438","v":0},null,null,49,{"$f":"IF(AND(H535=0,I535=0),\"\",IF(H535>I535,F534,F536))","v":""}]
[98,65,6,"E59",122,{"$f":"IF(Main!$Q$2=3,VLOOKUP(E536,Katılım!$A$4:$Z$55,26,0),#REF!)","v":{"$error":"#REF!"}},null,null,null,null,null,null,null,null,null,null,null,null,{"$f":"+S530+1","v":89},{"$f":"IF(AND(O537=0,P537=0),\"\",IF(O537>P537,M535,M538))","v":""}]
[99,65,38,"E27",58,{"$f":"IF(Main!$Q$2=3,VLOOKUP(E537,Katılım!$A$4:$Z$55,26,0),#REF!)","v":{"$error":"#REF!"}},null,null,null,null,null,null,null,null,{"$f":"BX478","v":0},{"$f":"BY478","v":0},null,null,null,null,null,null,null,null,null,{"$f":"+Z525+1","v":109}]
[null,null,null,"",null,null,null,{"$f":"BX439","v":0},{"$f":"BY439","v":0},null,null,50,{"$f":"IF(AND(H538=0,I538=0),\"\",IF(H538>I538,F537,F539))","v":""}]
[100,33,0,"",71,{"$f":"IF(Main!$Q$2=3,VLOOKUP(E539,Katılım!$A$4:$Z$55,26,0),#REF!)","v":{"$error":"#REF!"}}]
[101,33,0,"",26,{"$f":"IF(Main!$Q$2=3,VLOOKUP(E540,Katılım!$A$4:$Z$55,26,0),#REF!)","v":{"$error":"#REF!"}},null,null,null,null,null,null,null,null,null,null,null,null,null,null,null,{"$f":"BX498","v":0},{"$f":"BY498","v":0},null,null,null,{"$f":"IF(AND(V540=0,W540=0),\"\",IF(V540>W540,T536,T543))","v":""}]
[null,null,null,"",null,null,null,{"$f":"BX440","v":0},{"$f":"BY440","v":0},null,null,51,{"$f":"IF(AND(H541=0,I541=0),\"\",IF(H541>I541,F540,F542))","v":""},null,null,null,null,null,null,null,null,null,null,null,null,null,null,null,null,null,null,null,{"$f":"+AG517+1","v":119}]
[102,65,54,"E11",103,{"$f":"IF(Main!$Q$2=3,VLOOKUP(E542,Katılım!$A$4:$Z$55,26,0),#REF!)","v":{"$error":"#REF!"}},null,null,null,null,null,null,null,null,null,null,null,null,{"$f":"+S536+1","v":90}]
[103,65,22,"E43",39,{"$f":"IF(Main!$Q$2=3,VLOOKUP(E543,Katılım!$A$4:$Z$55,26,0),#REF!)","v":{"$error":"#REF!"}},null,null,null,null,null,null,null,null,{"$f":"BX479","v":0},{"$f":"BY479","v":0},null,null,null,{"$f":"IF(AND(O543=0,P543=0),\"\",IF(O543>P543,M541,M544))","v":""}]
[null,null,null,"",null,null,null,{"$f":"BX441","v":0},{"$f":"BY441","v":0},null,null,52,{"$f":"IF(AND(H544=0,I544=0),\"\",IF(H544>I544,F543,F545))","v":""}]
[104,17,0,"",90,{"$f":"IF(Main!$Q$2=3,VLOOKUP(E545,Katılım!$A$4:$Z$55,26,0),#REF!)","v":{"$error":"#REF!"}}]
[105,17,0,"",10,{"$f":"IF(Main!$Q$2=3,VLOOKUP(E546,Katılım!$A$4:$Z$55,26,0),#REF!)","v":{"$error":"#REF!"}},null,null,null,null,null,null,null,null,null,null,null,null,null,null,null,null,null,null,null,null,null,null,null,{"$f":"BX508","v":0},{"$f":"BY508","v":0},null,null,{"$f":"IF(AND(AD546=0,AE546=0),\"\",IF(AD546>AE546,AA540,AA552))","v":""}]
[null,null,null,"",null,null,null,{"$f":"BX442","v":0},{"$f":"BY442","v":0},null,null,53,{"$f":"IF(AND(H547=0,I547=0),\"\",IF(H547>I547,F546,F548))","v":""}]
[106,65,30,"E35",119,{"$f":"IF(Main!$Q$2=3,VLOOKUP(E548,Katılım!$A$4:$Z$55,26,0),#REF!)","v":{"$error":"#REF!"}},null,null,null,null,null,null,null,null,null,null,null,null,{"$f":"+S542+1","v":91},{"$f":"IF(AND(O549=0,P549=0),\"\",IF(O549>P549,M547,M550))","v":""}]
[107,65,62,"E3",55,{"$f":"IF(Main!$Q$2=3,VLOOKUP(E549,Katılım!$A$4:$Z$55,26,0),#REF!)","v":{"$error":"#REF!"}},null,null,null,null,null,null,null,null,{"$f":"BX480","v":0},{"$f":"BY480","v":0},null,null,null,null,null,null,null,null,null,{"$f":"+Z537+1","v":110}]
[null,null,null,"",null,null,null,{"$f":"BX443","v":0},{"$f":"BY443","v":0},null,null,54,{"$f":"IF(AND(H550=0,I550=0),\"\",IF(H550>I550,F549,F551))","v":""}]
[108,33,0,"",74,{"$f":"IF(Main!$Q$2=3,VLOOKUP(E551,Katılım!$A$4:$Z$55,26,0),#REF!)","v":{"$error":"#REF!"}}]
[109,33,0,"",23,{"$f":"IF(Main!$Q$2=3,VLOOKUP(E552,Katılım!$A$4:$Z$55,26,0),#REF!)","v":{"$error":"#REF!"}},null,null,null,null,null,null,null,null,null,null,null,null,null,null,null,{"$f":"BX499","v":0},{"$f":"BY499","v":0},null,null,null,{"$f":"IF(AND(V552=0,W552=0),\"\",IF(V552>W552,T548,T555))","v":""}]
[null,null,null,"",null,null,null,{"$f":"BX444","v":0},{"$f":"BY444","v":0},null,null,55,{"$f":"IF(AND(H553=0,I553=0),\"\",IF(H553>I553,F552,F554))","v":""}]
[110,65,46,"E19",106,{"$f":"IF(Main!$Q$2=3,VLOOKUP(E554,Katılım!$A$4:$Z$55,26,0),#REF!)","v":{"$error":"#REF!"}},null,null,null,null,null,null,null,null,null,null,null,null,{"$f":"+S548+1","v":92}]
[111,65,14,"E51",42,{"$f":"IF(Main!$Q$2=3,VLOOKUP(E555,Katılım!$A$4:$Z$55,26,0),#REF!)","v":{"$error":"#REF!"}},null,null,null,null,null,null,null,null,{"$f":"BX481","v":0},{"$f":"BY481","v":0},null,null,null,{"$f":"IF(AND(O555=0,P555=0),\"\",IF(O555>P555,M553,M556))","v":""}]
[null,null,null,"",null,null,null,{"$f":"BX445","v":0},{"$f":"BY445","v":0},null,null,56,{"$f":"IF(AND(H556=0,I556=0),\"\",IF(H556>I556,F555,F557))","v":""}]
[112,9,0,"",87,{"$f":"IF(Main!$Q$2=3,VLOOKUP(E557,Katılım!$A$4:$Z$55,26,0),#REF!)","v":{"$error":"#REF!"}}]
[113,9,0,"",82,{"$f":"IF(Main!$Q$2=3,VLOOKUP(E558,Katılım!$A$4:$Z$55,26,0),#REF!)","v":{"$error":"#REF!"}}]
[null,null,null,"",null,null,null,{"$f":"BX446","v":0},{"$f":"BY446","v":0},null,null,57,{"$f":"IF(AND(H559=0,I559=0),\"\",IF(H559>I559,F558,F560))","v":""}]
[114,65,10,"E55",47,{"$f":"IF(Main!$Q$2=3,VLOOKUP(E560,Katılım!$A$4:$Z$55,26,0),#REF!)","v":{"$error":"#REF!"}},null,null,null,null,null,null,null,null,null,null,null,null,{"$f":"+S554+1","v":93},{"$f":"IF(AND(O561=0,P561=0),\"\",IF(O561>P561,M559,M562))","v":""}]
[115,65,42,"E23",111,{"$f":"IF(Main!$Q$2=3,VLOOKUP(E561,Katılım!$A$4:$Z$55,26,0),#REF!)","v":{"$error":"#REF!"}},null,null,null,null,null,null,null,null,{"$f":"BX482","v":0},{"$f":"BY482","v":0},null,null,null,null,null,null,null,null,null,{"$f":"+Z549+1","v":111}]
[null,null,null,"",null,null,null,{"$f":"BX447","v":0},{"$f":"BY447","v":0},null,null,58,{"$f":"IF(AND(H562=0,I562=0),\"\",IF(H562>I562,F561,F563))","v":""}]
[116,33,0,"",18,{"$f":"IF(Main!$Q$2=3,VLOOKUP(E563,Katılım!$A$4:$Z$55,26,0),#REF!)","v":{"$error":"#REF!"}}]
[117,33,0,"",79,{"$f":"IF(Main!$Q$2=3,VLOOKUP(E564,Katılım!$A$4:$Z$55,26,0),#REF!)","v":{"$error":"#REF!"}},null,null,null,null,null,null,null,null,null,null,null,null,null,null,null,{"$f":"BX500","v":0},{"$f":"BY500","v":0},null,null,null,{"$f":"IF(AND(V564=0,W564=0),\"\",IF(V564>W564,T560,T567))","v":""}]
[null,null,null,"",null,null,null,{"$f":"BX448","v":0},{"$f":"BY448","v":0},null,null,59,{"$f":"IF(AND(H565=0,I565=0),\"\",IF(H565>I565,F564,F566))","v":""},null,null,null,null,null,null,null,null,null,null,null,null,null,null,null,null,null,null,null,{"$f":"+AG541+1","v":120}]
[118,65,58,"E7",50,{"$f":"IF(Main!$Q$2=3,VLOOKUP(E566,Katılım!$A$4:$Z$55,26,0),#REF!)","v":{"$error":"#REF!"}},null,null,null,null,null,null,null,null,null,null,null,null,{"$f":"+S560+1","v":94}]
[119,65,26,"E39",114,{"$f":"IF(Main!$Q$2=3,VLOOKUP(E567,Katılım!$A$4:$Z$55,26,0),#REF!)","v":{"$error":"#REF!"}},null,null,null,null,null,null,null,null,{"$f":"BX483","v":0},{"$f":"BY483","v":0},null,null,null,{"$f":"IF(AND(O567=0,P567=0),\"\",IF(O567>P567,M565,M568))","v":""}]
[null,null,null,"",null,null,null,{"$f":"BX449","v":0},{"$f":"BY449","v":0},null,null,60,{"$f":"IF(AND(H568=0,I568=0),\"\",IF(H568>I568,F567,F569))","v":""}]
[120,17,0,"",15,{"$f":"IF(Main!$Q$2=3,VLOOKUP(E569,Katılım!$A$4:$Z$55,26,0),#REF!)","v":{"$error":"#REF!"}}]
[121,17,0,"",95,{"$f":"IF(Main!$Q$2=3,VLOOKUP(E570,Katılım!$A$4:$Z$55,26,0),#REF!)","v":{"$error":"#REF!"}},null,null,null,null,null,null,null,null,null,null,null,null,null,null,null,null,null,null,null,null,null,null,null,{"$f":"BX509","v":0},{"$f":"BY509","v":0},null,null,{"$f":"IF(AND(AD570=0,AE570=0),\"\",IF(AD570>AE570,AA564,AA576))","v":""}]
[null,null,null,"",null,null,null,{"$f":"BX450","v":0},{"$f":"BY450","v":0},null,null,61,{"$f":"IF(AND(H571=0,I571=0),\"\",IF(H571>I571,F570,F572))","v":""}]
[122,65,18,"E47",34,{"$f":"IF(Main!$Q$2=3,VLOOKUP(E572,Katılım!$A$4:$Z$55,26,0),#REF!)","v":{"$error":"#REF!"}},null,null,null,null,null,null,null,null,null,null,null,null,{"$f":"+S566+1","v":95},{"$f":"IF(AND(O573=0,P573=0),\"\",IF(O573>P573,M571,M574))","v":""}]
[123,65,50,"E15",98,{"$f":"IF(Main!$Q$2=3,VLOOKUP(E573,Katılım!$A$4:$Z$55,26,0),#REF!)","v":{"$error":"#REF!"}},null,null,null,null,null,null,null,null,{"$f":"BX484","v":0},{"$f":"BY484","v":0},null,null,null,null,null,null,null,null,null,{"$f":"+Z561+1","v":112}]
[null,null,null,"",null,null,null,{"$f":"BX451","v":0},{"$f":"BY451","v":0},null,null,62,{"$f":"IF(AND(H574=0,I574=0),\"\",IF(H574>I574,F573,F575))","v":""}]
[124,33,0,"",31,{"$f":"IF(Main!$Q$2=3,VLOOKUP(E575,Katılım!$A$4:$Z$55,26,0),#REF!)","v":{"$error":"#REF!"}}]
[125,33,0,"",66,{"$f":"IF(Main!$Q$2=3,VLOOKUP(E576,Katılım!$A$4:$Z$55,26,0),#REF!)","v":{"$error":"#REF!"}},null,null,null,null,null,null,null,null,null,null,null,null,null,null,null,{"$f":"BX501","v":0},{"$f":"BY501","v":0},null,null,null,{"$f":"IF(AND(V576=0,W576=0),\"\",IF(V576>W576,T572,T579))","v":""}]
[null,null,null,"",null,null,null,{"$f":"BX452","v":0},{"$f":"BY452","v":0},null,null,63,{"$f":"IF(AND(H577=0,I577=0),\"\",IF(H577>I577,F576,F578))","v":""}]
[126,65,34,"E31",63,{"$f":"IF(Main!$Q$2=3,VLOOKUP(E578,Katılım!$A$4:$Z$55,26,0),#REF!)","v":{"$error":"#REF!"}},null,null,null,null,null,null,null,null,null,null,null,null,{"$f":"+S572+1","v":96}]
[127,65,2,"E63",127,{"$f":"IF(Main!$Q$2=3,VLOOKUP(E579,Katılım!$A$4:$Z$55,26,0),#REF!)","v":{"$error":"#REF!"}},null,null,null,null,null,null,null,null,{"$f":"BX485","v":0},{"$f":"BY485","v":0},null,null,null,{"$f":"IF(AND(O579=0,P579=0),\"\",IF(O579>P579,M577,M580))","v":""}]
[null,null,null,null,null,null,null,{"$f":"BX453","v":0},{"$f":"BY453","v":0},null,null,64,{"$f":"IF(AND(H580=0,I580=0),\"\",IF(H580>I580,F579,F581))","v":""}]
[128,2,0,0,2,{"$f":"IF(Main!$Q$2=3,VLOOKUP(E581,Katılım!$A$4:$Z$55,26,0),#REF!)","v":{"$error":"#REF!"}}]
[]
[]
[1,1,0," ",1,{"$f":"IF(Main!$Q$2=3,VLOOKUP(E584,Katılım!$A$4:$Z$55,26,0),#REF!)","v":{"$error":"#REF!"}},null,null,null,null,null,null,null,null,null,null,null,null,null,null,null,null,null,null,null,null,null,null,null,null,null,null,null,null,null,null,null,null,null,null,null,null,null,null,null,null,null,null,null,null,null,null,null,null,null,null,null,null,1,null,null,null,null,{"$f":"F584","v":{"$error":"#REF!"}},{"$f":"F586","v":{"$error":"#REF!"}}]
[null,null,null,null,null,null,null,{"$f":"BX584","v":0},{"$f":"BY584","v":0},null,null,1,{"$f":"IF(AND(H585=0,I585=0),\"\",IF(H585>I585,F584,F586))","v":""},null,null,null,null,null,null,null,null,null,null,null,null,null,null,null,null,null,null,null,null,null,null,null,null,null,null,null,null,null,null,null,null,null,null,null,null,null,null,null,null,null,null,null,null,null,2,null,null,null,null,{"$f":"F587","v":{"$error":"#REF!"}},{"$f":"F589","v":{"$error":"#REF!"}}]
[2,33,1,"E32",64,{"$f":"IF(Main!$Q$2=3,VLOOKUP(E586,Katılım!$A$4:$Z$55,26,0),#REF!)","v":{"$error":"#REF!"}},null,null,null,null,null,null,null,null,null,null,null,null,33,{"$f":"IF(AND(O587=0,P587=0),\"\",IF(O587>P587,M585,M588))","v":""},null,null,null,null,null,null,null,null,null,null,null,null,null,null,null,null,null,null,null,null,null,null,null,null,null,null,null,null,null,null,null,null,null,null,null,null,null,null,3,null,null,null,null,{"$f":"F590","v":{"$error":"#REF!"}},{"$f":"F592","v":{"$error":"#REF!"}}]
[3,33,17,"E16",48,{"$f":"IF(Main!$Q$2=3,VLOOKUP(E587,Katılım!$A$4:$Z$55,26,0),#REF!)","v":{"$error":"#REF!"}},null,null,null,null,null,null,null,null,{"$f":"BX616","v":0},{"$f":"BY616","v":0},null,null,null,null,null,null,null,null,null,49,null,null,null,null,null,null,null,null,null,null,null,null,null,null,null,null,null,null,null,null,null,null,null,null,null,null,null,null,null,null,null,null,4,null,null,null,null,{"$f":"F593","v":{"$error":"#REF!"}},{"$f":"F595","v":{"$error":"#REF!"}}]
[null,null,null,"",null,null,null,{"$f":"BX585","v":0},{"$f":"BY585","v":0},null,null,2,{"$f":"IF(AND(H588=0,I588=0),\"\",IF(H588>I588,F587,F589))","v":""},null,null,null,null,null,null,null,null,null,null,null,null,null,null,null,null,null,null,null,null,null,null,null,null,null,null,null,null,null,null,null,null,null,null,null,null,null,null,null,null,null,null,null,null,null,5,null,null,null,null,{"$f":"F596","v":{"$error":"#REF!"}},{"$f":"F598","v":{"$error":"#REF!"}}]
[4,17,0,"",32,{"$f":"IF(Main!$Q$2=3,VLOOKUP(E589,Katılım!$A$4:$Z$55,26,0),#REF!)","v":{"$error":"#REF!"}},null,null,null,null,null,null,null,null,null,null,null,null,null,null,null,null,null,null,null,null,null,null,null,null,null,null,null,null,null,null,null,null,null,null,null,null,null,null,null,null,null,null,null,null,null,null,null,null,null,null,null,null,6,null,null,null,null,{"$f":"F599","v":{"$error":"#REF!"}},{"$f":"F601","v":{"$error":"#REF!"}}]
[5,17,0,"",17,{"$f":"IF(Main!$Q$2=3,VLOOKUP(E590,Katılım!$A$4:$Z$55,26,0),#REF!)","v":{"$error":"#REF!"}},null,null,null,null,null,null,null,null,null,null,null,null,null,null,null,{"$f":"BX632","v":0},{"$f":"BY632","v":0},null,null,null,{"$f":"IF(AND(V590=0,W590=0),\"\",IF(V590>W590,T586,T593))","v":""},null,null,null,null,null,null,null,null,null,null,null,null,null,null,null,null,null,null,null,null,null,null,null,null,null,null,null,null,null,null,null,7,null,null,null,null,{"$f":"F602","v":{"$error":"#REF!"}},{"$f":"F604","v":{"$error":"#REF!"}}]
[null,null,null,"",null,null,null,{"$f":"BX586","v":0},{"$f":"BY586","v":0},null,null,3,{"$f":"IF(AND(H591=0,I591=0),\"\",IF(H591>I591,F590,F592))","v":""},null,null,null,null,null,null,null,null,null,null,null,null,null,null,null,null,null,null,null,null,null,null,null,null,null,null,null,null,null,null,null,null,null,null,null,null,null,null,null,null,null,null,null,null,null,8,null,null,null,null,{"$f":"F605","v":{"$error":"#REF!"}},{"$f":"F607","v":{"$error":"#REF!"}}]
[6,33,25,"E8",33,{"$f":"IF(Main!$Q$2=3,VLOOKUP(E592,Katılım!$A$4:$Z$55,26,0),#REF!)","v":{"$error":"#REF!"}},null,null,null,null,null,null,null,null,null,null,null,null,{"$f":"+S586+1","v":34},null,null,null,null,null,null,null,null,null,null,null,null,null,null,null,null,null,null,null,null,null,null,null,null,null,null,null,null,null,null,null,null,null,null,null,null,null,null,null,9,null,null,null,null,{"$f":"F608","v":{"$error":"#REF!"}},{"$f":"F610","v":{"$error":"#REF!"}}]
[7,33,9,"E24",49,{"$f":"IF(Main!$Q$2=3,VLOOKUP(E593,Katılım!$A$4:$Z$55,26,0),#REF!)","v":{"$error":"#REF!"}},null,null,null,null,null,null,null,null,{"$f":"BX617","v":0},{"$f":"BY617","v":0},null,null,null,{"$f":"IF(AND(O593=0,P593=0),\"\",IF(O593>P593,M591,M594))","v":""},null,null,null,null,null,null,null,null,null,null,null,null,null,null,null,null,null,null,null,null,null,null,null,null,null,null,null,null,null,null,null,null,null,null,null,null,null,null,10,null,null,null,null,{"$f":"F611","v":{"$error":"#REF!"}},{"$f":"F613","v":{"$error":"#REF!"}}]
[null,null,null,"",null,null,null,{"$f":"BX587","v":0},{"$f":"BY587","v":0},null,null,4,{"$f":"IF(AND(H594=0,I594=0),\"\",IF(H594>I594,F593,F595))","v":""},null,null,null,null,null,null,null,null,null,null,null,null,null,null,null,null,null,null,null,null,null,null,null,null,null,null,null,null,null,null,null,null,null,null,null,null,null,null,null,null,null,null,null,null,null,11,null,null,null,null,{"$f":"F614","v":{"$error":"#REF!"}},{"$f":"F616","v":{"$error":"#REF!"}}]
[8,9," ","",16,{"$f":"IF(Main!$Q$2=3,VLOOKUP(E595,Katılım!$A$4:$Z$55,26,0),#REF!)","v":{"$error":"#REF!"}},null,null,null,null,null,null,null,null,null,null,null,null,null,null,null,null,null,null,null,null,null,null,null,null,null,null,null,null,null,null,null,null,null,null,null,null,null,null,null,null,null,null,null,null,null,null,null,null,null,null,null,null,12,null,null,null,null,{"$f":"F617","v":{"$error":"#REF!"}},{"$f":"F619","v":{"$error":"#REF!"}}]
[9,9,0,"",9,{"$f":"IF(Main!$Q$2=3,VLOOKUP(E596,Katılım!$A$4:$Z$55,26,0),#REF!)","v":{"$error":"#REF!"}},null,null,null,null,null,null,null,null,null,null,null,null,null,null,null,null,null,null,null,null,null,null,null,null,null,null,null,null,null,null,null,null,null,null,null,null,null,null,null,null,null,null,null,null,null,null,null,null,null,null,null,null,13,null,null,null,null,{"$f":"F620","v":{"$error":"#REF!"}},{"$f":"F622","v":{"$error":"#REF!"}}]
[null,null,null,"",null,null,null,{"$f":"BX588","v":0},{"$f":"BY588","v":0},null,null,5,{"$f":"IF(AND(H597=0,I597=0),\"\",IF(H597>I597,F596,F598))","v":""},null,null,null,null,null,null,null,null,null,null,null,null,null,null,null,null,null,null,null,null,null,null,null,null,null,null,null,null,null,null,null,null,null,null,null,null,null,null,null,null,null,null,null,null,null,14,null,null,null,null,{"$f":"F623","v":{"$error":"#REF!"}},{"$f":"F625","v":{"$error":"#REF!"}}]
[10,33,13,"E20",56,{"$f":"IF(Main!$Q$2=3,VLOOKUP(E598,Katılım!$A$4:$Z$55,26,0),#REF!)","v":{"$error":"#REF!"}},null,null,null,null,null,null,null,null,null,null,null,null,{"$f":"+S592+1","v":35},{"$f":"IF(AND(O599=0,P599=0),\"\",IF(O599>P599,M597,M600))","v":""},null,null,null,null,null,null,null,null,null,null,null,null,null,null,null,null,null,null,null,null,null,null,null,null,null,null,null,null,null,null,null,null,null,null,null,null,null,null,15,null,null,null,null,{"$f":"F626","v":{"$error":"#REF!"}},{"$f":"F628","v":{"$error":"#REF!"}}]
[11,33,29,"E4",40,{"$f":"IF(Main!$Q$2=3,VLOOKUP(E599,Katılım!$A$4:$Z$55,26,0),#REF!)","v":{"$error":"#REF!"}},null,null,null,null,null,null,null,null,{"$f":"BX618","v":0},{"$f":"BY618","v":0},null,null,null,null,null,null,null,null,null,{"$f":"+Z587+1","v":50},null,null,null,null,null,null,null,null,null,null,null,null,null,null,null,null,null,null,null,null,null,null,null,null,null,null,null,null,null,null,null,null,16,null,null,null,null,{"$f":"F629","v":{"$error":"#REF!"}},{"$f":"F631","v":{"$error":"#REF!"}}]
[null,null,null,"",null,null,null,{"$f":"BX589","v":0},{"$f":"BY589","v":0},null,null,6,{"$f":"IF(AND(H600=0,I600=0),\"\",IF(H600>I600,F599,F601))","v":""},null,null,null,null,null,null,null,null,null,null,null,null,null,null,null,null,null,null,null,null,null,null,null,null,null,null,null,null,null,null,null,null,null,null,null,null,null,null,null,null,null,null,null,null,null,17,null,null,null,null,{"$f":"F632","v":{"$error":"#REF!"}},{"$f":"F634","v":{"$error":"#REF!"}}]
[12,17,0,"",24,{"$f":"IF(Main!$Q$2=3,VLOOKUP(E601,Katılım!$A$4:$Z$55,26,0),#REF!)","v":{"$error":"#REF!"}},null,null,null,null,null,null,null,null,null,null,null,null,null,null,null,null,null,null,null,null,null,null,null,null,null,null,null,null,null,null,null,null,null,null,null,null,null,null,null,null,null,null,null,null,null,null,null,null,null,null,null,null,18,null,null,null,null,{"$f":"F635","v":{"$error":"#REF!"}},{"$f":"F637","v":{"$error":"#REF!"}}]
[13,17,0,"",25,{"$f":"IF(Main!$Q$2=3,VLOOKUP(E602,Katılım!$A$4:$Z$55,26,0),#REF!)","v":{"$error":"#REF!"}},null,null,null,null,null,null,null,null,null,null,null,null,null,null,null,{"$f":"BX633","v":0},{"$f":"BY633","v":0},null,null,null,{"$f":"IF(AND(V602=0,W602=0),\"\",IF(V602>W602,T598,T605))","v":""},null,null,null,null,null,null,null,null,null,null,null,null,null,null,null,null,null,null,null,null,null,null,null,null,null,null,null,null,null,null,null,19,null,null,null,null,{"$f":"F638","v":{"$error":"#REF!"}},{"$f":"F640","v":{"$error":"#REF!"}}]
[null,null,null,"",null,null,null,{"$f":"BX590","v":0},{"$f":"BY590","v":0},null,null,7,{"$f":"IF(AND(H603=0,I603=0),\"\",IF(H603>I603,F602,F604))","v":""},null,null,null,null,null,null,null,null,null,null,null,null,null,null,null,null,null,null,null,null,null,null,null,null,null,null,null,null,null,null,null,null,null,null,null,null,null,null,null,null,null,null,null,null,null,20,null,null,null,null,{"$f":"F641","v":{"$error":"#REF!"}},{"$f":"F643","v":{"$error":"#REF!"}}]
[14,33,21,"E12",41,{"$f":"IF(Main!$Q$2=3,VLOOKUP(E604,Katılım!$A$4:$Z$55,26,0),#REF!)","v":{"$error":"#REF!"}},null,null,null,null,null,null,null,null,null,null,null,null,{"$f":"+S598+1","v":36},null,null,null,null,null,null,null,null,null,null,null,null,null,null,null,null,null,null,null,null,null,null,null,null,null,null,null,null,null,null,null,null,null,null,null,null,null,null,null,21,null,null,null,null,{"$f":"F644","v":{"$error":"#REF!"}},{"$f":"F646","v":{"$error":"#REF!"}}]
[15,33,5,"E28",57,{"$f":"IF(Main!$Q$2=3,VLOOKUP(E605,Katılım!$A$4:$Z$55,26,0),#REF!)","v":{"$error":"#REF!"}},null,null,null,null,null,null,null,null,{"$f":"BX619","v":0},{"$f":"BY619","v":0},null,null,null,{"$f":"IF(AND(O605=0,P605=0),\"\",IF(O605>P605,M603,M606))","v":""},null,null,null,null,null,null,null,null,null,null,null,null,null,null,null,null,null,null,null,null,null,null,null,null,null,null,null,null,null,null,null,null,null,null,null,null,null,null,22,null,null,null,null,{"$f":"F647","v":{"$error":"#REF!"}},{"$f":"F649","v":{"$error":"#REF!"}}]
[null,null,null,"",null,null,null,{"$f":"BX591","v":0},{"$f":"BY591","v":0},null,null,8,{"$f":"IF(AND(H606=0,I606=0),\"\",IF(H606>I606,F605,F607))","v":""},null,null,null,null,null,null,null,null,null,null,null,null,null,null,null,null,null,null,null,null,null,null,null,null,null,null,null,null,null,null,null,null,null,null,null,null,null,null,null,null,null,null,null,null,null,23,null,null,null,null,{"$f":"F650","v":{"$error":"#REF!"}},{"$f":"F652","v":{"$error":"#REF!"}}]
[16,5," ","",8,{"$f":"IF(Main!$Q$2=3,VLOOKUP(E607,Katılım!$A$4:$Z$55,26,0),#REF!)","v":{"$error":"#REF!"}},null,null,null,null,null,null,null,null,null,null,null,null,null,null,null,null,null,null,null,null,null,null,null,null,null,null,null,null,null,null,null,null,null,null,null,null,null,null,null,null,null,null,null,null,null,null,null,null,null,null,null,null,24,null,null,null,null,{"$f":"F653","v":{"$error":"#REF!"}},{"$f":"F655","v":{"$error":"#REF!"}}]
[17,5,0,"",5,{"$f":"IF(Main!$Q$2=3,VLOOKUP(E608,Katılım!$A$4:$Z$55,26,0),#REF!)","v":{"$error":"#REF!"}},null,null,null,null,null,null,null,null,null,null,null,null,null,null,null,null,null,null,null,null,null,null,null,null,null,null,null,null,null,null,null,null,null,null,null,null,null,null,null,null,null,null,null,null,null,null,null,null,null,null,null,null,25,null,null,null,null,{"$f":"F656","v":{"$error":"#REF!"}},{"$f":"F658","v":{"$error":"#REF!"}}]
[null,null,null,"",null,null,null,{"$f":"BX592","v":0},{"$f":"BY592","v":0},null,null,9,{"$f":"IF(AND(H609=0,I609=0),\"\",IF(H609>I609,F608,F610))","v":""},null,null,null,null,null,null,null,null,null,null,null,null,null,null,null,null,null,null,null,null,null,null,null,null,null,null,null,null,null,null,null,null,null,null,null,null,null,null,null,null,null,null,null,null,null,26,null,null,null,null,{"$f":"F659","v":{"$error":"#REF!"}},{"$f":"F661","v":{"$error":"#REF!"}}]
[18,33,7,"E26",60,{"$f":"IF(Main!$Q$2=3,VLOOKUP(E610,Katılım!$A$4:$Z$55,26,0),#REF!)","v":{"$error":"#REF!"}},null,null,null,null,null,null,null,null,null,null,null,null,{"$f":"+S604+1","v":37},{"$f":"IF(AND(O611=0,P611=0),\"\",IF(O611>P611,M609,M612))","v":""},null,null,null,null,null,null,null,null,null,null,null,null,null,null,null,null,null,null,null,null,null,null,null,null,null,null,null,null,null,null,null,null,null,null,null,null,null,null,27,null,null,null,null,{"$f":"F662","v":{"$error":"#REF!"}},{"$f":"F664","v":{"$error":"#REF!"}}]
[19,33,23,"E10",44,{"$f":"IF(Main!$Q$2=3,VLOOKUP(E611,Katılım!$A$4:$Z$55,26,0),#REF!)","v":{"$error":"#REF!"}},null,null,null,null,null,null,null,null,{"$f":"BX620","v":0},{"$f":"BY620","v":0},null,null,null,null,null,null,null,null,null,{"$f":"+Z599+1","v":51},null,null,null,null,null,null,null,null,null,null,null,null,null,null,null,null,null,null,null,null,null,null,null,null,null,null,null,null,null,null,null,null,28,null,null,null,null,{"$f":"F665","v":{"$error":"#REF!"}},{"$f":"F667","v":{"$error":"#REF!"}}]
[null,null,null,"",null,null,null,{"$f":"BX593","v":0},{"$f":"BY593","v":0},null,null,10,{"$f":"IF(AND(H612=0,I612=0),\"\",IF(H612>I612,F611,F613))","v":""},null,null,null,null,null,null,null,null,null,null,null,null,null,null,null,null,null,null,null,null,null,null,null,null,null,null,null,null,null,null,null,null,null,null,null,null,null,null,null,null,null,null,null,null,null,29,null,null,null,null,{"$f":"F668","v":{"$error":"#REF!"}},{"$f":"F670","v":{"$error":"#REF!"}}]
[20,17,0,"",28,{"$f":"IF(Main!$Q$2=3,VLOOKUP(E613,Katılım!$A$4:$Z$55,26,0),#REF!)","v":{"$error":"#REF!"}},null,null,null,null,null,null,null,null,null,null,null,null,null,null,null,null,null,null,null,null,null,null,null,null,null,null,null,null,null,null,null,null,null,null,null,null,null,null,null,null,null,null,null,null,null,null,null,null,null,null,null,null,30,null,null,null,null,{"$f":"F671","v":{"$error":"#REF!"}},{"$f":"F673","v":{"$error":"#REF!"}}]
[21,17,0,"",21,{"$f":"IF(Main!$Q$2=3,VLOOKUP(E614,Katılım!$A$4:$Z$55,26,0),#REF!)","v":{"$error":"#REF!"}},null,null,null,null,null,null,null,null,null,null,null,null,null,null,null,{"$f":"BX634","v":0},{"$f":"BY634","v":0},null,null,null,{"$f":"IF(AND(V614=0,W614=0),\"\",IF(V614>W614,T610,T617))","v":""},null,null,null,null,null,null,null,null,null,null,null,null,null,null,null,null,null,null,null,null,null,null,null,null,null,null,null,null,null,null,null,31,null,null,null,null,{"$f":"F674","v":{"$error":"#REF!"}},{"$f":"F676","v":{"$error":"#REF!"}}]
[null,null,null,"",null,null,null,{"$f":"BX594","v":0},{"$f":"BY594","v":0},null,null,11,{"$f":"IF(AND(H615=0,I615=0),\"\",IF(H615>I615,F614,F616))","v":""},null,null,null,null,null,null,null,null,null,null,null,null,null,null,null,null,null,null,null,null,null,null,null,null,null,null,null,null,null,null,null,null,null,null,null,null,null,null,null,null,null,null,null,null,null,32,null,null,null,null,{"$f":"F677","v":{"$error":"#REF!"}},{"$f":"F679","v":{"$error":"#REF!"}}]
[22,33,31,"E2",37,{"$f":"IF(Main!$Q$2=3,VLOOKUP(E616,Katılım!$A$4:$Z$55,26,0),#REF!)","v":{"$error":"#REF!"}},null,null,null,null,null,null,null,null,null,null,null,null,{"$f":"+S610+1","v":38},null,null,null,null,null,null,null,null,null,null,null,null,null,null,null,null,null,null,null,null,null,null,null,null,null,null,null,null,null,null,null,null,null,null,null,null,null,null,null,33,null,null,null,null,{"$f":"M585","v":""},{"$f":"M588","v":""}]
[23,33,15,"E18",53,{"$f":"IF(Main!$Q$2=3,VLOOKUP(E617,Katılım!$A$4:$Z$55,26,0),#REF!)","v":{"$error":"#REF!"}},null,null,null,null,null,null,null,null,{"$f":"BX621","v":0},{"$f":"BY621","v":0},null,null,null,{"$f":"IF(AND(O617=0,P617=0),\"\",IF(O617>P617,M615,M618))","v":""},null,null,null,null,null,null,null,null,null,null,null,null,null,null,null,null,null,null,null,null,null,null,null,null,null,null,null,null,null,null,null,null,null,null,null,null,null,null,34,null,null,null,null,{"$f":"M591","v":""},{"$f":"M594","v":""}]
[null,null,null,"",null,null,null,{"$f":"BX595","v":0},{"$f":"BY595","v":0},null,null,12,{"$f":"IF(AND(H618=0,I618=0),\"\",IF(H618>I618,F617,F619))","v":""},null,null,null,null,null,null,null,null,null,null,null,null,null,null,null,null,null,null,null,null,null,null,null,null,null,null,null,null,null,null,null,null,null,null,null,null,null,null,null,null,null,null,null,null,null,35,null,null,null,null,{"$f":"M597","v":""},{"$f":"M600","v":""}]
[24,9," ","",12,{"$f":"IF(Main!$Q$2=3,VLOOKUP(E619,Katılım!$A$4:$Z$55,26,0),#REF!)","v":{"$error":"#REF!"}},null,null,null,null,null,null,null,null,null,null,null,null,null,null,null,null,null,null,null,null,null,null,null,null,null,null,null,null,null,null,null,null,null,null,null,null,null,null,null,null,null,null,null,null,null,null,null,null,null,null,null,null,36,null,null,null,null,{"$f":"M603","v":""},{"$f":"M606","v":""}]
[25,9,0,"",13,{"$f":"IF(Main!$Q$2=3,VLOOKUP(E620,Katılım!$A$4:$Z$55,26,0),#REF!)","v":{"$error":"#REF!"}},null,null,null,null,null,null,null,null,null,null,null,null,null,null,null,null,null,null,null,null,null,null,null,null,null,null,null,null,null,null,null,null,null,null,null,null,null,null,null,null,null,null,null,null,null,null,null,null,null,null,null,null,37,null,null,null,null,{"$f":"M609","v":""},{"$f":"M612","v":""}]
[null,null,null,"",null,null,null,{"$f":"BX596","v":0},{"$f":"BY596","v":0},null,null,13,{"$f":"IF(AND(H621=0,I621=0),\"\",IF(H621>I621,F620,F622))","v":""},null,null,null,null,null,null,null,null,null,null,null,null,null,null,null,null,null,null,null,null,null,null,null,null,null,null,null,null,null,null,null,null,null,null,null,null,null,null,null,null,null,null,null,null,null,38,null,null,null,null,{"$f":"M615","v":""},{"$f":"M618","v":""}]
[26,33,11,"E22",52,{"$f":"IF(Main!$Q$2=3,VLOOKUP(E622,Katılım!$A$4:$Z$55,26,0),#REF!)","v":{"$error":"#REF!"}},null,null,null,null,null,null,null,null,null,null,null,null,{"$f":"+S616+1","v":39},{"$f":"IF(AND(O623=0,P623=0),\"\",IF(O623>P623,M621,M624))","v":""},null,null,null,null,null,null,null,null,null,null,null,null,null,null,null,null,null,null,null,null,null,null,null,null,null,null,null,null,null,null,null,null,null,null,null,null,null,null,39,null,null,null,null,{"$f":"M621","v":""},{"$f":"M624","v":""}]
[27,33,27,"E6",36,{"$f":"IF(Main!$Q$2=3,VLOOKUP(E623,Katılım!$A$4:$Z$55,26,0),#REF!)","v":{"$error":"#REF!"}},null,null,null,null,null,null,null,null,{"$f":"BX622","v":0},{"$f":"BY622","v":0},null,null,null,null,null,null,null,null,null,{"$f":"+Z611+1","v":52},null,null,null,null,null,null,null,null,null,null,null,null,null,null,null,null,null,null,null,null,null,null,null,null,null,null,null,null,null,null,null,null,40,null,null,null,null,{"$f":"M627","v":""},{"$f":"M630","v":""}]
[null,null,null,"",null,null,null,{"$f":"BX597","v":0},{"$f":"BY597","v":0},null,null,14,{"$f":"IF(AND(H624=0,I624=0),\"\",IF(H624>I624,F623,F625))","v":""},null,null,null,null,null,null,null,null,null,null,null,null,null,null,null,null,null,null,null,null,null,null,null,null,null,null,null,null,null,null,null,null,null,null,null,null,null,null,null,null,null,null,null,null,null,41,null,null,null,null,{"$f":"M633","v":""},{"$f":"M636","v":""}]
[28,17,0,"",20,{"$f":"IF(Main!$Q$2=3,VLOOKUP(E625,Katılım!$A$4:$Z$55,26,0),#REF!)","v":{"$error":"#REF!"}},null,null,null,null,null,null,null,null,null,null,null,null,null,null,null,null,null,null,null,null,null,null,null,null,null,null,null,null,null,null,null,null,null,null,null,null,null,null,null,null,null,null,null,null,null,null,null,null,null,null,null,null,42,null,null,null,null,{"$f":"M639","v":""},{"$f":"M642","v":""}]
[29,17,0,"",29,{"$f":"IF(Main!$Q$2=3,VLOOKUP(E626,Katılım!$A$4:$Z$55,26,0),#REF!)","v":{"$error":"#REF!"}},null,null,null,null,null,null,null,null,null,null,null,null,null,null,null,{"$f":"BX635","v":0},{"$f":"BY635","v":0},null,null,null,{"$f":"IF(AND(V626=0,W626=0),\"\",IF(V626>W626,T622,T629))","v":""},null,null,null,null,null,null,null,null,null,null,null,null,null,null,null,null,null,null,null,null,null,null,null,null,null,null,null,null,null,null,null,43,null,null,null,null,{"$f":"M645","v":""},{"$f":"M648","v":""}]
[null,null,null,"",null,null,null,{"$f":"BX598","v":0},{"$f":"BY598","v":0},null,null,15,{"$f":"IF(AND(H627=0,I627=0),\"\",IF(H627>I627,F626,F628))","v":""},null,null,null,null,null,null,null,null,null,null,null,null,null,null,null,null,null,null,null,null,null,null,null,null,null,null,null,null,null,null,null,null,null,null,null,null,null,null,null,null,null,null,null,null,null,44,null,null,null,null,{"$f":"M651","v":""},{"$f":"M654","v":""}]
[30,33,19,"E14",45,{"$f":"IF(Main!$Q$2=3,VLOOKUP(E628,Katılım!$A$4:$Z$55,26,0),#REF!)","v":{"$error":"#REF!"}},null,null,null,null,null,null,null,null,null,null,null,null,{"$f":"+S622+1","v":40},null,null,null,null,null,null,null,null,null,null,null,null,null,null,null,null,null,null,null,null,null,null,null,null,null,null,null,null,null,null,null,null,null,null,null,null,null,null,null,45,null,null,null,null,{"$f":"M657","v":""},{"$f":"M660","v":""}]
[31,33,3,"E30",61,{"$f":"IF(Main!$Q$2=3,VLOOKUP(E629,Katılım!$A$4:$Z$55,26,0),#REF!)","v":{"$error":"#REF!"}},null,null,null,null,null,null,null,null,{"$f":"BX623","v":0},{"$f":"BY623","v":0},null,null,null,{"$f":"IF(AND(O629=0,P629=0),\"\",IF(O629>P629,M627,M630))","v":""},null,null,null,null,null,null,null,null,null,null,null,null,null,null,null,null,null,null,null,null,null,null,null,null,null,null,null,null,null,null,null,null,null,null,null,null,null,null,46,null,null,null,null,{"$f":"M663","v":""},{"$f":"M666","v":""}]
[null,null,null,"",null,null,null,{"$f":"BX599","v":0},{"$f":"BY599","v":0},null,null,16,{"$f":"IF(AND(H630=0,I630=0),\"\",IF(H630>I630,F629,F631))","v":""},null,null,null,null,null,null,null,null,null,null,null,null,null,null,null,null,null,null,null,null,null,null,null,null,null,null,null,null,null,null,null,null,null,null,null,null,null,null,null,null,null,null,null,null,null,47,null,null,null,null,{"$f":"M669","v":""},{"$f":"M672","v":""}]
[32,3," ","",4,{"$f":"IF(Main!$Q$2=3,VLOOKUP(E631,Katılım!$A$4:$Z$55,26,0),#REF!)","v":{"$error":"#REF!"}},null,null,null,null,null,null,null,null,null,null,null,null,null,null,null,null,null,null,null,null,null,null,null,null,null,null,null,null,null,null,null,null,null,null,null,null,null,null,null,null,null,null,null,null,null,null,null,null,null,null,null,null,48,null,null,null,null,{"$f":"M675","v":""},{"$f":"M678","v":""}]
[33,3,0,"",3,{"$f":"IF(Main!$Q$2=3,VLOOKUP(E632,Katılım!$A$4:$Z$55,26,0),#REF!)","v":{"$error":"#REF!"}},null,null,null,null,null,null,null,null,null,null,null,null,null,null,null,null,null,null,null,null,null,null,null,null,null,null,null,null,null,null,null,null,null,null,null,null,null,null,null,null,null,null,null,null,null,null,null,null,null,null,null,null,49,null,null,null,null,{"$f":"T586","v":""},{"$f":"T593","v":""}]
[null,null,null,"",null,null,null,{"$f":"BX600","v":0},{"$f":"BY600","v":0},null,null,17,{"$f":"IF(AND(H633=0,I633=0),\"\",IF(H633>I633,F632,F634))","v":""},null,null,null,null,null,null,null,null,null,null,null,null,null,null,null,null,null,null,null,null,null,null,null,null,null,null,null,null,null,null,null,null,null,null,null,null,null,null,null,null,null,null,null,null,null,50,null,null,null,null,{"$f":"T598","v":""},{"$f":"T605","v":""}]
[34,33,4,"E29",62,{"$f":"IF(Main!$Q$2=3,VLOOKUP(E634,Katılım!$A$4:$Z$55,26,0),#REF!)","v":{"$error":"#REF!"}},null,null,null,null,null,null,null,null,null,null,null,null,{"$f":"+S628+1","v":41},{"$f":"IF(AND(O635=0,P635=0),\"\",IF(O635>P635,M633,M636))","v":""},null,null,null,null,null,null,null,null,null,null,null,null,null,null,null,null,null,null,null,null,null,null,null,null,null,null,null,null,null,null,null,null,null,null,null,null,null,null,51,null,null,null,null,{"$f":"T610","v":""},{"$f":"T617","v":""}]
[35,33,20,"E13",46,{"$f":"IF(Main!$Q$2=3,VLOOKUP(E635,Katılım!$A$4:$Z$55,26,0),#REF!)","v":{"$error":"#REF!"}},null,null,null,null,null,null,null,null,{"$f":"BX624","v":0},{"$f":"BY624","v":0},null,null,null,null,null,null,null,null,null,{"$f":"+Z623+1","v":53},null,null,null,null,null,null,null,null,null,null,null,null,null,null,null,null,null,null,null,null,null,null,null,null,null,null,null,null,null,null,null,null,52,null,null,null,null,{"$f":"T622","v":""},{"$f":"T629","v":""}]
[null,null,null,"",null,null,null,{"$f":"BX601","v":0},{"$f":"BY601","v":0},null,null,18,{"$f":"IF(AND(H636=0,I636=0),\"\",IF(H636>I636,F635,F637))","v":""},null,null,null,null,null,null,null,null,null,null,null,null,null,null,null,null,null,null,null,null,null,null,null,null,null,null,null,null,null,null,null,null,null,null,null,null,null,null,null,null,null,null,null,null,null,53,null,null,null,null,{"$f":"T634","v":""},{"$f":"T641","v":""}]
[36,17,0,"",30,{"$f":"IF(Main!$Q$2=3,VLOOKUP(E637,Katılım!$A$4:$Z$55,26,0),#REF!)","v":{"$error":"#REF!"}},null,null,null,null,null,null,null,null,null,null,null,null,null,null,null,null,null,null,null,null,null,null,null,null,null,null,null,null,null,null,null,null,null,null,null,null,null,null,null,null,null,null,null,null,null,null,null,null,null,null,null,null,54,null,null,null,null,{"$f":"T646","v":""},{"$f":"T653","v":""}]
[37,17,0,"",19,{"$f":"IF(Main!$Q$2=3,VLOOKUP(E638,Katılım!$A$4:$Z$55,26,0),#REF!)","v":{"$error":"#REF!"}},null,null,null,null,null,null,null,null,null,null,null,null,null,null,null,{"$f":"BX636","v":0},{"$f":"BY636","v":0},null,null,null,{"$f":"IF(AND(V638=0,W638=0),\"\",IF(V638>W638,T634,T641))","v":""},null,null,null,null,null,null,null,null,null,null,null,null,null,null,null,null,null,null,null,null,null,null,null,null,null,null,null,null,null,null,null,55,null,null,null,null,{"$f":"T658","v":""},{"$f":"T665","v":""}]
[null,null,null,"",null,null,null,{"$f":"BX602","v":0},{"$f":"BY602","v":0},null,null,19,{"$f":"IF(AND(H639=0,I639=0),\"\",IF(H639>I639,F638,F640))","v":""},null,null,null,null,null,null,null,null,null,null,null,null,null,null,null,null,null,null,null,null,null,null,null,null,null,null,null,null,null,null,null,null,null,null,null,null,null,null,null,null,null,null,null,null,null,56,null,null,null,null,{"$f":"T670","v":""},{"$f":"T677","v":""}]
[38,33,28,"E5",35,{"$f":"IF(Main!$Q$2=3,VLOOKUP(E640,Katılım!$A$4:$Z$55,26,0),#REF!)","v":{"$error":"#REF!"}},null,null,null,null,null,null,null,null,null,null,null,null,{"$f":"+S634+1","v":42},null,null,null,null,null,null,null,null,null,null,null,null,null,null,null,null,null,null,null,null,null,null,null,null,null,null,null,null,null,null,null,null,null,null,null,null,null,null,null,57,null,null,null,null,{"$f":"AA590","v":""},{"$f":"AA602","v":""}]
[39,33,12,"E21",51,{"$f":"IF(Main!$Q$2=3,VLOOKUP(E641,Katılım!$A$4:$Z$55,26,0),#REF!)","v":{"$error":"#REF!"}},null,null,null,null,null,null,null,null,{"$f":"BX625","v":0},{"$f":"BY625","v":0},null,null,null,{"$f":"IF(AND(O641=0,P641=0),\"\",IF(O641>P641,M639,M642))","v":""},null,null,null,null,null,null,null,null,null,null,null,null,null,null,null,null,null,null,null,null,null,null,null,null,null,null,null,null,null,null,null,null,null,null,null,null,null,null,58,null,null,null,null,{"$f":"AA614","v":""},{"$f":"AA626","v":""}]
[null,null,null,"",null,null,null,{"$f":"BX603","v":0},{"$f":"BY603","v":0},null,null,20,{"$f":"IF(AND(H642=0,I642=0),\"\",IF(H642>I642,F641,F643))","v":""},null,null,null,null,null,null,null,null,null,null,null,null,null,null,null,null,null,null,null,null,null,null,null,null,null,null,null,null,null,null,null,null,null,null,null,null,null,null,null,null,null,null,null,null,null,59,null,null,null,null,{"$f":"AA638","v":""},{"$f":"AA650","v":""}]
[40,9," ","",14,{"$f":"IF(Main!$Q$2=3,VLOOKUP(E643,Katılım!$A$4:$Z$55,26,0),#REF!)","v":{"$error":"#REF!"}},null,null,null,null,null,null,null,null,null,null,null,null,null,null,null,null,null,null,null,null,null,null,null,null,null,null,null,null,null,null,null,null,null,null,null,null,null,null,null,null,null,null,null,null,null,null,null,null,null,null,null,null,60,null,null,null,null,{"$f":"AA662","v":""},{"$f":"AA674","v":""}]
[41,9,0,"",11,{"$f":"IF(Main!$Q$2=3,VLOOKUP(E644,Katılım!$A$4:$Z$55,26,0),#REF!)","v":{"$error":"#REF!"}}]
[null,null,null,"",null,null,null,{"$f":"BX604","v":0},{"$f":"BY604","v":0},null,null,21,{"$f":"IF(AND(H645=0,I645=0),\"\",IF(H645>I645,F644,F646))","v":""}]
[42,33,16,"E17",54,{"$f":"IF(Main!$Q$2=3,VLOOKUP(E646,Katılım!$A$4:$Z$55,26,0),#REF!)","v":{"$error":"#REF!"}},null,null,null,null,null,null,null,null,null,null,null,null,{"$f":"+S640+1","v":43},{"$f":"IF(AND(O647=0,P647=0),\"\",IF(O647>P647,M645,M648))","v":""}]
[43,33,0,"E1",38,{"$f":"IF(Main!$Q$2=3,VLOOKUP(E647,Katılım!$A$4:$Z$55,26,0),#REF!)","v":{"$error":"#REF!"}},null,null,null,null,null,null,null,null,{"$f":"BX626","v":0},{"$f":"BY626","v":0},null,null,null,null,null,null,null,null,null,{"$f":"+Z635+1","v":54}]
[null,null,null,"",null,null,null,{"$f":"BX605","v":0},{"$f":"BY605","v":0},null,null,22,{"$f":"IF(AND(H648=0,I648=0),\"\",IF(H648>I648,F647,F649))","v":""}]
[44,17,0,"",22,{"$f":"IF(Main!$Q$2=3,VLOOKUP(E649,Katılım!$A$4:$Z$55,26,0),#REF!)","v":{"$error":"#REF!"}}]
[45,17,0,"",27,{"$f":"IF(Main!$Q$2=3,VLOOKUP(E650,Katılım!$A$4:$Z$55,26,0),#REF!)","v":{"$error":"#REF!"}},null,null,null,null,null,null,null,null,null,null,null,null,null,null,null,{"$f":"BX637","v":0},{"$f":"BY637","v":0},null,null,null,{"$f":"IF(AND(V650=0,W650=0),\"\",IF(V650>W650,T646,T653))","v":""}]
[null,null,null,"",null,null,null,{"$f":"BX606","v":0},{"$f":"BY606","v":0},null,null,23,{"$f":"IF(AND(H651=0,I651=0),\"\",IF(H651>I651,F650,F652))","v":""}]
[46,33,24,"E9",43,{"$f":"IF(Main!$Q$2=3,VLOOKUP(E652,Katılım!$A$4:$Z$55,26,0),#REF!)","v":{"$error":"#REF!"}},null,null,null,null,null,null,null,null,null,null,null,null,{"$f":"+S646+1","v":44}]
[47,33,8,"E25",59,{"$f":"IF(Main!$Q$2=3,VLOOKUP(E653,Katılım!$A$4:$Z$55,26,0),#REF!)","v":{"$error":"#REF!"}},null,null,null,null,null,null,null,null,{"$f":"BX627","v":0},{"$f":"BY627","v":0},null,null,null,{"$f":"IF(AND(O653=0,P653=0),\"\",IF(O653>P653,M651,M654))","v":""}]
[null,null,null,"",null,null,null,{"$f":"BX607","v":0},{"$f":"BY607","v":0},null,null,24,{"$f":"IF(AND(H654=0,I654=0),\"\",IF(H654>I654,F653,F655))","v":""}]
[48,5," ","",6,{"$f":"IF(Main!$Q$2=3,VLOOKUP(E655,Katılım!$A$4:$Z$55,26,0),#REF!)","v":{"$error":"#REF!"}}]
[49,5,0,"",7,{"$f":"IF(Main!$Q$2=3,VLOOKUP(E656,Katılım!$A$4:$Z$55,26,0),#REF!)","v":{"$error":"#REF!"}}]
[null,null,null,"",null,null,null,{"$f":"BX608","v":0},{"$f":"BY608","v":0},null,null,25,{"$f":"IF(AND(H657=0,I657=0),\"\",IF(H657>I657,F656,F658))","v":""}]
[50,33,6,"E27",58,{"$f":"IF(Main!$Q$2=3,VLOOKUP(E658,Katılım!$A$4:$Z$55,26,0),#REF!)","v":{"$error":"#REF!"}},null,null,null,null,null,null,null,null,null,null,null,null,{"$f":"+S652+1","v":45},{"$f":"IF(AND(O659=0,P659=0),\"\",IF(O659>P659,M657,M660))","v":""}]
[51,33,22,"E11",42,{"$f":"IF(Main!$Q$2=3,VLOOKUP(E659,Katılım!$A$4:$Z$55,26,0),#REF!)","v":{"$error":"#REF!"}},null,null,null,null,null,null,null,null,{"$f":"BX628","v":0},{"$f":"BY628","v":0},null,null,null,null,null,null,null,null,null,{"$f":"+Z647+1","v":55}]
[null,null,null,"",null,null,null,{"$f":"BX609","v":0},{"$f":"BY609","v":0},null,null,26,{"$f":"IF(AND(H660=0,I660=0),\"\",IF(H660>I660,F659,F661))","v":""}]
[52,17,0,"",26,{"$f":"IF(Main!$Q$2=3,VLOOKUP(E661,Katılım!$A$4:$Z$55,26,0),#REF!)","v":{"$error":"#REF!"}}]
[53,17,0,"",23,{"$f":"IF(Main!$Q$2=3,VLOOKUP(E662,Katılım!$A$4:$Z$55,26,0),#REF!)","v":{"$error":"#REF!"}},null,null,null,null,null,null,null,null,null,null,null,null,null,null,null,{"$f":"BX638","v":0},{"$f":"BY638","v":0},null,null,null,{"$f":"IF(AND(V662=0,W662=0),\"\",IF(V662>W662,T658,T665))","v":""}]
[null,null,null,"",null,null,null,{"$f":"BX610","v":0},{"$f":"BY610","v":0},null,null,27,{"$f":"IF(AND(H663=0,I663=0),\"\",IF(H663>I663,F662,F664))","v":""}]
[54,33,14,"E3",39,{"$f":"IF(Main!$Q$2=3,VLOOKUP(E664,Katılım!$A$4:$Z$55,26,0),#REF!)","v":{"$error":"#REF!"}},null,null,null,null,null,null,null,null,null,null,null,null,{"$f":"+S658+1","v":46}]
[55,33,8,"E19",55,{"$f":"IF(Main!$Q$2=3,VLOOKUP(E665,Katılım!$A$4:$Z$55,26,0),#REF!)","v":{"$error":"#REF!"}},null,null,null,null,null,null,null,null,{"$f":"BX629","v":0},{"$f":"BY629","v":0},null,null,null,{"$f":"IF(AND(O665=0,P665=0),\"\",IF(O665>P665,M663,M666))","v":""}]
[null,null,null,"",null,null,null,{"$f":"BX611","v":0},{"$f":"BY611","v":0},null,null,28,{"$f":"IF(AND(H666=0,I666=0),\"\",IF(H666>I666,F665,F667))","v":""}]
[56,9," ","",10,{"$f":"IF(Main!$Q$2=3,VLOOKUP(E667,Katılım!$A$4:$Z$55,26,0),#REF!)","v":{"$error":"#REF!"}}]
[57,9,0,"",15,{"$f":"IF(Main!$Q$2=3,VLOOKUP(E668,Katılım!$A$4:$Z$55,26,0),#REF!)","v":{"$error":"#REF!"}}]
[null,null,null,"",null,null,null,{"$f":"BX612","v":0},{"$f":"BY612","v":0},null,null,29,{"$f":"IF(AND(H669=0,I669=0),\"\",IF(H669>I669,F668,F670))","v":""}]
[58,33,10,"E23",50,{"$f":"IF(Main!$Q$2=3,VLOOKUP(E670,Katılım!$A$4:$Z$55,26,0),#REF!)","v":{"$error":"#REF!"}},null,null,null,null,null,null,null,null,null,null,null,null,{"$f":"+S664+1","v":47},{"$f":"IF(AND(O671=0,P671=0),\"\",IF(O671>P671,M669,M672))","v":""}]
[59,33,26,"E7",34,{"$f":"IF(Main!$Q$2=3,VLOOKUP(E671,Katılım!$A$4:$Z$55,26,0),#REF!)","v":{"$error":"#REF!"}},null,null,null,null,null,null,null,null,{"$f":"BX630","v":0},{"$f":"BY630","v":0},null,null,null,null,null,null,null,null,null,{"$f":"+Z659+1","v":56}]
[null,null,null,"",null,null,null,{"$f":"BX613","v":0},{"$f":"BY613","v":0},null,null,30,{"$f":"IF(AND(H672=0,I672=0),\"\",IF(H672>I672,F671,F673))","v":""}]
[60,17,0,"",18,{"$f":"IF(Main!$Q$2=3,VLOOKUP(E673,Katılım!$A$4:$Z$55,26,0),#REF!)","v":{"$error":"#REF!"}}]
[61,17,0,"",31,{"$f":"IF(Main!$Q$2=3,VLOOKUP(E674,Katılım!$A$4:$Z$55,26,0),#REF!)","v":{"$error":"#REF!"}},null,null,null,null,null,null,null,null,null,null,null,null,null,null,null,{"$f":"BX639","v":0},{"$f":"BY639","v":0},null,null,null,{"$f":"IF(AND(V674=0,W674=0),\"\",IF(V674>W674,T670,T677))","v":""}]
[null,null,null,"",null,null,null,{"$f":"BX614","v":0},{"$f":"BY614","v":0},null,null,31,{"$f":"IF(AND(H675=0,I675=0),\"\",IF(H675>I675,F674,F676))","v":""}]
[62,33,18,"E15",47,{"$f":"IF(Main!$Q$2=3,VLOOKUP(E676,Katılım!$A$4:$Z$55,26,0),#REF!)","v":{"$error":"#REF!"}},null,null,null,null,null,null,null,null,null,null,null,null,{"$f":"+S670+1","v":48}]
[63,33,2,"E31",63,{"$f":"IF(Main!$Q$2=3,VLOOKUP(E677,Katılım!$A$4:$Z$55,26,0),#REF!)","v":{"$error":"#REF!"}},null,null,null,null,null,null,null,null,{"$f":"BX631","v":0},{"$f":"BY631","v":0},null,null,null,{"$f":"IF(AND(O677=0,P677=0),\"\",IF(O677>P677,M675,M678))","v":""}]
[null,null,null,null,null,null,null,{"$f":"BX615","v":0},{"$f":"BY615","v":0},null,null,32,{"$f":"IF(AND(H678=0,I678=0),\"\",IF(H678>I678,F677,F679))","v":""}]
[64,2," "," ",2,{"$f":"IF(Main!$Q$2=3,VLOOKUP(E679,Katılım!$A$4:$Z$55,26,0),#REF!)","v":{"$error":"#REF!"}}]
[]
[]
[1,1,0,0,1,{"$f":"IF(Main!$Q$2=3,VLOOKUP(E682,Katılım!$A$4:$Z$55,26,0),#REF!)","v":{"$error":"#REF!"}},null,null,null,null,null,null,null,null,null,null,null,null,null,null,null,null,null,null,null,null,null,null,null,null,null,null,null,null,null,null,null,null,null,null,null,null,null,null,null,null,null,null,null,null,null,null,null,null,null,null,null,null,1,null,null,null,null,{"$f":"F682","v":{"$error":"#REF!"}},{"$f":"F684","v":{"$error":"#REF!"}}]
[null,null,null,null,null,null,null,{"$f":"BX682","v":0},{"$f":"BY682","v":0},null,null,1,{"$f":"IF(AND(H683=0,I683=0),\"\",IF(H683>I683,F682,F684))","v":""},null,null,null,null,null,null,null,null,null,null,null,null,null,null,null,null,null,null,null,null,null,null,null,null,null,null,null,null,null,null,null,null,null,null,null,null,null,null,null,null,null,null,null,null,null,2,null,null,null,null,{"$f":"F685","v":{"$error":"#REF!"}},{"$f":"F687","v":{"$error":"#REF!"}}]
[2,17,1,"E16",32,{"$f":"IF(Main!$Q$2=3,VLOOKUP(E684,Katılım!$A$4:$Z$55,26,0),#REF!)","v":{"$error":"#REF!"}},null,null,null,null,null,null,null,null,null,null,null,null,17,{"$f":"IF(AND(O685=0,P685=0),\"\",IF(O685>P685,M683,M686))","v":""},null,null,null,null,null,null,null,null,null,null,null,null,null,null,null,null,null,null,null,null,null,null,null,null,null,null,null,null,null,null,null,null,null,null,null,null,null,null,3,null,null,null,null,{"$f":"F688","v":{"$error":"#REF!"}},{"$f":"F690","v":{"$error":"#REF!"}}]
[3,17,9,"E8",16,{"$f":"IF(Main!$Q$2=3,VLOOKUP(E685,Katılım!$A$4:$Z$55,26,0),#REF!)","v":{"$error":"#REF!"}},null,null,null,null,null,null,null,null,{"$f":"BX698","v":0},{"$f":"BY698","v":0},null,null,null,null,null,null,null,null,null,null,null,null,null,null,null,null,null,null,null,null,null,null,null,null,null,null,null,null,null,null,null,null,null,null,null,null,null,null,null,null,null,null,4,null,null,null,null,{"$f":"F691","v":{"$error":"#REF!"}},{"$f":"F693","v":{"$error":"#REF!"}}]
[null,null,null,"",null,null,null,{"$f":"BX683","v":0},{"$f":"BY683","v":0},null,null,2,{"$f":"IF(AND(H686=0,I686=0),\"\",IF(H686>I686,F685,F687))","v":""},null,null,null,null,null,null,null,null,null,null,null,null,null,null,null,null,null,null,null,null,null,null,null,null,null,null,null,null,null,null,null,null,null,null,null,null,null,null,null,null,null,null,null,null,null,5,null,null,null,null,{"$f":"F694","v":{"$error":"#REF!"}},{"$f":"F696","v":{"$error":"#REF!"}}]
[4,9,0,"",17,{"$f":"IF(Main!$Q$2=3,VLOOKUP(E687,Katılım!$A$4:$Z$55,26,0),#REF!)","v":{"$error":"#REF!"}},null,null,null,null,null,null,null,null,null,null,null,null,null,null,null,null,null,null,null,null,null,null,null,null,null,null,null,null,null,null,null,null,null,null,null,null,null,null,null,null,null,null,null,null,null,null,null,null,null,null,null,null,6,null,null,null,null,{"$f":"F697","v":{"$error":"#REF!"}},{"$f":"F699","v":{"$error":"#REF!"}}]
[5,9,0,"",9,{"$f":"IF(Main!$Q$2=3,VLOOKUP(E688,Katılım!$A$4:$Z$55,26,0),#REF!)","v":{"$error":"#REF!"}},null,null,null,null,null,null,null,null,null,null,null,null,null,null,null,null,null,null,null,null,null,null,null,null,null,null,null,null,null,null,null,null,null,null,null,null,null,null,null,null,null,null,null,null,null,null,null,null,null,null,null,null,7,null,null,null,null,{"$f":"F700","v":{"$error":"#REF!"}},{"$f":"F702","v":{"$error":"#REF!"}}]
[null,null,null,"",null,null,null,{"$f":"BX684","v":0},{"$f":"BY684","v":0},null,null,3,{"$f":"IF(AND(H689=0,I689=0),\"\",IF(H689>I689,F688,F690))","v":""},null,null,null,null,null,null,null,null,null,null,null,null,null,null,null,null,null,null,null,null,null,null,null,null,null,null,null,null,null,null,null,null,null,null,null,null,null,null,null,null,null,null,null,null,null,8,null,null,null,null,{"$f":"F703","v":{"$error":"#REF!"}},{"$f":"F705","v":{"$error":"#REF!"}}]
[6,17,13,"E4",24,{"$f":"IF(Main!$Q$2=3,VLOOKUP(E690,Katılım!$A$4:$Z$55,26,0),#REF!)","v":{"$error":"#REF!"}},null,null,null,null,null,null,null,null,null,null,null,null,{"$f":"+S684+1","v":18},null,null,null,null,null,null,null,null,null,null,null,null,null,null,null,null,null,null,null,null,null,null,null,null,null,null,null,null,null,null,null,null,null,null,null,null,null,null,null,9,null,null,null,null,{"$f":"F706","v":{"$error":"#REF!"}},{"$f":"F708","v":{"$error":"#REF!"}}]
[7,17,5,"E12",25,{"$f":"IF(Main!$Q$2=3,VLOOKUP(E691,Katılım!$A$4:$Z$55,26,0),#REF!)","v":{"$error":"#REF!"}},null,null,null,null,null,null,null,null,{"$f":"BX699","v":0},{"$f":"BY699","v":0},null,null,null,{"$f":"IF(AND(O691=0,P691=0),\"\",IF(O691>P691,M689,M692))","v":""},null,null,null,null,null,null,null,null,null,null,null,null,null,null,null,null,null,null,null,null,null,null,null,null,null,null,null,null,null,null,null,null,null,null,null,null,null,null,10,null,null,null,null,{"$f":"F709","v":{"$error":"#REF!"}},{"$f":"F711","v":{"$error":"#REF!"}}]
[null,null,null,"",null,null,null,{"$f":"BX685","v":0},{"$f":"BY685","v":0},null,null,4,{"$f":"IF(AND(H692=0,I692=0),\"\",IF(H692>I692,F691,F693))","v":""},null,null,null,null,null,null,null,null,null,null,null,null,null,null,null,null,null,null,null,null,null,null,null,null,null,null,null,null,null,null,null,null,null,null,null,null,null,null,null,null,null,null,null,null,null,11,null,null,null,null,{"$f":"F712","v":{"$error":"#REF!"}},{"$f":"F714","v":{"$error":"#REF!"}}]
[8,5,0,"",8,{"$f":"IF(Main!$Q$2=3,VLOOKUP(E693,Katılım!$A$4:$Z$55,26,0),#REF!)","v":{"$error":"#REF!"}},null,null,null,null,null,null,null,null,null,null,null,null,null,null,null,null,null,null,null,null,null,null,null,null,null,null,null,null,null,null,null,null,null,null,null,null,null,null,null,null,null,null,null,null,null,null,null,null,null,null,null,null,12,null,null,null,null,{"$f":"F715","v":{"$error":"#REF!"}},{"$f":"F717","v":{"$error":"#REF!"}}]
[9,5,0,"",5,{"$f":"IF(Main!$Q$2=3,VLOOKUP(E694,Katılım!$A$4:$Z$55,26,0),#REF!)","v":{"$error":"#REF!"}},null,null,null,null,null,null,null,null,null,null,null,null,null,null,null,null,null,null,null,null,null,null,null,null,null,null,null,null,null,null,null,null,null,null,null,null,null,null,null,null,null,null,null,null,null,null,null,null,null,null,null,null,13,null,null,null,null,{"$f":"F718","v":{"$error":"#REF!"}},{"$f":"F720","v":{"$error":"#REF!"}}]
[null,null,null,"",null,null,null,{"$f":"BX686","v":0},{"$f":"BY686","v":0},null,null,5,{"$f":"IF(AND(H695=0,I695=0),\"\",IF(H695>I695,F694,F696))","v":""},null,null,null,null,null,null,null,null,null,null,null,null,null,null,null,null,null,null,null,null,null,null,null,null,null,null,null,null,null,null,null,null,null,null,null,null,null,null,null,null,null,null,null,null,null,14,null,null,null,null,{"$f":"F721","v":{"$error":"#REF!"}},{"$f":"F723","v":{"$error":"#REF!"}}]
[10,17,7,"E10",28,{"$f":"IF(Main!$Q$2=3,VLOOKUP(E696,Katılım!$A$4:$Z$55,26,0),#REF!)","v":{"$error":"#REF!"}},null,null,null,null,null,null,null,null,null,null,null,null,{"$f":"+S690+1","v":19},{"$f":"IF(AND(O697=0,P697=0),\"\",IF(O697>P697,M695,M698))","v":""},null,null,null,null,null,null,null,null,null,null,null,null,null,null,null,null,null,null,null,null,null,null,null,null,null,null,null,null,null,null,null,null,null,null,null,null,null,null,15,null,null,null,null,{"$f":"F724","v":{"$error":"#REF!"}},{"$f":"F726","v":{"$error":"#REF!"}}]
[11,17,15,"E2",20,{"$f":"IF(Main!$Q$2=3,VLOOKUP(E697,Katılım!$A$4:$Z$55,26,0),#REF!)","v":{"$error":"#REF!"}},null,null,null,null,null,null,null,null,{"$f":"BX700","v":0},{"$f":"BY700","v":0},null,null,null,null,null,null,null,null,null,null,null,null,null,null,null,null,null,null,null,null,null,null,null,null,null,null,null,null,null,null,null,null,null,null,null,null,null,null,null,null,null,null,16,null,null,null,null,{"$f":"F727","v":{"$error":"#REF!"}},{"$f":"F729","v":{"$error":"#REF!"}}]
[null,null,null,"",null,null,null,{"$f":"BX687","v":0},{"$f":"BY687","v":0},null,null,6,{"$f":"IF(AND(H698=0,I698=0),\"\",IF(H698>I698,F697,F699))","v":""},null,null,null,null,null,null,null,null,null,null,null,null,null,null,null,null,null,null,null,null,null,null,null,null,null,null,null,null,null,null,null,null,null,null,null,null,null,null,null,null,null,null,null,null,null,17,null,null,null,null,{"$f":"M683","v":""},{"$f":"M686","v":""}]
[12,9,0,"",12,{"$f":"IF(Main!$Q$2=3,VLOOKUP(E699,Katılım!$A$4:$Z$55,26,0),#REF!)","v":{"$error":"#REF!"}},null,null,null,null,null,null,null,null,null,null,null,null,null,null,null,null,null,null,null,null,null,null,null,null,null,null,null,null,null,null,null,null,null,null,null,null,null,null,null,null,null,null,null,null,null,null,null,null,null,null,null,null,18,null,null,null,null,{"$f":"M689","v":""},{"$f":"M692","v":""}]
[13,9,0,"",13,{"$f":"IF(Main!$Q$2=3,VLOOKUP(E700,Katılım!$A$4:$Z$55,26,0),#REF!)","v":{"$error":"#REF!"}},null,null,null,null,null,null,null,null,null,null,null,null,null,null,null,null,null,null,null,null,null,null,null,null,null,null,null,null,null,null,null,null,null,null,null,null,null,null,null,null,null,null,null,null,null,null,null,null,null,null,null,null,19,null,null,null,null,{"$f":"M695","v":""},{"$f":"M698","v":""}]
[null,null,null,"",null,null,null,{"$f":"BX688","v":0},{"$f":"BY688","v":0},null,null,7,{"$f":"IF(AND(H701=0,I701=0),\"\",IF(H701>I701,F700,F702))","v":""},null,null,null,null,null,null,null,null,null,null,null,null,null,null,null,null,null,null,null,null,null,null,null,null,null,null,null,null,null,null,null,null,null,null,null,null,null,null,null,null,null,null,null,null,null,20,null,null,null,null,{"$f":"M701","v":""},{"$f":"M704","v":""}]
[14,17,11,"E6",21,{"$f":"IF(Main!$Q$2=3,VLOOKUP(E702,Katılım!$A$4:$Z$55,26,0),#REF!)","v":{"$error":"#REF!"}},null,null,null,null,null,null,null,null,null,null,null,null,{"$f":"+S696+1","v":20},null,null,null,null,null,null,null,null,null,null,null,null,null,null,null,null,null,null,null,null,null,null,null,null,null,null,null,null,null,null,null,null,null,null,null,null,null,null,null,21,null,null,null,null,{"$f":"M707","v":""},{"$f":"M710","v":""}]
[15,17,3,"E14",29,{"$f":"IF(Main!$Q$2=3,VLOOKUP(E703,Katılım!$A$4:$Z$55,26,0),#REF!)","v":{"$error":"#REF!"}},null,null,null,null,null,null,null,null,{"$f":"BX701","v":0},{"$f":"BY701","v":0},null,null,null,{"$f":"IF(AND(O703=0,P703=0),\"\",IF(O703>P703,M701,M704))","v":""},null,null,null,null,null,null,null,null,null,null,null,null,null,null,null,null,null,null,null,null,null,null,null,null,null,null,null,null,null,null,null,null,null,null,null,null,null,null,22,null,null,null,null,{"$f":"M713","v":""},{"$f":"M716","v":""}]
[null,null,null,"",null,null,null,{"$f":"BX689","v":0},{"$f":"BY689","v":0},null,null,8,{"$f":"IF(AND(H704=0,I704=0),\"\",IF(H704>I704,F703,F705))","v":""},null,null,null,null,null,null,null,null,null,null,null,null,null,null,null,null,null,null,null,null,null,null,null,null,null,null,null,null,null,null,null,null,null,null,null,null,null,null,null,null,null,null,null,null,null,23,null,null,null,null,{"$f":"M719","v":""},{"$f":"M722","v":""}]
[16,3,0,"",4,{"$f":"IF(Main!$Q$2=3,VLOOKUP(E705,Katılım!$A$4:$Z$55,26,0),#REF!)","v":{"$error":"#REF!"}},null,null,null,null,null,null,null,null,null,null,null,null,null,null,null,null,null,null,null,null,null,null,null,null,null,null,null,null,null,null,null,null,null,null,null,null,null,null,null,null,null,null,null,null,null,null,null,null,null,null,null,null,24,null,null,null,null,{"$f":"M725","v":""},{"$f":"M728","v":""}]
[17,3,0,"",3,{"$f":"IF(Main!$Q$2=3,VLOOKUP(E706,Katılım!$A$4:$Z$55,26,0),#REF!)","v":{"$error":"#REF!"}},null,null,null,null,null,null,null,null,null,null,null,null,null,null,null,null,null,null,null,null,null,null,null,null,null,null,null,null,null,null,null,null,null,null,null,null,null,null,null,null,null,null,null,null,null,null,null,null,null,null,null,null,25,null,null,null,null,{"$f":"T684","v":""},{"$f":"T691","v":""}]
[null,null,null,"",null,null,null,{"$f":"BX690","v":0},{"$f":"BY690","v":0},null,null,9,{"$f":"IF(AND(H707=0,I707=0),\"\",IF(H707>I707,F706,F708))","v":""},null,null,null,null,null,null,null,null,null,null,null,null,null,null,null,null,null,null,null,null,null,null,null,null,null,null,null,null,null,null,null,null,null,null,null,null,null,null,null,null,null,null,null,null,null,26,null,null,null,null,{"$f":"T696","v":""},{"$f":"T703","v":""}]
[18,17,4,"E13",30,{"$f":"IF(Main!$Q$2=3,VLOOKUP(E708,Katılım!$A$4:$Z$55,26,0),#REF!)","v":{"$error":"#REF!"}},null,null,null,null,null,null,null,null,null,null,null,null,{"$f":"+S702+1","v":21},{"$f":"IF(AND(O709=0,P709=0),\"\",IF(O709>P709,M707,M710))","v":""},null,null,null,null,null,null,null,null,null,null,null,null,null,null,null,null,null,null,null,null,null,null,null,null,null,null,null,null,null,null,null,null,null,null,null,null,null,null,27,null,null,null,null,{"$f":"T708","v":""},{"$f":"T715","v":""}]
[19,17,12,"E5",22,{"$f":"IF(Main!$Q$2=3,VLOOKUP(E709,Katılım!$A$4:$Z$55,26,0),#REF!)","v":{"$error":"#REF!"}},null,null,null,null,null,null,null,null,{"$f":"BX702","v":0},{"$f":"BY702","v":0},null,null,null,null,null,null,null,null,null,null,null,null,null,null,null,null,null,null,null,null,null,null,null,null,null,null,null,null,null,null,null,null,null,null,null,null,null,null,null,null,null,null,28,null,null,null,null,{"$f":"T720","v":""},{"$f":"T727","v":""}]
[null,null,null,"",null,null,null,{"$f":"BX691","v":0},{"$f":"BY691","v":0},null,null,10,{"$f":"IF(AND(H710=0,I710=0),\"\",IF(H710>I710,F709,F711))","v":""}]
[20,9,0,"",11,{"$f":"IF(Main!$Q$2=3,VLOOKUP(E711,Katılım!$A$4:$Z$55,26,0),#REF!)","v":{"$error":"#REF!"}}]
[21,9,0,"",14,{"$f":"IF(Main!$Q$2=3,VLOOKUP(E712,Katılım!$A$4:$Z$55,26,0),#REF!)","v":{"$error":"#REF!"}}]
[null,null,null,"",null,null,null,{"$f":"BX692","v":0},{"$f":"BY692","v":0},null,null,11,{"$f":"IF(AND(H713=0,I713=0),\"\",IF(H713>I713,F712,F714))","v":""}]
[22,17,0,"E1",19,{"$f":"IF(Main!$Q$2=3,VLOOKUP(E714,Katılım!$A$4:$Z$55,26,0),#REF!)","v":{"$error":"#REF!"}},null,null,null,null,null,null,null,null,null,null,null,null,{"$f":"+S708+1","v":22}]
[23,17,8,"E9",27,{"$f":"IF(Main!$Q$2=3,VLOOKUP(E715,Katılım!$A$4:$Z$55,26,0),#REF!)","v":{"$error":"#REF!"}},null,null,null,null,null,null,null,null,{"$f":"BX703","v":0},{"$f":"BY703","v":0},null,null,null,{"$f":"IF(AND(O715=0,P715=0),\"\",IF(O715>P715,M713,M716))","v":""}]
[null,null,null,"",null,null,null,{"$f":"BX693","v":0},{"$f":"BY693","v":0},null,null,12,{"$f":"IF(AND(H716=0,I716=0),\"\",IF(H716>I716,F715,F717))","v":""}]
[24,5,0,"",6,{"$f":"IF(Main!$Q$2=3,VLOOKUP(E717,Katılım!$A$4:$Z$55,26,0),#REF!)","v":{"$error":"#REF!"}}]
[25,5,0,"",7,{"$f":"IF(Main!$Q$2=3,VLOOKUP(E718,Katılım!$A$4:$Z$55,26,0),#REF!)","v":{"$error":"#REF!"}}]
[null,null,null,"",null,null,null,{"$f":"BX694","v":0},{"$f":"BY694","v":0},null,null,13,{"$f":"IF(AND(H719=0,I719=0),\"\",IF(H719>I719,F718,F720))","v":""}]
[26,17,6,"E11",26,{"$f":"IF(Main!$Q$2=3,VLOOKUP(E720,Katılım!$A$4:$Z$55,26,0),#REF!)","v":{"$error":"#REF!"}},null,null,null,null,null,null,null,null,null,null,null,null,{"$f":"+S714+1","v":23},{"$f":"IF(AND(O721=0,P721=0),\"\",IF(O721>P721,M719,M722))","v":""}]
[27,17,14,"E3",18,{"$f":"IF(Main!$Q$2=3,VLOOKUP(E721,Katılım!$A$4:$Z$55,26,0),#REF!)","v":{"$error":"#REF!"}},null,null,null,null,null,null,null,null,{"$f":"BX704","v":0},{"$f":"BY704","v":0}]
[null,null,null,"",null,null,null,{"$f":"BX695","v":0},{"$f":"BY695","v":0},null,null,14,{"$f":"IF(AND(H722=0,I722=0),\"\",IF(H722>I722,F721,F723))","v":""}]
[28,9,0,"",10,{"$f":"IF(Main!$Q$2=3,VLOOKUP(E723,Katılım!$A$4:$Z$55,26,0),#REF!)","v":{"$error":"#REF!"}}]
[29,9,0,"",15,{"$f":"IF(Main!$Q$2=3,VLOOKUP(E724,Katılım!$A$4:$Z$55,26,0),#REF!)","v":{"$error":"#REF!"}}]
[null,null,null,"",null,null,null,{"$f":"BX696","v":0},{"$f":"BY696","v":0},null,null,15,{"$f":"IF(AND(H725=0,I725=0),\"\",IF(H725>I725,F724,F726))","v":""}]
[30,17,10,"E7",23,{"$f":"IF(Main!$Q$2=3,VLOOKUP(E726,Katılım!$A$4:$Z$55,26,0),#REF!)","v":{"$error":"#REF!"}},null,null,null,null,null,null,null,null,null,null,null,null,{"$f":"+S720+1","v":24}]
[31,17,2,"E15",31,{"$f":"IF(Main!$Q$2=3,VLOOKUP(E727,Katılım!$A$4:$Z$55,26,0),#REF!)","v":{"$error":"#REF!"}},null,null,null,null,null,null,null,null,{"$f":"BX705","v":0},{"$f":"BY705","v":0},null,null,null,{"$f":"IF(AND(O727=0,P727=0),\"\",IF(O727>P727,M725,M728))","v":""}]
[null,null,null,null,null,null,null,{"$f":"BX697","v":0},{"$f":"BY697","v":0},null,null,16,{"$f":"IF(AND(H728=0,I728=0),\"\",IF(H728>I728,F727,F729))","v":""}]
[32,2,0,0,2,{"$f":"IF(Main!$Q$2=3,VLOOKUP(E729,Katılım!$A$4:$Z$55,26,0),#REF!)","v":{"$error":"#REF!"}}]
[]
[]
[1,1,0,0,1,{"$f":"IF(Main!$Q$2=3,VLOOKUP(E732,Katılım!$A$4:$Z$55,26,0),#REF!)","v":{"$error":"#REF!"}},null,null,null,null,null,null,null,null,null,null,null,null,null,null,null,null,null,null,null,null,null,null,null,null,null,null,null,null,null,null,null,null,null,null,null,null,null,null,null,null,null,null,null,null,null,null,null,null,null,null,null,null,1,null,null,null,null,{"$f":"F732","v":{"$error":"#REF!"}},{"$f":"F734","v":{"$error":"#REF!"}}]
[null,null,null,null,null,null,null,{"$f":"BX732","v":0},{"$f":"BY732","v":0},null,null,1,{"$f":"IF(AND(H733=0,I733=0),\"\",IF(H733>I733,F732,F734))","v":""},null,null,null,null,null,null,null,null,null,null,null,null,null,null,null,null,null,null,null,null,null,null,null,null,null,null,null,null,null,null,null,null,null,null,null,null,null,null,null,null,null,null,null,null,null,2,null,null,null,null,{"$f":"F735","v":{"$error":"#REF!"}},{"$f":"F737","v":{"$error":"#REF!"}}]
[2,9,1,"E8",16,{"$f":"IF(Main!$Q$2=3,VLOOKUP(E734,Katılım!$A$4:$Z$55,26,0),#REF!)","v":{"$error":"#REF!"}},null,null,null,null,null,null,null,null,null,null,null,null,null,null,null,null,null,null,null,null,null,null,null,null,null,null,null,null,null,null,null,null,null,null,null,null,null,null,null,null,null,null,null,null,null,null,null,null,null,null,null,null,3,null,null,null,null,{"$f":"F738","v":{"$error":"#REF!"}},{"$f":"F740","v":{"$error":"#REF!"}}]
[3,9,5,"E4",12,{"$f":"IF(Main!$Q$2=3,VLOOKUP(E735,Katılım!$A$4:$Z$55,26,0),#REF!)","v":{"$error":"#REF!"}},null,null,null,null,null,null,null,null,null,null,null,null,null,null,null,null,null,null,null,null,null,null,null,null,null,null,null,null,null,null,null,null,null,null,null,null,null,null,null,null,null,null,null,null,null,null,null,null,null,null,null,null,4,null,null,null,null,{"$f":"F741","v":{"$error":"#REF!"}},{"$f":"F743","v":{"$error":"#REF!"}}]
[null,null,null,"",null,null,null,{"$f":"BX733","v":0},{"$f":"BY733","v":0},null,null,2,{"$f":"IF(AND(H736=0,I736=0),\"\",IF(H736>I736,F735,F737))","v":""},null,null,null,null,null,null,null,null,null,null,null,null,null,null,null,null,null,null,null,null,null,null,null,null,null,null,null,null,null,null,null,null,null,null,null,null,null,null,null,null,null,null,null,null,null,5,null,null,null,null,{"$f":"F744","v":{"$error":"#REF!"}},{"$f":"F746","v":{"$error":"#REF!"}}]
[4,5,0,"",8,{"$f":"IF(Main!$Q$2=3,VLOOKUP(E737,Katılım!$A$4:$Z$55,26,0),#REF!)","v":{"$error":"#REF!"}},null,null,null,null,null,null,null,null,null,null,null,null,null,null,null,null,null,null,null,null,null,null,null,null,null,null,null,null,null,null,null,null,null,null,null,null,null,null,null,null,null,null,null,null,null,null,null,null,null,null,null,null,6,null,null,null,null,{"$f":"F747","v":{"$error":"#REF!"}},{"$f":"F749","v":{"$error":"#REF!"}}]
[5,5,0,"",6,{"$f":"IF(Main!$Q$2=3,VLOOKUP(E738,Katılım!$A$4:$Z$55,26,0),#REF!)","v":{"$error":"#REF!"}},null,null,null,null,null,null,null,null,null,null,null,null,null,null,null,null,null,null,null,null,null,null,null,null,null,null,null,null,null,null,null,null,null,null,null,null,null,null,null,null,null,null,null,null,null,null,null,null,null,null,null,null,7,null,null,null,null,{"$f":"F750","v":{"$error":"#REF!"}},{"$f":"F752","v":{"$error":"#REF!"}}]
[null,null,null,"",null,null,null,{"$f":"BX734","v":0},{"$f":"BY734","v":0},null,null,3,{"$f":"IF(AND(H739=0,I739=0),\"\",IF(H739>I739,F738,F740))","v":""},null,null,null,null,null,null,null,null,null,null,null,null,null,null,null,null,null,null,null,null,null,null,null,null,null,null,null,null,null,null,null,null,null,null,null,null,null,null,null,null,null,null,null,null,null,8,null,null,null,null,{"$f":"F753","v":{"$error":"#REF!"}},{"$f":"F755","v":{"$error":"#REF!"}}]
[6,9,7,"E2",10,{"$f":"IF(Main!$Q$2=3,VLOOKUP(E740,Katılım!$A$4:$Z$55,26,0),#REF!)","v":{"$error":"#REF!"}},null,null,null,null,null,null,null,null,null,null,null,null,null,null,null,null,null,null,null,null,null,null,null,null,null,null,null,null,null,null,null,null,null,null,null,null,null,null,null,null,null,null,null,null,null,null,null,null,null,null,null,null,9,null,null,null,null,{"$f":"M733","v":""},{"$f":"M736","v":""}]
[7,9,3,"E6",14,{"$f":"IF(Main!$Q$2=3,VLOOKUP(E741,Katılım!$A$4:$Z$55,26,0),#REF!)","v":{"$error":"#REF!"}},null,null,null,null,null,null,null,null,null,null,null,null,null,null,null,null,null,null,null,null,null,null,null,null,null,null,null,null,null,null,null,null,null,null,null,null,null,null,null,null,null,null,null,null,null,null,null,null,null,null,null,null,10,null,null,null,null,{"$f":"M739","v":""},{"$f":"M742","v":""}]
[null,null,null,"",null,null,null,{"$f":"BX735","v":0},{"$f":"BY735","v":0},null,null,4,{"$f":"IF(AND(H742=0,I742=0),\"\",IF(H742>I742,F741,F743))","v":""},null,null,null,null,null,null,null,null,null,null,null,null,null,null,null,null,null,null,null,null,null,null,null,null,null,null,null,null,null,null,null,null,null,null,null,null,null,null,null,null,null,null,null,null,null,11,null,null,null,null,{"$f":"M745","v":""},{"$f":"M748","v":""}]
[8,3,0,"",4,{"$f":"IF(Main!$Q$2=3,VLOOKUP(E743,Katılım!$A$4:$Z$55,26,0),#REF!)","v":{"$error":"#REF!"}},null,null,null,null,null,null,null,null,null,null,null,null,null,null,null,null,null,null,null,null,null,null,null,null,null,null,null,null,null,null,null,null,null,null,null,null,null,null,null,null,null,null,null,null,null,null,null,null,null,null,null,null,12,null,null,null,null,{"$f":"M751","v":""},{"$f":"M754","v":""}]
[9,3,0,"",3,{"$f":"IF(Main!$Q$2=3,VLOOKUP(E744,Katılım!$A$4:$Z$55,26,0),#REF!)","v":{"$error":"#REF!"}}]
[null,null,null,"",null,null,null,{"$f":"BX736","v":0},{"$f":"BY736","v":0},null,null,5,{"$f":"IF(AND(H745=0,I745=0),\"\",IF(H745>I745,F744,F746))","v":""}]
[10,9,4,"E5",13,{"$f":"IF(Main!$Q$2=3,VLOOKUP(E746,Katılım!$A$4:$Z$55,26,0),#REF!)","v":{"$error":"#REF!"}}]
[11,9,0,"E1",9,{"$f":"IF(Main!$Q$2=3,VLOOKUP(E747,Katılım!$A$4:$Z$55,26,0),#REF!)","v":{"$error":"#REF!"}}]
[null,null,null,"",null,null,null,{"$f":"BX737","v":0},{"$f":"BY737","v":0},null,null,6,{"$f":"IF(AND(H748=0,I748=0),\"\",IF(H748>I748,F747,F749))","v":""}]
[12,5,0,"",5,{"$f":"IF(Main!$Q$2=3,VLOOKUP(E749,Katılım!$A$4:$Z$55,26,0),#REF!)","v":{"$error":"#REF!"}}]
[13,5,0,"",7,{"$f":"IF(Main!$Q$2=3,VLOOKUP(E750,Katılım!$A$4:$Z$55,26,0),#REF!)","v":{"$error":"#REF!"}}]
[null,null,null,"",null,null,null,{"$f":"BX738","v":0},{"$f":"BY738","v":0},null,null,7,{"$f":"IF(AND(H751=0,I751=0),\"\",IF(H751>I751,F750,F752))","v":""}]
[14,9,6,"E3",11,{"$f":"IF(Main!$Q$2=3,VLOOKUP(E752,Katılım!$A$4:$Z$55,26,0),#REF!)","v":{"$error":"#REF!"}}]
[15,9,2,"E7",15,{"$f":"IF(Main!$Q$2=3,VLOOKUP(E753,Katılım!$A$4:$Z$55,26,0),#REF!)","v":{"$error":"#REF!"}}]
[null,null,null,null,null,null,null,{"$f":"BX739","v":0},{"$f":"BY739","v":0},null,null,8,{"$f":"IF(AND(H754=0,I754=0),\"\",IF(H754>I754,F753,F755))","v":""}]
[16,2,0,0,2,{"$f":"IF(Main!$Q$2=3,VLOOKUP(E755,Katılım!$A$4:$Z$55,26,0),#REF!)","v":{"$error":"#REF!"}}]
[]
[]
[1,1,0,0,1,{"$f":"IF(Main!$Q$2=3,VLOOKUP(E758,Katılım!$A$4:$Z$55,26,0),#REF!)","v":{"$error":"#REF!"}},null,null,null,null,null,null,null,null,null,null,null,null,null,null,null,null,null,null,null,null,null,null,null,null,null,null,null,null,null,null,null,null,null,null,null,null,null,null,null,null,null,null,null,null,null,null,null,null,null,null,null,null,1,null,null,null,null,{"$f":"F758","v":{"$error":"#REF!"}},{"$f":"F760","v":{"$error":"#REF!"}}]
[null,null,null,null,null,null,null,{"$f":"BX758","v":0},{"$f":"BY758","v":0},null,null,1,{"$f":"IF(AND(H759=0,I759=0),\"\",IF(H759>I759,F758,F760))","v":""},null,null,null,null,null,null,null,null,null,null,null,null,null,null,null,null,null,null,null,null,null,null,null,null,null,null,null,null,null,null,null,null,null,null,null,null,null,null,null,null,null,null,null,null,null,2,null,null,null,null,{"$f":"F761","v":{"$error":"#REF!"}},{"$f":"F763","v":{"$error":"#REF!"}}]
[2,9,1,"E8",16,{"$f":"IF(Main!$Q$2=3,VLOOKUP(E760,Katılım!$A$4:$Z$55,26,0),#REF!)","v":{"$error":"#REF!"}},null,null,null,null,null,null,null,null,null,null,null,null,null,null,null,null,null,null,null,null,null,null,null,null,null,null,null,null,null,null,null,null,null,null,null,null,null,null,null,null,null,null,null,null,null,null,null,null,null,null,null,null,3,null,null,null,null,{"$f":"F764","v":{"$error":"#REF!"}},{"$f":"F766","v":{"$error":"#REF!"}}]
[3,9,5,"E4",12,{"$f":"IF(Main!$Q$2=3,VLOOKUP(E761,Katılım!$A$4:$Z$55,26,0),#REF!)","v":{"$error":"#REF!"}},null,null,null,null,null,null,null,null,null,null,null,null,null,null,null,null,null,null,null,null,null,null,null,null,null,null,null,null,null,null,null,null,null,null,null,null,null,null,null,null,null,null,null,null,null,null,null,null,null,null,null,null,4,null,null,null,null,{"$f":"F767","v":{"$error":"#REF!"}},{"$f":"F769","v":{"$error":"#REF!"}}]
[null,null,null,"",null,null,null,{"$f":"BX759","v":0},{"$f":"BY759","v":0},null,null,2,{"$f":"IF(AND(H762=0,I762=0),\"\",IF(H762>I762,F761,F763))","v":""},null,null,null,null,null,null,null,null,null,null,null,null,null,null,null,null,null,null,null,null,null,null,null,null,null,null,null,null,null,null,null,null,null,null,null,null,null,null,null,null,null,null,null,null,null,5,null,null,null,null,{"$f":"M759","v":""},{"$f":"M762","v":""}]
[4,5,0,"",8,{"$f":"IF(Main!$Q$2=3,VLOOKUP(E763,Katılım!$A$4:$Z$55,26,0),#REF!)","v":{"$error":"#REF!"}},null,null,null,null,null,null,null,null,null,null,null,null,null,null,null,null,null,null,null,null,null,null,null,null,null,null,null,null,null,null,null,null,null,null,null,null,null,null,null,null,null,null,null,null,null,null,null,null,null,null,null,null,6,null,null,null,null,{"$f":"M765","v":""},{"$f":"M768","v":""}]
[5,5,0,"",6,{"$f":"IF(Main!$Q$2=3,VLOOKUP(E764,Katılım!$A$4:$Z$55,26,0),#REF!)","v":{"$error":"#REF!"}}]
[null,null,null,"",null,null,null,{"$f":"BX760","v":0},{"$f":"BY760","v":0},null,null,3,{"$f":"IF(AND(H765=0,I765=0),\"\",IF(H765>I765,F764,F766))","v":""}]
[6,9,7,"E2",10,{"$f":"IF(Main!$Q$2=3,VLOOKUP(E766,Katılım!$A$4:$Z$55,26,0),#REF!)","v":{"$error":"#REF!"}}]
[7,9,3,"E6",14,{"$f":"IF(Main!$Q$2=3,VLOOKUP(E767,Katılım!$A$4:$Z$55,26,0),#REF!)","v":{"$error":"#REF!"}}]
[null,null,null,"",null,null,null,{"$f":"BX761","v":0},{"$f":"BY761","v":0},null,null,4,{"$f":"IF(AND(H768=0,I768=0),\"\",IF(H768>I768,F767,F769))","v":""}]
[8,3,0,"",4,{"$f":"IF(Main!$Q$2=3,VLOOKUP(E769,Katılım!$A$4:$Z$55,26,0),#REF!)","v":{"$error":"#REF!"}}]

{"sheet":"32DE","index":6,"n_rows":98,"n_cols":105,"rows_kept":98,"cut":false,"hidden":true,"merged":[[4,88,4,89],[4,90,4,91],[4,92,4,93],[4,94,4,95],[4,96,4,97],[4,98,4,99],[94,36,94,42],[95,43,95,49],[96,36,96,42],[87,50,87,56],[89,50,89,56],[83,50,83,56],[85,50,85,56],[60,57,60,63],[54,64,54,70],[48,57,48,63],[38,71,38,77],[37,50,37,56],[12,50,12,56],[97,43,97,49],[3,24,4,45],[90,29,90,35],[91,29,91,35],[91,43,91,49],[92,36,92,42],[93,29,93,35],[93,43,93,49],[86,43,86,49],[48,29,48,35],[48,43,48,49],[88,29,88,35],[88,43,88,49],[89,36,89,42],[82,36,82,42],[83,36,83,42],[84,43,84,49],[85,36,85,42],[79,15,79,21],[79,43,79,49],[80,8,80,14],[80,36,80,42],[80,50,80,56],[81,43,81,49],[76,8,76,14],[76,29,76,35],[76,57,76,63],[77,15,77,21],[77,43,77,49],[78,8,78,14],[78,22,78,28],[78,50,78,56],[74,8,74,14],[74,22,74,28],[74,36,74,42],[74,57,74,63],[75,15,75,21],[75,50,75,56],[70,57,70,63],[71,15,71,21],[71,43,71,49],[72,8,72,14],[72,29,72,35],[73,15,73,21],[73,50,73,56],[67,15,67,21],[68,8,68,14],[68,29,68,35],[68,50,68,56],[69,15,69,21],[70,8,70,14],[70,22,70,28],[64,8,64,14],[64,29,64,35],[64,43,64,49],[65,15,65,21],[66,8,66,14],[66,22,66,28],[66,36,66,42],[61,15,61,21],[62,8,62,14],[62,22,62,28],[62,64,62,70],[63,15,63,21],[58,8,58,14],[58,22,58,28],[58,36,58,42],[59,15,59,21],[60,8,60,14],[60,29,60,35],[55,15,55,21],[56,8,56,14],[56,29,56,35],[56,71,56,77],[57,15,57,21],[51,15,51,21],[51,50,51,56],[52,8,52,14],[52,29,52,35],[53,15,53,21],[54,8,54,14],[54,22,54,28],[54,43,54,49],[49,15,49,21],[50,8,50,14],[50,22,50,28],[50,36,50,42],[43,8,43,14],[44,1,44,7],[44,15,44,21],[45,1,45,7],[46,8,46,14],[47,1,47,7],[39,1,39,7],[39,15,39,21],[40,8,40,14],[41,1,41,7],[42,1,42,7],[42,29,42,35],[34,8,34,14],[35,1,35,7],[36,1,36,7],[37,8,37,14],[38,1,38,7],[30,1,30,7],[31,8,31,14],[31,29,31,35],[32,1,32,7],[32,15,32,21],[33,1,33,7],[25,8,25,14],[26,1,26,7],[27,1,27,7],[27,15,27,21],[28,8,28,14],[29,1,29,7],[21,1,21,7],[22,8,22,14],[23,1,23,7],[24,1,24,7],[24,64,24,70],[17,1,17,7],[17,29,17,35],[18,1,18,7],[18,22,18,28],[19,8,19,14],[20,1,20,7],[20,15,20,21],[13,8,13,14],[14,1,14,7],[15,1,15,7],[15,15,15,21],[16,8,16,14],[8,1,8,7],[8,15,8,21],[9,1,9,7],[10,8,10,14],[11,1,11,7],[12,1,12,7],[4,8,4,14],[5,1,5,7],[6,1,6,7],[6,29,6,35],[7,8,7,14],[0,1,0,7],[1,8,1,14],[2,1,2,7],[3,1,3,7],[3,15,3,21],[0,24,2,45]]}
[1,{"$f":"IF(Main!R2=2,Eleme!BL228,IF(Main!R2=3,Eleme!BL486,IF(Main!R2=4,Eleme!BL616,IF(Main!R2=5,Eleme!BL682))))","v":false},null,null,null,null,null,null,null,null,null,null,null,null,null,null,null,null,null,null,null,null,null,null,{"$f":"+Katılım!A1","v":"TÜRKİYE MASA TENİSİ FEDERASYONU                                                                                                                                                                                                     İsmail Eren ALICI Küçükler Ferdi-Takım Türkiye Şampiyonası  "},null,null,null,null,null,null,null,null,null,null,null,null,null,null,null,null,null,null,null,null,null,null,null,null,null,null,null,null,null,null,null,null,null,null,null,null,null,null,null,null,null,null,null,null,null,null,null,null,null,null,null,null,null,null,null,null,null,null,null,null,null,null,null,null,null,null,null,null,null,null,null,null,null,null,null,null,null,null,"1st Round",1]
[null,null,null,{"$f":"CU6","v":0},{"$f":"CV6","v":0},"Y1",null,1,{"$f":"IF(AND(D2=0,E2=0),\"\",IF(D2>E2,B1,B3))","v":""},null,null,null,null,null,null,null,null,null,null,null,null,null,null,null,null,null,null,null,null,null,null,null,null,null,null,null,null,null,null,null,null,null,null,null,null,null,null,null,null,null,null,null,null,null,null,null,null,null,null,null,null,null,null,null,null,null,null,null,null,null,null,null,null,null,null,null,null,null,null,null,null,null,null,null,null,null,null,null,null,null,null,null,null,null,null,null,null,null,null,null,null,null,null,"2sn Round"]
[2,{"$f":"IF(Main!R2=2,Eleme!BM228,IF(Main!R2=3,Eleme!BM486,IF(Main!R2=4,Eleme!BM616,IF(Main!R2=5,Eleme!BM682))))","v":false},null,null,null,null,null,null,null,null,null,null,null,null,17,null,null,null,null,null,null,null,null,null,null,null,null,null,null,null,null,null,null,null,null,null,null,null,null,null,null,null,null,null,null,null,null,null,null,null,null,null,null,null,null,null,null,null,null,null,null,null,null,null,null,null,null,null,null,null,null,null,null,null,null,null,null,null,null,null,null,null,null,null,null,null,null,null,null,null,null,null,null,null,null,null,null,null,null,null,null,null,null,"3th Round"]
[3,{"$f":"IF(Main!R2=2,Eleme!BL229,IF(Main!R2=3,Eleme!BL487,IF(Main!R2=4,Eleme!BL617,IF(Main!R2=5,Eleme!BL683))))","v":false},null,null,null,null,null,null,null,null,{"$f":"CU22","v":0},{"$f":"CV22","v":0},"Y17",null,null,{"$f":"IF(AND(K4=0,L4=0),\"\",IF(K4>L4,I2,I5))","v":""},null,null,null,null,null,null,null,null,{"$f":"Katılım!AC2&\" \"&Katılım!AE3","v":"KIZ TAKIM  [09-13 Nisan 2025 ÇORUM] [ Ana Tablo ]"},null,null,null,null,null,null,null,null,null,null,null,null,null,null,null,null,null,null,null,null,null,null,null,null,null,null,null,null,null,null,null,null,null,null,null,null,null,null,null,null,null,null,null,null,null,null,null,null,null,null,null,null,null,null,null,null,null,null,null,null,null,null,null,null,null,null,null,null,null,null,null,null,null,null,null,null,null,null,"4th Round"]
[null,null,null,{"$f":"CU7","v":0},{"$f":"CV7","v":0},"Y2",null,2,{"$f":"IF(AND(D5=0,E5=0),\"\",IF(D5>E5,B4,B6))","v":""},null,null,null,null,null,null,null,null,null,null,null,null,33,null,null,null,null,null,null,null,null,null,null,null,null,null,null,null,null,null,null,null,null,null,null,null,null,null,null,null,null,null,null,null,null,null,null,null,null,null,null,null,null,null,null,null,null,null,null,null,null,null,null,null,null,null,null,null,null,null,null,null,"#","Date","Time","Table","Competition","Player A","Player B","Set1",null,"Set2",null,"Set3",null,"Set4",null,"Set5",null,"Result",null,null,null,null,"5th Round"]
[4,{"$f":"IF(Main!R2=2,Eleme!BM229,IF(Main!R2=3,Eleme!BM487,IF(Main!R2=4,Eleme!BM617,IF(Main!R2=5,Eleme!BM683))))","v":false},null,null,null,null,null,null,null,null,null,null,null,null,null,null,null,null,null,null,null,null,null,null,null,null,null,null,null,null,null,null,null,null,null,null,null,null,null,null,null,null,null,null,null,null,null,null,null,null,null,null,null,null,null,null,null,null,null,null,null,null,null,null,null,null,null,null,null,null,null,null,null,null,null,null,null,null,null,null,null,1,null,null,null,null,{"$f":"B1","v":false},{"$f":"B3","v":false},null,null,null,null,null,null,null,null,null,null,null,null,null,null,null,"6th Round"]
[5,{"$f":"IF(Main!R2=2,Eleme!BL230,IF(Main!R2=3,Eleme!BL488,IF(Main!R2=4,Eleme!BL618,IF(Main!R2=5,Eleme!BL684))))","v":false},null,null,null,null,null,null,null,null,null,null,null,null,null,null,null,{"$f":"CU38","v":0},{"$f":"CV38","v":0},"Y25",null,null,null,null,null,null,null,null,null,{"$f":"IF(AND(R7=0,S7=0),\"\",IF(R7>S7,P4,P9))","v":""},null,null,null,null,null,null,null,null,null,null,null,null,null,null,null,null,null,null,null,null,null,null,null,null,null,null,null,null,null,null,null,null,null,null,null,null,null,null,null,null,null,null,null,null,null,null,null,null,null,null,null,2,null,null,null,null,{"$f":"B4","v":false},{"$f":"B6","v":false},null,null,null,null,null,null,null,null,null,null,null,null,null,null,null,"7th Round"]
[null,null,null,{"$f":"CU8","v":0},{"$f":"CV8","v":0},"Y3",null,3,{"$f":"IF(AND(D8=0,E8=0),\"\",IF(D8>E8,B7,B9))","v":""},null,null,null,null,null,null,null,null,null,null,null,null,null,null,null,null,null,null,null,null,null,null,null,null,null,null,49,null,null,null,null,null,null,null,null,null,null,null,null,null,null,null,null,null,null,null,null,null,null,null,null,null,null,null,null,null,null,null,null,null,null,null,null,null,null,null,null,null,null,null,null,null,3,null,null,null,null,{"$f":"B7","v":false},{"$f":"B9","v":false},null,null,null,null,null,null,null,null,null,null,null,null,null,null,null,"8th Round"]
[6,{"$f":"IF(Main!R2=2,Eleme!BM230,IF(Main!R2=3,Eleme!BM488,IF(Main!R2=4,Eleme!BM618,IF(Main!R2=5,Eleme!BM684))))","v":false},null,null,null,null,null,null,null,null,null,null,null,null,18,{"$f":"IF(AND(K10=0,L10=0),\"\",IF(K10>L10,I8,I11))","v":""},null,null,null,null,null,null,null,null,null,null,null,null,null,null,null,null,null,null,null,null,null,null,null,null,null,null,null,null,null,null,null,null,null,null,null,null,null,null,null,null,null,null,null,null,null,null,null,null,null,null,null,null,null,null,null,null,null,null,null,null,null,null,null,null,null,4,null,null,null,null,{"$f":"B10","v":false},{"$f":"B12","v":false},null,null,null,null,null,null,null,null,null,null,null,null,null,null,null,"9th Round"]
[7,{"$f":"IF(Main!R2=2,Eleme!BL231,IF(Main!R2=3,Eleme!BL489,IF(Main!R2=4,Eleme!BL619,IF(Main!R2=5,Eleme!BL685))))","v":false},null,null,null,null,null,null,null,null,{"$f":"CU23","v":0},{"$f":"CV23","v":0},"Y18",null,null,null,null,null,null,null,null,null,null,null,null,null,null,null,null,null,null,null,null,null,null,null,null,null,null,null,null,null,null,null,null,null,null,null,null,null,null,null,null,null,null,null,null,null,null,null,null,null,null,null,null,null,null,null,null,null,null,null,null,null,null,null,null,null,null,null,null,5,null,null,null,null,{"$f":"B13","v":false},{"$f":"B15","v":false},null,null,null,null,null,null,null,null,null,null,null,null,null,null,null,"10th Round"]
[null,null,null,{"$f":"CU9","v":0},{"$f":"CV9","v":0},"Y4",null,4,{"$f":"IF(AND(D11=0,E11=0),\"\",IF(D11>E11,B10,B12))","v":""},null,null,null,null,null,null,null,null,null,null,null,null,null,null,null,null,null,null,null,null,null,null,null,null,null,null,null,null,null,null,null,null,null,null,null,null,null,null,null,null,null,null,null,null,null,null,null,null,null,null,null,null,null,null,null,null,null,null,null,null,null,null,null,null,null,null,null,null,null,null,null,null,6,null,null,null,null,{"$f":"B16","v":false},{"$f":"B18","v":false}]
[8,{"$f":"IF(Main!R2=2,Eleme!BM231,IF(Main!R2=3,Eleme!BM489,IF(Main!R2=4,Eleme!BM619,IF(Main!R2=5,Eleme!BM685))))","v":false},null,null,null,null,null,null,null,null,null,null,null,null,null,null,null,null,null,null,null,null,null,null,null,null,null,null,null,null,null,null,null,null,null,null,null,null,null,null,null,null,null,null,null,null,null,null,null,null,null,null,null,null,null,null,null,null,null,null,null,null,null,null,null,null,null,null,null,null,null,null,null,null,null,null,null,null,null,null,null,7,null,null,null,null,{"$f":"B19","v":false},{"$f":"B21","v":false}]
[9,{"$f":"IF(Main!R2=2,Eleme!BL232,IF(Main!R2=3,Eleme!BL490,IF(Main!R2=4,Eleme!BL620,IF(Main!R2=5,Eleme!BL686))))","v":false},null,null,null,null,null,null,null,null,null,null,null,null,null,null,null,null,null,null,null,null,null,null,null,null,null,null,null,null,null,{"$f":"CU54","v":0},{"$f":"CV54","v":0},"Y29",null,null,null,null,null,null,null,null,null,null,null,null,null,null,null,null,{"$f":"IF(AND(AF13=0,AG13=0),\"\",IF(AF13>AG13,AD7,AD18))","v":""},null,null,null,null,null,null,null,null,null,null,null,null,null,null,null,null,null,null,null,null,null,null,null,null,null,null,null,null,null,null,8,null,null,null,null,{"$f":"B22","v":false},{"$f":"B24","v":false}]
[null,null,null,{"$f":"CU10","v":0},{"$f":"CV10","v":0},"Y5",null,5,{"$f":"IF(AND(D14=0,E14=0),\"\",IF(D14>E14,B13,B15))","v":""},null,null,null,null,null,null,null,null,null,null,null,null,null,null,null,null,null,null,null,null,null,null,null,null,null,null,null,null,null,null,null,null,null,null,null,null,null,null,null,null,null,null,null,null,null,null,null,68,null,null,null,null,null,null,null,null,null,null,null,null,null,null,null,null,null,null,null,null,null,null,null,null,9,null,null,null,null,{"$f":"B25","v":false},{"$f":"B27","v":false}]
[10,{"$f":"IF(Main!R2=2,Eleme!BM232,IF(Main!R2=3,Eleme!BM490,IF(Main!R2=4,Eleme!BM620,IF(Main!R2=5,Eleme!BM686))))","v":false},null,null,null,null,null,null,null,null,null,null,null,null,19,null,null,null,null,null,null,null,null,null,null,null,null,null,null,null,null,null,null,null,null,null,null,null,null,null,null,null,null,null,null,null,null,null,null,null,null,null,null,null,null,null,null,null,null,null,null,null,null,null,null,null,null,null,null,null,null,null,null,null,null,null,null,null,null,null,null,10,null,null,null,null,{"$f":"B28","v":false},{"$f":"B30","v":false}]
[11,{"$f":"IF(Main!R2=2,Eleme!BL233,IF(Main!R2=3,Eleme!BL491,IF(Main!R2=4,Eleme!BL621,IF(Main!R2=5,Eleme!BL687))))","v":false},null,null,null,null,null,null,null,null,{"$f":"CU24","v":0},{"$f":"CV24","v":0},"Y19",null,null,{"$f":"IF(AND(K16=0,L16=0),\"\",IF(K16>L16,I14,I17))","v":""},null,null,null,null,null,null,null,null,null,null,null,null,null,null,null,null,null,null,null,null,null,null,null,null,null,null,null,null,null,null,null,null,null,null,null,null,null,null,null,null,null,null,null,null,null,null,null,null,null,null,null,null,null,null,null,null,null,null,null,null,null,null,null,null,null,11,null,null,null,null,{"$f":"B31","v":false},{"$f":"B33","v":false}]
[null,null,null,{"$f":"CU11","v":0},{"$f":"CV11","v":0},"Y6",null,6,{"$f":"IF(AND(D17=0,E17=0),\"\",IF(D17>E17,B16,B18))","v":""},null,null,null,null,null,null,null,null,null,null,null,null,34,null,null,null,null,null,null,null,null,null,null,null,null,null,null,null,null,null,null,null,null,null,null,null,null,null,null,null,null,null,null,null,null,null,null,null,null,null,null,null,null,null,null,null,null,null,null,null,null,null,null,null,null,null,null,null,null,null,null,null,12,null,null,null,null,{"$f":"B34","v":false},{"$f":"B36","v":false}]
[12,{"$f":"IF(Main!R2=2,Eleme!BM233,IF(Main!R2=3,Eleme!BM491,IF(Main!R2=4,Eleme!BM621,IF(Main!R2=5,Eleme!BM687))))","v":false},null,null,null,null,null,null,null,null,null,null,null,null,null,null,null,null,null,null,null,null,null,null,null,null,null,null,null,{"$f":"IF(AND(R19=0,S19=0),\"\",IF(R19>S19,P16,P21))","v":""},null,null,null,null,null,null,null,null,null,null,null,null,null,null,null,null,null,null,null,null,null,null,null,null,null,null,null,null,null,null,null,null,null,null,null,null,null,null,null,null,null,null,null,null,null,null,null,null,null,null,null,13,null,null,null,null,{"$f":"B37","v":false},{"$f":"B39","v":false}]
[13,{"$f":"IF(Main!R2=2,Eleme!BL234,IF(Main!R2=3,Eleme!BL492,IF(Main!R2=4,Eleme!BL622,IF(Main!R2=5,Eleme!BL688))))","v":false},null,null,null,null,null,null,null,null,null,null,null,null,null,null,null,{"$f":"CU39","v":0},{"$f":"CV39","v":0},"Y26",null,null,null,null,null,null,null,null,null,null,null,null,null,null,null,null,null,null,null,null,null,null,null,null,null,null,null,null,null,null,null,null,null,null,null,null,null,null,null,null,null,null,null,null,null,null,null,null,null,null,null,null,null,null,null,null,null,null,null,null,null,14,null,null,null,null,{"$f":"B40","v":false},{"$f":"B42","v":false}]
[null,null,null,{"$f":"CU12","v":0},{"$f":"CV12","v":0},"Y7",null,7,{"$f":"IF(AND(D20=0,E20=0),\"\",IF(D20>E20,B19,B21))","v":""},null,null,null,null,null,null,null,null,null,null,null,null,null,null,null,null,null,null,null,null,null,null,null,null,null,null,null,null,null,null,null,null,null,null,null,null,null,null,null,null,null,null,null,null,null,null,null,null,null,null,null,null,null,null,null,null,null,null,null,null,null,null,null,null,null,null,null,null,null,null,null,null,15,null,null,null,null,{"$f":"B43","v":false},{"$f":"B45","v":false}]
[14,{"$f":"IF(Main!R2=2,Eleme!BM234,IF(Main!R2=3,Eleme!BM492,IF(Main!R2=4,Eleme!BM622,IF(Main!R2=5,Eleme!BM688))))","v":false},null,null,null,null,null,null,null,null,null,null,null,null,20,{"$f":"IF(AND(K22=0,L22=0),\"\",IF(K22>L22,I20,I23))","v":""},null,null,null,null,null,null,null,null,null,null,null,null,null,null,null,null,null,null,null,null,null,null,null,null,null,null,null,null,null,null,null,null,null,null,null,null,null,null,null,null,null,null,null,null,null,null,null,null,null,null,null,null,null,null,null,null,null,null,null,null,null,null,null,null,null,16,null,null,null,null,{"$f":"B46","v":false},{"$f":"B48","v":false}]
[15,{"$f":"IF(Main!R2=2,Eleme!BL235,IF(Main!R2=3,Eleme!BL493,IF(Main!R2=4,Eleme!BL623,IF(Main!R2=5,Eleme!BL689))))","v":false},null,null,null,null,null,null,null,null,{"$f":"CU25","v":0},{"$f":"CV25","v":0},"Y20",null,null,null,null,null,null,null,null,null,null,null,null,null,null,null,null,null,null,null,null,null,null,null,null,null,null,null,null,null,null,null,null,null,null,null,null,null,null,null,null,null,null,null,null,null,null,null,null,null,null,null,null,null,null,null,null,null,null,null,null,null,null,null,null,null,null,null,null,17,null,null,null,null,{"$f":"I2","v":""},{"$f":"I5","v":""}]
[null,null,null,{"$f":"CU13","v":0},{"$f":"CV13","v":0},"Y8",null,8,{"$f":"IF(AND(D23=0,E23=0),\"\",IF(D23>E23,B22,B24))","v":""},null,null,null,null,null,null,null,null,null,null,null,null,null,null,null,null,null,null,null,null,null,null,null,null,null,null,null,null,null,null,null,null,null,null,null,null,null,null,null,null,null,null,null,null,null,null,null,null,null,null,null,null,null,null,null,null,null,null,null,null,null,null,null,null,null,null,null,null,null,null,null,null,18,null,null,null,null,{"$f":"I8","v":""},{"$f":"I11","v":""}]
[16,{"$f":"IF(Main!R2=2,Eleme!BM235,IF(Main!R2=3,Eleme!BM493,IF(Main!R2=4,Eleme!BM623,IF(Main!R2=5,Eleme!BM689))))","v":false},null,null,null,null,null,null,null,null,null,null,null,null,null,null,null,null,null,null,null,null,null,null,null,null,null,null,null,null,null,null,null,null,null,null,null,null,null,null,null,null,null,null,null,null,null,null,null,null,null,null,null,null,null,null,null,null,null,null,null,null,null,null,null,null,null,null,null,null,null,null,null,null,null,null,null,null,null,null,null,19,null,null,null,null,{"$f":"I14","v":""},{"$f":"I17","v":""}]
[17,{"$f":"IF(Main!R2=2,Eleme!BL236,IF(Main!R2=3,Eleme!BL494,IF(Main!R2=4,Eleme!BL624,IF(Main!R2=5,Eleme!BL690))))","v":false},null,null,null,null,null,null,null,null,null,null,null,null,null,{"$f":"IF(AND(K22=0,L22=0),\"\",IF(K22<L22,I20,I23))","v":""},null,null,null,null,null,null,null,null,null,null,null,null,null,null,null,null,null,null,null,null,null,null,null,null,null,null,null,null,null,null,null,null,null,null,null,null,{"$f":"CU73","v":0},{"$f":"CV73","v":0},"Y31",null,null,null,null,null,null,null,null,null,{"$f":"IF(AND(BA25=0,BB25=0),\"\",IF(BA25>BB25,AY13,AY38))","v":""},null,null,null,null,null,null,null,null,null,null,null,null,null,null,null,null,20,null,null,null,null,{"$f":"I20","v":""},{"$f":"I23","v":""}]
[null,null,null,{"$f":"CU14","v":0},{"$f":"CV14","v":0},"Y9",null,9,{"$f":"IF(AND(D26=0,E26=0),\"\",IF(D26>E26,B25,B27))","v":""},null,null,null,null,null,null,null,null,null,null,null,null,null,null,null,null,null,null,null,null,null,null,null,null,null,null,null,null,null,null,null,null,null,null,null,null,null,null,null,null,null,null,null,null,null,null,null,null,null,null,null,null,null,null,null,null,null,null,null,null,null,72,null,null,null,null,null,null,null,null,null,null,21,null,null,null,null,{"$f":"I26","v":""},{"$f":"I29","v":""}]
[18,{"$f":"IF(Main!R2=2,Eleme!BM236,IF(Main!R2=3,Eleme!BM494,IF(Main!R2=4,Eleme!BM624,IF(Main!R2=5,Eleme!BM690))))","v":false},null,null,null,null,null,null,null,null,null,null,null,null,21,null,null,null,null,null,null,null,null,null,null,null,null,null,null,null,null,null,null,null,null,null,null,null,null,null,null,null,null,null,null,null,null,null,null,null,null,null,null,null,null,null,null,null,null,null,null,null,null,null,null,null,null,null,null,null,null,null,null,null,null,null,null,null,null,null,null,22,null,null,null,null,{"$f":"I32","v":""},{"$f":"I35","v":""}]
[19,{"$f":"IF(Main!R2=2,Eleme!BL237,IF(Main!R2=3,Eleme!BL495,IF(Main!R2=4,Eleme!BL625,IF(Main!R2=5,Eleme!BL691))))","v":false},null,null,null,null,null,null,null,null,{"$f":"CU26","v":0},{"$f":"CV26","v":0},"Y21",null,null,{"$f":"IF(AND(K28=0,L28=0),\"\",IF(K28>L28,I26,I29))","v":""},null,null,null,null,null,null,null,null,null,null,null,null,null,null,null,null,null,null,null,null,null,null,null,null,null,null,null,null,null,null,null,null,null,null,null,null,null,null,null,null,null,null,null,null,null,null,null,null,null,null,null,null,null,null,null,null,null,null,null,null,null,null,null,null,null,23,null,null,null,null,{"$f":"I38","v":""},{"$f":"I41","v":""}]
[null,null,null,{"$f":"CU15","v":0},{"$f":"CV15","v":0},"Y10",null,10,{"$f":"IF(AND(D29=0,E29=0),\"\",IF(D29>E29,B28,B30))","v":""},null,null,null,null,null,null,null,null,null,null,null,null,35,null,null,null,null,null,null,null,null,null,null,null,null,null,null,null,null,null,null,null,null,null,null,null,null,null,null,null,null,null,null,null,null,null,null,null,null,null,null,null,null,null,null,null,null,null,null,null,null,null,null,null,null,null,null,null,null,null,null,null,24,null,null,null,null,{"$f":"I44","v":""},{"$f":"I47","v":""}]
[20,{"$f":"IF(Main!R2=2,Eleme!BM237,IF(Main!R2=3,Eleme!BM495,IF(Main!R2=4,Eleme!BM625,IF(Main!R2=5,Eleme!BM691))))","v":false},null,null,null,null,null,null,null,null,null,null,null,null,null,null,null,null,null,null,null,null,null,null,null,null,null,null,null,null,null,null,null,null,null,null,null,null,null,null,null,null,null,null,null,null,null,null,null,null,null,null,null,null,null,null,null,null,null,null,null,null,null,null,null,null,null,null,null,null,null,null,null,null,null,null,null,null,null,null,null,25,null,null,null,null,{"$f":"I51","v":""},{"$f":"I53","v":""}]
[21,{"$f":"IF(Main!R2=2,Eleme!BL238,IF(Main!R2=3,Eleme!BL496,IF(Main!R2=4,Eleme!BL626,IF(Main!R2=5,Eleme!BL692))))","v":false},null,null,null,null,null,null,null,null,null,null,null,null,null,null,null,{"$f":"CU40","v":0},{"$f":"CV40","v":0},"Y27",null,null,null,null,null,null,null,null,null,null,null,null,null,null,null,null,null,null,null,null,null,null,null,null,null,null,null,null,null,null,null,null,null,null,null,null,null,null,null,null,null,null,null,null,null,null,null,null,null,null,null,null,null,null,null,null,null,null,null,null,null,26,null,null,null,null,{"$f":"I55","v":""},{"$f":"I57","v":""}]
[null,null,null,{"$f":"CU16","v":0},{"$f":"CV16","v":0},"Y11",null,11,{"$f":"IF(AND(D32=0,E32=0),\"\",IF(D32>E32,B31,B33))","v":""},null,null,null,null,null,null,null,null,null,null,null,null,null,null,null,null,null,null,null,null,{"$f":"IF(AND(R31=0,S31=0),\"\",IF(R31>S31,P28,P33))","v":""},null,null,null,null,null,null,null,null,null,null,null,null,null,null,null,null,null,null,null,null,null,null,null,null,null,null,null,null,null,null,null,null,null,null,null,null,null,null,null,null,null,null,null,null,null,null,null,null,null,null,null,27,null,null,null,null,{"$f":"I59","v":""},{"$f":"I61","v":""}]
[22,{"$f":"IF(Main!R2=2,Eleme!BM238,IF(Main!R2=3,Eleme!BM496,IF(Main!R2=4,Eleme!BM626,IF(Main!R2=5,Eleme!BM692))))","v":false},null,null,null,null,null,null,null,null,null,null,null,null,22,{"$f":"IF(AND(K34=0,L34=0),\"\",IF(K34>L34,I32,I35))","v":""},null,null,null,null,null,null,null,null,null,null,null,null,null,null,null,null,null,null,null,50,null,null,null,null,null,null,null,null,null,null,null,null,null,null,null,null,null,null,null,null,null,null,null,null,null,null,null,null,null,null,null,null,null,null,null,null,null,null,null,null,null,null,null,null,null,28,null,null,null,null,{"$f":"I63","v":""},{"$f":"I65","v":""}]
[23,{"$f":"IF(Main!R2=2,Eleme!BL239,IF(Main!R2=3,Eleme!BL497,IF(Main!R2=4,Eleme!BL627,IF(Main!R2=5,Eleme!BL693))))","v":false},null,null,null,null,null,null,null,null,{"$f":"CU27","v":0},{"$f":"CV27","v":0},"Y22",null,null,null,null,null,null,null,null,null,null,null,null,null,null,null,null,null,null,null,null,null,null,null,null,null,null,null,null,null,null,null,null,null,null,null,null,null,null,null,null,null,null,null,null,null,null,null,null,null,null,null,null,null,null,null,null,null,null,null,null,null,null,null,null,null,null,null,null,29,null,null,null,null,{"$f":"I67","v":""},{"$f":"I69","v":""}]
[null,null,null,{"$f":"CU17","v":0},{"$f":"CV17","v":0},"Y12",null,12,{"$f":"IF(AND(D35=0,E35=0),\"\",IF(D35>E35,B34,B36))","v":""},null,null,null,null,null,null,null,null,null,null,null,null,null,null,null,null,null,null,null,null,null,null,null,null,null,null,null,null,null,null,null,null,null,null,null,null,null,null,null,null,null,null,null,null,null,null,null,null,null,null,null,null,null,null,null,null,null,null,null,null,null,null,null,null,null,null,null,null,null,null,null,null,30,null,null,null,null,{"$f":"I71","v":""},{"$f":"I73","v":""}]
[24,{"$f":"IF(Main!R2=2,Eleme!BM239,IF(Main!R2=3,Eleme!BM497,IF(Main!R2=4,Eleme!BM627,IF(Main!R2=5,Eleme!BM693))))","v":false},null,null,null,null,null,null,null,null,null,null,null,null,null,null,null,null,null,null,null,null,null,null,null,null,null,null,null,null,null,null,null,null,null,null,null,null,null,null,null,null,null,null,null,null,null,null,null,null,null,null,null,null,null,null,null,null,null,null,null,null,null,null,null,null,null,null,null,null,null,null,null,null,null,null,null,null,null,null,null,31,null,null,null,null,{"$f":"I75","v":""},{"$f":"I77","v":""}]
[25,{"$f":"IF(Main!R2=2,Eleme!BL240,IF(Main!R2=3,Eleme!BL498,IF(Main!R2=4,Eleme!BL628,IF(Main!R2=5,Eleme!BL694))))","v":false},null,null,null,null,null,null,null,null,null,null,null,null,null,null,null,null,null,null,null,null,null,null,null,null,null,null,null,null,null,null,null,null,null,null,null,null,null,null,null,null,null,null,null,null,null,null,null,null,null,null,null,null,null,null,null,null,null,null,null,null,null,null,null,null,null,null,null,null,null,null,null,null,null,null,null,null,null,null,null,32,null,null,null,null,{"$f":"I79","v":""},{"$f":"I81","v":""}]
[null,null,null,{"$f":"CU18","v":0},{"$f":"CV18","v":0},"Y13",null,13,{"$f":"IF(AND(D38=0,E38=0),\"\",IF(D38>E38,B37,B39))","v":""},null,null,null,null,null,null,null,null,null,null,null,null,null,null,null,null,null,null,null,null,null,null,{"$f":"CU55","v":0},{"$f":"CV55","v":0},"Y30",null,null,null,null,null,null,null,null,null,null,null,null,null,null,null,null,{"$f":"IF(AND(AF38=0,AG38=0),\"\",IF(AF38>AG38,AD32,AD43))","v":""},null,null,null,null,null,null,null,null,null,null,null,null,null,null,null,null,null,null,null,null,null,null,null,null,null,null,null,null,null,null,33,null,null,null,null,{"$f":"P4","v":""},{"$f":"P9","v":""}]
[26,{"$f":"IF(Main!R2=2,Eleme!BM240,IF(Main!R2=3,Eleme!BM498,IF(Main!R2=4,Eleme!BM628,IF(Main!R2=5,Eleme!BM694))))","v":false},null,null,null,null,null,null,null,null,null,null,null,null,23,null,null,null,null,null,null,null,null,null,null,null,null,null,null,null,null,null,null,null,null,null,null,null,null,null,null,null,null,null,null,null,null,null,null,null,null,null,null,null,null,null,null,null,null,null,null,null,null,null,null,null,{"$f":"CU77","v":0},{"$f":"CV77","v":0},"Y32",null,null,{"$f":"IF(AND(BO39=0,BP39=0),\"\",IF(BO39>BP39,BM25,BM55))","v":""},null,null,null,null,null,null,"1.",null,null,34,null,null,null,null,{"$f":"P16","v":""},{"$f":"P21","v":""}]
[27,{"$f":"IF(Main!R2=2,Eleme!BL241,IF(Main!R2=3,Eleme!BL499,IF(Main!R2=4,Eleme!BL629,IF(Main!R2=5,Eleme!BL695))))","v":false},null,null,null,null,null,null,null,null,{"$f":"CU28","v":0},{"$f":"CV28","v":0},"Y23",null,null,{"$f":"IF(AND(K40=0,L40=0),\"\",IF(K40>L40,I38,I41))","v":""},null,null,null,null,null,null,null,null,null,null,null,null,null,null,null,null,null,null,null,null,null,null,null,null,null,null,null,null,null,null,null,null,null,null,null,null,null,null,null,null,null,null,null,null,null,null,null,null,null,null,null,null,null,null,null,null,null,null,null,null,null,null,null,null,null,35,null,null,null,null,{"$f":"P28","v":""},{"$f":"P33","v":""}]
[null,null,null,{"$f":"CU19","v":0},{"$f":"CV19","v":0},"Y14",null,14,{"$f":"IF(AND(D41=0,E41=0),\"\",IF(D41>E41,B40,B42))","v":""},null,null,null,null,null,null,null,null,null,null,null,null,36,null,null,null,null,null,null,null,null,null,null,null,null,null,null,null,null,null,null,null,null,null,null,null,null,null,null,null,null,null,null,null,null,null,null,null,null,null,null,null,null,null,null,null,null,null,null,null,null,null,null,null,null,null,null,null,null,null,null,null,36,null,null,null,null,{"$f":"P40","v":""},{"$f":"P45","v":""}]
[28,{"$f":"IF(Main!R2=2,Eleme!BM241,IF(Main!R2=3,Eleme!BM499,IF(Main!R2=4,Eleme!BM629,IF(Main!R2=5,Eleme!BM695))))","v":false},null,null,null,null,null,null,null,null,null,null,null,null,null,null,null,null,null,null,null,null,null,null,null,null,null,null,null,null,null,null,null,null,null,null,null,null,null,null,null,null,null,null,null,null,null,null,null,null,null,null,null,null,null,null,null,null,null,null,null,null,null,null,null,null,null,null,null,null,null,null,null,null,null,null,null,null,null,null,null,37,null,null,null,null,{"$f":"P50","v":""},{"$f":"P52","v":""}]
[29,{"$f":"IF(Main!R2=2,Eleme!BL242,IF(Main!R2=3,Eleme!BL500,IF(Main!R2=4,Eleme!BL630,IF(Main!R2=5,Eleme!BL696))))","v":false},null,null,null,null,null,null,null,null,null,null,null,null,null,null,null,{"$f":"CU41","v":0},{"$f":"CV41","v":0},"Y28",null,null,null,null,null,null,null,null,null,{"$f":"IF(AND(R43=0,S43=0),\"\",IF(R43>S43,P40,P45))","v":""},null,null,null,null,null,null,null,null,null,null,null,null,null,null,null,null,null,null,null,null,null,null,null,null,null,null,null,null,null,null,null,null,null,null,null,null,null,null,null,null,null,null,null,null,null,null,null,null,null,null,null,38,null,null,null,null,{"$f":"P54","v":""},{"$f":"P56","v":""}]
[null,null,null,{"$f":"CU20","v":0},{"$f":"CV20","v":0},"Y15",null,15,{"$f":"IF(AND(D44=0,E44=0),\"\",IF(D44>E44,B43,B45))","v":""},null,null,null,null,null,null,null,null,null,null,null,null,null,null,null,null,null,null,null,null,null,null,null,null,null,null,null,null,null,null,null,null,null,null,null,null,null,null,null,null,null,null,null,null,null,null,null,null,null,null,null,null,null,null,null,null,null,null,null,null,null,null,null,null,null,null,null,null,null,null,null,null,39,null,null,null,null,{"$f":"P58","v":""},{"$f":"P60","v":""}]
[30,{"$f":"IF(Main!R2=2,Eleme!BM242,IF(Main!R2=3,Eleme!BM500,IF(Main!R2=4,Eleme!BM630,IF(Main!R2=5,Eleme!BM696))))","v":false},null,null,null,null,null,null,null,null,null,null,null,null,24,{"$f":"IF(AND(K46=0,L46=0),\"\",IF(K46>L46,I44,I47))","v":""},null,null,null,null,null,null,null,null,null,null,null,null,null,null,null,null,null,null,null,null,null,null,null,null,null,null,null,null,null,null,null,null,null,null,null,null,null,null,null,null,null,null,null,null,null,null,null,null,null,null,null,null,null,null,null,null,null,null,null,null,null,null,null,null,null,40,null,null,null,null,{"$f":"P62","v":""},{"$f":"P64","v":""}]
[31,{"$f":"IF(Main!R2=2,Eleme!BL243,IF(Main!R2=3,Eleme!BL501,IF(Main!R2=4,Eleme!BL631,IF(Main!R2=5,Eleme!BL697))))","v":false},null,null,null,null,null,null,null,null,{"$f":"CU29","v":0},{"$f":"CV29","v":0},"Y24",null,null,null,null,null,null,null,null,null,null,null,null,null,null,null,null,null,null,null,null,null,null,null,null,null,null,null,null,null,null,null,null,null,null,null,null,null,null,null,null,null,null,null,null,null,null,null,null,null,null,null,null,null,null,null,null,null,null,null,null,null,null,null,null,null,null,null,null,41,null,null,null,null,{"$f":"P66","v":""},{"$f":"P68","v":""}]
[null,null,null,{"$f":"CU21","v":0},{"$f":"CV21","v":0},"Y16",null,16,{"$f":"IF(AND(D47=0,E47=0),\"\",IF(D47>E47,B46,B48))","v":""},null,null,null,null,null,null,null,null,null,null,null,null,null,null,null,null,null,null,null,null,null,null,null,null,null,null,null,null,null,null,null,null,null,null,null,null,null,null,null,null,null,null,null,null,null,null,null,null,null,null,null,null,null,null,null,null,null,null,null,null,null,null,null,null,null,null,null,null,null,null,null,null,42,null,null,null,null,{"$f":"P70","v":""},{"$f":"P72","v":""}]
[32,{"$f":"IF(Main!R2=2,Eleme!BM243,IF(Main!R2=3,Eleme!BM501,IF(Main!R2=4,Eleme!BM631,IF(Main!R2=5,Eleme!BM697))))","v":false},null,null,null,null,null,null,null,null,null,null,null,null,null,null,null,null,null,null,null,null,null,null,null,null,null,null,null,null,null,null,null,null,null,null,null,null,null,null,null,null,null,null,null,null,null,null,null,null,null,null,null,null,null,null,null,null,null,null,null,null,null,null,null,null,null,null,null,null,null,null,null,null,null,null,null,null,null,null,null,43,null,null,null,null,{"$f":"P74","v":""},{"$f":"P76","v":""}]
[null,null,null,null,null,null,null,null,null,null,null,null,null,null,null,null,null,null,null,null,null,null,null,null,null,null,null,null,"Y25",{"$f":"IF(AND(R7=0,S7=0),\"\",IF(R7<S7,P4,P9))","v":""},null,null,null,null,null,null,null,null,null,null,null,null,"Y30",{"$f":"IF(AND(AF38=0,AG38=0),\"\",IF(AF38<AG38,AD32,AD43))","v":""},null,null,null,null,null,null,null,null,null,null,null,null,"Y31",{"$f":"IF(AND(BA25=0,BB25=0),\"\",IF(BA25<BB25,AY13,AY38))","v":""},null,null,null,null,null,null,null,null,null,null,null,null,null,null,null,null,null,null,null,null,null,null,null,44,null,null,null,null,{"$f":"P78","v":""},{"$f":"P80","v":""}]
[null,null,null,null,null,null,null,null,null,null,null,null,null,null,"Y24",{"$f":"IF(AND(K46=0,L46=0),\"\",IF(K46<L46,I44,I47))","v":""},null,null,null,null,null,null,null,null,null,null,null,null,null,null,null,null,null,null,null,51,null,null,null,null,null,null,null,null,null,null,null,null,null,63,null,null,null,null,null,null,null,null,null,null,null,null,null,71,null,null,null,null,null,null,null,null,null,null,null,null,null,null,null,null,null,45,null,null,null,null,{"$f":"W51","v":""},{"$f":"W55","v":""}]
[null,null,null,null,null,null,null,"Y1",{"$f":"IF(AND(D2=0,E2=0),\"\",IF(D2<E2,B1,B3))","v":""},null,null,null,null,null,null,null,null,{"$f":"CU42","v":0},{"$f":"CV42","v":0},"YE",null,37,{"$f":"IF(AND(R51=0,S51=0),\"\",IF(R51>S51,P50,P52))","v":""},null,null,null,null,null,null,null,null,{"$f":"CU56","v":0},{"$f":"CV56","v":0},"Y37",null,null,{"$f":"IF(AND(AF51=0,AG51=0),\"\",IF(AF51>AG51,AD49,AD53))","v":""},null,null,null,null,null,null,null,null,null,null,null,null,null,null,null,null,null,null,null,null,null,null,null,null,null,null,null,null,null,null,null,null,null,null,null,null,null,null,null,null,null,null,null,null,46,null,null,null,null,{"$f":"W59","v":""},{"$f":"W63","v":""}]
[null,null,null,null,null,null,null,null,null,null,{"$f":"CU30","v":0},{"$f":"CV30","v":0},"Y.Elenir",null,25,{"$f":"IF(AND(K52=0,L52=0),\"\",IF(K52>L52,I51,I53))","v":""},null,null,null,null,null,null,null,null,null,null,null,null,45,null,null,null,null,null,null,null,null,null,null,null,null,null,57,null,null,null,null,null,null,null,{"$f":"IF(AND(AT53=0,AU53=0),\"\",IF(AT53>AU53,AR49,AR55))","v":""},null,null,null,null,null,null,null,null,null,null,null,null,null,null,null,null,null,null,null,null,null,null,null,null,null,null,null,null,null,null,47,null,null,null,null,{"$f":"W67","v":""},{"$f":"W71","v":""}]
[null,null,null,null,null,null,null,"Y2",{"$f":"IF(AND(D5=0,E5=0),\"\",IF(D5<E5,B4,B6))","v":""},null,null,null,null,null,null,null,null,null,null,null,null,null,null,null,null,{"$f":"CU50","v":0},{"$f":"CV50","v":0},"Y33",null,{"$f":"IF(AND(Z53=0,AA53=0),\"\",IF(Z53>AA53,W51,W55))","v":""},null,null,null,null,null,null,null,null,null,null,null,null,null,null,null,{"$f":"CU68","v":0},{"$f":"CV68","v":0},"Y43",null,null,null,null,null,null,null,null,69,null,null,null,null,null,null,null,null,null,null,null,null,null,null,null,null,null,null,null,null,null,null,null,null,48,null,null,null,null,{"$f":"W75","v":""},{"$f":"W79","v":""}]
[null,null,null,null,null,null,null,null,null,null,null,null,null,null,"Y23",{"$f":"IF(AND(K40=0,L40=0),\"\",IF(K40<L40,I38,I41))","v":""},null,null,null,null,null,null,null,null,null,null,null,null,null,null,null,null,null,null,null,null,null,null,null,null,null,null,null,null,null,null,null,null,null,null,null,null,null,null,null,null,null,null,null,null,null,null,null,null,null,null,null,null,null,null,null,null,null,null,null,null,null,null,null,null,null,49,null,null,null,null,{"$f":"AD7","v":""},{"$f":"AD18","v":""}]
[null,null,null,null,null,null,null,"Y3",{"$f":"IF(AND(D8=0,E8=0),\"\",IF(D8<E8,B7,B9))","v":""},null,null,null,null,null,null,null,null,{"$f":"CU43","v":0},{"$f":"CV43","v":0},"YE",null,38,{"$f":"IF(AND(R55=0,S55=0),\"\",IF(R55>S55,P54,P56))","v":""},null,null,null,null,null,null,null,null,null,null,null,null,null,null,null,null,null,null,null,null,{"$f":"IF(AND(AM56=0,AN56=0),\"\",IF(AM56>AN56,AK51,AK59))","v":""},null,null,null,null,null,null,null,null,null,null,null,null,null,null,null,null,{"$f":"CU76","v":0},{"$f":"CV76","v":0},"Y46",null,{"$f":"IF(AND(BI55=0,BJ55=0),\"\",IF(BI55>BJ55,BF49,BF61))","v":""},null,null,null,null,null,null,null,null,null,null,null,null,null,null,null,null,50,null,null,null,null,{"$f":"AD32","v":""},{"$f":"AD43","v":""}]
[null,null,null,null,null,null,null,null,null,null,{"$f":"CU31","v":0},{"$f":"CV31","v":0},"YE",null,26,{"$f":"IF(AND(K56=0,L56=0),\"\",IF(K56>L56,I55,I57))","v":""},null,null,null,null,null,null,null,null,null,null,null,null,null,null,null,null,null,null,null,null,null,null,{"$f":"CU62","v":0},{"$f":"CV62","v":0},"Y41",null,null,null,null,null,null,null,null,null,null,null,null,null,null,null,null,null,null,null,null,null,null,null,null,null,null,null,null,null,null,null,null,null,null,null,null,null,null,null,null,51,null,null,null,null,{"$f":"AD49","v":""},{"$f":"AD53","v":""}]
[null,null,null,null,null,null,null,"Y4",{"$f":"IF(AND(D11=0,E11=0),\"\",IF(D11<E11,B10,B12))","v":""},null,null,null,null,null,null,null,null,null,null,null,null,null,null,null,null,null,null,null,"Y26",{"$f":"IF(AND(R19=0,S19=0),\"\",IF(R19<S19,P16,P21))","v":""},null,null,null,null,null,null,null,null,null,null,null,null,null,null,null,null,null,null,null,null,null,null,null,null,null,null,null,null,null,null,null,null,null,null,null,null,null,null,null,null,"Y32",{"$f":"IF(AND(BO39=0,BP39=0),\"\",IF(BO39<BP39,BM25,BM55))","v":""},null,null,null,null,null,null,"2.",null,null,52,null,null,null,null,{"$f":"AD57","v":""},{"$f":"AD61","v":""}]
[null,null,null,null,null,null,null,null,null,null,null,null,null,null,"Y22",{"$f":"IF(AND(K34=0,L34=0),\"\",IF(K34<L34,I32,I35))","v":""},null,null,null,null,null,null,null,null,null,null,null,null,null,null,null,null,null,null,null,52,null,null,null,null,null,null,null,null,null,null,null,null,null,null,null,null,null,null,null,null,null,null,null,null,null,null,null,null,null,null,null,null,null,null,null,null,null,null,null,null,null,null,null,null,null,53,null,null,null,null,{"$f":"AD65","v":""},{"$f":"AD69","v":""}]
[null,null,null,null,null,null,null,"Y5",{"$f":"IF(AND(D14=0,E14=0),\"\",IF(D14<E14,B13,B15))","v":""},null,null,null,null,null,null,null,null,{"$f":"CU44","v":0},{"$f":"CV44","v":0},"YE",null,39,{"$f":"IF(AND(R59=0,S59=0),\"\",IF(R59>S59,P58,P60))","v":""},null,null,null,null,null,null,null,null,{"$f":"CU57","v":0},{"$f":"CV57","v":0},"Y38",null,null,{"$f":"IF(AND(AF59=0,AG59=0),\"\",IF(AF59>AG59,AD57,AD61))","v":""},null,null,null,null,null,null,null,null,null,null,null,null,null,null,null,null,null,null,null,null,null,null,null,null,null,null,null,null,null,null,null,null,null,null,null,null,null,null,null,null,null,null,null,null,54,null,null,null,null,{"$f":"AD73","v":""},{"$f":"AD77","v":""}]
[null,null,null,null,null,null,null,null,null,null,{"$f":"CU32","v":0},{"$f":"CV32","v":0},"YE",null,27,{"$f":"IF(AND(K60=0,L60=0),\"\",IF(K60>L60,I59,I61))","v":""},null,null,null,null,null,null,null,null,null,null,null,null,46,null,null,null,null,null,null,null,null,null,null,null,null,null,null,null,null,null,null,null,null,null,null,null,null,null,null,null,null,null,null,null,null,null,null,null,null,null,null,null,null,null,null,null,null,null,null,null,null,null,null,null,null,55,null,null,null,null,{"$f":"AD89","v":""},{"$f":"AD91","v":""}]
[null,null,null,null,null,null,null,"Y6",{"$f":"IF(AND(D17=0,E17=0),\"\",IF(D17<E17,B16,B18))","v":""},null,null,null,null,null,null,null,null,null,null,null,null,null,null,null,null,{"$f":"CU51","v":0},{"$f":"CV51","v":0},"Y34",null,{"$f":"IF(AND(Z61=0,AA61=0),\"\",IF(Z61>AA61,W59,W63))","v":""},null,null,null,null,null,null,null,null,null,null,null,null,null,null,null,null,null,null,null,null,null,null,{"$f":"CU74","v":0},{"$f":"CV74","v":0},"Y45",null,null,{"$f":"IF(AND(BA61=0,BB61=0),\"\",IF(BA61>BB61,AY52,AY69))","v":""},null,null,null,null,null,null,null,null,null,null,null,null,null,null,null,null,null,null,null,null,null,null,null,56,null,null,null,null,{"$f":"AD92","v":""},{"$f":"AD94","v":""}]
[null,null,null,null,null,null,null,null,null,null,null,null,null,null,"Y21",{"$f":"IF(AND(K28=0,L28=0),\"\",IF(K28<L28,I26,I29))","v":""},null,null,null,null,null,null,null,null,null,null,null,null,null,null,null,null,null,null,null,null,null,null,null,null,null,null,null,null,null,null,null,null,null,null,null,null,null,null,null,null,null,null,null,null,null,null,null,null,null,null,null,null,null,null,null,null,null,null,null,null,null,null,null,null,null,57,null,null,null,null,{"$f":"AK51","v":""},{"$f":"AK59","v":""}]
[null,null,null,null,null,null,null,"Y7",{"$f":"IF(AND(D20=0,E20=0),\"\",IF(D20<E20,B19,B21))","v":""},null,null,null,null,null,null,null,null,{"$f":"CU45","v":0},{"$f":"CV45","v":0},"YE",null,40,{"$f":"IF(AND(R63=0,S63=0),\"\",IF(R63>S63,P62,P64))","v":""},null,null,null,null,null,null,null,null,null,null,null,null,null,null,null,null,null,null,null,null,null,null,null,null,null,null,null,null,null,null,null,null,null,null,null,null,null,null,null,null,"Y46",{"$f":"IF(AND(BI55=0,BJ55=0),\"\",IF(BI55<BJ55,BF49,BF61))","v":""},null,null,null,null,null,null,"3.",null,null,null,null,null,null,null,null,null,58,null,null,null,null,{"$f":"AK67","v":""},{"$f":"AK75","v":""}]
[null,null,null,null,null,null,null,null,null,null,{"$f":"CU33","v":0},{"$f":"CV33","v":0},"YE",null,28,{"$f":"IF(AND(K64=0,L64=0),\"\",IF(K64>L64,I63,I65))","v":""},null,null,null,null,null,null,null,null,null,null,null,null,null,null,null,null,null,null,null,null,null,null,null,null,null,null,null,null,null,null,null,null,null,null,null,null,null,null,null,null,null,null,null,null,null,null,null,null,null,null,null,null,null,null,null,null,null,null,null,null,null,null,null,null,null,59,null,null,null,null,{"$f":"AK81","v":""},{"$f":"AK83","v":""}]
[null,null,null,null,null,null,null,"Y8",{"$f":"IF(AND(D23=0,E23=0),\"\",IF(D23<E23,B22,B24))","v":""},null,null,null,null,null,null,null,null,null,null,null,null,null,null,null,null,null,null,null,"Y27",{"$f":"IF(AND(R31=0,S31=0),\"\",IF(R31<S31,P28,P33))","v":""},null,null,null,null,null,null,null,null,null,null,null,null,"Y29",{"$f":"IF(AND(AF13=0,AG13=0),\"\",IF(AF13<AG13,AD7,AD18))","v":""},null,null,null,null,null,null,null,null,null,null,null,null,null,null,null,null,null,null,null,null,null,null,null,null,null,null,null,null,null,null,null,null,null,null,null,null,null,60,null,null,null,null,{"$f":"AK84","v":""},{"$f":"AK86","v":""}]
[null,null,null,null,null,null,null,null,null,null,null,null,null,null,"Y20",{"$f":"IF(AND(K22=0,L22=0),\"\",IF(K22<L22,I20,I23))","v":""},null,null,null,null,null,null,null,null,null,null,null,null,null,null,null,null,null,null,null,53,null,null,null,null,null,null,null,null,null,null,null,null,null,64,null,null,null,null,null,null,null,null,null,null,null,null,null,null,null,null,null,null,null,null,null,null,null,null,null,null,null,null,null,null,null,61,null,null,null,null,{"$f":"AK90","v":""},{"$f":"AK93","v":""}]
[null,null,null,null,null,null,null,"Y9",{"$f":"IF(AND(D26=0,E26=0),\"\",IF(D26<E26,B25,B27))","v":""},null,null,null,null,null,null,null,null,{"$f":"CU46","v":0},{"$f":"CV46","v":0},"YE",null,41,{"$f":"IF(AND(R67=0,S67=0),\"\",IF(R67>S67,P66,P68))","v":""},null,null,null,null,null,null,null,null,{"$f":"CU58","v":0},{"$f":"CV58","v":0},"Y39",null,null,{"$f":"IF(AND(AF67=0,AG67=0),\"\",IF(AF67>AG67,AD65,AD69))","v":""},null,null,null,null,null,null,null,null,null,null,null,null,null,null,null,null,null,null,null,null,null,null,null,null,null,null,null,null,null,null,null,null,null,null,null,null,null,null,null,null,null,null,null,null,62,null,null,null,null,{"$f":"AK95","v":""},{"$f":"AK97","v":""}]
[null,null,null,null,null,null,null,null,null,null,{"$f":"CU34","v":0},{"$f":"CV34","v":0},"YE",null,29,{"$f":"IF(AND(K68=0,L68=0),\"\",IF(K68>L68,I67,I69))","v":""},null,null,null,null,null,null,null,null,null,null,null,null,47,null,null,null,null,null,null,null,null,null,null,null,null,null,null,null,null,null,null,null,null,null,null,null,null,null,null,null,null,null,null,null,null,null,null,null,null,null,null,null,null,null,null,null,null,null,null,null,null,null,null,null,null,63,null,null,null,null,{"$f":"AR49","v":""},{"$f":"AR55","v":""}]
[null,null,null,null,null,null,null,"Y10",{"$f":"IF(AND(D29=0,E29=0),\"\",IF(D29<E29,B28,B30))","v":""},null,null,null,null,null,null,null,null,null,null,null,null,null,null,null,null,{"$f":"CU52","v":0},{"$f":"CV52","v":0},"Y35",null,{"$f":"IF(AND(Z69=0,AA69=0),\"\",IF(Z69>AA69,W67,W71))","v":""},null,null,null,null,null,null,null,null,null,null,null,null,58,null,null,{"$f":"CU69","v":0},{"$f":"CV69","v":0},"Y44",null,null,{"$f":"IF(AND(AT69=0,AU69=0),\"\",IF(AT69>AU69,AR65,AR72))","v":""},null,null,null,null,null,null,null,null,null,null,null,null,null,null,null,null,null,null,null,null,null,null,null,null,null,null,null,null,null,null,64,null,null,null,null,{"$f":"AR65","v":""},{"$f":"AR72","v":""}]
[null,null,null,null,null,null,null,null,null,null,null,null,null,null,"Y19",{"$f":"IF(AND(K16=0,L16=0),\"\",IF(K16<L16,I14,I17))","v":""},null,null,null,null,null,null,null,null,null,null,null,null,null,null,null,null,null,null,null,null,null,null,null,null,null,null,null,null,null,null,null,null,null,null,null,null,null,null,null,null,null,null,null,null,null,null,null,null,null,null,null,null,null,null,null,null,null,null,null,null,null,null,null,null,null,65,null,null,null,null,{"$f":"AR78","v":""},{"$f":"AR80","v":""}]
[null,null,null,null,null,null,null,"Y11",{"$f":"IF(AND(D32=0,E32=0),\"\",IF(D32<E32,B31,B33))","v":""},null,null,null,null,null,null,null,null,{"$f":"CU47","v":0},{"$f":"CV47","v":0},"YE",null,42,{"$f":"IF(AND(R71=0,S71=0),\"\",IF(R71>S71,P70,P72))","v":""},null,null,null,null,null,null,null,null,null,null,null,null,null,null,null,null,null,null,null,null,null,null,null,null,null,null,null,null,null,null,null,null,null,"Y45",{"$f":"IF(AND(BA61=0,BB61=0),\"\",IF(BA61<BB61,AY52,AY69))","v":""},null,null,null,null,null,null,"4.",null,null,null,null,null,null,null,null,null,null,null,null,null,null,null,null,66,null,null,null,null,{"$f":"AR82","v":""},{"$f":"AR85","v":""}]
[null,null,null,null,null,null,null,null,null,null,{"$f":"CU35","v":0},{"$f":"CV35","v":0},"YE",null,30,{"$f":"IF(AND(K72=0,L72=0),\"\",IF(K72>L72,I71,I73))","v":""},null,null,null,null,null,null,null,null,null,null,null,null,null,null,null,null,null,null,null,null,null,null,{"$f":"CU63","v":0},{"$f":"CV63","v":0},"Y42",null,null,{"$f":"IF(AND(AM72=0,AN72=0),\"\",IF(AM72>AN72,AK67,AK75))","v":""},null,null,null,null,null,null,null,null,null,null,null,null,null,null,null,null,null,null,null,null,null,null,null,null,null,null,null,null,null,null,null,null,null,null,null,null,null,67,null,null,null,null,{"$f":"AR87","v":""},{"$f":"AR89","v":""}]
[null,null,null,null,null,null,null,"Y12",{"$f":"IF(AND(D35=0,E35=0),\"\",IF(D35<E35,B34,B36))","v":""},null,null,null,null,null,null,null,null,null,null,null,null,null,null,null,null,null,null,null,"Y28",{"$f":"IF(AND(R43=0,S43=0),\"\",IF(R43<S43,P40,P45))","v":""},null,null,null,null,null,null,null,null,null,null,null,null,null,null,null,null,null,null,null,null,null,null,null,null,null,null,null,null,null,null,null,null,null,null,null,null,null,null,null,null,null,null,null,null,null,null,null,null,null,null,null,68,null,null,null,null,{"$f":"AY13","v":""},{"$f":"AY38","v":""}]
[null,null,null,null,null,null,null,null,null,null,null,null,null,null,"Y18",{"$f":"IF(AND(K10=0,L10=0),\"\",IF(K10<L10,I8,I11))","v":""},null,null,null,null,null,null,null,null,null,null,null,null,null,null,null,null,null,null,null,54,null,null,null,null,null,null,null,null,null,null,null,null,null,"Y43",{"$f":"IF(AND(AT53=0,AU53=0),\"\",IF(AT53<AU53,AR49,AR55))","v":""},null,null,null,null,null,null,null,null,null,null,null,null,null,null,null,null,null,null,null,null,null,null,null,null,null,null,null,null,null,null,69,null,null,null,null,{"$f":"AY52","v":""},{"$f":"AY69","v":""}]
[null,null,null,null,null,null,null,"Y13",{"$f":"IF(AND(D38=0,E38=0),\"\",IF(D38<E38,B37,B39))","v":""},null,null,null,null,null,null,null,null,{"$f":"CU48","v":0},{"$f":"CV48","v":0},"YE",null,43,{"$f":"IF(AND(R75=0,S75=0),\"\",IF(R75>S75,P74,P76))","v":""},null,null,null,null,null,null,null,null,{"$f":"CU59","v":0},{"$f":"CV59","v":0},"Y40",null,null,{"$f":"IF(AND(AF75=0,AG75=0),\"\",IF(AF75>AG75,AD73,AD77))","v":""},null,null,null,null,null,null,null,null,null,null,null,null,null,null,null,{"$f":"CU75","v":0},{"$f":"CV75","v":0},"Y56",null,70,{"$f":"IF(AND(BA75=0,BB75=0),\"\",IF(BA75>BB75,AY74,AY76))","v":""},null,null,null,null,null,null,"5.",null,null,null,null,null,null,null,null,null,null,null,null,null,null,null,null,70,null,null,null,null,{"$f":"AY74","v":""},{"$f":"AY76","v":""}]
[null,null,null,null,null,null,null,null,null,null,{"$f":"CU36","v":0},{"$f":"CV36","v":0},"YE",null,31,{"$f":"IF(AND(K76=0,L76=0),\"\",IF(K76>L76,I75,I77))","v":""},null,null,null,null,null,null,null,null,null,null,null,null,48,null,null,null,null,null,null,null,null,null,null,null,null,null,null,null,null,null,null,null,null,"Y44",{"$f":"IF(AND(AT69=0,AU69=0),\"\",IF(AT69<AU69,AR65,AR72))","v":""},null,null,null,null,null,null,null,null,null,null,null,null,null,null,null,null,null,null,null,null,null,null,null,null,null,null,null,null,null,null,71,null,null,null,null,{"$f":"BF49","v":""},{"$f":"BF61","v":""}]
[null,null,null,null,null,null,null,"Y14",{"$f":"IF(AND(D41=0,E41=0),\"\",IF(D41<E41,B40,B42))","v":""},null,null,null,null,null,null,null,null,null,null,null,null,null,null,null,null,{"$f":"CU53","v":0},{"$f":"CV53","v":0},"Y36",null,{"$f":"IF(AND(Z77=0,AA77=0),\"\",IF(Z77>AA77,W75,W79))","v":""},null,null,null,null,null,null,null,null,null,null,null,null,null,null,null,null,null,null,null,null,null,null,null,null,null,null,"Y56",{"$f":"IF(AND(BA75=0,BB75=0),\"\",IF(BA75<BB75,AY74,AY76))","v":""},null,null,null,null,null,null,"6.",null,null,null,null,null,null,null,null,null,null,null,null,null,null,null,null,72,null,null,null,null,{"$f":"BM25","v":""},{"$f":"BM55","v":""}]
[null,null,null,null,null,null,null,null,null,null,null,null,null,null,"Y17",{"$f":"IF(AND(K4=0,L4=0),\"\",IF(K4<L4,I2,I5))","v":""},null,null,null,null,null,null,null,null,null,null,null,null,null,null,null,null,null,null,null,null,null,null,null,null,null,null,"Y41",{"$f":"IF(AND(AM56=0,AN56=0),\"\",IF(AM56<AN56,AK51,AK59))","v":""}]
[null,null,null,null,null,null,null,"Y15",{"$f":"IF(AND(D44=0,E44=0),\"\",IF(D44<E44,B43,B45))","v":""},null,null,null,null,null,null,null,null,{"$f":"CU49","v":0},{"$f":"CV49","v":0},"YE",null,44,{"$f":"IF(AND(R79=0,S79=0),\"\",IF(R79>S79,P78,P80))","v":""},null,null,null,null,null,null,null,null,null,null,null,null,null,null,null,null,null,null,null,null,null,null,{"$f":"CU70","v":0},{"$f":"CV70","v":0},"Y53",null,65,{"$f":"IF(AND(AT79=0,AU79=0),\"\",IF(AT79>AU79,AR78,AR80))","v":""},null,null,null,null,null,null,"7."]
[null,null,null,null,null,null,null,null,null,null,{"$f":"CU37","v":0},{"$f":"CV37","v":0},"YE",null,32,{"$f":"IF(AND(K80=0,L80=0),\"\",IF(K80>L80,I79,I81))","v":""},null,null,null,null,null,null,null,null,null,null,null,null,null,null,null,null,null,null,null,null,null,null,null,null,null,null,"Y42",{"$f":"IF(AND(AM72=0,AN72=0),\"\",IF(AM72<AN72,AK67,AK75))","v":""}]
[null,null,null,null,null,null,null,"Y16",{"$f":"IF(AND(D47=0,E47=0),\"\",IF(D47<E47,B46,B48))","v":""},null,null,null,null,null,null,null,null,null,null,null,null,null,null,null,null,null,null,null,null,null,null,null,null,null,null,"Y37",{"$f":"IF(AND(AF51=0,AG51=0),\"\",IF(AF51<AG51,AD49,AD53))","v":""},null,null,null,null,null,null,null,null,null,null,null,null,"Y53",{"$f":"IF(AND(AT79=0,AU79=0),\"\",IF(AT79<AU79,AR78,AR80))","v":""},null,null,null,null,null,null,"8."]
[null,null,null,null,null,null,null,null,null,null,null,null,null,null,null,null,null,null,null,null,null,null,null,null,null,null,null,null,null,null,null,null,null,null,null,null,null,null,{"$f":"CU64","v":0},{"$f":"CV64","v":0},"Y49",null,59,{"$f":"IF(AND(AM82=0,AN82=0),\"\",IF(AM82>AN82,AK81,AK83))","v":""}]
[null,null,null,null,null,null,null,null,null,null,null,null,null,null,null,null,null,null,null,null,null,null,null,null,null,null,null,null,null,null,null,null,null,null,null,"Y38",{"$f":"IF(AND(AF59=0,AG59=0),\"\",IF(AF59<AG59,AD57,AD61))","v":""},null,null,null,null,null,null,null,null,null,null,null,null,66]
[null,null,null,null,null,null,null,null,null,null,null,null,null,null,null,null,null,null,null,null,null,null,null,null,null,null,null,null,null,null,null,null,null,null,null,"Y39",{"$f":"IF(AND(AF67=0,AG67=0),\"\",IF(AF67<AG67,AD65,AD69))","v":""},null,null,null,null,null,null,null,null,{"$f":"CU71","v":0},{"$f":"CV71","v":0},"Y54",null,null,{"$f":"IF(AND(AT84=0,AU84=0),\"\",IF(AT84>AU84,AR82,AR85))","v":""},null,null,null,null,null,null,"9."]
[null,null,null,null,null,null,null,null,null,null,null,null,null,null,null,null,null,null,null,null,null,null,null,null,null,null,null,null,null,null,null,null,null,null,null,null,null,null,{"$f":"CU65","v":0},{"$f":"CV65","v":0},"Y50",null,60,{"$f":"IF(AND(AM85=0,AN85=0),\"\",IF(AM85>AN85,AK84,AK86))","v":""}]
[null,null,null,null,null,null,null,null,null,null,null,null,null,null,null,null,null,null,null,null,null,null,null,null,null,null,null,null,null,null,null,null,null,null,null,"Y40",{"$f":"IF(AND(AF75=0,AG75=0),\"\",IF(AF75<AG75,AD73,AD77))","v":""},null,null,null,null,null,null,null,null,null,null,null,null,"Y54",{"$f":"IF(AND(AT84=0,AU84=0),\"\",IF(AT84<AU84,AR82,AR85))","v":""},null,null,null,null,null,null,"10."]
[null,null,null,null,null,null,null,null,null,null,null,null,null,null,null,null,null,null,null,null,null,null,null,null,null,null,null,null,null,null,null,null,null,null,null,null,null,null,null,null,null,null,"Y49",{"$f":"IF(AND(AM82=0,AN82=0),\"\",IF(AM82<AN82,AK81,AK83))","v":""}]
[null,null,null,null,null,null,null,null,null,null,null,null,null,null,null,null,null,null,null,null,null,null,null,null,null,null,null,null,null,null,null,null,null,null,null,null,null,null,null,null,null,null,null,null,null,{"$f":"CU72","v":0},{"$f":"CV72","v":0},"Y55",null,67,{"$f":"IF(AND(AT88=0,AU88=0),\"\",IF(AT88>AU88,AR87,AR89))","v":""},null,null,null,null,null,null,"11."]
[null,null,null,null,null,null,null,null,null,null,null,null,null,null,null,null,null,null,null,null,null,null,null,null,null,null,null,null,"Y33",{"$f":"IF(AND(Z53=0,AA53=0),\"\",IF(Z53<AA53,W51,W55))","v":""},null,null,null,null,null,null,null,null,null,null,null,null,"Y50",{"$f":"IF(AND(AM85=0,AN85=0),\"\",IF(AM85<AN85,AK84,AK86))","v":""}]
[null,null,null,null,null,null,null,null,null,null,null,null,null,null,null,null,null,null,null,null,null,null,null,null,null,null,null,null,null,null,null,{"$f":"CU60","v":0},{"$f":"CV60","v":0},"Y47",null,55,{"$f":"IF(AND(AF90=0,AG90=0),\"\",IF(AF90>AG90,AD89,AD91))","v":""},null,null,null,null,null,null,null,null,null,null,null,null,"Y55",{"$f":"IF(AND(AT88=0,AU88=0),\"\",IF(AT88<AU88,AR87,AR89))","v":""},null,null,null,null,null,null,"12."]
[null,null,null,null,null,null,null,null,null,null,null,null,null,null,null,null,null,null,null,null,null,null,null,null,null,null,null,null,"Y34",{"$f":"IF(AND(Z61=0,AA61=0),\"\",IF(Z61<AA61,W59,W63))","v":""},null,null,null,null,null,null,null,null,null,null,null,null,61]
[null,null,null,null,null,null,null,null,null,null,null,null,null,null,null,null,null,null,null,null,null,null,null,null,null,null,null,null,"Y35",{"$f":"IF(AND(Z69=0,AA69=0),\"\",IF(Z69<AA69,W67,W71))","v":""},null,null,null,null,null,null,null,null,{"$f":"CU66","v":0},{"$f":"CV66","v":0},"Y51",null,null,{"$f":"IF(AND(AM92=0,AN92=0),\"\",IF(AM92>AN92,AK90,AK93))","v":""},null,null,null,null,null,null,"13."]
[null,null,null,null,null,null,null,null,null,null,null,null,null,null,null,null,null,null,null,null,null,null,null,null,null,null,null,null,null,null,null,{"$f":"CU61","v":0},{"$f":"CV61","v":0},"Y48",null,56,{"$f":"IF(AND(AF93=0,AG93=0),\"\",IF(AF93>AG93,AD92,AD94))","v":""}]
[null,null,null,null,null,null,null,null,null,null,null,null,null,null,null,null,null,null,null,null,null,null,null,null,null,null,null,null,"Y36",{"$f":"IF(AND(Z77=0,AA77=0),\"\",IF(Z77<AA77,W75,W79))","v":""},null,null,null,null,null,null,null,null,null,null,null,null,"Y51",{"$f":"IF(AND(AM92=0,AN92=0),\"\",IF(AM92<AN92,AK90,AK93))","v":""},null,null,null,null,null,null,"14."]
[null,null,null,null,null,null,null,null,null,null,null,null,null,null,null,null,null,null,null,null,null,null,null,null,null,null,null,null,null,null,null,null,null,null,null,"Y47",{"$f":"IF(AND(AF90=0,AG90=0),\"\",IF(AF90<AG90,AD89,AD91))","v":""}]
[null,null,null,null,null,null,null,null,null,null,null,null,null,null,null,null,null,null,null,null,null,null,null,null,null,null,null,null,null,null,null,null,null,null,null,null,null,null,{"$f":"CU67","v":0},{"$f":"CV67","v":0},"Y52",null,62,{"$f":"IF(AND(AM96=0,AN96=0),\"\",IF(AM96>AN96,AK95,AK97))","v":""},null,null,null,null,null,null,"15."]
[null,null,null,null,null,null,null,null,null,null,null,null,null,null,null,null,null,null,null,null,null,null,null,null,null,null,null,null,null,null,null,null,null,null,null,"Y48",{"$f":"IF(AND(AF93=0,AG93=0),\"\",IF(AF93<AG93,AD92,AD94))","v":""}]
[null,null,null,null,null,null,null,null,null,null,null,null,null,null,null,null,null,null,null,null,null,null,null,null,null,null,null,null,null,null,null,null,null,null,null,null,null,null,null,null,null,null,"Y52",{"$f":"IF(AND(AM96=0,AN96=0),\"\",IF(AM96<AN96,AK95,AK97))","v":""},null,null,null,null,null,null,"16."]

{"sheet":"32DE(16)","index":7,"n_rows":84,"n_cols":105,"rows_kept":84,"cut":false,"hidden":true,"merged":[[39,36,39,42],[59,22,59,28],[0,24,2,43],[3,24,4,43],[82,29,82,35],[83,36,83,42],[45,29,45,35],[46,36,46,42],[48,22,48,28],[51,36,51,42],[53,29,53,35],[54,36,54,42],[61,29,61,35],[47,29,47,35],[48,36,48,42],[49,29,49,35],[50,22,50,28],[81,36,81,42],[79,36,79,42],[78,29,78,35],[79,22,79,28],[80,29,80,35],[77,22,77,28],[75,22,75,28],[76,36,76,42],[73,22,73,28],[73,36,73,42],[74,29,74,35],[69,15,69,21],[70,29,70,35],[71,36,71,42],[66,15,66,21],[66,29,66,35],[67,15,67,21],[67,36,67,42],[56,36,56,42],[57,29,57,35],[54,22,54,28],[55,29,55,35],[68,22,68,28],[72,29,72,35],[52,22,52,28],[45,1,45,7],[46,8,46,14],[47,1,47,7],[64,15,64,21],[65,22,65,28],[63,15,63,21],[64,36,64,42],[60,15,60,21],[61,15,61,21],[62,22,62,28],[58,36,58,42],[58,15,58,21],[40,8,40,14],[41,1,41,7],[42,1,42,7],[42,22,42,28],[43,8,43,14],[44,1,44,7],[44,15,44,21],[36,1,36,7],[37,8,37,14],[37,29,37,35],[38,1,38,7],[39,1,39,7],[39,15,39,21],[31,22,31,28],[32,1,32,7],[32,15,32,21],[33,1,33,7],[34,8,34,14],[35,1,35,7],[27,1,27,7],[27,15,27,21],[28,8,28,14],[29,1,29,7],[30,1,30,7],[31,8,31,14],[22,8,22,14],[23,1,23,7],[24,1,24,7],[24,36,24,42],[25,8,25,14],[26,1,26,7],[18,1,18,7],[19,8,19,14],[20,1,20,7],[20,15,20,21],[21,1,21,7],[14,1,14,7],[15,1,15,7],[15,15,15,21],[16,8,16,14],[17,1,17,7],[17,22,17,28],[9,1,9,7],[10,8,10,14],[11,1,11,7],[12,1,12,7],[12,29,12,35],[13,8,13,14],[5,1,5,7],[6,1,6,7],[6,22,6,28],[7,8,7,14],[8,1,8,7],[8,15,8,21],[4,88,4,89],[4,90,4,91],[4,92,4,93],[4,94,4,95],[4,96,4,97],[4,98,4,99],[0,1,0,7],[1,8,1,14],[2,1,2,7],[3,1,3,7],[3,15,3,21],[4,8,4,14]]}
[1,{"$f":"IF(Main!R2=2,Eleme!BL228,IF(Main!R2=3,Eleme!BL486,IF(Main!R2=4,Eleme!BL616,IF(Main!R2=5,Eleme!BL682))))","v":false},null,null,null,null,null,null,null,null,null,null,null,null,null,null,null,null,null,null,null,null,null,null,{"$f":"+Katılım!A1","v":"TÜRKİYE MASA TENİSİ FEDERASYONU                                                                                                                                                                                                     İsmail Eren ALICI Küçükler Ferdi-Takım Türkiye Şampiyonası  "},null,null,null,null,null,null,null,null,null,null,null,null,null,null,null,null,null,null,null,null,null,null,null,null,null,null,null,null,null,null,null,null,null,null,null,null,null,null,null,null,null,null,null,null,null,null,null,null,null,null,null,null,null,null,null,null,null,null,null,null,null,null,null,null,null,null,null,null,null,null,null,null,null,null,null,null,null,null,"1st Round",1]
[null,null,null,{"$f":"CU6","v":0},{"$f":"CV6","v":0},null,null,1,{"$f":"IF(AND(D2=0,E2=0),\"\",IF(D2>E2,B1,B3))","v":""},null,null,null,null,null,null,null,null,null,null,null,null,null,null,null,null,null,null,null,null,null,null,null,null,null,null,null,null,null,null,null,null,null,null,null,null,null,null,null,null,null,null,null,null,null,null,null,null,null,null,null,null,null,null,null,null,null,null,null,null,null,null,null,null,null,null,null,null,null,null,null,null,null,null,null,null,null,null,null,null,null,null,null,null,null,null,null,null,null,null,null,null,null,null,"2sn Round"]
[2,{"$f":"IF(Main!R2=2,Eleme!BM228,IF(Main!R2=3,Eleme!BM486,IF(Main!R2=4,Eleme!BM616,IF(Main!R2=5,Eleme!BM682))))","v":false},null,null,null,null,null,null,null,null,null,null,null,null,17,null,null,null,null,null,null,null,null,null,null,null,null,null,null,null,null,null,null,null,null,null,null,null,null,null,null,null,null,null,null,null,null,null,null,null,null,null,null,null,null,null,null,null,null,null,null,null,null,null,null,null,null,null,null,null,null,null,null,null,null,null,null,null,null,null,null,null,null,null,null,null,null,null,null,null,null,null,null,null,null,null,null,null,null,null,null,null,null,"3th Round"]
[3,{"$f":"IF(Main!R2=2,Eleme!BL229,IF(Main!R2=3,Eleme!BL487,IF(Main!R2=4,Eleme!BL617,IF(Main!R2=5,Eleme!BL683))))","v":false},null,null,null,null,null,null,null,null,{"$f":"CU22","v":0},{"$f":"CV22","v":0},"Y-1",null,null,{"$f":"IF(AND(K4=0,L4=0),\"\",IF(K4>L4,I2,I5))","v":""},null,null,null,null,null,null,null,null,{"$f":"Katılım!AC2&\" \"&Katılım!AE3","v":"KIZ TAKIM  [09-13 Nisan 2025 ÇORUM] [ Ana Tablo ]"},null,null,null,null,null,null,null,null,null,null,null,null,null,null,null,null,null,null,null,null,null,null,null,null,null,null,null,null,null,null,null,null,null,null,null,null,null,null,null,null,null,null,null,null,null,null,null,null,null,null,null,null,null,null,null,null,null,null,null,null,null,null,null,null,null,null,null,null,null,null,null,null,null,null,null,null,null,null,"4th Round"]
[null,null,null,{"$f":"CU7","v":0},{"$f":"CV7","v":0},null,null,2,{"$f":"IF(AND(D5=0,E5=0),\"\",IF(D5>E5,B4,B6))","v":""},null,null,null,null,null,null,null,null,null,null,null,null,25,null,null,null,null,null,null,null,null,null,null,null,null,null,null,null,null,null,null,null,null,null,null,null,null,null,null,null,null,null,null,null,null,null,null,null,null,null,null,null,null,null,null,null,null,null,null,null,null,null,null,null,null,null,null,null,null,null,null,null,"#","Date","Time","Table","Competition","Player A","Player B","Set1",null,"Set2",null,"Set3",null,"Set4",null,"Set5",null,"Result",null,null,null,null,"5th Round"]
[4,{"$f":"IF(Main!R2=2,Eleme!BM229,IF(Main!R2=3,Eleme!BM487,IF(Main!R2=4,Eleme!BM617,IF(Main!R2=5,Eleme!BM683))))","v":false},null,null,null,null,null,null,null,null,null,null,null,null,null,null,null,null,null,null,null,null,null,null,null,null,null,null,null,null,null,null,null,null,null,null,null,null,null,null,null,null,null,null,null,null,null,null,null,null,null,null,null,null,null,null,null,null,null,null,null,null,null,null,null,null,null,null,null,null,null,null,null,null,null,null,null,null,null,null,null,1,null,null,null,null,{"$f":"B1","v":false},{"$f":"B3","v":false},null,null,null,null,null,null,null,null,null,null,null,null,null,null,null,"6th Round"]
[5,{"$f":"IF(Main!R2=2,Eleme!BL230,IF(Main!R2=3,Eleme!BL488,IF(Main!R2=4,Eleme!BL618,IF(Main!R2=5,Eleme!BL684))))","v":false},null,null,null,null,null,null,null,null,null,null,null,null,null,null,null,{"$f":"CU30","v":0},{"$f":"CV30","v":0},"Y-9",null,null,{"$f":"IF(AND(R7=0,S7=0),\"\",IF(R7>S7,P4,P9))","v":""},null,null,null,null,null,null,null,null,null,null,null,null,null,null,null,null,null,null,null,null,null,null,null,null,null,null,null,null,null,null,null,null,null,null,null,null,null,null,null,null,null,null,null,null,null,null,null,null,null,null,null,null,null,null,null,null,null,null,2,null,null,null,null,{"$f":"B4","v":false},{"$f":"B6","v":false},null,null,null,null,null,null,null,null,null,null,null,null,null,null,null,"7th Round"]
[null,null,null,{"$f":"CU8","v":0},{"$f":"CV8","v":0},null,null,3,{"$f":"IF(AND(D8=0,E8=0),\"\",IF(D8>E8,B7,B9))","v":""},null,null,null,null,null,null,null,null,null,null,null,null,null,null,null,null,null,null,null,33,null,null,null,null,null,null,null,null,null,null,null,null,null,null,null,null,null,null,null,null,null,null,null,null,null,null,null,null,null,null,null,null,null,null,null,null,null,null,null,null,null,null,null,null,null,null,null,null,null,null,null,null,3,null,null,null,null,{"$f":"B7","v":false},{"$f":"B9","v":false},null,null,null,null,null,null,null,null,null,null,null,null,null,null,null,"8th Round"]
[6,{"$f":"IF(Main!R2=2,Eleme!BM230,IF(Main!R2=3,Eleme!BM488,IF(Main!R2=4,Eleme!BM618,IF(Main!R2=5,Eleme!BM684))))","v":false},null,null,null,null,null,null,null,null,null,null,null,null,18,{"$f":"IF(AND(K10=0,L10=0),\"\",IF(K10>L10,I8,I11))","v":""},null,null,null,null,null,null,null,null,null,null,null,null,null,null,null,null,null,null,null,null,null,null,null,null,null,null,null,null,null,null,null,null,null,null,null,null,null,null,null,null,null,null,null,null,null,null,null,null,null,null,null,null,null,null,null,null,null,null,null,null,null,null,null,null,null,4,null,null,null,null,{"$f":"B10","v":false},{"$f":"B12","v":false},null,null,null,null,null,null,null,null,null,null,null,null,null,null,null,"9th Round"]
[7,{"$f":"IF(Main!R2=2,Eleme!BL231,IF(Main!R2=3,Eleme!BL489,IF(Main!R2=4,Eleme!BL619,IF(Main!R2=5,Eleme!BL685))))","v":false},null,null,null,null,null,null,null,null,{"$f":"CU23","v":0},{"$f":"CV23","v":0},"Y-2",null,null,null,null,null,null,null,null,null,null,null,null,null,null,null,null,null,null,null,null,null,null,null,null,null,null,null,null,null,null,null,null,null,null,null,null,null,null,null,null,null,null,null,null,null,null,null,null,null,null,null,null,null,null,null,null,null,null,null,null,null,null,null,null,null,null,null,null,5,null,null,null,null,{"$f":"B13","v":false},{"$f":"B15","v":false},null,null,null,null,null,null,null,null,null,null,null,null,null,null,null,"10th Round"]
[null,null,null,{"$f":"CU9","v":0},{"$f":"CV9","v":0},null,null,4,{"$f":"IF(AND(D11=0,E11=0),\"\",IF(D11>E11,B10,B12))","v":""},null,null,null,null,null,null,null,null,null,null,null,null,null,null,null,null,null,null,null,null,null,null,null,null,null,null,null,null,null,null,null,null,null,null,null,null,null,null,null,null,null,null,null,null,null,null,null,null,null,null,null,null,null,null,null,null,null,null,null,null,null,null,null,null,null,null,null,null,null,null,null,null,6,null,null,null,null,{"$f":"B16","v":false},{"$f":"B18","v":false}]
[8,{"$f":"IF(Main!R2=2,Eleme!BM231,IF(Main!R2=3,Eleme!BM489,IF(Main!R2=4,Eleme!BM619,IF(Main!R2=5,Eleme!BM685))))","v":false},null,null,null,null,null,null,null,null,null,null,null,null,null,null,null,null,null,null,null,null,null,null,null,null,null,null,null,null,null,null,null,null,null,null,null,null,null,null,null,null,null,null,null,null,null,null,null,null,null,null,null,null,null,null,null,null,null,null,null,null,null,null,null,null,null,null,null,null,null,null,null,null,null,null,null,null,null,null,null,7,null,null,null,null,{"$f":"B19","v":false},{"$f":"B21","v":false}]
[9,{"$f":"IF(Main!R2=2,Eleme!BL232,IF(Main!R2=3,Eleme!BL490,IF(Main!R2=4,Eleme!BL620,IF(Main!R2=5,Eleme!BL686))))","v":false},null,null,null,null,null,null,null,null,null,null,null,null,null,null,null,null,null,null,null,null,null,null,{"$f":"CU38","v":0},{"$f":"CV38","v":0},"Y-17",null,null,{"$f":"IF(AND(Y13=0,Z13=0),\"\",IF(Y13>Z13,W7,W18))","v":""},null,null,null,null,null,null,null,null,null,null,null,null,null,null,null,null,null,null,null,null,null,null,null,null,null,null,null,null,null,null,null,null,null,null,null,null,null,null,null,null,null,null,null,null,null,null,null,null,null,null,null,8,null,null,null,null,{"$f":"B22","v":false},{"$f":"B24","v":false}]
[null,null,null,{"$f":"CU10","v":0},{"$f":"CV10","v":0},null,null,5,{"$f":"IF(AND(D14=0,E14=0),\"\",IF(D14>E14,B13,B15))","v":""},null,null,null,null,null,null,null,null,null,null,null,null,null,null,null,null,null,null,null,null,null,null,null,null,null,null,41,null,null,null,null,null,null,null,null,null,null,null,null,null,null,null,null,null,null,null,null,null,null,null,null,null,null,null,null,null,null,null,null,null,null,null,null,null,null,null,null,null,null,null,null,null,9,null,null,null,null,{"$f":"B25","v":false},{"$f":"B27","v":false}]
[10,{"$f":"IF(Main!R2=2,Eleme!BM232,IF(Main!R2=3,Eleme!BM490,IF(Main!R2=4,Eleme!BM620,IF(Main!R2=5,Eleme!BM686))))","v":false},null,null,null,null,null,null,null,null,null,null,null,null,19,null,null,null,null,null,null,null,null,null,null,null,null,null,null,null,null,null,null,null,null,null,null,null,null,null,null,null,null,null,null,null,null,null,null,null,null,null,null,null,null,null,null,null,null,null,null,null,null,null,null,null,null,null,null,null,null,null,null,null,null,null,null,null,null,null,null,10,null,null,null,null,{"$f":"B28","v":false},{"$f":"B30","v":false}]
[11,{"$f":"IF(Main!R2=2,Eleme!BL233,IF(Main!R2=3,Eleme!BL491,IF(Main!R2=4,Eleme!BL621,IF(Main!R2=5,Eleme!BL687))))","v":false},null,null,null,null,null,null,null,null,{"$f":"CU24","v":0},{"$f":"CV24","v":0},"Y-3",null,null,{"$f":"IF(AND(K16=0,L16=0),\"\",IF(K16>L16,I14,I17))","v":""},null,null,null,null,null,null,null,null,null,null,null,null,null,null,null,null,null,null,null,null,null,null,null,null,null,null,null,null,null,null,null,null,null,null,null,null,null,null,null,null,null,null,null,null,null,null,null,null,null,null,null,null,null,null,null,null,null,null,null,null,null,null,null,null,null,11,null,null,null,null,{"$f":"B31","v":false},{"$f":"B33","v":false}]
[null,null,null,{"$f":"CU11","v":0},{"$f":"CV11","v":0},null,null,6,{"$f":"IF(AND(D17=0,E17=0),\"\",IF(D17>E17,B16,B18))","v":""},null,null,null,null,null,null,null,null,null,null,null,null,26,null,null,null,null,null,null,null,null,null,null,null,null,null,null,null,null,null,null,null,null,null,null,null,null,null,null,null,null,null,null,null,null,null,null,null,null,null,null,null,null,null,null,null,null,null,null,null,null,null,null,null,null,null,null,null,null,null,null,null,12,null,null,null,null,{"$f":"B34","v":false},{"$f":"B36","v":false}]
[12,{"$f":"IF(Main!R2=2,Eleme!BM233,IF(Main!R2=3,Eleme!BM491,IF(Main!R2=4,Eleme!BM621,IF(Main!R2=5,Eleme!BM687))))","v":false},null,null,null,null,null,null,null,null,null,null,null,null,null,null,null,null,null,null,null,null,{"$f":"IF(AND(R19=0,S19=0),\"\",IF(R19>S19,P16,P21))","v":""},null,null,null,null,null,null,null,null,null,null,null,null,null,null,null,null,null,null,null,null,null,null,null,null,null,null,null,null,null,null,null,null,null,null,null,null,null,null,null,null,null,null,null,null,null,null,null,null,null,null,null,null,null,null,null,null,null,null,13,null,null,null,null,{"$f":"B37","v":false},{"$f":"B39","v":false}]
[13,{"$f":"IF(Main!R2=2,Eleme!BL234,IF(Main!R2=3,Eleme!BL492,IF(Main!R2=4,Eleme!BL622,IF(Main!R2=5,Eleme!BL688))))","v":false},null,null,null,null,null,null,null,null,null,null,null,null,null,null,null,{"$f":"CU31","v":0},{"$f":"CV31","v":0},"Y-10",null,null,null,null,null,null,null,null,null,null,null,null,null,null,null,null,null,null,null,null,null,null,null,null,null,null,null,null,null,null,null,null,null,null,null,null,null,null,null,null,null,null,null,null,null,null,null,null,null,null,null,null,null,null,null,null,null,null,null,null,null,14,null,null,null,null,{"$f":"B40","v":false},{"$f":"B42","v":false}]
[null,null,null,{"$f":"CU12","v":0},{"$f":"CV12","v":0},null,null,7,{"$f":"IF(AND(D20=0,E20=0),\"\",IF(D20>E20,B19,B21))","v":""},null,null,null,null,null,null,null,null,null,null,null,null,null,null,null,null,null,null,null,null,null,null,null,null,null,null,null,null,null,null,null,null,null,null,null,null,null,null,null,null,null,null,null,null,null,null,null,null,null,null,null,null,null,null,null,null,null,null,null,null,null,null,null,null,null,null,null,null,null,null,null,null,15,null,null,null,null,{"$f":"B43","v":false},{"$f":"B45","v":false}]
[14,{"$f":"IF(Main!R2=2,Eleme!BM234,IF(Main!R2=3,Eleme!BM492,IF(Main!R2=4,Eleme!BM622,IF(Main!R2=5,Eleme!BM688))))","v":false},null,null,null,null,null,null,null,null,null,null,null,null,20,{"$f":"IF(AND(K22=0,L22=0),\"\",IF(K22>L22,I20,I23))","v":""},null,null,null,null,null,null,null,null,null,null,null,null,null,null,null,null,null,null,null,null,null,null,null,null,null,null,null,null,null,null,null,null,null,null,null,null,null,null,null,null,null,null,null,null,null,null,null,null,null,null,null,null,null,null,null,null,null,null,null,null,null,null,null,null,null,16,null,null,null,null,{"$f":"B46","v":false},{"$f":"B48","v":false}]
[15,{"$f":"IF(Main!R2=2,Eleme!BL235,IF(Main!R2=3,Eleme!BL493,IF(Main!R2=4,Eleme!BL623,IF(Main!R2=5,Eleme!BL689))))","v":false},null,null,null,null,null,null,null,null,{"$f":"CU25","v":0},{"$f":"CV25","v":0},"Y-4",null,null,null,null,null,null,null,null,null,null,null,null,null,null,null,null,null,null,null,null,null,null,null,null,null,null,null,null,null,null,null,null,null,null,null,null,null,null,null,null,null,null,null,null,null,null,null,null,null,null,null,null,null,null,null,null,null,null,null,null,null,null,null,null,null,null,null,null,17,null,null,null,null,{"$f":"I2","v":""},{"$f":"I5","v":""}]
[null,null,null,{"$f":"CU13","v":0},{"$f":"CV13","v":0},null,null,8,{"$f":"IF(AND(D23=0,E23=0),\"\",IF(D23>E23,B22,B24))","v":""},null,null,null,null,null,null,null,null,null,null,null,null,null,null,null,null,null,null,null,null,null,null,null,null,null,null,null,null,null,null,null,null,null,null,null,null,null,null,null,null,null,null,null,null,null,null,null,null,null,null,null,null,null,null,null,null,null,null,null,null,null,null,null,null,null,null,null,null,null,null,null,null,18,null,null,null,null,{"$f":"I8","v":""},{"$f":"I11","v":""}]
[16,{"$f":"IF(Main!R2=2,Eleme!BM235,IF(Main!R2=3,Eleme!BM493,IF(Main!R2=4,Eleme!BM623,IF(Main!R2=5,Eleme!BM689))))","v":false},null,null,null,null,null,null,null,null,null,null,null,null,null,null,null,null,null,null,null,null,null,null,null,null,null,null,null,null,null,null,null,null,null,null,null,null,null,null,null,null,null,null,null,null,null,null,null,null,null,null,null,null,null,null,null,null,null,null,null,null,null,null,null,null,null,null,null,null,null,null,null,null,null,null,null,null,null,null,null,19,null,null,null,null,{"$f":"I14","v":""},{"$f":"I17","v":""}]
[17,{"$f":"IF(Main!R2=2,Eleme!BL236,IF(Main!R2=3,Eleme!BL494,IF(Main!R2=4,Eleme!BL624,IF(Main!R2=5,Eleme!BL690))))","v":false},null,null,null,null,null,null,null,null,null,null,null,null,null,{"$f":"IF(AND(K22=0,L22=0),\"\",IF(K22<L22,I20,I23))","v":""},null,null,null,null,null,null,null,null,null,null,null,null,null,null,null,{"$f":"CU46","v":0},{"$f":"CV46","v":0},"Y-25",null,null,{"$f":"IF(AND(AF25=0,AG25=0),\"\",IF(AF25>AG25,AD13,AD38))","v":""},null,null,null,null,null,null,"1.",null,null,null,null,null,null,null,null,null,null,null,null,null,null,null,null,null,null,null,null,null,null,null,null,null,null,null,null,null,null,null,null,null,null,null,null,null,20,null,null,null,null,{"$f":"I20","v":""},{"$f":"I23","v":""}]
[null,null,null,{"$f":"CU14","v":0},{"$f":"CV14","v":0},null,null,9,{"$f":"IF(AND(D26=0,E26=0),\"\",IF(D26>E26,B25,B27))","v":""},null,null,null,null,null,null,null,null,null,null,null,null,null,null,null,null,null,null,null,null,null,null,null,null,null,null,null,null,null,null,null,null,null,null,null,null,null,null,null,null,null,null,null,null,null,null,null,null,null,null,null,null,null,null,null,null,null,null,null,null,null,null,null,null,null,null,null,null,null,null,null,null,21,null,null,null,null,{"$f":"I26","v":""},{"$f":"I29","v":""}]
[18,{"$f":"IF(Main!R2=2,Eleme!BM236,IF(Main!R2=3,Eleme!BM494,IF(Main!R2=4,Eleme!BM624,IF(Main!R2=5,Eleme!BM690))))","v":false},null,null,null,null,null,null,null,null,null,null,null,null,21,null,null,null,null,null,null,null,null,null,null,null,null,null,null,null,null,null,null,null,null,null,null,null,null,null,null,null,null,null,null,null,null,null,null,null,null,null,null,null,null,null,null,null,null,null,null,null,null,null,null,null,null,null,null,null,null,null,null,null,null,null,null,null,null,null,null,22,null,null,null,null,{"$f":"I32","v":""},{"$f":"I35","v":""}]
[19,{"$f":"IF(Main!R2=2,Eleme!BL237,IF(Main!R2=3,Eleme!BL495,IF(Main!R2=4,Eleme!BL625,IF(Main!R2=5,Eleme!BL691))))","v":false},null,null,null,null,null,null,null,null,{"$f":"CU26","v":0},{"$f":"CV26","v":0},"Y-5",null,null,{"$f":"IF(AND(K28=0,L28=0),\"\",IF(K28>L28,I26,I29))","v":""},null,null,null,null,null,null,null,null,null,null,null,null,null,null,null,null,null,null,null,null,null,null,null,null,null,null,null,null,null,null,null,null,null,null,null,null,null,null,null,null,null,null,null,null,null,null,null,null,null,null,null,null,null,null,null,null,null,null,null,null,null,null,null,null,null,23,null,null,null,null,{"$f":"I38","v":""},{"$f":"I41","v":""}]
[null,null,null,{"$f":"CU15","v":0},{"$f":"CV15","v":0},null,null,10,{"$f":"IF(AND(D29=0,E29=0),\"\",IF(D29>E29,B28,B30))","v":""},null,null,null,null,null,null,null,null,null,null,null,null,27,null,null,null,null,null,null,null,null,null,null,null,null,null,null,null,null,null,null,null,null,null,null,null,null,null,null,null,null,null,null,null,null,null,null,null,null,null,null,null,null,null,null,null,null,null,null,null,null,null,null,null,null,null,null,null,null,null,null,null,24,null,null,null,null,{"$f":"I44","v":""},{"$f":"I47","v":""}]
[20,{"$f":"IF(Main!R2=2,Eleme!BM237,IF(Main!R2=3,Eleme!BM495,IF(Main!R2=4,Eleme!BM625,IF(Main!R2=5,Eleme!BM691))))","v":false},null,null,null,null,null,null,null,null,null,null,null,null,null,null,null,null,null,null,null,null,null,null,null,null,null,null,null,null,null,null,null,null,null,null,null,null,null,null,null,null,null,null,null,null,null,null,null,null,null,null,null,null,null,null,null,null,null,null,null,null,null,null,null,null,null,null,null,null,null,null,null,null,null,null,null,null,null,null,null,25,null,null,null,null,{"$f":"P4","v":""},{"$f":"P9","v":""}]
[21,{"$f":"IF(Main!R2=2,Eleme!BL238,IF(Main!R2=3,Eleme!BL496,IF(Main!R2=4,Eleme!BL626,IF(Main!R2=5,Eleme!BL692))))","v":false},null,null,null,null,null,null,null,null,null,null,null,null,null,null,null,{"$f":"CU32","v":0},{"$f":"CV32","v":0},"Y-11",null,null,null,null,null,null,null,null,null,null,null,null,null,null,null,null,null,null,null,null,null,null,null,null,null,null,null,null,null,null,null,null,null,null,null,null,null,null,null,null,null,null,null,null,null,null,null,null,null,null,null,null,null,null,null,null,null,null,null,null,null,26,null,null,null,null,{"$f":"P16","v":""},{"$f":"P21","v":""}]
[null,null,null,{"$f":"CU16","v":0},{"$f":"CV16","v":0},null,null,11,{"$f":"IF(AND(D32=0,E32=0),\"\",IF(D32>E32,B31,B33))","v":""},null,null,null,null,null,null,null,null,null,null,null,null,null,{"$f":"IF(AND(R31=0,S31=0),\"\",IF(R31>S31,P28,P33))","v":""},null,null,null,null,null,null,null,null,null,null,null,null,null,null,null,null,null,null,null,null,null,null,null,null,null,null,null,null,null,null,null,null,null,null,null,null,null,null,null,null,null,null,null,null,null,null,null,null,null,null,null,null,null,null,null,null,null,null,27,null,null,null,null,{"$f":"P28","v":""},{"$f":"P33","v":""}]
[22,{"$f":"IF(Main!R2=2,Eleme!BM238,IF(Main!R2=3,Eleme!BM496,IF(Main!R2=4,Eleme!BM626,IF(Main!R2=5,Eleme!BM692))))","v":false},null,null,null,null,null,null,null,null,null,null,null,null,22,{"$f":"IF(AND(K34=0,L34=0),\"\",IF(K34>L34,I32,I35))","v":""},null,null,null,null,null,null,null,null,null,null,null,null,34,null,null,null,null,null,null,null,null,null,null,null,null,null,null,null,null,null,null,null,null,null,null,null,null,null,null,null,null,null,null,null,null,null,null,null,null,null,null,null,null,null,null,null,null,null,null,null,null,null,null,null,null,28,null,null,null,null,{"$f":"P40","v":""},{"$f":"P45","v":""}]
[23,{"$f":"IF(Main!R2=2,Eleme!BL239,IF(Main!R2=3,Eleme!BL497,IF(Main!R2=4,Eleme!BL627,IF(Main!R2=5,Eleme!BL693))))","v":false},null,null,null,null,null,null,null,null,{"$f":"CU27","v":0},{"$f":"CV27","v":0},"Y-6",null,null,null,null,null,null,null,null,null,null,null,null,null,null,null,null,null,null,null,null,null,null,null,null,null,null,null,null,null,null,null,null,null,null,null,null,null,null,null,null,null,null,null,null,null,null,null,null,null,null,null,null,null,null,null,null,null,null,null,null,null,null,null,null,null,null,null,null,29,null,null,null,null,{"$f":"P59","v":""},{"$f":"P61","v":""}]
[null,null,null,{"$f":"CU17","v":0},{"$f":"CV17","v":0},null,null,12,{"$f":"IF(AND(D35=0,E35=0),\"\",IF(D35>E35,B34,B36))","v":""},null,null,null,null,null,null,null,null,null,null,null,null,null,null,null,null,null,null,null,null,null,null,null,null,null,null,null,null,null,null,null,null,null,null,null,null,null,null,null,null,null,null,null,null,null,null,null,null,null,null,null,null,null,null,null,null,null,null,null,null,null,null,null,null,null,null,null,null,null,null,null,null,30,null,null,null,null,{"$f":"P62","v":""},{"$f":"P64","v":""}]
[24,{"$f":"IF(Main!R2=2,Eleme!BM239,IF(Main!R2=3,Eleme!BM497,IF(Main!R2=4,Eleme!BM627,IF(Main!R2=5,Eleme!BM693))))","v":false},null,null,null,null,null,null,null,null,null,null,null,null,null,null,null,null,null,null,null,null,null,null,null,null,null,null,null,null,null,null,null,null,null,null,null,null,null,null,null,null,null,null,null,null,null,null,null,null,null,null,null,null,null,null,null,null,null,null,null,null,null,null,null,null,null,null,null,null,null,null,null,null,null,null,null,null,null,null,null,31,null,null,null,null,{"$f":"P65","v":""},{"$f":"P67","v":""}]
[25,{"$f":"IF(Main!R2=2,Eleme!BL240,IF(Main!R2=3,Eleme!BL498,IF(Main!R2=4,Eleme!BL628,IF(Main!R2=5,Eleme!BL694))))","v":false},null,null,null,null,null,null,null,null,null,null,null,null,null,null,null,null,null,null,null,null,null,null,null,null,null,null,null,null,null,null,null,null,null,null,null,null,null,null,null,null,null,null,null,null,null,null,null,null,null,null,null,null,null,null,null,null,null,null,null,null,null,null,null,null,null,null,null,null,null,null,null,null,null,null,null,null,null,null,null,32,null,null,null,null,{"$f":"P68","v":""},{"$f":"P70","v":""}]
[null,null,null,{"$f":"CU18","v":0},{"$f":"CV18","v":0},null,null,13,{"$f":"IF(AND(D38=0,E38=0),\"\",IF(D38>E38,B37,B39))","v":""},null,null,null,null,null,null,null,null,null,null,null,null,null,null,null,{"$f":"CU39","v":0},{"$f":"CV39","v":0},"Y-18",null,null,{"$f":"IF(AND(Y38=0,Z38=0),\"\",IF(Y38>Z38,W32,W43))","v":""},null,null,null,null,null,null,null,null,null,null,null,null,null,null,null,null,null,null,null,null,null,null,null,null,null,null,null,null,null,null,null,null,null,null,null,null,null,null,null,null,null,null,null,null,null,null,null,null,null,null,null,33,null,null,null,null,{"$f":"W7","v":""},{"$f":"W18","v":""}]
[26,{"$f":"IF(Main!R2=2,Eleme!BM240,IF(Main!R2=3,Eleme!BM498,IF(Main!R2=4,Eleme!BM628,IF(Main!R2=5,Eleme!BM694))))","v":false},null,null,null,null,null,null,null,null,null,null,null,null,23,null,null,null,null,null,null,null,null,null,null,null,null,null,null,null,null,null,null,null,null,null,null,null,null,null,null,null,null,null,null,null,null,null,null,null,null,null,null,null,null,null,null,null,null,null,null,null,null,null,null,null,null,null,null,null,null,null,null,null,null,null,null,null,null,null,null,34,null,null,null,null,{"$f":"W32","v":""},{"$f":"W43","v":""}]
[27,{"$f":"IF(Main!R2=2,Eleme!BL241,IF(Main!R2=3,Eleme!BL499,IF(Main!R2=4,Eleme!BL629,IF(Main!R2=5,Eleme!BL695))))","v":false},null,null,null,null,null,null,null,null,{"$f":"CU28","v":0},{"$f":"CV28","v":0},"Y-7",null,null,{"$f":"IF(AND(K40=0,L40=0),\"\",IF(K40>L40,I38,I41))","v":""},null,null,null,null,null,null,null,null,null,null,null,null,null,null,null,null,null,null,null,25,{"$f":"IF(AND(AF25=0,AG25=0),\"\",IF(AF25<AG25,AD13,AD38))","v":""},null,null,null,null,null,null,"2.",null,null,null,null,null,null,null,null,null,null,null,null,null,null,null,null,null,null,null,null,null,null,null,null,null,null,null,null,null,null,null,null,null,null,null,null,null,35,null,null,null,null,{"$f":"W49","v":""},{"$f":"W51","v":""}]
[null,null,null,{"$f":"CU19","v":0},{"$f":"CV19","v":0},null,null,14,{"$f":"IF(AND(D41=0,E41=0),\"\",IF(D41>E41,B40,B42))","v":""},null,null,null,null,null,null,null,null,null,null,null,null,28,null,null,null,null,null,null,null,null,null,null,null,null,null,null,null,null,null,null,null,null,null,null,null,null,null,null,null,null,null,null,null,null,null,null,null,null,null,null,null,null,null,null,null,null,null,null,null,null,null,null,null,null,null,null,null,null,null,null,null,36,null,null,null,null,{"$f":"W53","v":""},{"$f":"W55","v":""}]
[28,{"$f":"IF(Main!R2=2,Eleme!BM241,IF(Main!R2=3,Eleme!BM499,IF(Main!R2=4,Eleme!BM629,IF(Main!R2=5,Eleme!BM695))))","v":false},null,null,null,null,null,null,null,null,null,null,null,null,null,null,null,null,null,null,null,null,null,null,null,null,null,null,null,null,null,null,null,null,null,null,null,null,null,null,null,null,null,null,null,null,null,null,null,null,null,null,null,null,null,null,null,null,null,null,null,null,null,null,null,null,null,null,null,null,null,null,null,null,null,null,null,null,null,null,null,37,null,null,null,null,{"$f":"W60","v":""},{"$f":"W63","v":""}]
[29,{"$f":"IF(Main!R2=2,Eleme!BL242,IF(Main!R2=3,Eleme!BL500,IF(Main!R2=4,Eleme!BL630,IF(Main!R2=5,Eleme!BL696))))","v":false},null,null,null,null,null,null,null,null,null,null,null,null,null,null,null,{"$f":"CU33","v":0},{"$f":"CV33","v":0},"Y-12",null,null,{"$f":"IF(AND(R43=0,S43=0),\"\",IF(R43>S43,P40,P45))","v":""},null,null,null,null,null,null,null,null,null,null,null,null,null,null,null,null,null,null,null,null,null,null,null,null,null,null,null,null,null,null,null,null,null,null,null,null,null,null,null,null,null,null,null,null,null,null,null,null,null,null,null,null,null,null,null,null,null,null,38,null,null,null,null,{"$f":"W66","v":""},{"$f":"W69","v":""}]
[null,null,null,{"$f":"CU20","v":0},{"$f":"CV20","v":0},null,null,15,{"$f":"IF(AND(D44=0,E44=0),\"\",IF(D44>E44,B43,B45))","v":""},null,null,null,null,null,null,null,null,null,null,null,null,null,null,null,null,null,null,null,null,null,null,null,null,null,null,null,null,null,null,null,null,null,null,null,null,null,null,null,null,null,null,null,null,null,null,null,null,null,null,null,null,null,null,null,null,null,null,null,null,null,null,null,null,null,null,null,null,null,null,null,null,39,null,null,null,null,{"$f":"W74","v":""},{"$f":"W76","v":""}]
[30,{"$f":"IF(Main!R2=2,Eleme!BM242,IF(Main!R2=3,Eleme!BM500,IF(Main!R2=4,Eleme!BM630,IF(Main!R2=5,Eleme!BM696))))","v":false},null,null,null,null,null,null,null,null,null,null,null,null,24,{"$f":"IF(AND(K46=0,L46=0),\"\",IF(K46>L46,I44,I47))","v":""},null,null,null,null,null,null,null,null,null,null,null,null,null,null,null,null,null,null,null,null,null,null,null,null,null,null,null,null,null,null,null,null,null,null,null,null,null,null,null,null,null,null,null,null,null,null,null,null,null,null,null,null,null,null,null,null,null,null,null,null,null,null,null,null,null,40,null,null,null,null,{"$f":"W78","v":""},{"$f":"W80","v":""}]
[31,{"$f":"IF(Main!R2=2,Eleme!BL243,IF(Main!R2=3,Eleme!BL501,IF(Main!R2=4,Eleme!BL631,IF(Main!R2=5,Eleme!BL697))))","v":false},null,null,null,null,null,null,null,null,{"$f":"CU29","v":0},{"$f":"CV29","v":0},"Y-8",null,null,null,null,null,null,null,null,null,null,null,null,null,null,null,17,{"$f":"IF(AND(Y13=0,Z13=0),\"\",IF(Y13<Z13,W7,W18))","v":""},null,null,null,null,null,null,null,null,null,null,null,null,null,null,null,null,null,null,null,null,null,null,null,null,null,null,null,null,null,null,null,null,null,null,null,null,null,null,null,null,null,null,null,null,null,null,null,null,null,null,null,41,null,null,null,null,{"$f":"AD13","v":""},{"$f":"AD38","v":""}]
[null,null,null,{"$f":"CU21","v":0},{"$f":"CV21","v":0},null,null,16,{"$f":"IF(AND(D47=0,E47=0),\"\",IF(D47>E47,B46,B48))","v":""},null,null,null,null,null,null,null,null,null,null,null,null,null,null,null,null,null,null,null,null,null,null,{"$f":"CU47","v":0},{"$f":"+CV47","v":0},"Y-26",null,42,{"$f":"IF(AND(AF47=0,AG47=0),\"\",IF(AF47>AG47,AD46,AD48))","v":""},null,null,null,null,null,null,"3.",null,null,null,null,null,null,null,null,null,null,null,null,null,null,null,null,null,null,null,null,null,null,null,null,null,null,null,null,null,null,null,null,null,null,null,null,null,42,null,null,null,null,{"$f":"AD46","v":""},{"$f":"AD48","v":""}]
[32,{"$f":"IF(Main!R2=2,Eleme!BM243,IF(Main!R2=3,Eleme!BM501,IF(Main!R2=4,Eleme!BM631,IF(Main!R2=5,Eleme!BM697))))","v":false},null,null,null,null,null,null,null,null,null,null,null,null,null,null,null,null,null,null,null,null,null,null,null,null,null,null,18,{"$f":"IF(AND(Y38=0,Z38=0),\"\",IF(Y38<Z38,W32,W43))","v":""},null,null,null,null,null,null,null,null,null,null,null,null,null,null,null,null,null,null,null,null,null,null,null,null,null,null,null,null,null,null,null,null,null,null,null,null,null,null,null,null,null,null,null,null,null,null,null,null,null,null,null,43,null,null,null,null,{"$f":"AD50","v":""},{"$f":"AD54","v":""}]
[null,null,null,null,null,null,null,null,null,null,null,null,null,null,null,null,null,null,null,null,null,9,{"$f":"IF(AND(R7=0,S7=0),\"\",IF(R7<S7,P4,P9))","v":""},null,null,null,null,null,null,null,null,null,null,null,null,26,{"$f":"IF(AND(AF47=0,AG47=0),\"\",IF(AF47<AG47,AD46,AD48))","v":""},null,null,null,null,null,null,"4.",null,null,null,null,null,null,null,null,null,null,null,null,null,null,null,null,null,null,null,null,null,null,null,null,null,null,null,null,null,null,null,null,null,null,null,null,null,44,null,null,null,null,{"$f":"AD56","v":""},{"$f":"AD58","v":""}]
[null,null,null,null,null,null,null,null,null,null,null,null,null,null,null,null,null,null,null,null,null,null,null,null,{"$f":"CU40","v":0},{"$f":"+CV40","v":0},"Y-19",null,35,{"$f":"IF(AND(Y50=0,Z50=0),\"\",IF(Y50>Z50,W49,W51))","v":""},null,null,null,null,null,null,null,null,null,null,null,null,null,null,null,null,null,null,null,null,null,null,null,null,null,null,null,null,null,null,null,null,null,null,null,null,null,null,null,null,null,null,null,null,null,null,null,null,null,null,null,45,null,null,null,null,{"$f":"AD62","v":""},{"$f":"AD67","v":""}]
[null,null,null,null,null,null,null,null,null,null,null,null,null,null,null,null,null,null,null,null,null,10,{"$f":"IF(AND(R19=0,S19=0),\"\",IF(R19<S19,P16,P21))","v":""},null,null,null,null,null,null,null,null,null,null,null,null,43,null,null,null,null,null,null,null,null,null,null,null,null,null,null,null,null,null,null,null,null,null,null,null,null,null,null,null,null,null,null,null,null,null,null,null,null,null,null,null,null,null,null,null,null,null,46,null,null,null,null,{"$f":"AD71","v":""},{"$f":"AD73","v":""}]
[null,null,null,null,null,null,null,null,null,null,null,null,null,null,null,null,null,null,null,null,null,null,null,null,null,null,null,null,null,null,null,{"$f":"CU48","v":0},{"$f":"+CV48","v":0},"Y-27",null,null,{"$f":"IF(AND(AF52=0,AG52=0),\"\",IF(AF52>AG52,AD50,AD54))","v":""},null,null,null,null,null,null,"5.",null,null,null,null,null,null,null,null,null,null,null,null,null,null,null,null,null,null,null,null,null,null,null,null,null,null,null,null,null,null,null,null,null,null,null,null,null,47,null,null,null,null,{"$f":"AD75","v":""},{"$f":"AD79","v":""}]
[null,null,null,null,null,null,null,null,null,null,null,null,null,null,null,null,null,null,null,null,null,11,{"$f":"IF(AND(R31=0,S31=0),\"\",IF(R31<S31,P28,P33))","v":""},null,null,null,null,null,null,null,null,null,null,null,null,null,null,null,null,null,null,null,null,null,null,null,null,null,null,null,null,null,null,null,null,null,null,null,null,null,null,null,null,null,null,null,null,null,null,null,null,null,null,null,null,null,null,null,null,null,null,48,null,null,null,null,{"$f":"AD81","v":""},{"$f":"AD83","v":""}]
[null,null,null,null,null,null,null,null,null,null,null,null,null,null,null,null,null,null,null,null,null,null,null,null,{"$f":"CU41","v":0},{"$f":"+CV41","v":0},"Y-20",null,36,{"$f":"IF(AND(Y54=0,Z54=0),\"\",IF(Y54>Z54,W53,W55))","v":""}]
[null,null,null,null,null,null,null,null,null,null,null,null,null,null,null,null,null,null,null,null,null,12,{"$f":"IF(AND(R43=0,S43=0),\"\",IF(R43<S43,P40,P45))","v":""},null,null,null,null,null,null,null,null,null,null,null,null,27,{"$f":"IF(AND(AF52=0,AG52=0),\"\",IF(AF52<AG52,AD50,AD54))","v":""},null,null,null,null,null,null,"6."]
[null,null,null,null,null,null,null,null,null,null,null,null,null,null,null,null,null,null,null,null,null,null,null,null,null,null,null,null,19,{"$f":"IF(AND(Y50=0,Z50=0),\"\",IF(Y50<Z50,W49,W51))","v":""}]
[null,null,null,null,null,null,null,null,null,null,null,null,null,null,null,null,null,null,null,null,null,null,null,null,null,null,null,null,null,null,null,{"$f":"CU49","v":0},{"$f":"+CV49","v":0},"Y-28",null,44,{"$f":"IF(AND(AF57=0,AG57=0),\"\",IF(AF57>AG57,AD56,AD58))","v":""},null,null,null,null,null,null,"7."]
[null,null,null,null,null,null,null,null,null,null,null,null,null,null,null,null,null,null,null,null,null,null,null,null,null,null,null,null,20,{"$f":"IF(AND(Y54=0,Z54=0),\"\",IF(Y54<Z54,W53,W55))","v":""}]
[null,null,null,null,null,null,null,null,null,null,null,null,null,null,1,{"$f":"IF(AND(K4=0,L4=0),\"\",IF(K4<L4,I2,I5))","v":""},null,null,null,null,null,null,null,null,null,null,null,null,null,null,null,null,null,null,null,28,{"$f":"IF(AND(AF57=0,AG57=0),\"\",IF(AF57<AG57,AD56,AD58))","v":""},null,null,null,null,null,null,"8."]
[null,null,null,null,null,null,null,null,null,null,null,null,null,null,null,null,null,{"$f":"CU34","v":0},{"$f":"CV34","v":0},"Y-13",null,29,{"$f":"IF(AND(R60=0,S60=0),\"\",IF(R60>S60,P59,P61))","v":""}]
[null,null,null,null,null,null,null,null,null,null,null,null,null,null,2,{"$f":"IF(AND(K10=0,L10=0),\"\",IF(K10<L10,I8,I11))","v":""},null,null,null,null,null,null,null,null,null,null,null,null,37]
[null,null,null,null,null,null,null,null,null,null,null,null,null,null,3,{"$f":"IF(AND(K16=0,L16=0),\"\",IF(K16<L16,I14,I17))","v":""},null,null,null,null,null,null,null,null,{"$f":"CU42","v":0},{"$f":"CV42","v":0},"Y-21",null,null,{"$f":"IF(AND(Y62=0,Z62=0),\"\",IF(Y62>Z62,W60,W63))","v":""}]
[null,null,null,null,null,null,null,null,null,null,null,null,null,null,null,null,null,{"$f":"CU35","v":0},{"$f":"CV35","v":0},"Y-14",null,30,{"$f":"IF(AND(R63=0,S63=0),\"\",IF(R63>S63,P62,P64))","v":""},null,null,null,null,null,null,null,null,null,null,null,null,45]
[null,null,null,null,null,null,null,null,null,null,null,null,null,null,4,{"$f":"IF(AND(K22=0,L22=0),\"\",IF(K22<L22,I20,I23))","v":""}]
[null,null,null,null,null,null,null,null,null,null,null,null,null,null,5,{"$f":"IF(AND(K28=0,L28=0),\"\",IF(K28<L28,I26,I29))","v":""},null,null,null,null,null,null,null,null,null,null,null,null,null,null,null,{"$f":"CU50","v":0},{"$f":"+CV50","v":0},"Y-29",null,null,{"$f":"IF(AND(AF65=0,AG65=0),\"\",IF(AF65>AG65,AD62,AD67))","v":""},null,null,null,null,null,null,"9."]
[null,null,null,null,null,null,null,null,null,null,null,null,null,null,null,null,null,{"$f":"CU36","v":0},{"$f":"CV36","v":0},"Y-15",null,31,{"$f":"IF(AND(R66=0,S66=0),\"\",IF(R66>S66,P65,P67))","v":""}]
[null,null,null,null,null,null,null,null,null,null,null,null,null,null,6,{"$f":"IF(AND(K34=0,L34=0),\"\",IF(K34<L34,I32,I35))","v":""},null,null,null,null,null,null,null,null,null,null,null,null,38,{"$f":"IF(AND(Y68=0,Z68=0),\"\",IF(Y68>Z68,W66,W69))","v":""}]
[null,null,null,null,null,null,null,null,null,null,null,null,null,null,7,{"$f":"IF(AND(K40=0,L40=0),\"\",IF(K40<L40,I38,I41))","v":""},null,null,null,null,null,null,null,null,{"$f":"CU43","v":0},{"$f":"CV43","v":0},"Y-22",null,null,null,null,null,null,null,null,29,{"$f":"IF(AND(AF65=0,AG65=0),\"\",IF(AF65<AG65,AD62,AD67))","v":""},null,null,null,null,null,null,"10."]
[null,null,null,null,null,null,null,null,null,null,null,null,null,null,null,null,null,{"$f":"CU37","v":0},{"$f":"CV37","v":0},"Y-16",null,32,{"$f":"IF(AND(R69=0,S69=0),\"\",IF(R69>S69,P68,P70))","v":""}]
[null,null,null,null,null,null,null,null,null,null,null,null,null,null,8,{"$f":"IF(AND(K46=0,L46=0),\"\",IF(K46<L46,I44,I47))","v":""}]
[null,null,null,null,null,null,null,null,null,null,null,null,null,null,null,null,null,null,null,null,null,null,null,null,null,null,null,null,21,{"$f":"IF(AND(Y62=0,Z62=0),\"\",IF(Y62<Z62,W60,W63))","v":""}]
[null,null,null,null,null,null,null,null,null,null,null,null,null,null,null,null,null,null,null,null,null,null,null,null,null,null,null,null,null,null,null,{"$f":"CU51","v":0},{"$f":"+CV51","v":0},"Y-30",null,46,{"$f":"IF(AND(AF72=0,AG72=0),\"\",IF(AF72>AG72,AD71,AD73))","v":""},null,null,null,null,null,null,"11."]
[null,null,null,null,null,null,null,null,null,null,null,null,null,null,null,null,null,null,null,null,null,null,null,null,null,null,null,null,22,{"$f":"IF(AND(Y68=0,Z68=0),\"\",IF(Y68<Z68,W66,W69))","v":""}]
[null,null,null,null,null,null,null,null,null,null,null,null,null,null,null,null,null,null,null,null,null,13,{"$f":"IF(AND(R60=0,S60=0),\"\",IF(R60<S60,P59,P61))","v":""},null,null,null,null,null,null,null,null,null,null,null,null,30,{"$f":"IF(AND(AF72=0,AG72=0),\"\",IF(AF72<AG72,AD71,AD73))","v":""},null,null,null,null,null,null,"12."]
[null,null,null,null,null,null,null,null,null,null,null,null,null,null,null,null,null,null,null,null,null,null,null,null,{"$f":"CU44","v":0},{"$f":"+CV44","v":0},"Y-23",null,39,{"$f":"IF(AND(Y75=0,Z75=0),\"\",IF(Y75>Z75,W74,W76))","v":""}]
[null,null,null,null,null,null,null,null,null,null,null,null,null,null,null,null,null,null,null,null,null,14,{"$f":"IF(AND(R63=0,S63=0),\"\",IF(R63<S63,P62,P64))","v":""},null,null,null,null,null,null,null,null,null,null,null,null,47]
[null,null,null,null,null,null,null,null,null,null,null,null,null,null,null,null,null,null,null,null,null,null,null,null,null,null,null,null,null,null,null,{"$f":"CU52","v":0},{"$f":"+CV52","v":0},"Y-31",null,null,{"$f":"IF(AND(AF77=0,AG77=0),\"\",IF(AF77>AG77,AD75,AD79))","v":""},null,null,null,null,null,null,"13."]
[null,null,null,null,null,null,null,null,null,null,null,null,null,null,null,null,null,null,null,null,null,15,{"$f":"IF(AND(R66=0,S66=0),\"\",IF(R66<S66,P65,P67))","v":""}]
[null,null,null,null,null,null,null,null,null,null,null,null,null,null,null,null,null,null,null,null,null,null,null,null,{"$f":"CU45","v":0},{"$f":"+CV45","v":0},"Y-24",null,40,{"$f":"IF(AND(Y79=0,Z79=0),\"\",IF(Y79>Z79,W78,W80))","v":""}]
[null,null,null,null,null,null,null,null,null,null,null,null,null,null,null,null,null,null,null,null,null,16,{"$f":"IF(AND(R69=0,S69=0),\"\",IF(R69<S69,P68,P70))","v":""},null,null,null,null,null,null,null,null,null,null,null,null,31,{"$f":"IF(AND(AF77=0,AG77=0),\"\",IF(AF77<AG77,AD75,AD79))","v":""},null,null,null,null,null,null,"14."]
[null,null,null,null,null,null,null,null,null,null,null,null,null,null,null,null,null,null,null,null,null,null,null,null,null,null,null,null,23,{"$f":"IF(AND(Y75=0,Z75=0),\"\",IF(Y75<Z75,W74,W76))","v":""}]
[null,null,null,null,null,null,null,null,null,null,null,null,null,null,null,null,null,null,null,null,null,null,null,null,null,null,null,null,null,null,null,{"$f":"CU53","v":0},{"$f":"+CV53","v":0},"Y-32",null,48,{"$f":"IF(AND(AF82=0,AG82=0),\"\",IF(AF82>AG82,AD81,AD83))","v":""},null,null,null,null,null,null,"15."]
[null,null,null,null,null,null,null,null,null,null,null,null,null,null,null,null,null,null,null,null,null,null,null,null,null,null,null,null,24,{"$f":"IF(AND(Y79=0,Z79=0),\"\",IF(Y79<Z79,W78,W80))","v":""}]
[null,null,null,null,null,null,null,null,null,null,null,null,null,null,null,null,null,null,null,null,null,null,null,null,null,null,null,null,null,null,null,null,null,null,null,32,{"$f":"IF(AND(AF82=0,AG82=0),\"\",IF(AF82<AG82,AD81,AD83))","v":""},null,null,null,null,null,null,"16"]

{"sheet":"16","index":8,"n_rows":63,"n_cols":1217,"rows_kept":63,"cut":false,"hidden":true,"merged":[[61,22,61,28],[62,29,62,35],[56,15,56,21],[57,22,57,28],[58,15,58,21],[58,29,58,35],[59,22,59,28],[60,29,60,35],[55,29,55,35],[46,8,46,14],[46,29,46,35],[47,15,47,21],[48,8,48,14],[49,22,49,28],[50,29,50,35],[51,22,51,28],[52,15,52,21],[52,29,52,35],[53,22,53,28],[54,15,54,21],[45,8,45,14],[45,22,45,28],[36,29,36,35],[37,8,37,14],[38,15,38,21],[39,8,39,14],[40,8,40,14],[40,22,40,28],[41,15,41,21],[42,8,42,14],[43,8,43,14],[43,29,43,35],[44,15,44,21],[35,22,35,28],[26,15,26,21],[26,29,26,35],[27,22,27,28],[28,15,28,21],[29,29,29,35],[30,15,30,21],[31,22,31,28],[32,15,32,21],[32,29,32,35],[33,22,33,28],[34,29,34,35],[25,22,25,28],[18,1,18,7],[18,22,18,28],[18,29,18,35],[19,8,19,14],[20,1,20,7],[20,15,20,21],[21,1,21,7],[22,8,22,14],[23,1,23,7],[23,22,23,28],[24,29,24,35],[17,22,17,28],[9,1,9,7],[10,8,10,14],[11,1,11,7],[12,1,12,7],[14,1,14,7],[15,1,15,7],[15,15,15,21],[16,8,16,14],[17,1,17,7],[12,29,12,35],[13,8,13,14],[5,1,5,7],[6,1,6,7],[6,22,6,28],[7,8,7,14],[8,1,8,7],[8,15,8,21],[1,81,1,82],[1,83,1,84],[1,85,1,86],[2,1,2,7],[3,1,3,7],[3,15,3,21],[3,23,4,36],[4,8,4,14],[1,79,1,80],[0,1,0,7],[0,23,2,36],[1,8,1,14],[1,75,1,76],[1,77,1,78]]}
[1,{"$f":"IF(Main!R2=2,Eleme!BL244,IF(Main!R2=3,Eleme!BL502,IF(Main!R2=4,Eleme!BL632,IF(Main!R2=5,Eleme!BL698,IF(Main!R2=6,Eleme!BL732)))))","v":false},null,null,null,null,null,null,null,null,null,null,null,null,null,null,null,null,null,null,null,null,null,{"$f":"Katılım!AC1","v":"TÜRKİYE MASA TENİSİ FEDERASYONU                                                                                                                                                                                                     İsmail Eren ALICI Küçükler Ferdi-Takım Türkiye Şampiyonası  "},null,null,null,null,null,null,null,null,null,null,null,null,null,null,null,null,null,null,null,null,null,null,null,null,null,null,null,null,null,null,null,null,null,null,null,null,null,null,null,null,null,null,null,null,null,null,null,null,null,null,null,null,null,null,null,null,null,null,null,null,null,null,null,null,null,null,null,null,null,null,null,null,null,null,null,null,null,null,null,"1st Round",1]
[null,null,null,{"$f":"CH3","v":0},{"$f":"CI3","v":0},"Y1",null,1,{"$f":"IF(AND(D2=0,E2=0),\"\",IF(D2>E2,B1,B3))","v":""},null,null,null,null,null,null,null,null,null,null,null,null,null,null,null,null,null,null,null,null,null,null,null,null,null,null,null,null,null,null,null,null,null,null,null,null,null,null,null,null,null,null,null,null,null,null,null,null,null,null,null,null,null,null,null,null,null,null,null,"#","Date","Time","Table","Competition","Player A","Player B","Set1",null,"Set2",null,"Set3",null,"Set4",null,"Set5",null,"Result",null,null,null,null,null,null,null,null,null,null,null,null,null,null,null,null,null,"2sn Round"]
[2,{"$f":"IF(Main!R2=2,Eleme!BM244,IF(Main!R2=3,Eleme!BM502,IF(Main!R2=4,Eleme!BM632,IF(Main!R2=5,Eleme!BM698,IF(Main!R2=6,Eleme!BM732)))))","v":false},null,null,null,null,null,null,null,null,null,null,null,null,9,null,null,null,null,null,null,null,null,null,null,null,null,null,null,null,null,null,null,null,null,null,null,null,null,null,null,null,null,null,null,null,null,null,null,null,null,null,null,null,null,null,null,null,null,null,null,null,null,null,null,null,null,null,1,null,null,null,null,{"$f":"B1","v":false},{"$f":"B3","v":false},null,null,null,null,null,null,null,null,null,null,null,null,null,null,null,null,null,null,null,null,null,null,null,null,null,null,null,null,"3th Round"]
[3,{"$f":"IF(Main!R2=2,Eleme!BL245,IF(Main!R2=3,Eleme!BL503,IF(Main!R2=4,Eleme!BL633,IF(Main!R2=5,Eleme!BL699,IF(Main!R2=6,Eleme!BL733)))))","v":false},null,null,null,null,null,null,null,null,{"$f":"CH11","v":0},{"$f":"CI11","v":0},"Y-A",null,null,{"$f":"IF(AND(K4=0,L4=0),\"\",IF(K4>L4,I2,I5))","v":""},null,null,null,null,null,null,null,{"$f":"Katılım!AC2&\" \"&Katılım!AE3","v":"KIZ TAKIM  [09-13 Nisan 2025 ÇORUM] [ Ana Tablo ]"},null,null,null,null,null,null,null,null,null,null,null,null,null,null,null,null,null,null,null,null,null,null,null,null,null,null,null,null,null,null,null,null,null,null,null,null,null,null,null,null,null,null,null,null,2,null,null,null,null,{"$f":"B4","v":false},{"$f":"B6","v":false},null,null,null,null,null,null,null,null,null,null,null,null,null,null,null,null,null,null,null,null,null,null,null,null,null,null,null,null,"4th Round"]
[null,null,null,{"$f":"CH4","v":0},{"$f":"CI4","v":0},"Y2",null,2,{"$f":"IF(AND(D5=0,E5=0),\"\",IF(D5>E5,B4,B6))","v":""},null,null,null,null,null,null,null,null,null,null,null,null,17,null,null,null,null,null,null,null,null,null,null,null,null,null,null,null,null,null,null,null,null,null,null,null,null,null,null,null,null,null,null,null,null,null,null,null,null,null,null,null,null,null,null,null,null,null,null,3,null,null,null,null,{"$f":"B7","v":false},{"$f":"B9","v":false}]
[4,{"$f":"IF(Main!R2=2,Eleme!BM245,IF(Main!R2=3,Eleme!BM503,IF(Main!R2=4,Eleme!BM633,IF(Main!R2=5,Eleme!BM699,IF(Main!R2=6,Eleme!BM733)))))","v":false},null,null,null,null,null,null,null,null,null,null,null,null,null,null,null,null,null,null,null,null,null,null,null,null,null,null,null,null,null,null,null,null,null,null,null,null,null,null,null,null,null,null,null,null,null,null,null,null,null,null,null,null,null,null,null,null,null,null,null,null,null,null,null,null,null,null,4,null,null,null,null,{"$f":"B10","v":false},{"$f":"B12","v":false}]
[5,{"$f":"IF(Main!R2=2,Eleme!BL246,IF(Main!R2=3,Eleme!BL504,IF(Main!R2=4,Eleme!BL634,IF(Main!R2=5,Eleme!BL700,IF(Main!R2=6,Eleme!BL734)))))","v":false},null,null,null,null,null,null,null,null,null,null,null,null,null,null,null,{"$f":"CH19","v":0},{"$f":"CI19","v":0},"Y-E",null,null,{"$f":"IF(AND(R7=0,S7=0),\"\",IF(R7>S7,P4,P9))","v":""},null,null,null,null,null,null,null,null,null,null,null,null,null,null,null,null,null,null,null,null,null,null,null,null,null,null,null,null,null,null,null,null,null,null,null,null,null,null,null,null,null,null,null,null,null,5,null,null,null,null,{"$f":"B13","v":false},{"$f":"B15","v":false}]
[null,null,null,{"$f":"CH5","v":0},{"$f":"CI5","v":0},"Y3",null,3,{"$f":"IF(AND(D8=0,E8=0),\"\",IF(D8>E8,B7,B9))","v":""},null,null,null,null,null,null,null,null,null,null,null,null,null,null,null,null,null,null,null,25,null,null,null,null,null,null,null,null,null,null,null,null,null,null,null,null,null,null,null,null,null,null,null,null,null,null,null,null,null,null,null,null,null,null,null,null,null,null,null,6,null,null,null,null,{"$f":"B16","v":false},{"$f":"B18","v":false}]
[6,{"$f":"IF(Main!R2=2,Eleme!BM246,IF(Main!R2=3,Eleme!BM504,IF(Main!R2=4,Eleme!BM634,IF(Main!R2=5,Eleme!BM700,IF(Main!R2=6,Eleme!BM734)))))","v":false},null,null,null,null,null,null,null,null,null,null,null,null,10,{"$f":"IF(AND(K10=0,L10=0),\"\",IF(K10>L10,I8,I11))","v":""},null,null,null,null,null,null,null,null,null,null,null,null,null,null,null,null,null,null,null,null,null,null,null,null,null,null,null,null,null,null,null,null,null,null,null,null,null,null,null,null,null,null,null,null,null,null,null,null,null,null,null,null,7,null,null,null,null,{"$f":"B19","v":false},{"$f":"B21","v":false}]
[7,{"$f":"IF(Main!R2=2,Eleme!BL247,IF(Main!R2=3,Eleme!BL505,IF(Main!R2=4,Eleme!BL635,IF(Main!R2=5,Eleme!BL701,IF(Main!R2=6,Eleme!BL735)))))","v":false},null,null,null,null,null,null,null,null,{"$f":"CH12","v":0},{"$f":"CI12","v":0},"Y-B",null,null,null,null,null,null,null,null,null,null,null,null,null,null,null,null,null,null,null,null,null,null,null,null,null,null,null,null,null,null,null,null,null,null,null,null,null,null,null,null,null,null,null,null,null,null,null,null,null,null,null,null,null,null,null,8,null,null,null,null,{"$f":"B22","v":false},{"$f":"B24","v":false}]
[null,null,null,{"$f":"CH6","v":0},{"$f":"CI6","v":0},"Y4",null,4,{"$f":"IF(AND(D11=0,E11=0),\"\",IF(D11>E11,B10,B12))","v":""},null,null,null,null,null,null,null,null,null,null,null,null,null,null,null,null,null,null,null,null,null,null,null,null,null,null,null,null,null,null,null,null,null,null,null,null,null,null,null,null,null,null,null,null,null,null,null,null,null,null,null,null,null,null,null,null,null,null,null,9,null,null,null,null,{"$f":"I2","v":""},{"$f":"I5","v":""}]
[8,{"$f":"IF(Main!R2=2,Eleme!BM247,IF(Main!R2=3,Eleme!BM505,IF(Main!R2=4,Eleme!BM635,IF(Main!R2=5,Eleme!BM701,IF(Main!R2=6,Eleme!BM735)))))","v":false},null,null,null,null,null,null,null,null,null,null,null,null,null,null,null,null,null,null,null,null,null,null,null,null,null,null,null,null,null,null,null,null,null,null,null,null,null,null,null,null,null,null,null,null,null,null,null,null,null,null,null,null,null,null,null,null,null,null,null,null,null,null,null,null,null,null,10,null,null,null,null,{"$f":"I8","v":""},{"$f":"I11","v":""}]
[9,{"$f":"IF(Main!R2=2,Eleme!BL248,IF(Main!R2=3,Eleme!BL506,IF(Main!R2=4,Eleme!BL636,IF(Main!R2=5,Eleme!BL702,IF(Main!R2=6,Eleme!BL736)))))","v":false},null,null,null,null,null,null,null,null,null,null,null,null,null,null,null,null,null,null,null,null,null,null,{"$f":"CH27","v":0},{"$f":"+CI27","v":0},"Y-I",null,null,{"$f":"IF(AND(Y13=0,Z13=0),\"\",IF(Y13>Z13,W7,W18))","v":""},null,null,null,null,null,null,"1.",null,null,null,null,null,null,null,null,null,null,null,null,null,null,null,null,null,null,null,null,null,null,null,null,null,null,null,null,null,null,null,11,null,null,null,null,{"$f":"I14","v":""},{"$f":"I17","v":""}]
[null,null,null,{"$f":"CH7","v":0},{"$f":"CI7","v":0},"Y5",null,5,{"$f":"IF(AND(D14=0,E14=0),\"\",IF(D14>E14,B13,B15))","v":""},null,null,null,null,null,null,null,null,null,null,null,null,null,null,null,null,null,null,null,null,null,null,null,null,null,null,null,null,null,null,null,null,null,null,null,null,null,null,null,null,null,null,null,null,null,null,null,null,null,null,null,null,null,null,null,null,null,null,null,12,null,null,null,null,{"$f":"I20","v":""},{"$f":"I23","v":""}]
[10,{"$f":"IF(Main!R2=2,Eleme!BM248,IF(Main!R2=3,Eleme!BM506,IF(Main!R2=4,Eleme!BM636,IF(Main!R2=5,Eleme!BM702,IF(Main!R2=6,Eleme!BM736)))))","v":false},null,null,null,null,null,null,null,null,null,null,null,null,11,null,null,null,null,null,null,null,null,null,null,null,null,null,null,null,null,null,null,null,null,null,null,null,null,null,null,null,null,null,null,null,null,null,null,null,null,null,null,null,null,null,null,null,null,null,null,null,null,null,null,null,null,null,13,null,null,null,null,{"$f":"+I38","v":""},{"$f":"+I40","v":""}]
[11,{"$f":"IF(Main!R2=2,Eleme!BL249,IF(Main!R2=3,Eleme!BL507,IF(Main!R2=4,Eleme!BL637,IF(Main!R2=5,Eleme!BL703,IF(Main!R2=6,Eleme!BL737)))))","v":false},null,null,null,null,null,null,null,null,{"$f":"CH13","v":0},{"$f":"CI13","v":0},"Y-C",null,null,{"$f":"IF(AND(K16=0,L16=0),\"\",IF(K16>L16,I14,I17))","v":""},null,null,null,null,null,null,null,null,null,null,null,null,null,null,null,null,null,null,null,null,null,null,null,null,null,null,null,null,null,null,null,null,null,null,null,null,null,null,null,null,null,null,null,null,null,null,null,null,null,null,null,null,14,null,null,null,null,{"$f":"+I41","v":""},{"$f":"+I43","v":""}]
[null,null,null,{"$f":"CH8","v":0},{"$f":"CI8","v":0},"Y6",null,6,{"$f":"IF(AND(D17=0,E17=0),\"\",IF(D17>E17,B16,B18))","v":""},null,null,null,null,null,null,null,null,null,null,null,null,18,null,null,null,null,null,null,null,null,null,null,null,null,null,null,null,null,null,null,null,null,null,null,null,null,null,null,null,null,null,null,null,null,null,null,null,null,null,null,null,null,null,null,null,null,null,null,15,null,null,null,null,{"$f":"+I44","v":""},{"$f":"+I46","v":""}]
[12,{"$f":"IF(Main!R2=2,Eleme!BM249,IF(Main!R2=3,Eleme!BM507,IF(Main!R2=4,Eleme!BM637,IF(Main!R2=5,Eleme!BM703,IF(Main!R2=6,Eleme!BM737)))))","v":false},null,null,null,null,null,null,null,null,null,null,null,null,null,null,null,null,null,null,null,null,{"$f":"IF(AND(R19=0,S19=0),\"\",IF(R19>S19,P16,P21))","v":""},null,null,null,null,null,null,null,null,null,null,null,null,null,null,null,null,null,null,null,null,null,null,null,null,null,null,null,null,null,null,null,null,null,null,null,null,null,null,null,null,null,null,null,null,null,16,null,null,null,null,{"$f":"+I49","v":""},{"$f":"+I49","v":""}]
[13,{"$f":"IF(Main!R2=2,Eleme!BL250,IF(Main!R2=3,Eleme!BL508,IF(Main!R2=4,Eleme!BL638,IF(Main!R2=5,Eleme!BL704,IF(Main!R2=6,Eleme!BL738)))))","v":false},null,null,null,null,null,null,null,null,null,null,null,null,null,null,null,{"$f":"CH20","v":0},{"$f":"CI20","v":0},"Y-F",null,null,null,null,null,null,null,null,null,{"$f":"IF(AND(Y13=0,Z13=0),\"\",IF(Y13<Z13,W7,W18))","v":""},null,null,null,null,null,null,"2.",null,null,null,null,null,null,null,null,null,null,null,null,null,null,null,null,null,null,null,null,null,null,null,null,null,null,null,null,null,null,null,17,null,null,null,null,{"$f":"P4","v":""},{"$f":"P9","v":""}]
[null,null,null,{"$f":"CH9","v":0},{"$f":"CI9","v":0},"Y7",null,7,{"$f":"IF(AND(D20=0,E20=0),\"\",IF(D20>E20,B19,B21))","v":""},null,null,null,null,null,null,null,null,null,null,null,null,null,null,null,null,null,null,null,null,null,null,null,null,null,null,null,null,null,null,null,null,null,null,null,null,null,null,null,null,null,null,null,null,null,null,null,null,null,null,null,null,null,null,null,null,null,null,null,18,null,null,null,null,{"$f":"P16","v":""},{"$f":"P21","v":""}]
[14,{"$f":"IF(Main!R2=2,Eleme!BM250,IF(Main!R2=3,Eleme!BM508,IF(Main!R2=4,Eleme!BM638,IF(Main!R2=5,Eleme!BM704,IF(Main!R2=6,Eleme!BM738)))))","v":false},null,null,null,null,null,null,null,null,null,null,null,null,12,{"$f":"IF(AND(K22=0,L22=0),\"\",IF(K22>L22,I20,I23))","v":""},null,null,null,null,null,null,null,null,null,null,null,null,null,null,null,null,null,null,null,null,null,null,null,null,null,null,null,null,null,null,null,null,null,null,null,null,null,null,null,null,null,null,null,null,null,null,null,null,null,null,null,null,19,null,null,null,null,{"$f":"P27","v":""},{"$f":"P29","v":""}]
[15,{"$f":"IF(Main!R2=2,Eleme!BL251,IF(Main!R2=3,Eleme!BL509,IF(Main!R2=4,Eleme!BL639,IF(Main!R2=5,Eleme!BL705,IF(Main!R2=6,Eleme!BL739)))))","v":false},null,null,null,null,null,null,null,null,{"$f":"CH14","v":0},{"$f":"CI14","v":0},"Y-D",null,null,null,null,null,null,null,null,null,null,null,null,null,null,null,null,null,null,null,null,null,null,null,null,null,null,null,null,null,null,null,null,null,null,null,null,null,null,null,null,null,null,null,null,null,null,null,null,null,null,null,null,null,null,null,20,null,null,null,null,{"$f":"P31","v":""},{"$f":"P33","v":""}]
[null,null,null,{"$f":"CH10","v":0},{"$f":"CI10","v":0},"Y8",null,8,{"$f":"IF(AND(D23=0,E23=0),\"\",IF(D23>E23,B22,B24))","v":""},null,null,null,null,null,null,null,null,null,null,null,null,null,null,null,null,null,null,null,null,null,null,null,null,null,null,null,null,null,null,null,null,null,null,null,null,null,null,null,null,null,null,null,null,null,null,null,null,null,null,null,null,null,null,null,null,null,null,null,21,null,null,null,null,{"$f":"P39","v":""},{"$f":"P42","v":""}]
[16,{"$f":"IF(Main!R2=2,Eleme!BM251,IF(Main!R2=3,Eleme!BM509,IF(Main!R2=4,Eleme!BM639,IF(Main!R2=5,Eleme!BM705,IF(Main!R2=6,Eleme!BM739)))))","v":false},null,null,null,null,null,null,null,null,null,null,null,null,null,null,null,null,null,null,null,"E",{"$f":"IF(AND(R7=0,S7=0),\"\",IF(R7<S7,P4,P9))","v":""},null,null,null,null,null,null,null,null,null,null,null,null,null,null,null,null,null,null,null,null,null,null,null,null,null,null,null,null,null,null,null,null,null,null,null,null,null,null,null,null,null,null,null,null,null,22,null,null,null,null,{"$f":"P45","v":""},{"$f":"P48","v":""}]
[null,null,null,null,null,null,null,null,null,null,null,null,null,null,null,null,null,null,null,null,null,null,null,null,{"$f":"CH28","v":0},{"$f":"+CI28","v":0},"Y-J",null,26,{"$f":"IF(AND(Y25=0,Z25=0),\"\",IF(Y25>Z25,W24,W26))","v":""},null,null,null,null,null,null,"3.",null,null,null,null,null,null,null,null,null,null,null,null,null,null,null,null,null,null,null,null,null,null,null,null,null,null,null,null,null,null,null,23,null,null,null,null,{"$f":"P53","v":""},{"$f":"P55","v":""},null,null,null,null,null,null,null,null,null,null,null,null,null,null,null,null,null,null,null,null,null,null,null,null,null,null,null,null,null,null,null,null,null,null,null,null,null,null,null,null,null,null,null,null,null,null,null,null,null,null,null,null,null,null,null,null,null,null,null,null,null,null,null,null,null,null,null,null,null,null,null,null,null,null,null,null,null,null,null,null,null,null,null,null,null,null,null,null,null,null,null,null,null,null,null,null,null,null,null,null,null,null,null,null,null,null,null,null,null,null,null,null,null,null,null,null,null,null,null,null,null,null,null,null,null,null,null,null,null,null,null,null,null,null,null,null,null,null,null,null,null,null,null,null,null,null,null,null,null,null,null,null,null,null,null,null,null,null,null,null,null,null,null,null,null,null,null,null,null,null,null,null,null,null,null,null,null,null,null,null,null,null,null,null,null,null,null,null,null,null,null,null,null,null,null,null,null,null,null,null,null,null,null,null,null,null,null,null,null,null,null,null,null,null,null,null,null,null,null,null,null,null,null,null,null,null,null,null,null,null,null,null,null,null,null,null,null,null,null,null,null,null,null,null,null,null,null,null,null,null,null,null,null,null,null,null,null,null,null,null,null,null,null,null,null,null,null,null,null,null,null,null,null,null,null,null,null,null,null,null,null,null,null,null,null,null,null,null,null,null,null,null,null,null,null,null,null,null,null,null,null,null,null,null,null,null,null,null,null,null,null,null,null,null,null,null,null,null,null,null,null,null,null,null,null,null,null,null,null,null,null,null,null,null,null,null,null,null,null,null,null,null,null,null,null,null,null,null,null,null,null,null,null,null,null,null,null,null,null,null,null,null,null,null,null,null,null,null,null,null,null,null,null,null,null,null,null,null,null,null,null,null,null,null,null,null,null,null,null,null,null,null,null,null,null,null,null,null,null,null,null,null,null,null,null,null,null,null,null,null,null,null,null,null,null,null,null,null,null,null,null,null,null,null,null,null,null,null,null,null,null,null,null,null,null,null,null,null,null,null,null,null,null,null,null,null,null,null,null,null,null,null,null,null,null,null,null,null,null,null,null,null,null,null,null,null,null,null,null,null,null,null,null,null,null,null,null,null,null,null,null,null,null,null,null,null,null,null,null,null,null,null,null,null,null,null,null,null,null,null,null,null,null,null,null,null,null,null,null,null,null,null,null,null,null,null,null,null,null,null,null,null,null,null,null,null,null,null,null,null,null,null,null,null,null,null,null,null,null,null,null,null,null,null,null,null,null,null,null,null,null,null,null,null,null,null,null,null,null,null,null,null,null,null,null,null,null,null,null,null,null,null,null,null,null,null,null,null,null,null,null,null,null,null,null,null,null,null,null,null,null,null,null,null,null,null,null,null,null,null,null,null,null,null,null,null,null,null,null,null,null,null,null,null,null,null,null,null,null,null,null,null,null,null,null,null,null,null,null,null,null,null,null,null,null,null,null,null,null,null,null,null,null,null,null,null,null,null,null,null,null,null,null,null,null,null,null,null,null,null,null,null,null,null,null,null,null,null,null,null,null,null,null,null,null,null,null,null,null,null,null,null,null,null,null,null,null,null,null,null,null,null,null,null,null,null,null,null,null,null,null,null,null,null,null,null,null,null,null,null,null,null,null,null,null,null,null,null,null,null,null,null,null,null,null,null,null,null,null,null,null,null,null,null,null,null,null,null,null,null,null,null,null,null,null,null,null,null,null,null,null,null,null,null,null,null,null,null,null,null,null,null,null,null,null,null,null,null,null,null,null,null,null,null,null,null,null,null,null,null,null,null,null,null,null,null,null,null,null,null,null,null,null,null,null,null,null,null,null,null,null,null,null,null,null,null,null,null,null,null,null,null,null,null,null,null,null,null,null,null,null,null,null,null,null,null,null,null,null,null,null,null,null,null,null,null,null,null,null,null,null,null,null,null,null,null,null,null,null,null,null,null,null,null,null,null,null,null,null,null,null,null,null,null,null,null,null,null,null,null,null,null,null,null,null,null,null,null,null,null,null,null,null,null,null,null,null,null,null,null,null,null,null,null,null,null,null,null,null,null,null,null,null,null,null,null,null,null,null,null,null,null,null,null,null,null,null,null,null,null,null,null,null,null,null,null,null,null,null,null,null,null,null,null,null,null,null,null,null,null,null,null,null,null,null,null,null,null,null,null,null,null,null,null,null,null,null,null,null,null,null,null,null,null,null,null,null,null,null,null,null,null,null,null,null,null,null,null,null,null,null,null,null,null,null,null,null,null,null,null,null,null,null,null,null,null,null,null,null,null,null,null,null,null,null,null,null,null,null,null,null,null,null,null,null,null,null,null,null,null,null,null,null,null,null,null,null,null,null,null,null,null,null,null,null,null,null,null,null,null,null,null,null,null,null,null,null,null,null,null,null,null,null,null,null,null,null,null,null,null,null,null,null,null,null,null,null,null,null,null,null,null,null,null,null,null,null,null,null,null,null,null,null,null,null,null,null,null,null,null,null,null,null,null,null,null,null,null,null,null,null,null,null,null,null,null,null,null,null,null,null,null,null,null,null,null,null,null,null,null,null,null,null,null,null,null,null,null,null,null,null,null,null,null,null,null,null,null,null,null,null,0]
[null,null,null,null,null,null,null,null,null,null,null,null,null,null,null,null,null,null,null,null,null,"F",{"$f":"IF(AND(R19=0,S19=0),\"\",IF(R19<S19,P16,P21))","v":""},null,null,null,null,null,null,null,null,null,null,null,null,null,null,null,null,null,null,null,null,null,null,null,null,null,null,null,null,null,null,null,null,null,null,null,null,null,null,null,null,null,null,null,null,null,24,null,null,null,null,{"$f":"P57","v":""},{"$f":"P59","v":""}]
[null,null,null,null,null,null,null,null,null,null,null,null,null,null,"A",{"$f":"IF(AND(K4=0,L4=0),\"\",IF(K4<L4,I2,I5))","v":""},null,null,null,null,null,null,null,null,null,null,null,null,"J",{"$f":"IF(AND(Y25=0,Z25=0),\"\",IF(Y25<Z25,W24,W26))","v":""},null,null,null,null,null,null,"4.",null,null,null,null,null,null,null,null,null,null,null,null,null,null,null,null,null,null,null,null,null,null,null,null,null,null,null,null,null,null,null,25,null,null,null,null,{"$f":"W7","v":""},{"$f":"W18","v":""}]
[null,null,null,null,null,null,null,null,null,null,null,null,null,null,null,null,null,{"$f":"CH21","v":0},{"$f":"+CI21","v":0},"Y-G",null,19,{"$f":"IF(AND(R28=0,S28=0),\"\",IF(R28>S28,P27,P29))","v":""},null,null,null,null,null,null,null,null,null,null,null,null,null,null,null,null,null,null,null,null,null,null,null,null,null,null,null,null,null,null,null,null,null,null,null,null,null,null,null,null,null,null,null,null,null,26,null,null,null,null,{"$f":"W24","v":""},{"$f":"W26","v":""}]
[null,null,null,null,null,null,null,null,null,null,null,null,null,null,"B",{"$f":"IF(AND(K10=0,L10=0),\"\",IF(K10<L10,I8,I11))","v":""},null,null,null,null,null,null,null,null,null,null,null,null,27,null,null,null,null,null,null,null,null,null,null,null,null,null,null,null,null,null,null,null,null,null,null,null,null,null,null,null,null,null,null,null,null,null,null,null,null,null,null,null,27,null,null,null,null,{"$f":"W28","v":""},{"$f":"W32","v":""}]
[null,null,null,null,null,null,null,null,null,null,null,null,null,null,null,null,null,null,null,null,null,null,null,null,{"$f":"CH29","v":0},{"$f":"+CI29","v":0},"Y-K",null,null,{"$f":"IF(AND(Y30=0,Z30=0),\"\",IF(Y30>Z30,W28,W32))","v":""},null,null,null,null,null,null,"5.",null,null,null,null,null,null,null,null,null,null,null,null,null,null,null,null,null,null,null,null,null,null,null,null,null,null,null,null,null,null,null,28,null,null,null,null,{"$f":"W34","v":""},{"$f":"W36","v":""}]
[null,null,null,null,null,null,null,null,null,null,null,null,null,null,"C",{"$f":"IF(AND(K16=0,L16=0),\"\",IF(K16<L16,I14,I17))","v":""},null,null,null,null,null,null,null,null,null,null,null,null,null,null,null,null,null,null,null,null,null,null,null,null,null,null,null,null,null,null,null,null,null,null,null,null,null,null,null,null,null,null,null,null,null,null,null,null,null,null,null,null,29,null,null,null,null,{"$f":"W41","v":""},{"$f":"W46","v":""}]
[null,null,null,null,null,null,null,null,null,null,null,null,null,null,null,null,null,{"$f":"CH22","v":0},{"$f":"+CI22","v":0},"Y-H",null,20,{"$f":"IF(AND(R32=0,S32=0),\"\",IF(R32>S32,P31,P33))","v":""},null,null,null,null,null,null,null,null,null,null,null,null,null,null,null,null,null,null,null,null,null,null,null,null,null,null,null,null,null,null,null,null,null,null,null,null,null,null,null,null,null,null,null,null,null,30,null,null,null,null,{"$f":"W50","v":""},{"$f":"W52","v":""}]
[null,null,null,null,null,null,null,null,null,null,null,null,null,null,"D",{"$f":"IF(AND(K22=0,L22=0),\"\",IF(K22<L22,I20,I23))","v":""},null,null,null,null,null,null,null,null,null,null,null,null,"K",{"$f":"IF(AND(Y30=0,Z30=0),\"\",IF(Y30<Z30,W28,W32))","v":""},null,null,null,null,null,null,"6.",null,null,null,null,null,null,null,null,null,null,null,null,null,null,null,null,null,null,null,null,null,null,null,null,null,null,null,null,null,null,null,31,null,null,null,null,{"$f":"W54","v":""},{"$f":"W58","v":""}]
[null,null,null,null,null,null,null,null,null,null,null,null,null,null,null,null,null,null,null,null,null,"G",{"$f":"IF(AND(R28=0,S28=0),\"\",IF(R28<S28,P27,P29))","v":""},null,null,null,null,null,null,null,null,null,null,null,null,null,null,null,null,null,null,null,null,null,null,null,null,null,null,null,null,null,null,null,null,null,null,null,null,null,null,null,null,null,null,null,null,null,32,null,null,null,null,{"$f":"W60","v":""},{"$f":"W62","v":""}]
[null,null,null,null,null,null,null,null,null,null,null,null,null,null,null,null,null,null,null,null,null,null,null,null,{"$f":"CH30","v":0},{"$f":"+CI30","v":0},"Y-L",null,28,{"$f":"IF(AND(Y35=0,Z35=0),\"\",IF(Y35>Z35,W34,W36))","v":""},null,null,null,null,null,null,"7."]
[null,null,null,null,null,null,null,null,null,null,null,null,null,null,null,null,null,null,null,null,null,"H",{"$f":"IF(AND(R32=0,S32=0),\"\",IF(R32<S32,P31,P33))","v":""}]
[null,null,null,null,null,null,null,null,null,null,null,null,null,null,null,null,null,null,null,null,null,null,null,null,null,null,null,null,"L",{"$f":"IF(AND(Y35=0,Z35=0),\"\",IF(Y35<Z35,W34,W36))","v":""},null,null,null,null,null,null,"8."]
[null,null,null,null,null,null,null,"Y1",{"$f":"IF(AND(D2=0,E2=0),\"\",IF(D2<E2,B1,B3))","v":""}]
[null,null,null,null,null,null,null,null,null,null,{"$f":"CH15","v":0},{"$f":"CI15","v":0},"Y9",null,13,{"$f":"IF(AND(K39=0,L39=0),\"\",IF(K39>L39,I38,I40))","v":""}]
[null,null,null,null,null,null,null,"Y2",{"$f":"IF(AND(D5=0,E5=0),\"\",IF(D5<E5,B4,B6))","v":""},null,null,null,null,null,null,null,null,null,null,null,null,21]
[null,null,null,null,null,null,null,"Y3",{"$f":"IF(AND(D8=0,E8=0),\"\",IF(D8<E8,B7,B9))","v":""},null,null,null,null,null,null,null,null,{"$f":"CH23","v":0},{"$f":"CI23","v":0},"Y13",null,null,{"$f":"IF(AND(R41=0,S41=0),\"\",IF(R41>S41,P39,P42))","v":""}]
[null,null,null,null,null,null,null,null,null,null,{"$f":"CH16","v":0},{"$f":"CI16","v":0},"Y10",null,14,{"$f":"IF(AND(K42=0,L42=0),\"\",IF(K42>L42,I41,I43))","v":""},null,null,null,null,null,null,null,null,null,null,null,null,29]
[null,null,null,null,null,null,null,"Y4",{"$f":"IF(AND(D11=0,E11=0),\"\",IF(D11<E11,B10,B12))","v":""}]
[null,null,null,null,null,null,null,"Y5",{"$f":"IF(AND(D14=0,E14=0),\"\",IF(D14<E14,B13,B15))","v":""},null,null,null,null,null,null,null,null,null,null,null,null,null,null,null,{"$f":"CH31","v":0},{"$f":"CI31","v":0},"Y17",null,null,{"$f":"IF(AND(Y44=0,Z44=0),\"\",IF(Y44>Z44,W41,W46))","v":""},null,null,null,null,null,null,"9."]
[null,null,null,null,null,null,null,null,null,null,{"$f":"CH17","v":0},{"$f":"CI17","v":0},"Y11",null,15,{"$f":"IF(AND(K45=0,L45=0),\"\",IF(K45>L45,I44,I46))","v":""}]
[null,null,null,null,null,null,null,"Y6",{"$f":"IF(AND(D17=0,E17=0),\"\",IF(D17<E17,B16,B18))","v":""},null,null,null,null,null,null,null,null,null,null,null,null,22,{"$f":"IF(AND(R47=0,S47=0),\"\",IF(R47>S47,P45,P48))","v":""}]
[null,null,null,null,null,null,null,"Y7",{"$f":"IF(AND(D20=0,E20=0),\"\",IF(D20<E20,B19,B21))","v":""},null,null,null,null,null,null,null,null,{"$f":"CH24","v":0},{"$f":"CI24","v":0},"Y14",null,null,null,null,null,null,null,null,"Y17",{"$f":"IF(AND(Y44=0,Z44=0),\"\",IF(Y44<Z44,W41,W46))","v":""},null,null,null,null,null,null,"10."]
[null,null,null,null,null,null,null,null,null,null,{"$f":"CH18","v":0},{"$f":"CI18","v":0},"Y12",null,16,{"$f":"IF(AND(K48=0,L48=0),\"\",IF(K48>L48,I47,I49))","v":""}]
[null,null,null,null,null,null,null,"Y8",{"$f":"IF(AND(D23=0,E23=0),\"\",IF(D23<E23,B22,B24))","v":""}]
[null,null,null,null,null,null,null,null,null,null,null,null,null,null,null,null,null,null,null,null,null,"E",{"$f":"IF(AND(R41=0,S41=0),\"\",IF(R41<S41,P39,P42))","v":""}]
[null,null,null,null,null,null,null,null,null,null,null,null,null,null,null,null,null,null,null,null,null,null,null,null,{"$f":"CH32","v":0},{"$f":"+CI32","v":0},"Y18",null,30,{"$f":"IF(AND(Y51=0,Z51=0),\"\",IF(Y51>Z51,W50,W52))","v":""},null,null,null,null,null,null,"11."]
[null,null,null,null,null,null,null,null,null,null,null,null,null,null,null,null,null,null,null,null,null,"F",{"$f":"IF(AND(R47=0,S47=0),\"\",IF(R47<S47,P45,P48))","v":""}]
[null,null,null,null,null,null,null,null,null,null,null,null,null,null,"Y1",{"$f":"IF(AND(K39=0,L39=0),\"\",IF(K39<L39,I38,I40))","v":""},null,null,null,null,null,null,null,null,null,null,null,null,"Y18",{"$f":"IF(AND(Y51=0,Z51=0),\"\",IF(Y51<Z51,W50,W52))","v":""},null,null,null,null,null,null,"12."]
[null,null,null,null,null,null,null,null,null,null,null,null,null,null,null,null,null,{"$f":"CH25","v":0},{"$f":"+CI25","v":0},"Y15",null,23,{"$f":"IF(AND(R54=0,S54=0),\"\",IF(R54>S54,P53,P55))","v":""}]
[null,null,null,null,null,null,null,null,null,null,null,null,null,null,"Y2",{"$f":"IF(AND(K42=0,L42=0),\"\",IF(K42<L42,I41,I43))","v":""},null,null,null,null,null,null,null,null,null,null,null,null,31]
[null,null,null,null,null,null,null,null,null,null,null,null,null,null,null,null,null,null,null,null,null,null,null,null,{"$f":"CH33","v":0},{"$f":"+CI33","v":0},"Y19",null,null,{"$f":"IF(AND(Y56=0,Z56=0),\"\",IF(Y56>Z56,W54,W58))","v":""},null,null,null,null,null,null,"13."]
[null,null,null,null,null,null,null,null,null,null,null,null,null,null,"Y3",{"$f":"IF(AND(K45=0,L45=0),\"\",IF(K45<L45,I44,I46))","v":""}]
[null,null,null,null,null,null,null,null,null,null,null,null,null,null,null,null,null,{"$f":"CH26","v":0},{"$f":"+CI26","v":0},"Y16",null,24,{"$f":"IF(AND(R58=0,S58=0),\"\",IF(R58>S58,P57,P59))","v":""}]
[null,null,null,null,null,null,null,null,null,null,null,null,null,null,"Y4",{"$f":"IF(AND(K48=0,L48=0),\"\",IF(K48<L48,I47,I49))","v":""},null,null,null,null,null,null,null,null,null,null,null,null,"Y19",{"$f":"IF(AND(Y56=0,Z56=0),\"\",IF(Y56<Z56,W54,W58))","v":""},null,null,null,null,null,null,"14."]
[null,null,null,null,null,null,null,null,null,null,null,null,null,null,null,null,null,null,null,null,null,"Y15",{"$f":"IF(AND(R54=0,S54=0),\"\",IF(R54<S54,P53,P55))","v":""}]
[null,null,null,null,null,null,null,null,null,null,null,null,null,null,null,null,null,null,null,null,null,null,null,null,{"$f":"CH34","v":0},{"$f":"+CI34","v":0},"Y20",null,32,{"$f":"IF(AND(Y61=0,Z61=0),\"\",IF(Y61>Z61,W60,W62))","v":""},null,null,null,null,null,null,"15."]
[null,null,null,null,null,null,null,null,null,null,null,null,null,null,null,null,null,null,null,null,null,"Y16",{"$f":"IF(AND(R58=0,S58=0),\"\",IF(R58<S58,P57,P59))","v":""}]
[null,null,null,null,null,null,null,null,null,null,null,null,null,null,null,null,null,null,null,null,null,null,null,null,null,null,null,null,"Y20",{"$f":"IF(AND(Y61=0,Z61=0),\"\",IF(Y61<Z61,W60,W62))","v":""},null,null,null,null,null,null,"16"]

{"sheet":"16DE","index":9,"n_rows":63,"n_cols":1217,"rows_kept":63,"cut":false,"hidden":true,"merged":[[8,1,8,7],[8,15,8,21],[9,1,9,7],[10,8,10,14],[11,1,11,7],[7,8,7,14],[0,1,0,7],[0,24,2,46],[1,8,1,14],[2,1,2,7],[3,1,3,7],[3,15,3,21],[4,8,4,14],[5,1,5,7],[6,1,6,7],[6,22,6,28],[3,24,4,46],[19,8,19,14],[19,43,19,49],[12,50,12,56],[13,8,13,14],[14,1,14,7],[15,1,15,7],[15,15,15,21],[16,8,16,14],[12,1,12,7],[17,1,17,7],[17,22,17,28],[18,1,18,7],[18,22,18,28],[20,1,20,7],[20,15,20,21],[21,1,21,7],[22,8,22,14],[23,1,23,7],[23,29,23,35],[24,15,24,21],[24,50,24,56],[25,8,25,14],[25,22,25,28],[25,36,25,42],[30,15,30,21],[30,50,30,55],[31,8,31,14],[31,29,31,35],[32,15,32,21],[26,15,26,21],[27,8,27,14],[27,29,27,35],[28,15,28,21],[29,8,29,14],[29,22,29,28],[38,15,38,21],[38,36,38,42],[33,8,33,14],[33,22,33,28],[33,36,33,42],[34,15,34,21],[36,15,36,21],[36,36,36,42],[37,8,37,14],[37,22,37,28],[35,8,35,14],[35,29,35,35],[39,8,39,14],[39,43,39,49],[40,29,40,35],[41,36,41,42],[42,29,42,35],[43,22,43,28],[43,36,43,42],[44,29,44,35],[45,22,45,28],[62,29,62,35],[54,15,54,21],[55,29,55,35],[56,15,56,21],[57,22,57,28],[58,15,58,21],[58,29,58,35],[50,29,50,35],[51,36,51,42],[52,15,52,21],[52,29,52,35],[53,22,53,28],[53,36,53,42],[1,85,1,86],[1,75,1,76],[1,77,1,78],[1,79,1,80],[1,81,1,82],[1,83,1,84],[59,22,59,28],[60,29,60,35],[61,22,61,28],[37,43,37,49],[49,22,49,28],[49,36,49,42],[46,36,46,42],[47,22,47,28],[48,29,48,35],[34,43,34,49],[29,43,29,49],[18,57,18,63],[25,57,25,63]]}
[1,{"$f":"IF(Main!R2=2,Eleme!BL244,IF(Main!R2=3,Eleme!BL502,IF(Main!R2=4,Eleme!BL632,IF(Main!R2=5,Eleme!BL698,IF(Main!R2=6,Eleme!BL732)))))","v":false},null,null,null,null,null,null,null,null,null,null,null,null,null,null,null,null,null,null,null,null,null,null,{"$f":"Katılım!AC1","v":"TÜRKİYE MASA TENİSİ FEDERASYONU                                                                                                                                                                                                     İsmail Eren ALICI Küçükler Ferdi-Takım Türkiye Şampiyonası  "},null,null,null,null,null,null,null,null,null,null,null,null,null,null,null,null,null,null,null,null,null,null,null,null,null,null,null,null,null,null,null,null,null,null,null,null,null,null,null,null,null,null,null,null,null,null,null,null,null,null,null,null,null,null,null,null,null,null,null,null,null,null,null,null,null,null,null,null,null,null,null,null,null,null,null,null,null,null,"1st Round",1]
[null,null,null,{"$f":"CH3","v":0},{"$f":"CI3","v":0},"Y1",null,1,{"$f":"IF(AND(D2=0,E2=0),\"\",IF(D2>E2,B1,B3))","v":""},null,null,null,null,null,null,null,null,null,null,null,null,null,null,null,null,null,null,null,null,null,null,null,null,null,null,null,null,null,null,null,null,null,null,null,null,null,null,null,null,null,null,null,null,null,null,null,null,null,null,null,null,null,null,null,null,null,null,null,"#","Date","Time","Table","Competition","Player A","Player B","Set1",null,"Set2",null,"Set3",null,"Set4",null,"Set5",null,"Result",null,null,null,null,null,null,null,null,null,null,null,null,null,null,null,null,null,"2sn Round"]
[2,{"$f":"IF(Main!R2=2,Eleme!BM244,IF(Main!R2=3,Eleme!BM502,IF(Main!R2=4,Eleme!BM632,IF(Main!R2=5,Eleme!BM698,IF(Main!R2=6,Eleme!BM732)))))","v":false},null,null,null,null,null,null,null,null,null,null,null,null,9,null,null,null,null,null,null,null,null,null,null,null,null,null,null,null,null,null,null,null,null,null,null,null,null,null,null,null,null,null,null,null,null,null,null,null,null,null,null,null,null,null,null,null,null,null,null,null,null,null,null,null,null,null,1,null,null,null,null,{"$f":"B1","v":false},{"$f":"B3","v":false},null,null,null,null,null,null,null,null,null,null,null,null,null,null,null,null,null,null,null,null,null,null,null,null,null,null,null,null,"3th Round"]
[3,{"$f":"IF(Main!R2=2,Eleme!BL245,IF(Main!R2=3,Eleme!BL503,IF(Main!R2=4,Eleme!BL633,IF(Main!R2=5,Eleme!BL699,IF(Main!R2=6,Eleme!BL733)))))","v":false},null,null,null,null,null,null,null,null,{"$f":"CH11","v":0},{"$f":"CI11","v":0},"Y9",null,null,{"$f":"IF(AND(K4=0,L4=0),\"\",IF(K4>L4,I2,I5))","v":""},null,null,null,null,null,null,null,null,{"$f":"Katılım!AC2&\" \"&Katılım!AE3","v":"KIZ TAKIM  [09-13 Nisan 2025 ÇORUM] [ Ana Tablo ]"},null,null,null,null,null,null,null,null,null,null,null,null,null,null,null,null,null,null,null,null,null,null,null,null,null,null,null,null,null,null,null,null,null,null,null,null,null,null,null,null,null,null,null,2,null,null,null,null,{"$f":"B4","v":false},{"$f":"B6","v":false},null,null,null,null,null,null,null,null,null,null,null,null,null,null,null,null,null,null,null,null,null,null,null,null,null,null,null,null,"4th Round"]
[null,null,null,{"$f":"CH4","v":0},{"$f":"CI4","v":0},"Y2",null,2,{"$f":"IF(AND(D5=0,E5=0),\"\",IF(D5>E5,B4,B6))","v":""},null,null,null,null,null,null,null,null,null,null,null,null,17,null,null,null,null,null,null,null,null,null,null,null,null,null,null,null,null,null,null,null,null,null,null,null,null,null,null,null,null,null,null,null,null,null,null,null,null,null,null,null,null,null,null,null,null,null,null,3,null,null,null,null,{"$f":"B7","v":false},{"$f":"B9","v":false},null,null,null,null,null,null,null,null,null,null,null,null,null,null,null,null,null,null,null,null,null,null,null,null,null,null,null,null,"5th Round"]
[4,{"$f":"IF(Main!R2=2,Eleme!BM245,IF(Main!R2=3,Eleme!BM503,IF(Main!R2=4,Eleme!BM633,IF(Main!R2=5,Eleme!BM699,IF(Main!R2=6,Eleme!BM733)))))","v":false},null,null,null,null,null,null,null,null,null,null,null,null,null,null,null,null,null,null,null,null,null,null,null,null,null,null,null,null,null,null,null,null,null,null,null,null,null,null,null,null,null,null,null,null,null,null,null,null,null,null,null,null,null,null,null,null,null,null,null,null,null,null,null,null,null,null,4,null,null,null,null,{"$f":"B10","v":false},{"$f":"B12","v":false},null,null,null,null,null,null,null,null,null,null,null,null,null,null,null,null,null,null,null,null,null,null,null,null,null,null,null,null,"6th Round"]
[5,{"$f":"IF(Main!R2=2,Eleme!BL246,IF(Main!R2=3,Eleme!BL504,IF(Main!R2=4,Eleme!BL634,IF(Main!R2=5,Eleme!BL700,IF(Main!R2=6,Eleme!BL734)))))","v":false},null,null,null,null,null,null,null,null,null,null,null,null,null,null,null,{"$f":"CH19","v":0},{"$f":"CI19","v":0},"Y17",null,null,{"$f":"IF(AND(R7=0,S7=0),\"\",IF(R7>S7,P4,P9))","v":""},null,null,null,null,null,null,null,null,null,null,null,null,null,null,null,null,null,null,null,null,null,null,null,null,null,null,null,null,null,null,null,null,null,null,null,null,null,null,null,null,null,null,null,null,null,5,null,null,null,null,{"$f":"B13","v":false},{"$f":"B15","v":false},null,null,null,null,null,null,null,null,null,null,null,null,null,null,null,null,null,null,null,null,null,null,null,null,null,null,null,null,"7th Round"]
[null,null,null,{"$f":"CH5","v":0},{"$f":"CI5","v":0},"Y3",null,3,{"$f":"IF(AND(D8=0,E8=0),\"\",IF(D8>E8,B7,B9))","v":""},null,null,null,null,null,null,null,null,null,null,null,null,null,null,null,null,null,null,null,25,null,null,null,null,null,null,null,null,null,null,null,null,null,null,null,null,null,null,null,null,null,null,null,null,null,null,null,null,null,null,null,null,null,null,null,null,null,null,null,6,null,null,null,null,{"$f":"B16","v":false},{"$f":"B18","v":false},null,null,null,null,null,null,null,null,null,null,null,null,null,null,null,null,null,null,null,null,null,null,null,null,null,null,null,null,"8th Round"]
[6,{"$f":"IF(Main!R2=2,Eleme!BM246,IF(Main!R2=3,Eleme!BM504,IF(Main!R2=4,Eleme!BM634,IF(Main!R2=5,Eleme!BM700,IF(Main!R2=6,Eleme!BM734)))))","v":false},null,null,null,null,null,null,null,null,null,null,null,null,10,{"$f":"IF(AND(K10=0,L10=0),\"\",IF(K10>L10,I8,I11))","v":""},null,null,null,null,null,null,null,null,null,null,null,null,null,null,null,null,null,null,null,null,null,null,null,null,null,null,null,null,null,null,null,null,null,null,null,null,null,null,null,null,null,null,null,null,null,null,null,null,null,null,null,null,7,null,null,null,null,{"$f":"B19","v":false},{"$f":"B21","v":false}]
[7,{"$f":"IF(Main!R2=2,Eleme!BL247,IF(Main!R2=3,Eleme!BL505,IF(Main!R2=4,Eleme!BL635,IF(Main!R2=5,Eleme!BL701,IF(Main!R2=6,Eleme!BL735)))))","v":false},null,null,null,null,null,null,null,null,{"$f":"CH12","v":0},{"$f":"CI12","v":0},"Y10",null,null,null,null,null,null,null,null,null,null,null,null,null,null,null,null,null,null,null,null,null,null,null,null,null,null,null,null,null,null,null,null,null,null,null,null,null,null,null,null,null,null,null,null,null,null,null,null,null,null,null,null,null,null,null,8,null,null,null,null,{"$f":"B22","v":false},{"$f":"B24","v":false}]
[null,null,null,{"$f":"CH6","v":0},{"$f":"CI6","v":0},"Y4",null,4,{"$f":"IF(AND(D11=0,E11=0),\"\",IF(D11>E11,B10,B12))","v":""},null,null,null,null,null,null,null,null,null,null,null,null,null,null,null,null,null,null,null,null,null,null,null,null,null,null,null,null,null,null,null,null,null,null,null,null,null,null,null,null,null,null,null,null,null,null,null,null,null,null,null,null,null,null,null,null,null,null,null,9,null,null,null,null,{"$f":"I2","v":""},{"$f":"I5","v":""}]
[8,{"$f":"IF(Main!R2=2,Eleme!BM247,IF(Main!R2=3,Eleme!BM505,IF(Main!R2=4,Eleme!BM635,IF(Main!R2=5,Eleme!BM701,IF(Main!R2=6,Eleme!BM735)))))","v":false},null,null,null,null,null,null,null,null,null,null,null,null,null,null,null,null,null,null,null,null,null,null,null,null,null,null,null,null,null,null,null,null,null,null,null,null,null,null,null,null,null,null,null,null,null,null,null,null,null,null,null,null,null,null,null,null,null,null,null,null,null,null,null,null,null,null,10,null,null,null,null,{"$f":"I8","v":""},{"$f":"I11","v":""}]
[9,{"$f":"IF(Main!R2=2,Eleme!BL248,IF(Main!R2=3,Eleme!BL506,IF(Main!R2=4,Eleme!BL636,IF(Main!R2=5,Eleme!BL702,IF(Main!R2=6,Eleme!BL736)))))","v":false},null,null,null,null,null,null,null,null,null,null,null,null,null,null,null,null,null,null,null,null,null,null,{"$f":"CH27","v":0},{"$f":"+CI27","v":0},"Y25",null,null,null,null,null,null,null,null,null,null,null,null,null,null,null,null,null,null,null,null,null,null,null,{"$f":"IF(AND(Y13=0,Z13=0),\"\",IF(Y13>Z13,W7,W18))","v":""},null,null,null,null,null,null,null,null,null,null,null,null,null,null,null,null,null,11,null,null,null,null,{"$f":"I14","v":""},{"$f":"I17","v":""}]
[null,null,null,{"$f":"CH7","v":0},{"$f":"CI7","v":0},"Y5",null,5,{"$f":"IF(AND(D14=0,E14=0),\"\",IF(D14>E14,B13,B15))","v":""},null,null,null,null,null,null,null,null,null,null,null,null,null,null,null,null,null,null,null,null,null,null,null,null,null,null,null,null,null,null,null,null,null,null,null,null,null,null,null,null,null,null,null,null,null,null,null,40,null,null,null,null,null,null,null,null,null,null,null,12,null,null,null,null,{"$f":"I20","v":""},{"$f":"I23","v":""}]
[10,{"$f":"IF(Main!R2=2,Eleme!BM248,IF(Main!R2=3,Eleme!BM506,IF(Main!R2=4,Eleme!BM636,IF(Main!R2=5,Eleme!BM702,IF(Main!R2=6,Eleme!BM736)))))","v":false},null,null,null,null,null,null,null,null,null,null,null,null,11,null,null,null,null,null,null,null,null,null,null,null,null,null,null,null,null,null,null,null,null,null,null,null,null,null,null,null,null,null,null,null,null,null,null,null,null,null,null,null,null,null,null,null,null,null,null,null,null,null,null,null,null,null,13,null,null,null,null,{"$f":"I26","v":""},{"$f":"I28","v":""}]
[11,{"$f":"IF(Main!R2=2,Eleme!BL249,IF(Main!R2=3,Eleme!BL507,IF(Main!R2=4,Eleme!BL637,IF(Main!R2=5,Eleme!BL703,IF(Main!R2=6,Eleme!BL737)))))","v":false},null,null,null,null,null,null,null,null,{"$f":"CH13","v":0},{"$f":"CI13","v":0},"Y11",null,null,{"$f":"IF(AND(K16=0,L16=0),\"\",IF(K16>L16,I14,I17))","v":""},null,null,null,null,null,null,null,null,null,null,null,null,null,null,null,null,null,null,null,null,null,null,null,null,null,null,null,null,null,null,null,null,null,null,null,null,null,null,null,null,null,null,null,null,null,null,null,null,null,null,null,null,14,null,null,null,null,{"$f":"I30","v":""},{"$f":"I32","v":""}]
[null,null,null,{"$f":"CH8","v":0},{"$f":"CI8","v":0},"Y6",null,6,{"$f":"IF(AND(D17=0,E17=0),\"\",IF(D17>E17,B16,B18))","v":""},null,null,null,null,null,null,null,null,null,null,null,null,18,null,null,null,null,null,null,null,null,null,null,null,null,null,null,null,null,null,null,null,null,null,null,null,null,null,null,null,null,null,null,null,null,null,null,null,null,null,null,null,null,null,null,null,null,null,null,15,null,null,null,null,{"$f":"I34","v":""},{"$f":"I36","v":""}]
[12,{"$f":"IF(Main!R2=2,Eleme!BM249,IF(Main!R2=3,Eleme!BM507,IF(Main!R2=4,Eleme!BM637,IF(Main!R2=5,Eleme!BM703,IF(Main!R2=6,Eleme!BM737)))))","v":false},null,null,null,null,null,null,null,null,null,null,null,null,null,null,null,null,null,null,null,null,{"$f":"IF(AND(R19=0,S19=0),\"\",IF(R19>S19,P16,P21))","v":""},null,null,null,null,null,null,null,null,null,null,null,null,null,null,null,null,null,null,null,null,null,null,null,null,null,null,null,null,null,null,null,null,null,null,null,null,null,null,null,null,null,null,null,null,null,16,null,null,null,null,{"$f":"I38","v":""},{"$f":"I40","v":""}]
[13,{"$f":"IF(Main!R2=2,Eleme!BL250,IF(Main!R2=3,Eleme!BL508,IF(Main!R2=4,Eleme!BL638,IF(Main!R2=5,Eleme!BL704,IF(Main!R2=6,Eleme!BL738)))))","v":false},null,null,null,null,null,null,null,null,null,null,null,null,null,null,null,{"$f":"CH20","v":0},{"$f":"CI20","v":0},"Y18",null,null,null,null,null,null,null,null,null,null,null,null,null,null,null,null,null,null,null,null,null,null,null,null,null,null,null,null,null,null,null,null,{"$f":"CH42","v":0},{"$f":"CI42","v":0},"Y40",null,null,{"$f":"IF(AND(BA19=0,BB19=0),\"\",IF(BA19>BB19,AY13,AY25))","v":""},null,null,null,null,null,null,"1.",null,null,null,17,null,null,null,null,{"$f":"P4","v":""},{"$f":"P9","v":""}]
[null,null,null,{"$f":"CH9","v":0},{"$f":"CI9","v":0},"Y7",null,7,{"$f":"IF(AND(D20=0,E20=0),\"\",IF(D20>E20,B19,B21))","v":""},null,null,null,null,null,null,null,null,null,null,null,null,null,null,null,null,null,null,null,null,null,null,null,null,null,null,null,null,null,null,null,null,null,"Y25",{"$f":"IF(AND(Y13=0,Z13=0),\"\",IF(Y13<Z13,W7,W18))","v":""},null,null,null,null,null,null,null,null,null,null,null,null,null,null,null,null,null,null,null,null,null,null,null,null,18,null,null,null,null,{"$f":"P16","v":""},{"$f":"P21","v":""}]
[14,{"$f":"IF(Main!R2=2,Eleme!BM250,IF(Main!R2=3,Eleme!BM508,IF(Main!R2=4,Eleme!BM638,IF(Main!R2=5,Eleme!BM704,IF(Main!R2=6,Eleme!BM738)))))","v":false},null,null,null,null,null,null,null,null,null,null,null,null,12,{"$f":"IF(AND(K22=0,L22=0),\"\",IF(K22>L22,I20,I23))","v":""},null,null,null,null,null,null,null,null,null,null,null,null,null,null,null,null,null,null,null,null,null,null,null,null,null,null,null,null,null,null,null,null,null,39,null,null,null,null,null,null,null,null,null,null,null,null,null,null,null,null,null,null,19,null,null,null,null,{"$f":"P25","v":""},{"$f":"P27","v":""}]
[15,{"$f":"IF(Main!R2=2,Eleme!BL251,IF(Main!R2=3,Eleme!BL509,IF(Main!R2=4,Eleme!BL639,IF(Main!R2=5,Eleme!BL705,IF(Main!R2=6,Eleme!BL739)))))","v":false},null,null,null,null,null,null,null,null,{"$f":"CH14","v":0},{"$f":"CI14","v":0},"Y12",null,null,null,null,null,null,null,null,null,null,null,null,null,null,null,null,null,null,null,null,null,null,null,null,null,null,null,null,null,null,null,null,null,null,null,null,null,null,null,null,null,null,null,null,null,null,null,null,null,null,null,null,null,null,null,20,null,null,null,null,{"$f":"P29","v":""},{"$f":"P31","v":""}]
[null,null,null,{"$f":"CH10","v":0},{"$f":"CI10","v":0},"Y8",null,8,{"$f":"IF(AND(D23=0,E23=0),\"\",IF(D23>E23,B22,B24))","v":""},null,null,null,null,null,null,null,null,null,null,null,null,null,null,null,null,null,null,null,null,null,null,null,null,null,null,null,null,null,null,null,null,null,null,null,null,null,null,null,null,null,null,null,null,null,null,null,null,null,null,null,null,null,null,null,null,null,null,null,21,null,null,null,null,{"$f":"P33","v":""},{"$f":"P35","v":""}]
[16,{"$f":"IF(Main!R2=2,Eleme!BM251,IF(Main!R2=3,Eleme!BM509,IF(Main!R2=4,Eleme!BM639,IF(Main!R2=5,Eleme!BM705,IF(Main!R2=6,Eleme!BM739)))))","v":false},null,null,null,null,null,null,null,null,null,null,null,null,null,null,null,null,null,null,null,null,null,null,null,null,null,null,"Y17",{"$f":"IF(AND(R7=0,S7=0),\"\",IF(R7<S7,P4,P9))","v":""},null,null,null,null,null,null,null,null,null,null,null,null,null,null,null,null,null,null,null,null,null,null,null,null,null,null,null,null,null,null,null,null,null,null,null,null,null,null,22,null,null,null,null,{"$f":"P37","v":""},{"$f":"P39","v":""}]
[null,null,null,null,null,null,null,null,null,null,null,null,null,null,"Y12",{"$f":"IF(AND(K22=0,L22=0),\"\",IF(K22<L22,I20,I23))","v":""},null,null,null,null,null,null,null,null,null,null,null,null,null,null,null,null,null,null,null,32,null,null,null,null,null,null,null,null,null,{"$f":"CH41","v":0},{"$f":"+CI41","v":0},"Y39",null,null,{"$f":"IF(AND(AT25=0,AU25=0),\"\",IF(AT25>AU25,AR20,AR30))","v":""},null,null,null,null,null,null,null,null,null,null,null,null,null,null,null,null,null,23,null,null,null,null,{"$f":"P53","v":""},{"$f":"P55","v":""},null,null,null,null,null,null,null,null,null,null,null,null,null,null,null,null,null,null,null,null,null,null,null,null,null,null,null,null,null,null,null,null,null,null,null,null,null,null,null,null,null,null,null,null,null,null,null,null,null,null,null,null,null,null,null,null,null,null,null,null,null,null,null,null,null,null,null,null,null,null,null,null,null,null,null,null,null,null,null,null,null,null,null,null,null,null,null,null,null,null,null,null,null,null,null,null,null,null,null,null,null,null,null,null,null,null,null,null,null,null,null,null,null,null,null,null,null,null,null,null,null,null,null,null,null,null,null,null,null,null,null,null,null,null,null,null,null,null,null,null,null,null,null,null,null,null,null,null,null,null,null,null,null,null,null,null,null,null,null,null,null,null,null,null,null,null,null,null,null,null,null,null,null,null,null,null,null,null,null,null,null,null,null,null,null,null,null,null,null,null,null,null,null,null,null,null,null,null,null,null,null,null,null,null,null,null,null,null,null,null,null,null,null,null,null,null,null,null,null,null,null,null,null,null,null,null,null,null,null,null,null,null,null,null,null,null,null,null,null,null,null,null,null,null,null,null,null,null,null,null,null,null,null,null,null,null,null,null,null,null,null,null,null,null,null,null,null,null,null,null,null,null,null,null,null,null,null,null,null,null,null,null,null,null,null,null,null,null,null,null,null,null,null,null,null,null,null,null,null,null,null,null,null,null,null,null,null,null,null,null,null,null,null,null,null,null,null,null,null,null,null,null,null,null,null,null,null,null,null,null,null,null,null,null,null,null,null,null,null,null,null,null,null,null,null,null,null,null,null,null,null,null,null,null,null,null,null,null,null,null,null,null,null,null,null,null,null,null,null,null,null,null,null,null,null,null,null,null,null,null,null,null,null,null,null,null,null,null,null,null,null,null,null,null,null,null,null,null,null,null,null,null,null,null,null,null,null,null,null,null,null,null,null,null,null,null,null,null,null,null,null,null,null,null,null,null,null,null,null,null,null,null,null,null,null,null,null,null,null,null,null,null,null,null,null,null,null,null,null,null,null,null,null,null,null,null,null,null,null,null,null,null,null,null,null,null,null,null,null,null,null,null,null,null,null,null,null,null,null,null,null,null,null,null,null,null,null,null,null,null,null,null,null,null,null,null,null,null,null,null,null,null,null,null,null,null,null,null,null,null,null,null,null,null,null,null,null,null,null,null,null,null,null,null,null,null,null,null,null,null,null,null,null,null,null,null,null,null,null,null,null,null,null,null,null,null,null,null,null,null,null,null,null,null,null,null,null,null,null,null,null,null,null,null,null,null,null,null,null,null,null,null,null,null,null,null,null,null,null,null,null,null,null,null,null,null,null,null,null,null,null,null,null,null,null,null,null,null,null,null,null,null,null,null,null,null,null,null,null,null,null,null,null,null,null,null,null,null,null,null,null,null,null,null,null,null,null,null,null,null,null,null,null,null,null,null,null,null,null,null,null,null,null,null,null,null,null,null,null,null,null,null,null,null,null,null,null,null,null,null,null,null,null,null,null,null,null,null,null,null,null,null,null,null,null,null,null,null,null,null,null,null,null,null,null,null,null,null,null,null,null,null,null,null,null,null,null,null,null,null,null,null,null,null,null,null,null,null,null,null,null,null,null,null,null,null,null,null,null,null,null,null,null,null,null,null,null,null,null,null,null,null,null,null,null,null,null,null,null,null,null,null,null,null,null,null,null,null,null,null,null,null,null,null,null,null,null,null,null,null,null,null,null,null,null,null,null,null,null,null,null,null,null,null,null,null,null,null,null,null,null,null,null,null,null,null,null,null,null,null,null,null,null,null,null,null,null,null,null,null,null,null,null,null,null,null,null,null,null,null,null,null,null,null,null,null,null,null,null,null,null,null,null,null,null,null,null,null,null,null,null,null,null,null,null,null,null,null,null,null,null,null,null,null,null,null,null,null,null,null,null,null,null,null,null,null,null,null,null,null,null,null,null,null,null,null,null,null,null,null,null,null,null,null,null,null,null,null,null,null,null,null,null,null,null,null,null,null,null,null,null,null,null,null,null,null,null,null,null,null,null,null,null,null,null,null,null,null,null,null,null,null,null,null,null,null,null,null,null,null,null,null,null,null,null,null,null,null,null,null,null,null,null,null,null,null,null,null,null,null,null,null,null,null,null,null,null,null,null,null,null,null,null,null,null,null,null,null,null,null,null,null,null,null,null,null,null,null,null,null,null,null,null,null,null,null,null,null,null,null,null,null,null,null,null,null,null,null,null,null,null,null,null,null,null,null,null,null,null,null,null,null,null,null,null,null,null,null,null,null,null,null,null,null,null,null,null,null,null,null,null,null,null,null,null,null,null,null,null,null,null,null,null,null,null,null,null,null,null,null,null,null,null,null,null,null,null,null,null,null,null,null,null,null,null,null,null,null,null,null,null,null,null,null,null,null,null,null,null,null,null,null,null,null,null,null,null,null,null,null,null,null,null,null,null,null,null,null,null,null,null,null,null,null,null,null,null,null,null,null,null,null,null,null,null,null,null,null,null,null,null,null,null,null,null,null,null,null,null,null,null,null,null,null,null,null,null,null,null,null,null,null,null,null,null,null,null,null,null,null,null,0]
[null,null,null,null,null,null,null,"Y1",{"$f":"IF(AND(D2=0,E2=0),\"\",IF(D2<E2,B1,B3))","v":""},null,null,null,null,null,null,null,null,{"$f":"CH21","v":0},{"$f":"CI21","v":0},"Y19",null,19,{"$f":"IF(AND(R26=0,S26=0),\"\",IF(R26>S26,P25,P27))","v":""},null,null,null,null,null,null,null,null,{"$f":"CH34","v":0},{"$f":"+CI34","v":0},"Y32",null,null,{"$f":"IF(AND(AF26=0,AG26=0),\"\",IF(AF26>AG26,AD24,AD28))","v":""},null,null,null,null,null,null,null,null,null,null,null,null,null,null,null,null,null,null,null,"Y40",{"$f":"IF(AND(BA19=0,BB19=0),\"\",IF(BA19<BB19,AY13,AY25))","v":""},null,null,null,null,null,null,"2.",null,null,null,24,null,null,null,null,{"$f":"P57","v":""},{"$f":"P59","v":""}]
[null,null,null,null,null,null,null,null,null,null,{"$f":"CH15","v":0},{"$f":"CI15","v":0},"Y13",null,13,{"$f":"IF(AND(K27=0,L27=0),\"\",IF(K27>L27,I26,I28))","v":""},null,null,null,null,null,null,null,null,null,null,null,null,26,null,null,null,null,null,null,null,null,null,null,null,null,null,37,null,null,null,null,null,null,null,null,null,null,null,null,null,null,null,null,null,null,null,null,null,null,null,null,null,25,null,null,null,null,{"$f":"W7","v":""},{"$f":"W18","v":""}]
[null,null,null,null,null,null,null,"Y2",{"$f":"IF(AND(D5=0,E5=0),\"\",IF(D5<E5,B4,B6))","v":""},null,null,null,null,null,null,null,null,null,null,null,null,null,null,null,{"$f":"CH28","v":0},{"$f":"+CI28","v":0},"Y26",null,null,{"$f":"IF(AND(Y28=0,Z28=0),\"\",IF(Y28>Z28,W26,W30))","v":""},null,null,null,null,null,null,null,null,null,null,null,null,null,null,null,null,null,null,null,null,null,null,null,null,null,null,null,null,null,null,null,null,null,null,null,null,null,null,26,null,null,null,null,{"$f":"W26","v":""},{"$f":"W30","v":""}]
[null,null,null,null,null,null,null,null,null,null,null,null,null,null,"Y11",{"$f":"IF(AND(K16=0,L16=0),\"\",IF(K16<L16,I14,I17))","v":""},null,null,null,null,null,null,null,null,null,null,null,null,null,null,null,null,null,null,null,null,null,null,null,null,null,null,null,null,null,null,null,null,null,null,null,null,null,null,null,null,null,null,null,null,null,null,null,null,null,null,null,null,27,null,null,null,null,{"$f":"W34","v":""},{"$f":"W38","v":""}]
[null,null,null,null,null,null,null,"Y3",{"$f":"IF(AND(D8=0,E8=0),\"\",IF(D8<E8,B7,B9))","v":""},null,null,null,null,null,null,null,null,{"$f":"CH22","v":0},{"$f":"CI22","v":0},"Y20",null,20,{"$f":"IF(AND(R30=0,S30=0),\"\",IF(R30>S30,P29,P31))","v":""},null,null,null,null,null,null,null,null,null,null,null,null,null,null,null,{"$f":"CH39","v":0},{"$f":"+CI39","v":0},"Y37",null,null,{"$f":"IF(AND(AM30=0,AN30=0),\"\",IF(AM30>AN30,AK26,AK34))","v":""},null,null,null,null,null,null,null,null,null,null,null,null,null,null,null,null,null,null,null,null,null,null,null,null,28,null,null,null,null,{"$f":"W44","v":""},{"$f":"W46","v":""}]
[null,null,null,null,null,null,null,null,null,null,{"$f":"CH16","v":0},{"$f":"CI16","v":0},"Y14",null,14,{"$f":"IF(AND(K31=0,L31=0),\"\",IF(K31>L31,I30,I32))","v":""},null,null,null,null,null,null,null,null,null,null,null,null,null,null,null,null,null,null,null,null,null,null,null,null,null,null,null,null,null,null,null,null,null,"Y39",{"$f":"IF(AND(AT25=0,AU25=0),\"\",IF(AT25<AU25,AR20,AR30))","v":""},null,null,null,null,null,"3.",null,null,null,null,null,null,null,null,null,null,null,29,null,null,null,null,{"$f":"W48","v":""},{"$f":"W50","v":""}]
[null,null,null,null,null,null,null,"Y4",{"$f":"IF(AND(D11=0,E11=0),\"\",IF(D11<E11,B10,B12))","v":""},null,null,null,null,null,null,null,null,null,null,null,null,null,null,null,null,null,null,null,"Y18",{"$f":"IF(AND(R19=0,S19=0),\"\",IF(R19<S19,P16,P21))","v":""},null,null,null,null,null,null,null,null,null,null,null,null,null,null,null,null,null,null,null,null,null,null,null,null,null,null,null,null,null,null,null,null,null,null,null,null,null,null,30,null,null,null,null,{"$f":"W54","v":""},{"$f":"W58","v":""}]
[null,null,null,null,null,null,null,null,null,null,null,null,null,null,"Y10",{"$f":"IF(AND(K10=0,L10=0),\"\",IF(K10<L10,I8,I11))","v":""},null,null,null,null,null,null,null,null,null,null,null,null,null,null,null,null,null,null,null,33,null,null,null,null,null,null,null,null,null,null,null,null,null,null,null,null,null,null,null,null,null,null,null,null,null,null,null,null,null,null,null,null,31,null,null,null,null,{"$f":"W60","v":""},{"$f":"W62","v":""}]
[null,null,null,null,null,null,null,"Y5",{"$f":"IF(AND(D14=0,E14=0),\"\",IF(D14<E14,B13,B15))","v":""},null,null,null,null,null,null,null,null,{"$f":"CH23","v":0},{"$f":"CI23","v":0},"Y21",null,21,{"$f":"IF(AND(R34=0,S34=0),\"\",IF(R34>S34,P33,P35))","v":""},null,null,null,null,null,null,null,null,{"$f":"CH35","v":0},{"$f":"+CI35","v":0},"Y33",null,null,{"$f":"IF(AND(AF34=0,AG34=0),\"\",IF(AF34>AG34,AD32,AD36))","v":""},null,null,null,null,null,null,null,null,null,null,null,null,null,null,null,null,null,null,null,null,null,null,null,null,null,null,null,null,null,null,null,32,null,null,null,null,{"$f":"AD24","v":""},{"$f":"AD28","v":""}]
[null,null,null,null,null,null,null,null,null,null,{"$f":"CH17","v":0},{"$f":"CI17","v":0},"Y15",null,15,{"$f":"IF(AND(K35=0,L35=0),\"\",IF(K35>L35,I34,I36))","v":""},null,null,null,null,null,null,null,null,null,null,null,null,27,null,null,null,null,null,null,null,null,null,null,null,null,null,"Y37",{"$f":"IF(AND(AM30=0,AN30=0),\"\",IF(AM30<AN30,AK26,AK34))","v":""},null,null,null,null,null,null,"4.",null,null,null,null,null,null,null,null,null,null,null,null,null,null,null,null,null,33,null,null,null,null,{"$f":"AD32","v":""},{"$f":"AD36","v":""}]
[null,null,null,null,null,null,null,"Y6",{"$f":"IF(AND(D17=0,E17=0),\"\",IF(D17<E17,B16,B18))","v":""},null,null,null,null,null,null,null,null,null,null,null,null,null,null,null,{"$f":"CH29","v":0},{"$f":"+CI29","v":0},"Y27",null,null,{"$f":"IF(AND(Y36=0,Z36=0),\"\",IF(Y36>Z36,W34,W38))","v":""},null,null,null,null,null,null,null,null,null,null,null,null,null,null,null,null,null,null,null,null,null,null,null,null,null,null,null,null,null,null,null,null,null,null,null,null,null,null,34,null,null,null,null,{"$f":"AD41","v":""},{"$f":"AD43","v":""}]
[null,null,null,null,null,null,null,null,null,null,null,null,null,null,"Y9",{"$f":"IF(AND(K4=0,L4=0),\"\",IF(K4<L4,I2,I5))","v":""},null,null,null,null,null,null,null,null,null,null,null,null,null,null,null,null,null,null,null,"Y32",{"$f":"IF(AND(AF26=0,AG26=0),\"\",IF(AF26<AG26,AD24,AD28))","v":""},null,null,null,null,null,null,null,null,null,null,null,null,null,null,null,null,null,null,null,null,null,null,null,null,null,null,null,null,null,null,null,35,null,null,null,null,{"$f":"AD45","v":""},{"$f":"AD49","v":""}]
[null,null,null,null,null,null,null,"Y7",{"$f":"IF(AND(D20=0,E20=0),\"\",IF(D20<E20,B19,B21))","v":""},null,null,null,null,null,null,null,null,{"$f":"CH24","v":0},{"$f":"CI24","v":0},"Y22",null,22,{"$f":"IF(AND(R38=0,S38=0),\"\",IF(R38>S38,P37,P39))","v":""},null,null,null,null,null,null,null,null,null,null,null,null,null,null,null,{"$f":"CH40","v":0},{"$f":"+CI40","v":0},"Y38",null,38,{"$f":"IF(AND(AM38=0,AN38=0),\"\",IF(AM38>AN38,AK37,AK39))","v":""},null,null,null,null,null,null,"5.",null,null,null,null,null,null,null,null,null,null,null,null,null,null,null,null,null,36,null,null,null,null,{"$f":"AD51","v":""},{"$f":"AD53","v":""}]
[null,null,null,null,null,null,null,null,null,null,{"$f":"CH18","v":0},{"$f":"CI18","v":0},"Y16",null,16,{"$f":"IF(AND(K39=0,L39=0),\"\",IF(K39>L39,I38,I40))","v":""},null,null,null,null,null,null,null,null,null,null,null,null,null,null,null,null,null,null,null,"Y33",{"$f":"IF(AND(AF34=0,AG34=0),\"\",IF(AF34<AG34,AD32,AD36))","v":""},null,null,null,null,null,null,null,null,null,null,null,null,null,null,null,null,null,null,null,null,null,null,null,null,null,null,null,null,null,null,null,37,null,null,null,null,{"$f":"AK26","v":""},{"$f":"AK34","v":""}]
[null,null,null,null,null,null,null,"Y8",{"$f":"IF(AND(D23=0,E23=0),\"\",IF(D23<E23,B22,B24))","v":""},null,null,null,null,null,null,null,null,null,null,null,null,null,null,null,null,null,null,null,null,null,null,null,null,null,null,null,null,null,null,null,null,null,"Y38",{"$f":"IF(AND(AM38=0,AN38=0),\"\",IF(AM38<AN38,AK37,AK39))","v":""},null,null,null,null,null,null,"6.",null,null,null,null,null,null,null,null,null,null,null,null,null,null,null,null,null,38,null,null,null,null,{"$f":"AK37","v":""},{"$f":"AK39","v":""}]
[null,null,null,null,null,null,null,null,null,null,null,null,null,null,null,null,null,null,null,null,null,null,null,null,null,null,null,null,"Y26",{"$f":"IF(AND(Y28=0,Z28=0),\"\",IF(Y28<Z28,W26,W30))","v":""},null,null,null,null,null,null,null,null,null,null,null,null,null,null,null,null,null,null,null,null,null,null,null,null,null,null,null,null,null,null,null,null,null,null,null,null,null,null,39,null,null,null,null,{"$f":"AR20","v":""},{"$f":"AR30","v":""}]
[null,null,null,null,null,null,null,null,null,null,null,null,null,null,null,null,null,null,null,null,null,null,null,null,null,null,null,null,null,null,null,{"$f":"CH36","v":0},{"$f":"+CI36","v":0},"Y34",null,34,{"$f":"IF(AND(AF42=0,AG42=0),\"\",IF(AF42>AG42,AD41,AD43))","v":""},null,null,null,null,null,null,"7.",null,null,null,null,null,null,null,null,null,null,null,null,null,null,null,null,null,null,null,null,null,null,null,null,40,null,null,null,null,{"$f":"AY13","v":""},{"$f":"AY25","v":""}]
[null,null,null,null,null,null,null,null,null,null,null,null,null,null,null,null,null,null,null,null,null,null,null,null,null,null,null,null,"Y27",{"$f":"IF(AND(Y36=0,Z36=0),\"\",IF(Y36<Z36,W34,W38))","v":""}]
[null,null,null,null,null,null,null,null,null,null,null,null,null,null,null,null,null,null,null,null,null,"Y19",{"$f":"IF(AND(R26=0,S26=0),\"\",IF(R26<S26,P25,P27))","v":""},null,null,null,null,null,null,null,null,null,null,null,null,"Y34",{"$f":"IF(AND(AF42=0,AG42=0),\"\",IF(AF42<AG42,AD41,AD43))","v":""},null,null,null,null,null,null,"8."]
[null,null,null,null,null,null,null,null,null,null,null,null,null,null,null,null,null,null,null,null,null,null,null,null,{"$f":"CH30","v":0},{"$f":"+CI30","v":0},"Y28",null,28,{"$f":"IF(AND(Y45=0,Z45=0),\"\",IF(Y45>Z45,W44,W46))","v":""}]
[null,null,null,null,null,null,null,null,null,null,null,null,null,null,null,null,null,null,null,null,null,"Y20",{"$f":"IF(AND(R30=0,S30=0),\"\",IF(R30<S30,P29,P31))","v":""},null,null,null,null,null,null,null,null,null,null,null,null,35]
[null,null,null,null,null,null,null,null,null,null,null,null,null,null,null,null,null,null,null,null,null,null,null,null,null,null,null,null,null,null,null,{"$f":"CH37","v":0},{"$f":"+CI37","v":0},"Y35",null,null,{"$f":"IF(AND(AF47=0,AG47=0),\"\",IF(AF47>AG47,AD45,AD49))","v":""},null,null,null,null,null,null,"9."]
[null,null,null,null,null,null,null,null,null,null,null,null,null,null,null,null,null,null,null,null,null,"Y21",{"$f":"IF(AND(R34=0,S34=0),\"\",IF(R34<S34,P33,P35))","v":""}]
[null,null,null,null,null,null,null,null,null,null,null,null,null,null,null,null,null,null,null,null,null,null,null,null,{"$f":"CH31","v":0},{"$f":"+CI31","v":0},"Y29",null,29,{"$f":"IF(AND(Y49=0,Z49=0),\"\",IF(Y49>Z49,W48,W50))","v":""}]
[null,null,null,null,null,null,null,null,null,null,null,null,null,null,null,null,null,null,null,null,null,"Y22",{"$f":"IF(AND(R38=0,S38=0),\"\",IF(R38<S38,P37,P39))","v":""},null,null,null,null,null,null,null,null,null,null,null,null,"Y35",{"$f":"IF(AND(AF47=0,AG47=0),\"\",IF(AF47<AG47,AD45,AD49))","v":""},null,null,null,null,null,null,"10."]
[null,null,null,null,null,null,null,null,null,null,null,null,null,null,null,null,null,null,null,null,null,null,null,null,null,null,null,null,"Y28",{"$f":"IF(AND(Y45=0,Z45=0),\"\",IF(Y45<Z45,W44,W46))","v":""}]
[null,null,null,null,null,null,null,null,null,null,null,null,null,null,null,null,null,null,null,null,null,null,null,null,null,null,null,null,null,null,null,{"$f":"CH38","v":0},{"$f":"+CI38","v":0},"Y36",null,36,{"$f":"IF(AND(AF52=0,AG52=0),\"\",IF(AF52>AG52,AD51,AD53))","v":""},null,null,null,null,null,null,"11."]
[null,null,null,null,null,null,null,null,null,null,null,null,null,null,"Y13",{"$f":"IF(AND(K27=0,L27=0),\"\",IF(K27<L27,I26,I28))","v":""},null,null,null,null,null,null,null,null,null,null,null,null,"Y29",{"$f":"IF(AND(Y49=0,Z49=0),\"\",IF(Y49<Z49,W48,W50))","v":""}]
[null,null,null,null,null,null,null,null,null,null,null,null,null,null,null,null,null,{"$f":"CH25","v":0},{"$f":"CI25","v":0},"Y23",null,23,{"$f":"IF(AND(R54=0,S54=0),\"\",IF(R54>S54,P53,P55))","v":""},null,null,null,null,null,null,null,null,null,null,null,null,"Y36",{"$f":"IF(AND(AF52=0,AG52=0),\"\",IF(AF52<AG52,AD51,AD53))","v":""},null,null,null,null,null,null,"12."]
[null,null,null,null,null,null,null,null,null,null,null,null,null,null,"Y14",{"$f":"IF(AND(K31=0,L31=0),\"\",IF(K31<L31,I30,I32))","v":""},null,null,null,null,null,null,null,null,null,null,null,null,30]
[null,null,null,null,null,null,null,null,null,null,null,null,null,null,null,null,null,null,null,null,null,null,null,null,{"$f":"CH32","v":0},{"$f":"+CI32","v":0},"Y30",null,null,{"$f":"IF(AND(Y56=0,Z56=0),\"\",IF(Y56>Z56,W54,W58))","v":""},null,null,null,null,null,null,"13."]
[null,null,null,null,null,null,null,null,null,null,null,null,null,null,"Y15",{"$f":"IF(AND(K35=0,L35=0),\"\",IF(K35<L35,I34,I36))","v":""}]
[null,null,null,null,null,null,null,null,null,null,null,null,null,null,null,null,null,{"$f":"CH26","v":0},{"$f":"CI26","v":0},"Y24",null,24,{"$f":"IF(AND(R58=0,S58=0),\"\",IF(R58>S58,P57,P59))","v":""}]
[null,null,null,null,null,null,null,null,null,null,null,null,null,null,"Y16",{"$f":"IF(AND(K39=0,L39=0),\"\",IF(K39<L39,I38,I40))","v":""},null,null,null,null,null,null,null,null,null,null,null,null,"Y30",{"$f":"IF(AND(Y56=0,Z56=0),\"\",IF(Y56<Z56,W54,W58))","v":""},null,null,null,null,null,null,"14."]
[null,null,null,null,null,null,null,null,null,null,null,null,null,null,null,null,null,null,null,null,null,"Y23",{"$f":"IF(AND(R54=0,S54=0),\"\",IF(R54<S54,P53,P55))","v":""}]
[null,null,null,null,null,null,null,null,null,null,null,null,null,null,null,null,null,null,null,null,null,null,null,null,{"$f":"CH33","v":0},{"$f":"+CI33","v":0},"Y31",null,31,{"$f":"IF(AND(Y61=0,Z61=0),\"\",IF(Y61>Z61,W60,W62))","v":""},null,null,null,null,null,null,"15."]
[null,null,null,null,null,null,null,null,null,null,null,null,null,null,null,null,null,null,null,null,null,"Y24",{"$f":"IF(AND(R58=0,S58=0),\"\",IF(R58<S58,P57,P59))","v":""}]
[null,null,null,null,null,null,null,null,null,null,null,null,null,null,null,null,null,null,null,null,null,null,null,null,null,null,null,null,"Y31",{"$f":"IF(AND(Y61=0,Z61=0),\"\",IF(Y61<Z61,W60,W62))","v":""},null,null,null,null,null,null,"16."]

{"sheet":"16(8DE)","index":10,"n_rows":41,"n_cols":105,"rows_kept":41,"cut":false,"hidden":true,"merged":[[32,15,32,21],[37,22,37,28],[39,22,39,28],[28,22,28,28],[40,29,40,35],[35,36,35,42],[38,29,38,35],[31,22,31,28],[20,1,20,7],[20,15,20,21],[21,1,21,7],[22,8,22,14],[27,36,27,42],[24,29,24,35],[26,15,26,21],[30,15,30,21],[29,29,29,35],[22,36,22,42],[23,1,23,7],[22,22,22,28],[24,15,24,21],[19,8,19,14],[12,1,12,7],[17,1,17,7],[17,22,17,28],[18,1,18,7],[18,22,18,28],[13,8,13,14],[14,1,14,7],[15,1,15,7],[15,15,15,21],[16,8,16,14],[8,1,8,7],[8,15,8,21],[9,1,9,7],[10,8,10,14],[11,1,11,7],[4,8,4,14],[5,1,5,7],[6,1,6,7],[6,22,6,28],[7,8,7,14],[3,26,4,48],[0,1,0,7],[1,8,1,14],[2,1,2,7],[3,1,3,7],[3,15,3,21],[0,26,2,48],[26,50,26,56],[32,29,32,35],[33,36,33,42],[34,29,34,35],[30,36,30,42],[28,43,28,49],[18,50,18,56],[12,43,12,49],[25,43,25,49],[25,22,25,28],[1,77,1,78],[1,67,1,68],[1,69,1,70],[1,71,1,72],[1,73,1,74],[1,75,1,76]]}
[1,{"$f":"IF(Main!R2=2,Eleme!BL244,IF(Main!R2=3,Eleme!BL502,IF(Main!R2=4,Eleme!BL632,IF(Main!R2=5,Eleme!BL698,IF(Main!R2=6,Eleme!BL732)))))","v":false},null,null,null,null,null,null,null,null,null,null,null,null,null,null,null,null,null,null,null,null,null,null,null,null,{"$f":"Katılım!AC1","v":"TÜRKİYE MASA TENİSİ FEDERASYONU                                                                                                                                                                                                     İsmail Eren ALICI Küçükler Ferdi-Takım Türkiye Şampiyonası  "},null,null,null,null,null,null,null,null,null,null,null,null,null,null,null,null,null,null,null,null,null,null,null,null,null,null,null,null,null,null,null,null,null,null,null,null,null,null,null,null,null,null,null,null,null,null,null,null,null,null,null,null,null,null,null,null,null,null,null,null,null,null,null,null,null,null,null,null,null,null,null,null,null,null,null,null,"1st Round",1]
[null,null,null,{"$f":"BZ3","v":0},{"$f":"CA3","v":0},null,null,1,{"$f":"IF(AND(D2=0,E2=0),\"\",IF(D2>E2,B1,B3))","v":""},null,null,null,null,null,null,null,null,null,null,null,null,null,null,null,null,null,null,null,null,null,null,null,null,null,null,null,null,null,null,null,null,null,null,null,null,null,null,null,null,null,null,null,null,null,null,null,null,null,null,null,"#","Date","Time","Table","Competition","Player A","Player B","Set1",null,"Set2",null,"Set3",null,"Set4",null,"Set5",null,"Result",null,null,null,null,null,null,null,null,null,null,null,null,null,null,null,null,null,null,null,null,null,null,null,null,null,"2sn Round"]
[2,{"$f":"IF(Main!R2=2,Eleme!BM244,IF(Main!R2=3,Eleme!BM502,IF(Main!R2=4,Eleme!BM632,IF(Main!R2=5,Eleme!BM698,IF(Main!R2=6,Eleme!BM732)))))","v":false},null,null,null,null,null,null,null,null,null,null,null,null,9,null,null,null,null,null,null,null,null,null,null,null,null,null,null,null,null,null,null,null,null,null,null,null,null,null,null,null,null,null,null,null,null,null,null,null,null,null,null,null,null,null,null,null,null,null,1,null,null,null,null,{"$f":"B1","v":false},{"$f":"B3","v":false},null,null,null,null,null,null,null,null,null,null,null,null,null,null,null,null,null,null,null,null,null,null,null,null,null,null,null,null,null,null,null,null,null,null,null,null,"3th Round"]
[3,{"$f":"IF(Main!R2=2,Eleme!BL245,IF(Main!R2=3,Eleme!BL503,IF(Main!R2=4,Eleme!BL633,IF(Main!R2=5,Eleme!BL699,IF(Main!R2=6,Eleme!BL733)))))","v":false},null,null,null,null,null,null,null,null,{"$f":"+BZ11","v":0},{"$f":"+CA11","v":0},"Y1",null,null,{"$f":"IF(AND(K4=0,L4=0),\"\",IF(K4>L4,I2,I5))","v":""},null,null,null,null,null,null,null,null,null,null,{"$f":"Katılım!AC2&\" \"&Katılım!AE3","v":"KIZ TAKIM  [09-13 Nisan 2025 ÇORUM] [ Ana Tablo ]"},null,null,null,null,null,null,null,null,null,null,null,null,null,null,null,null,null,null,null,null,null,null,null,null,null,null,null,null,null,null,null,null,null,2,null,null,null,null,{"$f":"B4","v":false},{"$f":"B6","v":false},null,null,null,null,null,null,null,null,null,null,null,null,null,null,null,null,null,null,null,null,null,null,null,null,null,null,null,null,null,null,null,null,null,null,null,null,"4th Round"]
[null,null,null,{"$f":"BZ4","v":0},{"$f":"CA4","v":0},null,null,2,{"$f":"IF(AND(D5=0,E5=0),\"\",IF(D5>E5,B4,B6))","v":""},null,null,null,null,null,null,null,null,null,null,null,null,13,null,null,null,null,null,null,null,null,null,null,null,null,null,null,null,null,null,null,null,null,null,null,null,null,null,null,null,null,null,null,null,null,null,null,null,null,null,null,3,null,null,null,null,{"$f":"B7","v":false},{"$f":"B9","v":false},null,null,null,null,null,null,null,null,null,null,null,null,null,null,null,null,null,null,null,null,null,null,null,null,null,null,null,null,null,null,null,null,null,null,null,null,"5th Round"]
[4,{"$f":"IF(Main!R2=2,Eleme!BM245,IF(Main!R2=3,Eleme!BM503,IF(Main!R2=4,Eleme!BM633,IF(Main!R2=5,Eleme!BM699,IF(Main!R2=6,Eleme!BM733)))))","v":false},null,null,null,null,null,null,null,null,null,null,null,null,null,null,null,null,null,null,null,null,null,null,null,null,null,null,null,null,null,null,null,null,null,null,null,null,null,null,null,null,null,null,null,null,null,null,null,null,null,null,null,null,null,null,null,null,null,null,4,null,null,null,null,{"$f":"B10","v":false},{"$f":"B12","v":false},null,null,null,null,null,null,null,null,null,null,null,null,null,null,null,null,null,null,null,null,null,null,null,null,null,null,null,null,null,null,null,null,null,null,null,null,"6th Round"]
[5,{"$f":"IF(Main!R2=2,Eleme!BL246,IF(Main!R2=3,Eleme!BL504,IF(Main!R2=4,Eleme!BL634,IF(Main!R2=5,Eleme!BL700,IF(Main!R2=6,Eleme!BL734)))))","v":false},null,null,null,null,null,null,null,null,null,null,null,null,null,null,null,{"$f":"+BZ15","v":0},{"$f":"+CA15","v":0},"Y5",null,null,{"$f":"IF(AND(R7=0,S7=0),\"\",IF(R7>S7,P4,P9))","v":""},null,null,null,null,null,null,null,null,null,null,null,null,null,null,null,null,null,null,null,null,null,null,null,null,null,null,null,null,null,null,null,null,null,null,null,null,null,5,null,null,null,null,{"$f":"B13","v":false},{"$f":"B15","v":false},null,null,null,null,null,null,null,null,null,null,null,null,null,null,null,null,null,null,null,null,null,null,null,null,null,null,null,null,null,null,null,null,null,null,null,null,"7th Round"]
[null,null,null,{"$f":"BZ5","v":0},{"$f":"CA5","v":0},null,null,3,{"$f":"IF(AND(D8=0,E8=0),\"\",IF(D8>E8,B7,B9))","v":""},null,null,null,null,null,null,null,null,null,null,null,null,null,null,null,null,null,null,null,17,null,null,null,null,null,null,null,null,null,null,null,null,null,null,null,null,null,null,null,null,null,null,null,null,null,null,null,null,null,null,null,6,null,null,null,null,{"$f":"B16","v":false},{"$f":"B18","v":false}]
[6,{"$f":"IF(Main!R2=2,Eleme!BM246,IF(Main!R2=3,Eleme!BM504,IF(Main!R2=4,Eleme!BM634,IF(Main!R2=5,Eleme!BM700,IF(Main!R2=6,Eleme!BM734)))))","v":false},null,null,null,null,null,null,null,null,null,null,null,null,10,{"$f":"IF(AND(K10=0,L10=0),\"\",IF(K10>L10,I8,I11))","v":""},null,null,null,null,null,null,null,null,null,null,null,null,null,null,null,null,null,null,null,null,null,null,null,null,null,null,null,null,null,null,null,null,null,null,null,null,null,null,null,null,null,null,null,null,7,null,null,null,null,{"$f":"B19","v":false},{"$f":"B21","v":false}]
[7,{"$f":"IF(Main!R2=2,Eleme!BL247,IF(Main!R2=3,Eleme!BL505,IF(Main!R2=4,Eleme!BL635,IF(Main!R2=5,Eleme!BL701,IF(Main!R2=6,Eleme!BL735)))))","v":false},null,null,null,null,null,null,null,null,{"$f":"+BZ12","v":0},{"$f":"+CA12","v":0},"Y2",null,null,null,null,null,null,null,null,null,null,null,null,null,null,null,null,null,null,null,null,null,null,null,null,null,null,null,null,null,null,null,null,null,null,null,null,null,null,null,null,null,null,null,null,null,null,null,8,null,null,null,null,{"$f":"B22","v":false},{"$f":"B24","v":false}]
[null,null,null,{"$f":"BZ6","v":0},{"$f":"CA6","v":0},null,null,4,{"$f":"IF(AND(D11=0,E11=0),\"\",IF(D11>E11,B10,B12))","v":""},null,null,null,null,null,null,null,null,null,null,null,null,null,null,null,null,null,null,null,null,null,null,null,null,null,null,null,null,null,null,null,null,null,null,null,null,null,null,null,null,null,null,null,null,null,null,null,null,null,null,null,9,null,null,null,null,{"$f":"I2","v":""},{"$f":"I5","v":""}]
[8,{"$f":"IF(Main!R2=2,Eleme!BM247,IF(Main!R2=3,Eleme!BM505,IF(Main!R2=4,Eleme!BM635,IF(Main!R2=5,Eleme!BM701,IF(Main!R2=6,Eleme!BM735)))))","v":false},null,null,null,null,null,null,null,null,null,null,null,null,null,null,null,null,null,null,null,null,null,null,null,null,null,null,null,null,null,null,null,null,null,null,null,null,null,null,null,null,null,null,null,null,null,null,null,null,null,null,null,null,null,null,null,null,null,null,10,null,null,null,null,{"$f":"I8","v":""},{"$f":"I11","v":""}]
[9,{"$f":"IF(Main!R2=2,Eleme!BL248,IF(Main!R2=3,Eleme!BL506,IF(Main!R2=4,Eleme!BL636,IF(Main!R2=5,Eleme!BL702,IF(Main!R2=6,Eleme!BL736)))))","v":false},null,null,null,null,null,null,null,null,null,null,null,null,null,null,null,null,null,null,null,null,null,null,{"$f":"+BZ19","v":0},{"$f":"+CA19","v":0},"Y9",null,null,null,null,null,null,null,null,null,null,null,null,null,null,null,null,{"$f":"IF(AND(Y13=0,Z13=0),\"\",IF(Y13>Z13,W7,W18))","v":""},null,null,null,null,null,null,null,null,null,null,null,null,null,null,null,null,11,null,null,null,null,{"$f":"I14","v":""},{"$f":"I17","v":""}]
[null,null,null,{"$f":"BZ7","v":0},{"$f":"CA7","v":0},null,null,5,{"$f":"IF(AND(D14=0,E14=0),\"\",IF(D14>E14,B13,B15))","v":""},null,null,null,null,null,null,null,null,null,null,null,null,null,null,null,null,null,null,null,null,null,null,null,null,null,null,null,null,null,null,null,null,null,null,null,null,null,null,null,null,24,null,null,null,null,null,null,null,null,null,null,12,null,null,null,null,{"$f":"I20","v":""},{"$f":"I23","v":""}]
[10,{"$f":"IF(Main!R2=2,Eleme!BM248,IF(Main!R2=3,Eleme!BM506,IF(Main!R2=4,Eleme!BM636,IF(Main!R2=5,Eleme!BM702,IF(Main!R2=6,Eleme!BM736)))))","v":false},null,null,null,null,null,null,null,null,null,null,null,null,11,null,null,null,null,null,null,null,null,null,null,null,null,null,null,null,null,null,null,null,null,null,null,null,null,null,null,null,null,null,null,null,null,null,null,null,null,null,null,null,null,null,null,null,null,null,13,null,null,null,null,{"$f":"P4","v":""},{"$f":"P9","v":""}]
[11,{"$f":"IF(Main!R2=2,Eleme!BL249,IF(Main!R2=3,Eleme!BL507,IF(Main!R2=4,Eleme!BL637,IF(Main!R2=5,Eleme!BL703,IF(Main!R2=6,Eleme!BL737)))))","v":false},null,null,null,null,null,null,null,null,{"$f":"+BZ13","v":0},{"$f":"+CA13","v":0},"Y3",null,null,{"$f":"IF(AND(K16=0,L16=0),\"\",IF(K16>L16,I14,I17))","v":""},null,null,null,null,null,null,null,null,null,null,null,null,null,null,null,null,null,null,null,null,null,null,null,null,null,null,null,null,null,null,null,null,null,null,null,null,null,null,null,null,null,null,null,null,14,null,null,null,null,{"$f":"P16","v":""},{"$f":"P21","v":""}]
[null,null,null,{"$f":"BZ8","v":0},{"$f":"CA8","v":0},null,null,6,{"$f":"IF(AND(D17=0,E17=0),\"\",IF(D17>E17,B16,B18))","v":""},null,null,null,null,null,null,null,null,null,null,null,null,14,null,null,null,null,null,null,null,null,null,null,null,null,null,null,null,null,null,null,null,null,null,null,null,null,null,null,null,null,null,null,null,null,null,null,null,null,null,null,15,null,null,null,null,{"$f":"P25","v":""},{"$f":"P27","v":""}]
[12,{"$f":"IF(Main!R2=2,Eleme!BM249,IF(Main!R2=3,Eleme!BM507,IF(Main!R2=4,Eleme!BM637,IF(Main!R2=5,Eleme!BM703,IF(Main!R2=6,Eleme!BM737)))))","v":false},null,null,null,null,null,null,null,null,null,null,null,null,null,null,null,null,null,null,null,null,{"$f":"IF(AND(R19=0,S19=0),\"\",IF(R19>S19,P16,P21))","v":""},null,null,null,null,null,null,null,null,null,null,null,null,null,null,null,null,null,null,null,null,null,null,null,null,null,null,null,null,null,null,null,null,null,null,null,null,null,16,null,null,null,null,{"$f":"P31","v":""},{"$f":"P33","v":""}]
[13,{"$f":"IF(Main!R2=2,Eleme!BL250,IF(Main!R2=3,Eleme!BL508,IF(Main!R2=4,Eleme!BL638,IF(Main!R2=5,Eleme!BL704,IF(Main!R2=6,Eleme!BL738)))))","v":false},null,null,null,null,null,null,null,null,null,null,null,null,null,null,null,{"$f":"+BZ16","v":0},{"$f":"+CA16","v":0},"Y6",null,null,null,null,null,null,null,null,null,null,null,null,null,null,null,null,null,null,null,null,null,null,null,null,null,{"$f":"+BZ26","v":0},{"$f":"+CA26","v":0},"Y16",null,null,{"$f":"IF(AND(AT19=0,AU19=0),\"\",IF(AT19>AU19,AR13,AR26))","v":""},null,null,null,null,null,null,"1.",null,null,17,null,null,null,null,{"$f":"W7","v":""},{"$f":"W18","v":""}]
[null,null,null,{"$f":"BZ9","v":0},{"$f":"CA9","v":0},null,null,7,{"$f":"IF(AND(D20=0,E20=0),\"\",IF(D20>E20,B19,B21))","v":""},null,null,null,null,null,null,null,null,null,null,null,null,null,null,null,null,null,null,null,null,null,null,null,null,null,null,null,null,null,null,null,null,null,null,null,null,null,null,null,null,null,null,null,null,null,null,null,null,null,null,null,18,null,null,null,null,{"$f":"W23","v":""},{"$f":"W26","v":""}]
[14,{"$f":"IF(Main!R2=2,Eleme!BM250,IF(Main!R2=3,Eleme!BM508,IF(Main!R2=4,Eleme!BM638,IF(Main!R2=5,Eleme!BM704,IF(Main!R2=6,Eleme!BM738)))))","v":false},null,null,null,null,null,null,null,null,null,null,null,null,12,{"$f":"IF(AND(K22=0,L22=0),\"\",IF(K22>L22,I20,I23))","v":""},null,null,null,null,null,null,null,null,null,null,null,null,null,null,null,null,null,null,null,null,null,null,null,null,null,null,null,null,null,null,null,null,null,null,null,null,null,null,null,null,null,null,null,null,19,null,null,null,null,{"$f":"W29","v":""},{"$f":"W32","v":""}]
[15,{"$f":"IF(Main!R2=2,Eleme!BL251,IF(Main!R2=3,Eleme!BL509,IF(Main!R2=4,Eleme!BL639,IF(Main!R2=5,Eleme!BL705,IF(Main!R2=6,Eleme!BL739)))))","v":false},null,null,null,null,null,null,null,null,{"$f":"+BZ14","v":0},{"$f":"+CA14","v":0},"Y4",null,null,null,null,null,null,null,null,null,null,null,null,null,null,null,null,null,null,null,null,null,null,null,null,null,null,null,null,null,null,null,null,null,null,null,null,null,null,null,null,null,null,null,null,null,null,null,20,null,null,null,null,{"$f":"W38","v":""},{"$f":"W40","v":""}]
[null,null,null,{"$f":"BZ10","v":0},{"$f":"CA10","v":0},null,null,8,{"$f":"IF(AND(D23=0,E23=0),\"\",IF(D23>E23,B22,B24))","v":""},null,null,null,null,null,null,null,null,null,null,null,null,"Y6",{"$f":"IF(AND(R19=0,S19=0),\"\",IF(R19<S19,P16,P21))","v":""},null,null,null,null,null,null,null,null,null,null,null,null,"Y9",{"$f":"IF(AND(Y13=0,Z13=0),\"\",IF(Y13<Z13,W7,W18))","v":""},null,null,null,null,null,null,null,null,null,null,null,null,null,null,null,null,null,null,null,null,null,null,null,21,null,null,null,null,{"$f":"AD25","v":""},{"$f":"AD30","v":""}]
[16,{"$f":"IF(Main!R2=2,Eleme!BM251,IF(Main!R2=3,Eleme!BM509,IF(Main!R2=4,Eleme!BM639,IF(Main!R2=5,Eleme!BM705,IF(Main!R2=6,Eleme!BM739)))))","v":false},null,null,null,null,null,null,null,null,null,null,null,null,null,null,null,null,null,null,null,null,null,null,null,null,null,null,18,null,null,null,null,null,null,null,null,null,null,null,null,null,23,null,null,null,null,null,null,null,null,null,null,null,null,null,null,null,null,null,22,null,null,null,null,{"$f":"AD33","v":""},{"$f":"AD35","v":""}]
[null,null,null,null,null,null,null,null,null,null,null,null,null,null,"Y1",{"$f":"IF(AND(K4=0,L4=0),\"\",IF(K4<L4,I2,I5))","v":""},null,null,null,null,null,null,null,null,{"$f":"+BZ20","v":0},{"$f":"+CA20","v":0},"Y10",null,null,{"$f":"IF(AND(Y25=0,Z25=0),\"\",IF(Y25>Z25,W23,W26))","v":""},null,null,null,null,null,null,null,null,null,null,null,null,null,null,null,null,null,null,null,null,null,null,null,null,null,null,null,null,null,null,23,null,null,null,null,{"$f":"AK23","v":""},{"$f":"AK28","v":""}]
[null,null,null,null,null,null,null,null,null,null,null,null,null,null,null,null,null,{"$f":"+BZ17","v":0},{"$f":"+CA17","v":0},"Y7",null,15,{"$f":"IF(AND(R26=0,S26=0),\"\",IF(R26>S26,P25,P27))","v":""},null,null,null,null,null,null,null,null,null,null,null,null,21,null,null,{"$f":"+BZ25","v":0},{"$f":"+CA25","v":0},"Y15",null,null,{"$f":"IF(AND(AM26=0,AN26=0),\"\",IF(AM26>AN26,AK23,AK28))","v":""},null,null,null,null,null,null,null,null,null,null,null,null,null,null,null,null,24,null,null,null,null,{"$f":"AR13","v":""},{"$f":"AR26","v":""}]
[null,null,null,null,null,null,null,null,null,null,null,null,null,null,"Y2",{"$f":"IF(AND(K10=0,L10=0),\"\",IF(K10<L10,I8,I11))","v":""},null,null,null,null,null,null,null,null,null,null,null,null,null,null,null,null,null,null,null,null,null,null,null,null,null,null,null,null,null,null,null,null,null,"Y16",{"$f":"IF(AND(AT19=0,AU19=0),\"\",IF(AT19<AU19,AR13,AR26))","v":""},null,null,null,null,null,null,"2."]
[null,null,null,null,null,null,null,null,null,null,null,null,null,null,null,null,null,null,null,null,null,null,null,null,null,null,null,null,null,null,null,{"$f":"+BZ23","v":0},{"$f":"+CA23","v":0},"Y13",null,null,{"$f":"IF(AND(AF28=0,AG28=0),\"\",IF(AF28>AG28,AD25,AD30))","v":""}]
[null,null,null,null,null,null,null,null,null,null,null,null,null,null,null,null,null,null,null,null,null,"Y5",{"$f":"IF(AND(R7=0,S7=0),\"\",IF(R7<S7,P4,P9))","v":""},null,null,null,null,null,null,null,null,null,null,null,null,null,null,null,null,null,null,null,"Y15",{"$f":"IF(AND(AM26=0,AN26=0),\"\",IF(AM26<AN26,AK23,AK28))","v":""},null,null,null,null,null,null,"3."]
[null,null,null,null,null,null,null,null,null,null,null,null,null,null,null,null,null,null,null,null,null,null,null,null,null,null,null,null,19,{"$f":"IF(AND(Y31=0,Z31=0),\"\",IF(Y31>Z31,W29,W32))","v":""}]
[null,null,null,null,null,null,null,null,null,null,null,null,null,null,"Y3",{"$f":"IF(AND(K16=0,L16=0),\"\",IF(K16<L16,I14,I17))","v":""},null,null,null,null,null,null,null,null,{"$f":"+BZ21","v":0},{"$f":"+CA21","v":0},"Y11",null,null,null,null,null,null,null,null,"Y13",{"$f":"IF(AND(AF28=0,AG28=0),\"\",IF(AF28<AG28,AD25,AD30))","v":""},null,null,null,null,null,null,"4."]
[null,null,null,null,null,null,null,null,null,null,null,null,null,null,null,null,null,{"$f":"+BZ18","v":0},{"$f":"+CA18","v":0},"Y8",null,16,{"$f":"IF(AND(R32=0,S32=0),\"\",IF(R32>S32,P31,P33))","v":""}]
[null,null,null,null,null,null,null,null,null,null,null,null,null,null,"Y4",{"$f":"IF(AND(K22=0,L22=0),\"\",IF(K22<L22,I20,I23))","v":""},null,null,null,null,null,null,null,null,null,null,null,null,"Y10",{"$f":"IF(AND(Y25=0,Z25=0),\"\",IF(Y25<Z25,W23,W26))","v":""}]
[null,null,null,null,null,null,null,null,null,null,null,null,null,null,null,null,null,null,null,null,null,null,null,null,null,null,null,null,null,null,null,{"$f":"+BZ24","v":0},{"$f":"+CA24","v":0},"Y14",null,22,{"$f":"IF(AND(AF34=0,AG34=0),\"\",IF(AF34>AG34,AD33,AD35))","v":""},null,null,null,null,null,null,"5."]
[null,null,null,null,null,null,null,null,null,null,null,null,null,null,null,null,null,null,null,null,null,null,null,null,null,null,null,null,"Y11",{"$f":"IF(AND(Y31=0,Z31=0),\"\",IF(Y31<Z31,W29,W32))","v":""}]
[null,null,null,null,null,null,null,null,null,null,null,null,null,null,null,null,null,null,null,null,null,null,null,null,null,null,null,null,null,null,null,null,null,null,null,"Y14",{"$f":"IF(AND(AF34=0,AG34=0),\"\",IF(AF34<AG34,AD33,AD35))","v":""},null,null,null,null,null,null,"6."]
[]
[null,null,null,null,null,null,null,null,null,null,null,null,null,null,null,null,null,null,null,null,null,"Y7",{"$f":"IF(AND(R26=0,S26=0),\"\",IF(R26<S26,P25,P27))","v":""}]
[null,null,null,null,null,null,null,null,null,null,null,null,null,null,null,null,null,null,null,null,null,null,null,null,{"$f":"+BZ22","v":0},{"$f":"+CA22","v":0},"Y12",null,20,{"$f":"IF(AND(Y39=0,Z39=0),\"\",IF(Y39>Z39,W38,W40))","v":""},null,null,null,null,null,null,"7."]
[null,null,null,null,null,null,null,null,null,null,null,null,null,null,null,null,null,null,null,null,null,"Y8",{"$f":"IF(AND(R32=0,S32=0),\"\",IF(R32<S32,P31,P33))","v":""}]
[null,null,null,null,null,null,null,null,null,null,null,null,null,null,null,null,null,null,null,null,null,null,null,null,null,null,null,null,"Y12",{"$f":"IF(AND(Y39=0,Z39=0),\"\",IF(Y39<Z39,W38,W40))","v":""},null,null,null,null,null,null,"8."]

{"sheet":"16(TE)","index":11,"n_rows":68,"n_cols":105,"rows_kept":68,"cut":false,"hidden":true,"merged":[[9,8,9,14],[5,1,5,7],[6,8,6,14],[1,67,1,68],[1,69,1,70],[1,73,1,74],[1,75,1,76],[1,77,1,78],[7,1,7,7],[8,1,8,7],[8,15,8,21],[1,71,1,72],[17,29,17,35],[18,8,18,14],[10,1,10,7],[11,1,11,7],[11,22,11,28],[12,8,12,14],[13,1,13,7],[13,15,13,21],[24,8,24,14],[25,1,25,7],[25,15,25,21],[22,22,22,28],[14,1,14,7],[15,8,15,14],[16,1,16,7],[17,1,17,7],[19,1,19,7],[20,1,20,7],[20,15,20,21],[21,8,21,14],[22,1,22,7],[38,29,38,35],[34,15,34,21],[36,15,36,21],[37,22,37,28],[32,15,32,21],[23,29,23,35],[30,29,30,35],[36,29,36,35],[0,0,2,36],[3,0,4,36],[31,22,31,28],[35,22,35,28],[27,22,27,28],[29,22,29,28],[28,29,28,35],[33,29,33,35],[26,1,26,7],[27,8,27,14],[28,1,28,7],[30,15,30,21],[23,1,23,7],[57,15,57,21],[58,22,58,28],[59,15,59,21],[61,15,61,21],[39,8,39,14],[41,8,41,14],[43,8,43,14],[45,8,45,14],[53,8,53,14],[40,15,40,21],[44,15,44,21],[48,15,48,21],[52,15,52,21],[47,8,47,14],[49,8,49,14],[51,8,51,14],[63,15,63,21],[64,22,64,28],[66,22,66,28],[60,29,60,35],[63,29,63,35],[65,29,65,35],[67,29,67,35],[40,29,40,35],[39,22,39,28],[42,22,42,28],[50,22,50,28],[62,22,62,28],[46,29,46,35],[51,29,51,35],[53,22,53,28],[54,29,54,35],[55,22,55,28],[56,29,56,35]]}
[{"$f":"Katılım!AC1","v":"TÜRKİYE MASA TENİSİ FEDERASYONU                                                                                                                                                                                                     İsmail Eren ALICI Küçükler Ferdi-Takım Türkiye Şampiyonası  "},null,null,null,null,null,null,null,null,null,null,null,null,null,null,null,null,null,null,null,null,null,null,null,null,null,null,null,null,null,null,null,null,null,null,null,null,null,null,null,null,null,null,null,null,null,null,null,null,null,null,null,null,null,null,null,null,null,null,null,null,null,null,null,null,null,null,null,null,null,null,null,null,null,null,null,null,null,null,null,null,null,null,null,null,null,null,null,null,null,null,null,null,null,null,null,null,null,null,null,null,null,null,"1st Round",1]
[null,null,null,null,null,null,null,null,null,null,null,null,null,null,null,null,null,null,null,null,null,null,null,null,null,null,null,null,null,null,null,null,null,null,null,null,null,null,null,null,null,null,null,null,null,null,null,null,null,null,null,null,null,null,null,null,null,null,null,null,"#","Date","Time","Table","Competition","Player A","Player B","Set1",null,"Set2",null,"Set3",null,"Set4",null,"Set5",null,"Result",null,null,null,null,null,null,null,null,null,null,null,null,null,null,null,null,null,null,null,null,null,null,null,null,null,"2sn Round"]
[null,null,null,null,null,null,null,null,null,null,null,null,null,null,null,null,null,null,null,null,null,null,null,null,null,null,null,null,null,null,null,null,null,null,null,null,null,null,null,null,null,null,null,null,null,null,null,null,null,null,null,null,null,null,null,null,null,null,null,null,1,null,null,null,null,{"$f":"B6","v":false},{"$f":"B8","v":false},null,null,null,null,null,null,null,null,null,null,null,null,null,null,null,null,null,null,null,null,null,null,null,null,null,null,null,null,null,null,null,null,null,null,null,null,"3th Round"]
[{"$f":"Katılım!AC2&\" \"&Katılım!AE3","v":"KIZ TAKIM  [09-13 Nisan 2025 ÇORUM] [ Ana Tablo ]"},null,null,null,null,null,null,null,null,null,null,null,null,null,null,null,null,null,null,null,null,null,null,null,null,null,null,null,null,null,null,null,null,null,null,null,null,null,null,null,null,null,null,null,null,null,null,null,null,null,null,null,null,null,null,null,null,null,null,null,2,null,null,null,null,{"$f":"B9","v":false},{"$f":"B11","v":false},null,null,null,null,null,null,null,null,null,null,null,null,null,null,null,null,null,null,null,null,null,null,null,null,null,null,null,null,null,null,null,null,null,null,null,null,"4th Round"]
[null,null,null,null,null,null,null,null,null,null,null,null,null,null,null,null,null,null,null,null,null,null,null,null,null,null,null,null,null,null,null,null,null,null,null,null,null,null,null,null,null,null,null,null,null,null,null,null,null,null,null,null,null,null,null,null,null,null,null,null,3,null,null,null,null,{"$f":"B12","v":false},{"$f":"B14","v":false}]
[1,{"$f":"IF(Main!R2=2,Eleme!BL244,IF(Main!R2=3,Eleme!BL502,IF(Main!R2=4,Eleme!BL632,IF(Main!R2=5,Eleme!BL698,IF(Main!R2=6,Eleme!BL732)))))","v":false},null,null,null,null,null,null,null,null,null,null,null,null,null,null,null,null,null,null,null,null,null,null,null,null,null,null,null,null,null,null,null,null,null,null,null,null,null,null,null,null,null,null,null,null,null,null,null,null,null,null,null,null,null,null,null,null,null,null,4,null,null,null,null,{"$f":"B15","v":false},{"$f":"B17","v":false}]
[null,null,null,{"$f":"+BZ3","v":0},{"$f":"+CA3","v":0},"Yenilen A",null,1,{"$f":"IF(AND(D7=0,E7=0),\"\",IF(D7>E7,B6,B8))","v":""},null,null,null,null,null,null,null,null,null,null,null,null,null,null,null,null,null,null,null,null,null,null,null,null,null,null,null,null,null,null,null,null,null,null,null,null,null,null,null,null,null,null,null,null,null,null,null,null,null,null,null,5,null,null,null,null,{"$f":"B18","v":false},{"$f":"B20","v":false}]
[2,{"$f":"IF(Main!R2=2,Eleme!BM244,IF(Main!R2=3,Eleme!BM502,IF(Main!R2=4,Eleme!BM632,IF(Main!R2=5,Eleme!BM698,IF(Main!R2=6,Eleme!BM732)))))","v":false},null,null,null,null,null,null,null,null,null,null,null,null,9,null,null,null,null,null,null,null,null,null,null,null,null,null,null,null,null,null,null,null,null,null,null,null,null,null,null,null,null,null,null,null,null,null,null,null,null,null,null,null,null,null,null,null,null,null,6,null,null,null,null,{"$f":"B21","v":false},{"$f":"B23","v":false}]
[3,{"$f":"IF(Main!R2=2,Eleme!BL245,IF(Main!R2=3,Eleme!BL503,IF(Main!R2=4,Eleme!BL633,IF(Main!R2=5,Eleme!BL699,IF(Main!R2=6,Eleme!BL733)))))","v":false},null,null,null,null,null,null,null,null,{"$f":"+BZ11","v":0},{"$f":"+CA11","v":0},"Y-I",null,null,{"$f":"IF(AND(K9=0,L9=0),\"\",IF(K9>L9,I7,I10))","v":""},null,null,null,null,null,null,null,null,null,null,null,null,null,null,null,null,null,null,null,null,null,null,null,null,null,null,null,null,null,null,null,null,null,null,null,null,null,null,null,null,null,null,null,null,7,null,null,null,null,{"$f":"B24","v":false},{"$f":"B26","v":false}]
[null,null,null,{"$f":"+BZ4","v":0},{"$f":"+CA4","v":0},"Y-B",null,2,{"$f":"IF(AND(D10=0,E10=0),\"\",IF(D10>E10,B9,B11))","v":""},null,null,null,null,null,null,null,null,null,null,null,null,13,null,null,null,null,null,null,null,null,null,null,null,null,null,null,null,null,null,null,null,null,null,null,null,null,null,null,null,null,null,null,null,null,null,null,null,null,null,null,8,null,null,null,null,{"$f":"B27","v":false},{"$f":"B29","v":false}]
[4,{"$f":"IF(Main!R2=2,Eleme!BM245,IF(Main!R2=3,Eleme!BM503,IF(Main!R2=4,Eleme!BM633,IF(Main!R2=5,Eleme!BM699,IF(Main!R2=6,Eleme!BM733)))))","v":false},null,null,null,null,null,null,null,null,null,null,null,null,null,null,null,null,null,null,null,null,null,null,null,null,null,null,null,null,null,null,null,null,null,null,null,null,null,null,null,null,null,null,null,null,null,null,null,null,null,null,null,null,null,null,null,null,null,null,9,null,null,null,null,{"$f":"I7","v":""},{"$f":"I10","v":""}]
[5,{"$f":"IF(Main!R2=2,Eleme!BL246,IF(Main!R2=3,Eleme!BL504,IF(Main!R2=4,Eleme!BL634,IF(Main!R2=5,Eleme!BL700,IF(Main!R2=6,Eleme!BL734)))))","v":false},null,null,null,null,null,null,null,null,null,null,null,null,null,null,null,{"$f":"+BZ19","v":0},{"$f":"+CA19","v":0},"Y-M",null,null,{"$f":"IF(AND(R12=0,S12=0),\"\",IF(R12>S12,P9,P14))","v":""},null,null,null,null,null,null,null,null,null,null,null,null,null,null,null,null,null,null,null,null,null,null,null,null,null,null,null,null,null,null,null,null,null,null,null,null,null,10,null,null,null,null,{"$f":"I13","v":""},{"$f":"I16","v":""}]
[null,null,null,{"$f":"+BZ5","v":0},{"$f":"+CA5","v":0},"Y-C",null,3,{"$f":"IF(AND(D13=0,E13=0),\"\",IF(D13>E13,B12,B14))","v":""},null,null,null,null,null,null,null,null,null,null,null,null,null,null,null,null,null,null,null,17,null,null,null,null,null,null,null,null,null,null,null,null,null,null,null,null,null,null,null,null,null,null,null,null,null,null,null,null,null,null,null,11,null,null,null,null,{"$f":"I19","v":""},{"$f":"I22","v":""}]
[6,{"$f":"IF(Main!R2=2,Eleme!BM246,IF(Main!R2=3,Eleme!BM504,IF(Main!R2=4,Eleme!BM634,IF(Main!R2=5,Eleme!BM700,IF(Main!R2=6,Eleme!BM734)))))","v":false},null,null,null,null,null,null,null,null,null,null,null,null,10,{"$f":"IF(AND(K15=0,L15=0),\"\",IF(K15>L15,I13,I16))","v":""},null,null,null,null,null,null,null,null,null,null,null,null,null,null,null,null,null,null,null,null,null,null,null,null,null,null,null,null,null,null,null,null,null,null,null,null,null,null,null,null,null,null,null,null,12,null,null,null,null,{"$f":"I25","v":""},{"$f":"I28","v":""}]
[7,{"$f":"IF(Main!R2=2,Eleme!BL247,IF(Main!R2=3,Eleme!BL505,IF(Main!R2=4,Eleme!BL635,IF(Main!R2=5,Eleme!BL701,IF(Main!R2=6,Eleme!BL735)))))","v":false},null,null,null,null,null,null,null,null,{"$f":"+BZ12","v":0},{"$f":"+CA12","v":0},"Y-J",null,null,null,null,null,null,null,null,null,null,null,null,null,null,null,null,null,null,null,null,null,null,null,null,null,null,null,null,null,null,null,null,null,null,null,null,null,null,null,null,null,null,null,null,null,null,null,13,null,null,null,null,{"$f":"I40","v":""},{"$f":"I42","v":""}]
[null,null,null,{"$f":"+BZ6","v":0},{"$f":"+CA6","v":0},"Y-D",null,4,{"$f":"IF(AND(D16=0,E16=0),\"\",IF(D16>E16,B15,B17))","v":""},null,null,null,null,null,null,null,null,null,null,null,null,null,null,null,null,null,null,null,null,null,null,null,null,null,null,null,null,null,null,null,null,null,null,null,null,null,null,null,null,null,null,null,null,null,null,null,null,null,null,null,14,null,null,null,null,{"$f":"I44","v":""},{"$f":"I46","v":""}]
[8,{"$f":"IF(Main!R2=2,Eleme!BM247,IF(Main!R2=3,Eleme!BM505,IF(Main!R2=4,Eleme!BM635,IF(Main!R2=5,Eleme!BM701,IF(Main!R2=6,Eleme!BM735)))))","v":false},null,null,null,null,null,null,null,null,null,null,null,null,null,null,null,null,null,null,null,null,null,null,null,null,null,null,null,null,null,null,null,null,null,null,null,null,null,null,null,null,null,null,null,null,null,null,null,null,null,null,null,null,null,null,null,null,null,null,15,null,null,null,null,{"$f":"I48","v":""},{"$f":"I50","v":""}]
[9,{"$f":"IF(Main!R2=2,Eleme!BL248,IF(Main!R2=3,Eleme!BL506,IF(Main!R2=4,Eleme!BL636,IF(Main!R2=5,Eleme!BL702,IF(Main!R2=6,Eleme!BL736)))))","v":false},null,null,null,null,null,null,null,null,null,null,null,null,null,null,null,null,null,null,null,null,null,null,{"$f":"+BZ27","v":0},{"$f":"+CA27","v":0},"Y-O",null,null,{"$f":"IF(AND(Y18=0,Z18=0),\"\",IF(Y18>Z18,W12,W23))","v":""},null,null,null,null,null,null,"1.",null,null,null,null,null,null,null,null,null,null,null,null,null,null,null,null,null,null,null,null,null,null,null,16,null,null,null,null,{"$f":"I52","v":""},{"$f":"I54","v":""}]
[null,null,null,{"$f":"+BZ7","v":0},{"$f":"+CA7","v":0},"Y-E",null,5,{"$f":"IF(AND(D19=0,E19=0),\"\",IF(D19>E19,B18,B20))","v":""},null,null,null,null,null,null,null,null,null,null,null,null,null,null,null,null,null,null,null,null,null,null,null,null,null,null,null,null,null,null,null,null,null,null,null,null,null,null,null,null,null,null,null,null,null,null,null,null,null,null,null,17,null,null,null,null,{"$f":"P9","v":""},{"$f":"P14","v":""}]
[10,{"$f":"IF(Main!R2=2,Eleme!BM248,IF(Main!R2=3,Eleme!BM506,IF(Main!R2=4,Eleme!BM636,IF(Main!R2=5,Eleme!BM702,IF(Main!R2=6,Eleme!BM736)))))","v":false},null,null,null,null,null,null,null,null,null,null,null,null,11,null,null,null,null,null,null,null,null,null,null,null,null,null,null,null,null,null,null,null,null,null,null,null,null,null,null,null,null,null,null,null,null,null,null,null,null,null,null,null,null,null,null,null,null,null,18,null,null,null,null,{"$f":"P21","v":""},{"$f":"P26","v":""}]
[11,{"$f":"IF(Main!R2=2,Eleme!BL249,IF(Main!R2=3,Eleme!BL507,IF(Main!R2=4,Eleme!BL637,IF(Main!R2=5,Eleme!BL703,IF(Main!R2=6,Eleme!BL737)))))","v":false},null,null,null,null,null,null,null,null,{"$f":"+BZ13","v":0},{"$f":"+CA13","v":0},"Y-K",null,null,{"$f":"IF(AND(K21=0,L21=0),\"\",IF(K21>L21,I19,I22))","v":""},null,null,null,null,null,null,null,null,null,null,null,null,null,null,null,null,null,null,null,null,null,null,null,null,null,null,null,null,null,null,null,null,null,null,null,null,null,null,null,null,null,null,null,null,19,null,null,null,null,{"$f":"P31","v":""},{"$f":"P33","v":""}]
[null,null,null,{"$f":"+BZ8","v":0},{"$f":"+CA8","v":0},"Y-F",null,6,{"$f":"IF(AND(D22=0,E22=0),\"\",IF(D22>E22,B21,B23))","v":""},null,null,null,null,null,null,null,null,null,null,null,null,14,null,null,null,null,null,null,null,null,null,null,null,null,null,null,null,null,null,null,null,null,null,null,null,null,null,null,null,null,null,null,null,null,null,null,null,null,null,null,20,null,null,null,null,{"$f":"P35","v":""},{"$f":"P37","v":""}]
[12,{"$f":"IF(Main!R2=2,Eleme!BM249,IF(Main!R2=3,Eleme!BM507,IF(Main!R2=4,Eleme!BM637,IF(Main!R2=5,Eleme!BM703,IF(Main!R2=6,Eleme!BM737)))))","v":false},null,null,null,null,null,null,null,null,null,null,null,null,null,null,null,null,null,null,null,null,{"$f":"IF(AND(R24=0,S24=0),\"\",IF(R24>S24,P21,P26))","v":""},null,null,null,null,null,null,null,null,null,null,null,null,null,null,null,null,null,null,null,null,null,null,null,null,null,null,null,null,null,null,null,null,null,null,null,null,null,21,null,null,null,null,{"$f":"P41","v":""},{"$f":"P45","v":""}]
[13,{"$f":"IF(Main!R2=2,Eleme!BL250,IF(Main!R2=3,Eleme!BL508,IF(Main!R2=4,Eleme!BL638,IF(Main!R2=5,Eleme!BL704,IF(Main!R2=6,Eleme!BL738)))))","v":false},null,null,null,null,null,null,null,null,null,null,null,null,null,null,null,{"$f":"+BZ20","v":0},{"$f":"+CA20","v":0},"Y-N",null,null,null,null,null,null,null,null,"O",{"$f":"IF(AND(Y18=0,Z18=0),\"\",IF(Y18<Z18,W12,W23))","v":""},null,null,null,null,null,null,"2.",null,null,null,null,null,null,null,null,null,null,null,null,null,null,null,null,null,null,null,null,null,null,null,22,null,null,null,null,{"$f":"P49","v":""},{"$f":"P53","v":""}]
[null,null,null,{"$f":"+BZ9","v":0},{"$f":"+CA9","v":0},"Y-G",null,7,{"$f":"IF(AND(D25=0,E25=0),\"\",IF(D25>E25,B24,B26))","v":""},null,null,null,null,null,null,null,null,null,null,null,null,null,null,null,null,null,null,null,null,null,null,null,null,null,null,null,null,null,null,null,null,null,null,null,null,null,null,null,null,null,null,null,null,null,null,null,null,null,null,null,23,null,null,null,null,{"$f":"P58","v":""},{"$f":"P60","v":""}]
[14,{"$f":"IF(Main!R2=2,Eleme!BM250,IF(Main!R2=3,Eleme!BM508,IF(Main!R2=4,Eleme!BM638,IF(Main!R2=5,Eleme!BM704,IF(Main!R2=6,Eleme!BM738)))))","v":false},null,null,null,null,null,null,null,null,null,null,null,null,12,{"$f":"IF(AND(K27=0,L27=0),\"\",IF(K27>L27,I25,I28))","v":""},null,null,null,null,null,null,null,null,null,null,null,null,null,null,null,null,null,null,null,null,null,null,null,null,null,null,null,null,null,null,null,null,null,null,null,null,null,null,null,null,null,null,null,null,24,null,null,null,null,{"$f":"P62","v":""},{"$f":"P64","v":""}]
[15,{"$f":"IF(Main!R2=2,Eleme!BL251,IF(Main!R2=3,Eleme!BL509,IF(Main!R2=4,Eleme!BL639,IF(Main!R2=5,Eleme!BL705,IF(Main!R2=6,Eleme!BL739)))))","v":false},null,null,null,null,null,null,null,null,{"$f":"+BZ14","v":0},{"$f":"+CA14","v":0},"Y-L",null,null,null,null,null,null,null,null,null,null,null,null,null,null,null,null,null,null,null,null,null,null,null,null,null,null,null,null,null,null,null,null,null,null,null,null,null,null,null,null,null,null,null,null,null,null,null,25,null,null,null,null,{"$f":"W12","v":""},{"$f":"W23","v":""}]
[null,null,null,{"$f":"+BZ10","v":0},{"$f":"+CA10","v":0},"Y-H",null,8,{"$f":"IF(AND(D28=0,E28=0),\"\",IF(D28>E28,B27,B29))","v":""},null,null,null,null,null,null,null,null,null,null,null,null,"M",{"$f":"IF(AND(R12=0,S12=0),\"\",IF(R12<S12,P9,P14))","v":""},null,null,null,null,null,null,null,null,null,null,null,null,null,null,null,null,null,null,null,null,null,null,null,null,null,null,null,null,null,null,null,null,null,null,null,null,null,26,null,null,null,null,{"$f":"W28","v":""},{"$f":"W30","v":""}]
[16,{"$f":"IF(Main!R2=2,Eleme!BM251,IF(Main!R2=3,Eleme!BM509,IF(Main!R2=4,Eleme!BM639,IF(Main!R2=5,Eleme!BM705,IF(Main!R2=6,Eleme!BM739)))))","v":false},null,null,null,null,null,null,null,null,null,null,null,null,null,null,null,null,null,null,null,null,null,null,{"$f":"BZ28","v":0},{"$f":"+CA28","v":0},"Y-11",null,18,{"$f":"IF(AND(Y29=0,Z29=0),\"\",IF(Y29>Z29,W28,W30))","v":""},null,null,null,null,null,null,"3.",null,null,null,null,null,null,null,null,null,null,null,null,null,null,null,null,null,null,null,null,null,null,null,27,null,null,null,null,{"$f":"W32","v":""},{"$f":"W36","v":""}]
[null,null,null,null,null,null,null,null,null,null,null,null,null,null,null,null,null,null,null,null,null,"N",{"$f":"IF(AND(R24=0,S24=0),\"\",IF(R24<S24,P21,P26))","v":""},null,null,null,null,null,null,null,null,null,null,null,null,null,null,null,null,null,null,null,null,null,null,null,null,null,null,null,null,null,null,null,null,null,null,null,null,null,28,null,null,null,null,{"$f":"W38","v":""},{"$f":"W40","v":""}]
[null,null,null,null,null,null,null,null,null,null,null,null,null,null,"I",{"$f":"IF(AND(K9=0,L9=0),\"\",IF(K9<L9,I7,I10))","v":""},null,null,null,null,null,null,null,null,null,null,null,null,11,{"$f":"IF(AND(Y29=0,Z29=0),\"\",IF(Y29<Z29,W28,W30))","v":""},null,null,null,null,null,null,"4.",null,null,null,null,null,null,null,null,null,null,null,null,null,null,null,null,null,null,null,null,null,null,null,29,null,null,null,null,{"$f":"W43","v":""},{"$f":"W51","v":""}]
[null,null,null,null,null,null,null,null,null,null,null,null,null,null,null,null,null,{"$f":"+BZ21","v":0},{"$f":"+CA21","v":0},"Y-5",null,15,{"$f":"IF(AND(R32=0,S32=0),\"\",IF(R32>S32,P31,P33))","v":""},null,null,null,null,null,null,null,null,null,null,null,null,null,null,null,null,null,null,null,null,null,null,null,null,null,null,null,null,null,null,null,null,null,null,null,null,null,30,null,null,null,null,{"$f":"W54","v":""},{"$f":"W56","v":""}]
[null,null,null,null,null,null,null,null,null,null,null,null,null,null,"J",{"$f":"IF(AND(K15=0,L15=0),\"\",IF(K15<L15,I13,I16))","v":""},null,null,null,null,null,null,null,null,null,null,null,null,19,null,null,null,null,null,null,null,null,null,null,null,null,null,null,null,null,null,null,null,null,null,null,null,null,null,null,null,null,null,null,null,31,null,null,null,null,{"$f":"W59","v":""},{"$f":"W63","v":""}]
[null,null,null,null,null,null,null,null,null,null,null,null,null,null,null,null,null,null,null,null,null,null,null,null,{"$f":"+BZ29","v":0},{"$f":"+CA29","v":0},"Y-12",null,null,{"$f":"IF(AND(Y34=0,Z34=0),\"\",IF(Y34>Z34,W32,W36))","v":""},null,null,null,null,null,null,"5.",null,null,null,null,null,null,null,null,null,null,null,null,null,null,null,null,null,null,null,null,null,null,null,32,null,null,null,null,{"$f":"W65","v":""},{"$f":"W67","v":""}]
[null,null,null,null,null,null,null,null,null,null,null,null,null,null,"K",{"$f":"IF(AND(K21=0,L21=0),\"\",IF(K21<L21,I19,I22))","v":""}]
[null,null,null,null,null,null,null,null,null,null,null,null,null,null,null,null,null,{"$f":"+BZ22","v":0},{"$f":"+CA22","v":0},"Y-6",null,16,{"$f":"IF(AND(R36=0,S36=0),\"\",IF(R36>S36,P35,P37))","v":""}]
[null,null,null,null,null,null,null,null,null,null,null,null,null,null,"L",{"$f":"IF(AND(K27=0,L27=0),\"\",IF(K27<L27,I25,I28))","v":""},null,null,null,null,null,null,null,null,null,null,null,null,12,{"$f":"IF(AND(Y34=0,Z34=0),\"\",IF(Y34<Z34,W32,W36))","v":""},null,null,null,null,null,null,"6."]
[null,null,null,null,null,null,null,null,null,null,null,null,null,null,null,null,null,null,null,null,null,5,{"$f":"IF(AND(R32=0,S32=0),\"\",IF(R32<S32,P31,P33))","v":""}]
[null,null,null,null,null,null,null,null,null,null,null,null,null,null,null,null,null,null,null,null,null,null,null,null,{"$f":"BZ30","v":0},{"$f":"+CA30","v":0},"Y-13",null,20,{"$f":"IF(AND(Y39=0,Z39=0),\"\",IF(Y39>Z39,W38,W40))","v":""},null,null,null,null,null,null,"7."]
[null,null,null,null,null,null,null,"A",{"$f":"IF(AND(D7=0,E7=0),\"\",IF(D7<E7,B6,B8))","v":""},null,null,null,null,null,null,null,null,null,null,null,null,6,{"$f":"IF(AND(R36=0,S36=0),\"\",IF(R36<S36,P35,P37))","v":""}]
[null,null,null,null,null,null,null,null,null,null,{"$f":"BZ15","v":0},{"$f":"CA15","v":0},"Y-1",null,15,{"$f":"IF(AND(K41=0,L41=0),\"\",IF(K41>L41,I40,I42))","v":""},null,null,null,null,null,null,null,null,null,null,null,null,12,{"$f":"IF(AND(Y39=0,Z39=0),\"\",IF(Y39<Z39,W38,W40))","v":""},null,null,null,null,null,null,"8."]
[null,null,null,null,null,null,null,"B",{"$f":"IF(AND(D10=0,E10=0),\"\",IF(D10<E10,B9,B11))","v":""},null,null,null,null,null,null,null,null,null,null,null,null,19]
[null,null,null,null,null,null,null,null,null,null,null,null,null,null,null,null,null,{"$f":"+BZ23","v":0},{"$f":"+CA23","v":0},"Y-7",null,null,{"$f":"IF(AND(R43=0,S43=0),\"\",IF(R43>S43,P41,P45))","v":""}]
[null,null,null,null,null,null,null,"C",{"$f":"IF(AND(D13=0,E13=0),\"\",IF(D13<E13,B12,B14))","v":""}]
[null,null,null,null,null,null,null,null,null,null,{"$f":"BZ16","v":0},{"$f":"CA16","v":0},"Y-2",null,15,{"$f":"IF(AND(K45=0,L45=0),\"\",IF(K45>L45,I44,I46))","v":""}]
[null,null,null,null,null,null,null,"D",{"$f":"IF(AND(D16=0,E16=0),\"\",IF(D16<E16,B15,B17))","v":""}]
[null,null,null,null,null,null,null,null,null,null,null,null,null,null,null,null,null,null,null,null,null,null,null,null,{"$f":"+BZ31","v":0},{"$f":"+CA31","v":0},"Y-14",null,null,{"$f":"IF(AND(Y47=0,Z47=0),\"\",IF(Y47>Z47,W43,W51))","v":""},null,null,null,null,null,null,"9."]
[null,null,null,null,null,null,null,"E",{"$f":"IF(AND(D19=0,E19=0),\"\",IF(D19<E19,B18,B20))","v":""}]
[null,null,null,null,null,null,null,null,null,null,{"$f":"BZ17","v":0},{"$f":"CA17","v":0},"Y-3",null,15,{"$f":"IF(AND(K49=0,L49=0),\"\",IF(K49>L49,I48,I50))","v":""}]
[null,null,null,null,null,null,null,"F",{"$f":"IF(AND(D22=0,E22=0),\"\",IF(D22<E22,B21,B23))","v":""},null,null,null,null,null,null,null,null,null,null,null,null,19]
[null,null,null,null,null,null,null,null,null,null,null,null,null,null,null,null,null,{"$f":"+BZ24","v":0},{"$f":"CA24","v":0},"Y-8",null,null,{"$f":"IF(AND(R51=0,S51=0),\"\",IF(R51>S51,P49,P53))","v":""}]
[null,null,null,null,null,null,null,"G",{"$f":"IF(AND(D25=0,E25=0),\"\",IF(D25<E25,B24,B26))","v":""},null,null,null,null,null,null,null,null,null,null,null,null,null,null,null,null,null,null,null,14,{"$f":"IF(AND(Y47=0,Z47=0),\"\",IF(Y47<Z47,W43,W51))","v":""},null,null,null,null,null,null,"10."]
[null,null,null,null,null,null,null,null,null,null,{"$f":"BZ18","v":0},{"$f":"CA18","v":0},"Y-4",null,15,{"$f":"IF(AND(K53=0,L53=0),\"\",IF(K53>L53,I52,I54))","v":""}]
[null,null,null,null,null,null,null,"H",{"$f":"IF(AND(D28=0,E28=0),\"\",IF(D28<E28,B27,B29))","v":""},null,null,null,null,null,null,null,null,null,null,null,null,7,{"$f":"IF(AND(R43=0,S43=0),\"\",IF(R43<S43,P41,P45))","v":""}]
[null,null,null,null,null,null,null,null,null,null,null,null,null,null,null,null,null,null,null,null,null,null,null,null,{"$f":"BZ32","v":0},{"$f":"+CA32","v":0},"Y-15",null,20,{"$f":"IF(AND(Y55=0,Z55=0),\"\",IF(Y55>Z55,W54,W56))","v":""},null,null,null,null,null,null,"11."]
[null,null,null,null,null,null,null,null,null,null,null,null,null,null,null,null,null,null,null,null,null,8,{"$f":"IF(AND(R51=0,S51=0),\"\",IF(R51<S51,P49,P53))","v":""}]
[null,null,null,null,null,null,null,null,null,null,null,null,null,null,null,null,null,null,null,null,null,null,null,null,null,null,null,null,15,{"$f":"IF(AND(Y55=0,Z55=0),\"\",IF(Y55<Z55,W54,W56))","v":""},null,null,null,null,null,null,"12."]
[null,null,null,null,null,null,null,null,null,null,null,null,null,null,1,{"$f":"IF(AND(K41=0,L41=0),\"\",IF(K41<L41,I40,I42))","v":""}]
[null,null,null,null,null,null,null,null,null,null,null,null,null,null,null,null,null,{"$f":"+BZ25","v":0},{"$f":"+CA25","v":0},"Y-9",null,15,{"$f":"IF(AND(R59=0,S59=0),\"\",IF(R59>S59,P58,P60))","v":""}]
[null,null,null,null,null,null,null,null,null,null,null,null,null,null,2,{"$f":"IF(AND(K45=0,L45=0),\"\",IF(K45<L45,I44,I46))","v":""},null,null,null,null,null,null,null,null,null,null,null,null,19]
[null,null,null,null,null,null,null,null,null,null,null,null,null,null,null,null,null,null,null,null,null,null,null,null,{"$f":"+BZ33","v":0},{"$f":"+CA33","v":0},"Y-16",null,null,{"$f":"IF(AND(Y61=0,Z61=0),\"\",IF(Y61>Z61,W59,W63))","v":""},null,null,null,null,null,null,"13."]
[null,null,null,null,null,null,null,null,null,null,null,null,null,null,3,{"$f":"IF(AND(K49=0,L49=0),\"\",IF(K49<L49,I48,I50))","v":""}]
[null,null,null,null,null,null,null,null,null,null,null,null,null,null,null,null,null,{"$f":"+BZ26","v":0},{"$f":"+CA26","v":0},"Y-10",null,16,{"$f":"IF(AND(R63=0,S63=0),\"\",IF(R63>S63,P62,P64))","v":""}]
[null,null,null,null,null,null,null,null,null,null,null,null,null,null,4,{"$f":"IF(AND(K53=0,L53=0),\"\",IF(K53<L53,I52,I54))","v":""},null,null,null,null,null,null,null,null,null,null,null,null,16,{"$f":"IF(AND(Y61=0,Z61=0),\"\",IF(Y61<Z61,W59,W63))","v":""},null,null,null,null,null,null,"14."]
[null,null,null,null,null,null,null,null,null,null,null,null,null,null,null,null,null,null,null,null,null,9,{"$f":"IF(AND(R59=0,S59=0),\"\",IF(R59<S59,P58,P60))","v":""}]
[null,null,null,null,null,null,null,null,null,null,null,null,null,null,null,null,null,null,null,null,null,null,null,null,{"$f":"BZ34","v":0},{"$f":"+CA34","v":0},"Y-17",null,20,{"$f":"IF(AND(Y66=0,Z66=0),\"\",IF(Y66>Z66,W65,W67))","v":""},null,null,null,null,null,null,"15."]
[null,null,null,null,null,null,null,null,null,null,null,null,null,null,null,null,null,null,null,null,null,10,{"$f":"IF(AND(R63=0,S63=0),\"\",IF(R63<S63,P62,P64))","v":""}]
[null,null,null,null,null,null,null,null,null,null,null,null,null,null,null,null,null,null,null,null,null,null,null,null,null,null,null,null,17,{"$f":"IF(AND(Y66=0,Z66=0),\"\",IF(Y66<Z66,W65,W67))","v":""},null,null,null,null,null,null,"16."]

{"sheet":"8DE","index":12,"n_rows":33,"n_cols":105,"rows_kept":33,"cut":false,"hidden":true,"merged":[[32,22,32,28],[25,29,25,35],[26,22,26,28],[27,29,27,35],[29,15,29,21],[30,22,30,28],[31,15,31,21],[24,22,24,28],[17,36,17,42],[18,15,18,21],[18,43,18,49],[19,8,19,14],[19,29,19,35],[20,15,20,21],[20,36,20,41],[21,8,21,14],[21,22,21,28],[22,15,22,21],[22,29,22,35],[23,8,23,14],[15,1,15,7],[15,29,15,35],[16,1,16,7],[16,15,16,21],[17,8,17,14],[17,22,17,28],[14,43,14,49],[7,1,7,7],[7,15,7,21],[8,8,8,14],[9,1,9,7],[10,1,10,7],[10,36,10,42],[11,8,11,14],[12,1,12,7],[12,15,12,21],[13,1,13,7],[14,8,14,14],[6,1,6,7],[0,0,1,50],[4,1,4,7],[5,8,5,14],[2,0,3,50],[1,71,1,72],[1,61,1,62],[1,63,1,64],[1,65,1,66],[1,67,1,68],[1,69,1,70]]}
[{"$f":"Katılım!AC1","v":"TÜRKİYE MASA TENİSİ FEDERASYONU                                                                                                                                                                                                     İsmail Eren ALICI Küçükler Ferdi-Takım Türkiye Şampiyonası  "},null,null,null,null,null,null,null,null,null,null,null,null,null,null,null,null,null,null,null,null,null,null,null,null,null,null,null,null,null,null,null,null,null,null,null,null,null,null,null,null,null,null,null,null,null,null,null,null,null,null,null,null,null,null,null,null,null,null,null,null,null,null,null,null,null,null,null,null,null,null,null,null,null,null,null,null,null,null,null,null,null,null,null,null,null,null,null,null,null,null,null,null,null,null,null,null,null,null,null,null,null,null,"1st Round",1]
[null,null,null,null,null,null,null,null,null,null,null,null,null,null,null,null,null,null,null,null,null,null,null,null,null,null,null,null,null,null,null,null,null,null,null,null,null,null,null,null,null,null,null,null,null,null,null,null,null,null,null,null,null,null,"#","Date","Time","Table","Competition","Player A","Player B","Set1",null,"Set2",null,"Set3",null,"Set4",null,"Set5",null,"Result",null,null,null,null,null,null,null,null,null,null,null,null,null,null,null,null,null,null,null,null,null,null,null,null,null,null,null,null,null,null,null,"2sn Round"]
[{"$f":"Katılım!AC2&\" \"&Katılım!AE3","v":"KIZ TAKIM  [09-13 Nisan 2025 ÇORUM] [ Ana Tablo ]"},null,null,null,null,null,null,null,null,null,null,null,null,null,null,null,null,null,null,null,null,null,null,null,null,null,null,null,null,null,null,null,null,null,null,null,null,null,null,null,null,null,null,null,null,null,null,null,null,null,null,null,null,null,1,null,null,null,null,{"$f":"+B5","v":{"$error":"#REF!"}},{"$f":"+B7","v":{"$error":"#REF!"}},null,null,null,null,null,null,null,null,null,null,3,null,null,null,null,null,null,null,null,null,null,null,null,null,null,null,null,null,null,null,null,null,null,null,null,null,null,null,null,null,null,null,"3th Round"]
[null,null,null,null,null,null,null,null,null,null,null,null,null,null,null,null,null,null,null,null,null,null,null,null,null,null,null,null,null,null,null,null,null,null,null,null,null,null,null,null,null,null,null,null,null,null,null,null,null,null,null,null,null,null,2,null,null,null,null,{"$f":"+B8","v":{"$error":"#REF!"}},{"$f":"+B10","v":{"$error":"#REF!"}},null,null,null,null,null,null,null,null,null,null,3,null,null,null,null,null,null,null,null,null,null,null,null,null,null,null,null,null,null,null,null,null,null,null,null,null,null,null,null,null,null,null,"4th Round"]
[1,{"$f":"IF(Main!R2=2,Eleme!BL252,IF(Main!R2=3,Eleme!BL510,IF(Main!R2=4,Eleme!BL640,IF(Main!R2=5,Eleme!BL706,IF(Main!R2=6,Eleme!BL740,IF(Main!R2=7,Eleme!F758))))))","v":{"$error":"#REF!"}},null,null,null,null,null,null,null,null,null,null,null,null,null,null,null,null,null,null,null,null,null,null,null,null,null,null,null,null,null,null,null,null,null,null,null,null,null,null,null,null,null,null,null,null,null,null,null,null,null,null,null,null,3,null,null,null,null,{"$f":"+B11","v":{"$error":"#REF!"}},{"$f":"+B13","v":{"$error":"#REF!"}},null,null,null,null,null,null,null,null,null,null,3,null,null,null,null,null,null,null,null,null,null,null,null,null,null,null,null,null,null,null,null,null,null,null,null,null,null,null,null,null,null,null,"5th Round"]
[null,null,null,{"$f":"+BT3","v":3},{"$f":"+BU3","v":0},"Y1",null,1,{"$f":"IF(AND(D6=0,E6=0),\"\",IF(D6>E6,B5,B7))","v":{"$error":"#REF!"}},null,null,null,null,null,null,null,null,null,null,null,null,null,null,null,null,null,null,null,null,null,null,null,null,null,null,null,null,null,null,null,null,null,null,null,null,null,null,null,null,null,null,null,null,null,4,null,null,null,null,{"$f":"+B14","v":{"$error":"#REF!"}},{"$f":"+B16","v":{"$error":"#REF!"}},null,null,null,null,null,null,null,null,null,null,3,null,null,null,null,null,null,null,null,null,null,null,null,null,null,null,null,null,null,null,null,null,null,null,null,null,null,null,null,null,null,null,"6th Round"]
[2,{"$f":"IF(Main!R2=2,Eleme!BM252,IF(Main!R2=3,Eleme!BM510,IF(Main!R2=4,Eleme!BM640,IF(Main!R2=5,Eleme!BM706,IF(Main!R2=6,Eleme!BM740,IF(Main!R2=7,Eleme!F760))))))","v":{"$error":"#REF!"}},null,null,null,null,null,null,null,null,null,null,null,null,5,null,null,null,null,null,null,null,null,null,null,null,null,null,null,null,null,null,null,null,null,null,null,null,null,null,null,null,null,null,null,null,null,null,null,null,null,null,null,null,5,null,null,null,null,{"$f":"+I6","v":{"$error":"#REF!"}},{"$f":"+I9","v":{"$error":"#REF!"}},null,null,null,null,null,null,null,null,null,null,3]
[3,{"$f":"IF(Main!R2=2,Eleme!BL253,IF(Main!R2=3,Eleme!BL511,IF(Main!R2=4,Eleme!BL641,IF(Main!R2=5,Eleme!BL707,IF(Main!R2=6,Eleme!BL741,IF(Main!R2=7,Eleme!F761))))))","v":{"$error":"#REF!"}},null,null,null,null,null,null,null,null,{"$f":"+BT7","v":3},{"$f":"+BU7","v":0},"Y5",null,null,{"$f":"IF(AND(K8=0,L8=0),\"\",IF(K8>L8,I6,I9))","v":{"$error":"#REF!"}},null,null,null,null,null,null,null,null,null,null,null,null,null,null,null,null,null,null,null,null,null,null,null,null,null,null,null,null,null,null,null,null,null,null,null,null,null,null,6,null,null,null,null,{"$f":"+I12","v":{"$error":"#REF!"}},{"$f":"+I15","v":{"$error":"#REF!"}},null,null,null,null,null,null,null,null,null,null,3]
[null,null,null,{"$f":"+BT4","v":3},{"$f":"+BU4","v":0},"Y2",null,2,{"$f":"IF(AND(D9=0,E9=0),\"\",IF(D9>E9,B8,B10))","v":{"$error":"#REF!"}},null,null,null,null,null,null,null,null,null,null,null,null,9,null,null,null,null,null,null,null,null,null,null,null,null,null,null,null,null,null,null,null,null,null,null,null,null,null,null,null,null,null,null,null,null,7,null,null,null,null,{"$f":"+I18","v":{"$error":"#REF!"}},{"$f":"+I20","v":{"$error":"#REF!"}},null,null,null,null,null,null,null,null,null,null,3]
[4,{"$f":"IF(Main!R2=2,Eleme!BM253,IF(Main!R2=3,Eleme!BM511,IF(Main!R2=4,Eleme!BM641,IF(Main!R2=5,Eleme!BM707,IF(Main!R2=6,Eleme!BM741,IF(Main!R2=7,Eleme!F763))))))","v":{"$error":"#REF!"}},null,null,null,null,null,null,null,null,null,null,null,null,null,null,null,null,null,null,null,null,null,null,null,null,null,null,null,null,null,null,null,null,null,null,null,null,null,null,null,null,null,null,null,null,null,null,null,null,null,null,null,null,8,null,null,null,null,{"$f":"+I22","v":{"$error":"#REF!"}},{"$f":"+I24","v":{"$error":"#REF!"}},null,null,null,null,null,null,null,null,null,null,3]
[5,{"$f":"IF(Main!R2=2,Eleme!BL254,IF(Main!R2=3,Eleme!BL512,IF(Main!R2=4,Eleme!BL642,IF(Main!R2=5,Eleme!BL708,IF(Main!R2=6,Eleme!BL742,IF(Main!R2=7,Eleme!F764))))))","v":{"$error":"#REF!"}},null,null,null,null,null,null,null,null,null,null,null,null,null,null,null,{"$f":"+BT11","v":3},{"$f":"+BU11","v":0},"Y9",null,null,null,null,null,null,null,null,null,null,null,null,null,null,null,null,{"$f":"IF(AND(R11=0,S11=0),\"\",IF(R11>S11,P8,P13))","v":{"$error":"#REF!"}},null,null,null,null,null,null,null,null,null,null,null,null,null,null,null,null,null,9,null,null,null,null,{"$f":"+P8","v":{"$error":"#REF!"}},{"$f":"+P13","v":{"$error":"#REF!"}},null,null,null,null,null,null,null,null,null,null,3]
[null,null,null,{"$f":"+BT5","v":3},{"$f":"+BU5","v":0},"Y3",null,3,{"$f":"IF(AND(D12=0,E12=0),\"\",IF(D12>E12,B11,B13))","v":{"$error":"#REF!"}},null,null,null,null,null,null,null,null,null,null,null,null,null,null,null,null,null,null,null,null,null,null,null,null,null,null,null,null,null,null,null,null,null,16,null,null,null,null,null,null,null,null,null,null,null,10,null,null,null,null,{"$f":"+P17","v":{"$error":"#REF!"}},{"$f":"+P19","v":{"$error":"#REF!"}},null,null,null,null,null,null,null,null,null,null,3]
[6,{"$f":"IF(Main!R2=2,Eleme!BM254,IF(Main!R2=3,Eleme!BM512,IF(Main!R2=4,Eleme!BM642,IF(Main!R2=5,Eleme!BM708,IF(Main!R2=6,Eleme!BM742,IF(Main!R2=7,Eleme!F766))))))","v":{"$error":"#REF!"}},null,null,null,null,null,null,null,null,null,null,null,null,6,{"$f":"IF(AND(K14=0,L14=0),\"\",IF(K14>L14,I12,I15))","v":{"$error":"#REF!"}},null,null,null,null,null,null,null,null,null,null,null,null,null,null,null,null,null,null,null,null,null,null,null,null,null,null,null,null,null,null,null,null,null,null,null,null,null,null,11,null,null,null,null,{"$f":"+P21","v":{"$error":"#REF!"}},{"$f":"+P23","v":{"$error":"#REF!"}},null,null,null,null,null,null,null,null,null,null,3]
[7,{"$f":"IF(Main!R2=2,Eleme!BL255,IF(Main!R2=3,Eleme!BL513,IF(Main!R2=4,Eleme!BL643,IF(Main!R2=5,Eleme!BL709,IF(Main!R2=6,Eleme!BL743,IF(Main!R2=7,Eleme!F767))))))","v":{"$error":"#REF!"}},null,null,null,null,null,null,null,null,{"$f":"+BT8","v":3},{"$f":"+BU8","v":0},"Y6",null,null,null,null,null,null,null,null,null,null,null,null,null,null,null,null,null,null,null,null,null,null,null,null,null,null,null,null,null,null,null,null,null,null,null,null,null,null,null,null,null,12,null,null,null,null,{"$f":"+P30","v":{"$error":"#REF!"}},{"$f":"+P32","v":{"$error":"#REF!"}},null,null,null,null,null,null,null,null,null,null,3]
[null,null,null,{"$f":"+BT6","v":3},{"$f":"+BU6","v":0},"Y4",null,4,{"$f":"IF(AND(D15=0,E15=0),\"\",IF(D15>E15,B14,B16))","v":{"$error":"#REF!"}},null,null,null,null,null,null,null,null,null,null,null,null,null,null,null,null,null,null,null,null,null,null,null,null,null,null,null,null,null,{"$f":"+BT18","v":3},{"$f":"+BU18","v":0},"Y16",null,null,{"$f":"IF(AND(AM15=0,AN15=0),\"\",IF(AM15>AN15,AK11,AK18))","v":{"$error":"#REF!"}},null,null,null,null,null,null,"1.",null,null,null,13,null,null,null,null,{"$f":"+W18","v":{"$error":"#REF!"}},{"$f":"+W22","v":{"$error":"#REF!"}},null,null,null,null,null,null,null,null,null,null,3]
[8,{"$f":"IF(Main!R2=2,Eleme!BM255,IF(Main!R2=3,Eleme!BM513,IF(Main!R2=4,Eleme!BM643,IF(Main!R2=5,Eleme!BM709,IF(Main!R2=6,Eleme!BM743,IF(Main!R2=7,Eleme!F769))))))","v":{"$error":"#REF!"}},null,null,null,null,null,null,null,null,null,null,null,null,null,null,null,null,null,null,null,null,null,null,null,null,null,null,"Y9",{"$f":"IF(AND(R11=0,S11=0),\"\",IF(R11<S11,P8,P13))","v":{"$error":"#REF!"}},null,null,null,null,null,null,null,null,null,null,null,null,null,null,null,null,null,null,null,null,null,null,null,null,14,null,null,null,null,{"$f":"+W25","v":{"$error":"#REF!"}},{"$f":"+W27","v":{"$error":"#REF!"}},null,null,null,null,null,null,null,null,null,null,3]
[null,null,null,null,null,null,null,null,null,null,null,null,null,null,"Y6",{"$f":"IF(AND(K14=0,L14=0),\"\",IF(K14<L14,I12,I15))","v":{"$error":"#REF!"}},null,null,null,null,null,null,null,null,null,null,null,null,null,null,null,null,null,null,null,15,null,null,null,null,null,null,null,null,null,null,null,null,null,null,null,null,null,null,15,null,null,null,null,{"$f":"+AD16","v":{"$error":"#REF!"}},{"$f":"+AD20","v":{"$error":"#REF!"}},null,null,null,null,null,null,null,null,null,null,3]
[null,null,null,null,null,null,null,"Y1",{"$f":"IF(AND(D6=0,E6=0),\"\",IF(D6<E6,B5,B7))","v":{"$error":"#REF!"}},null,null,null,null,null,null,null,null,{"$f":"+BT12","v":3},{"$f":"+BU12","v":0},"Y10",null,10,{"$f":"IF(AND(R18=0,S18=0),\"\",IF(R18>S18,P17,P19))","v":{"$error":"#REF!"}},null,null,null,null,null,null,null,null,{"$f":"+BT17","v":3},{"$f":"+BU17","v":0},"Y15",null,null,{"$f":"IF(AND(AF18=0,AG18=0),\"\",IF(AF18>AG18,AD16,AD20))","v":{"$error":"#REF!"}},null,null,null,null,null,null,null,null,null,null,null,null,null,null,null,null,null,16,null,null,null,null,{"$f":"+AK11","v":{"$error":"#REF!"}},{"$f":"+AK18","v":{"$error":"#REF!"}},null,null,null,null,null,null,null,null,null,null,3]
[null,null,null,null,null,null,null,null,null,null,{"$f":"+BT9","v":3},{"$f":"+BU9","v":0},"Y7",null,7,{"$f":"IF(AND(K19=0,L19=0),\"\",IF(K19>L19,I18,I20))","v":{"$error":"#REF!"}},null,null,null,null,null,null,null,null,null,null,null,null,13,null,null,null,null,null,null,null,null,null,null,null,null,null,"Y16",{"$f":"IF(AND(AM15=0,AN15=0),\"\",IF(AM15<AN15,AK11,AK18))","v":{"$error":"#REF!"}},null,null,null,null,null,null,"2."]
[null,null,null,null,null,null,null,"Y2",{"$f":"IF(AND(D9=0,E9=0),\"\",IF(D9<E9,B8,B10))","v":{"$error":"#REF!"}},null,null,null,null,null,null,null,null,null,null,null,null,null,null,null,{"$f":"+BT15","v":3},{"$f":"+BU15","v":0},"Y13",null,null,{"$f":"IF(AND(Y20=0,Z20=0),\"\",IF(Y20>Z20,W18,W22))","v":{"$error":"#REF!"}}]
[null,null,null,null,null,null,null,null,null,null,null,null,null,null,"Y5",{"$f":"IF(AND(K8=0,L8=0),\"\",IF(K8<L8,I6,I9))","v":{"$error":"#REF!"}},null,null,null,null,null,null,null,null,null,null,null,null,null,null,null,null,null,null,null,"Y15",{"$f":"IF(AND(AF18=0,AG18=0),\"\",IF(AF18<AG18,AD16,AD20))","v":{"$error":"#REF!"}},null,null,null,null,null,"3."]
[null,null,null,null,null,null,null,"Y3",{"$f":"IF(AND(D12=0,E12=0),\"\",IF(D12<E12,B11,B13))","v":{"$error":"#REF!"}},null,null,null,null,null,null,null,null,{"$f":"+BT13","v":3},{"$f":"+BU13","v":0},"Y11",null,11,{"$f":"IF(AND(R22=0,S22=0),\"\",IF(R22>S22,P21,P23))","v":{"$error":"#REF!"}}]
[null,null,null,null,null,null,null,null,null,null,{"$f":"+BT10","v":3},{"$f":"+BU10","v":0},"Y8",null,8,{"$f":"IF(AND(K23=0,L23=0),\"\",IF(K23>L23,I22,I24))","v":{"$error":"#REF!"}},null,null,null,null,null,null,null,null,null,null,null,null,"Y13",{"$f":"IF(AND(Y20=0,Z20=0),\"\",IF(Y20<Z20,W18,W22))","v":{"$error":"#REF!"}},null,null,null,null,null,null,"4."]
[null,null,null,null,null,null,null,"Y4",{"$f":"IF(AND(D15=0,E15=0),\"\",IF(D15<E15,B14,B16))","v":{"$error":"#REF!"}}]
[null,null,null,null,null,null,null,null,null,null,null,null,null,null,null,null,null,null,null,null,null,"Y10",{"$f":"IF(AND(R18=0,S18=0),\"\",IF(R18<S18,P17,P19))","v":{"$error":"#REF!"}}]
[null,null,null,null,null,null,null,null,null,null,null,null,null,null,null,null,null,null,null,null,null,null,null,null,{"$f":"+BT16","v":3},{"$f":"+BU16","v":0},"Y14",null,14,{"$f":"IF(AND(Y26=0,Z26=0),\"\",IF(Y26>Z26,W25,W27))","v":{"$error":"#REF!"}},null,null,null,null,null,null,"5."]
[null,null,null,null,null,null,null,null,null,null,null,null,null,null,null,null,null,null,null,null,null,"Y11",{"$f":"IF(AND(R22=0,S22=0),\"\",IF(R22<S22,P21,P23))","v":{"$error":"#REF!"}}]
[null,null,null,null,null,null,null,null,null,null,null,null,null,null,null,null,null,null,null,null,null,null,null,null,null,null,null,null,"Y14",{"$f":"IF(AND(Y26=0,Z26=0),\"\",IF(Y26<Z26,W25,W27))","v":{"$error":"#REF!"}},null,null,null,null,null,null,"6."]
[]
[null,null,null,null,null,null,null,null,null,null,null,null,null,null,"Y7",{"$f":"IF(AND(K19=0,L19=0),\"\",IF(K19<L19,I18,I20))","v":{"$error":"#REF!"}}]
[null,null,null,null,null,null,null,null,null,null,null,null,null,null,null,null,null,{"$f":"+BT14","v":3},{"$f":"+BU14","v":0},"Y12",null,12,{"$f":"IF(AND(R31=0,S31=0),\"\",IF(R31>S31,P30,P32))","v":{"$error":"#REF!"}},null,null,null,null,null,null,"7."]
[null,null,null,null,null,null,null,null,null,null,null,null,null,null,"Y8",{"$f":"IF(AND(K23=0,L23=0),\"\",IF(K23<L23,I22,I24))","v":{"$error":"#REF!"}}]
[null,null,null,null,null,null,null,null,null,null,null,null,null,null,null,null,null,null,null,null,null,"Y12",{"$f":"IF(AND(R31=0,S31=0),\"\",IF(R31<S31,P30,P32))","v":{"$error":"#REF!"}},null,null,null,null,null,null,"8."]

{"sheet":"1-8 Ana Tablo","index":13,"n_rows":34,"n_cols":30,"rows_kept":34,"cut":false,"hidden":false,"merged":[[29,15,29,21],[30,22,30,28],[33,22,33,28],[24,22,24,28],[27,22,27,28],[31,15,31,21],[24,8,24,14],[25,15,25,21],[26,8,26,14],[21,8,21,14],[22,15,22,21],[23,8,23,14],[12,1,12,7],[12,15,12,21],[4,1,4,7],[5,8,5,14],[6,1,6,7],[7,1,7,7],[7,15,7,21],[14,22,14,28],[20,22,20,28],[0,0,1,29],[2,0,3,29],[17,22,17,28],[18,15,18,21],[13,1,13,7],[14,8,14,14],[15,1,15,7],[16,1,16,7],[16,15,16,21],[8,8,8,14],[9,1,9,7],[10,1,10,7],[10,22,10,28],[11,8,11,14]]}
["TÜRKİYE MASA TENİSİ FEDERASYONU                                                                                                                                                                                                     İsmail Eren ALICI Küçükler Ferdi-Takım Türkiye Şampiyonası  "]
[]
["KIZ TAKIM  [09-13 Nisan 2025 ÇORUM] [ Ana Tablo ]"]
[]
[1,"YALOVA BLD. GENÇLİK SPOR (A) (YLV)"]
[null,null,null,3,0,"Y-A",null,1,"YALOVA BLD. GENÇLİK SPOR (A) (YLV)"]
[2,"GİRNE AMERİKAN ÜNİVERSİTESİ (KKTC)",null,null,null,null,null,null,null,null,null,null,null,null,5]
[3,"MAVİ EGE SPOR (A) (İZM)",null,null,null,null,null,null,null,null,3,2,"Y-E",null,null,"YALOVA BLD. GENÇLİK SPOR (A) (YLV)"]
[null,null,null,0,3,"Y-B",null,2,"1955 BATMAN BELEDİYE SPOR (A) (BTM)",null,null,null,null,null,null,null,null,null,null,null,null,9]
[4,"1955 BATMAN BELEDİYE SPOR (A) (BTM)"]
[5,"ÇORUM ARENA SPOR (A) (ÇRM)",null,null,null,null,null,null,null,null,null,null,null,null,null,null,null,1,3,"Y-I",null,null,"FENERBAHÇE (A) (İST)",null,null,null,null,null,null,"1."]
[null,null,null,0,3,"Y-C",null,3,"SELÇUKLU BELEDİYESPOR (A) (KNY)"]
[6,"SELÇUKLU BELEDİYESPOR (A) (KNY)",null,null,null,null,null,null,null,null,null,null,null,null,6,"FENERBAHÇE (A) (İST)"]
[7,"BURSA B. ŞEH. BLD. SPOR (A) (BRS)",null,null,null,null,null,null,null,null,0,3,"Y-F"]
[null,null,null,0,3,"Y-D",null,4,"FENERBAHÇE (A) (İST)",null,null,null,null,null,null,null,null,null,null,null,null,"I","YALOVA BLD. GENÇLİK SPOR (A) (YLV)",null,null,null,null,null,null,"2."]
[8,"FENERBAHÇE (A) (İST)"]
[null,null,null,null,null,null,null,null,null,null,null,null,null,null,"E","1955 BATMAN BELEDİYE SPOR (A) (BTM)"]
[null,null,null,null,null,null,null,null,null,null,null,null,null,null,null,null,null,3,0,"Y-J",null,10,"1955 BATMAN BELEDİYE SPOR (A) (BTM)",null,null,null,null,null,null,"3."]
[null,null,null,null,null,null,null,null,null,null,null,null,null,null,"F","SELÇUKLU BELEDİYESPOR (A) (KNY)"]
[]
[null,null,null,null,null,null,null,null,null,null,null,null,null,null,null,null,null,null,null,null,null,"J","SELÇUKLU BELEDİYESPOR (A) (KNY)",null,null,null,null,null,null,"4."]
[null,null,null,null,null,null,null,"A","GİRNE AMERİKAN ÜNİVERSİTESİ (KKTC)"]
[null,null,null,null,null,null,null,null,null,null,3,1,"Y-G",null,7,"GİRNE AMERİKAN ÜNİVERSİTESİ (KKTC)"]
[null,null,null,null,null,null,null,"B","MAVİ EGE SPOR (A) (İZM)",null,null,null,null,null,null,null,null,null,null,null,null,11]
[null,null,null,null,null,null,null,"C","ÇORUM ARENA SPOR (A) (ÇRM)",null,null,null,null,null,null,null,null,1,3,"Y-K",null,null,"BURSA B. ŞEH. BLD. SPOR (A) (BRS)",null,null,null,null,null,null,"5."]
[null,null,null,null,null,null,null,null,null,null,0,3,"Y-H",null,8,"BURSA B. ŞEH. BLD. SPOR (A) (BRS)"]
[null,null,null,null,null,null,null,"D","BURSA B. ŞEH. BLD. SPOR (A) (BRS)"]
[null,null,null,null,null,null,null,null,null,null,null,null,null,null,null,null,null,null,null,null,null,"K","GİRNE AMERİKAN ÜNİVERSİTESİ (KKTC)",null,null,null,null,null,null,"6."]
[]
[null,null,null,null,null,null,null,null,null,null,null,null,null,null,"G","MAVİ EGE SPOR (A) (İZM)"]
[null,null,null,null,null,null,null,null,null,null,null,null,null,null,null,null,null,0,3,"Y-L",null,12,"ÇORUM ARENA SPOR (A) (ÇRM)",null,null,null,null,null,null,"7."]
[null,null,null,null,null,null,null,null,null,null,null,null,null,null,"H","ÇORUM ARENA SPOR (A) (ÇRM)"]
[]
[null,null,null,null,null,null,null,null,null,null,null,null,null,null,null,null,null,null,null,null,null,"L","MAVİ EGE SPOR (A) (İZM)",null,null,null,null,null,null,"8."]

{"sheet":"Cift_Mix","index":14,"n_rows":25,"n_cols":1217,"rows_kept":25,"cut":false,"hidden":true,"merged":[[0,1,0,7],[0,23,2,36],[1,8,1,14],[1,75,1,76],[1,77,1,78],[1,81,1,82],[1,83,1,84],[1,85,1,86],[2,1,2,7],[3,1,3,7],[3,15,3,21],[3,23,4,36],[4,8,4,14],[1,79,1,80],[12,29,12,35],[13,8,13,14],[5,1,5,7],[6,1,6,7],[6,22,6,28],[7,8,7,14],[8,1,8,7],[8,15,8,21],[17,22,17,28],[9,1,9,7],[10,8,10,14],[11,1,11,7],[12,1,12,7],[14,1,14,7],[15,1,15,7],[15,15,15,21],[16,8,16,14],[17,1,17,7],[18,1,18,7],[18,22,18,28],[18,29,18,35],[19,8,19,14],[20,1,20,7],[20,15,20,21],[22,29,22,35],[21,1,21,7],[22,8,22,14],[23,1,23,7],[20,29,20,35]]}
[1,{"$f":"IF(Main!R2=2,Eleme!BL244,IF(Main!R2=3,Eleme!BL502,IF(Main!R2=4,Eleme!BL632,IF(Main!R2=5,Eleme!BL698,IF(Main!R2=6,Eleme!BL732)))))","v":false},null,null,null,null,null,null,null,null,null,null,null,null,null,null,null,null,null,null,null,null,null,{"$f":"Katılım!AC1","v":"TÜRKİYE MASA TENİSİ FEDERASYONU                                                                                                                                                                                                     İsmail Eren ALICI Küçükler Ferdi-Takım Türkiye Şampiyonası  "},null,null,null,null,null,null,null,null,null,null,null,null,null,null,null,null,null,null,null,null,null,null,null,null,null,null,null,null,null,null,null,null,null,null,null,null,null,null,null,null,null,null,null,null,null,null,null,null,null,null,null,null,null,null,null,null,null,null,null,null,null,null,null,null,null,null,null,null,null,null,null,null,null,null,null,null,null,null,null,"1st Round",1]
[null,null,null,{"$f":"CH3","v":0},{"$f":"CI3","v":0},null,null,1,{"$f":"IF(AND(D2=0,E2=0),\"\",IF(D2>E2,B1,B3))","v":""},null,null,null,null,null,null,null,null,null,null,null,null,null,null,null,null,null,null,null,null,null,null,null,null,null,null,null,null,null,null,null,null,null,null,null,null,null,null,null,null,null,null,null,null,null,null,null,null,null,null,null,null,null,null,null,null,null,null,null,"#","Date","Time","Table","Competition","Player A","Player B","Set1",null,"Set2",null,"Set3",null,"Set4",null,"Set5",null,"Result",null,null,null,null,null,null,null,null,null,null,null,null,null,null,null,null,null,"2sn Round"]
[2,{"$f":"IF(Main!R2=2,Eleme!BM244,IF(Main!R2=3,Eleme!BM502,IF(Main!R2=4,Eleme!BM632,IF(Main!R2=5,Eleme!BM698,IF(Main!R2=6,Eleme!BM732)))))","v":false},null,null,null,null,null,null,null,null,null,null,null,null,9,null,null,null,null,null,null,null,null,null,null,null,null,null,null,null,null,null,null,null,null,null,null,null,null,null,null,null,null,null,null,null,null,null,null,null,null,null,null,null,null,null,null,null,null,null,null,null,null,null,null,null,null,null,1,null,null,null,null,{"$f":"B1","v":false},{"$f":"B3","v":false},null,null,null,null,null,null,null,null,null,null,null,null,null,null,null,null,null,null,null,null,null,null,null,null,null,null,null,null,"3th Round"]
[3,{"$f":"IF(Main!R2=2,Eleme!BL245,IF(Main!R2=3,Eleme!BL503,IF(Main!R2=4,Eleme!BL633,IF(Main!R2=5,Eleme!BL699,IF(Main!R2=6,Eleme!BL733)))))","v":false},null,null,null,null,null,null,null,null,{"$f":"CH11","v":0},{"$f":"CI11","v":0},null,null,null,{"$f":"IF(AND(K4=0,L4=0),\"\",IF(K4>L4,I2,I5))","v":""},null,null,null,null,null,null,null,{"$f":"Katılım!AC2&\" \"&Katılım!AE3","v":"KIZ TAKIM  [09-13 Nisan 2025 ÇORUM] [ Ana Tablo ]"},null,null,null,null,null,null,null,null,null,null,null,null,null,null,null,null,null,null,null,null,null,null,null,null,null,null,null,null,null,null,null,null,null,null,null,null,null,null,null,null,null,null,null,null,2,null,null,null,null,{"$f":"B4","v":false},{"$f":"B6","v":false},null,null,null,null,null,null,null,null,null,null,null,null,null,null,null,null,null,null,null,null,null,null,null,null,null,null,null,null,"4th Round"]
[null,null,null,{"$f":"CH4","v":0},{"$f":"CI4","v":0},null,null,2,{"$f":"IF(AND(D5=0,E5=0),\"\",IF(D5>E5,B4,B6))","v":""},null,null,null,null,null,null,null,null,null,null,null,null,13,null,null,null,null,null,null,null,null,null,null,null,null,null,null,null,null,null,null,null,null,null,null,null,null,null,null,null,null,null,null,null,null,null,null,null,null,null,null,null,null,null,null,null,null,null,null,3,null,null,null,null,{"$f":"B7","v":false},{"$f":"B9","v":false}]
[4,{"$f":"IF(Main!R2=2,Eleme!BM245,IF(Main!R2=3,Eleme!BM503,IF(Main!R2=4,Eleme!BM633,IF(Main!R2=5,Eleme!BM699,IF(Main!R2=6,Eleme!BM733)))))","v":false},null,null,null,null,null,null,null,null,null,null,null,null,null,null,null,null,null,null,null,null,null,null,null,null,null,null,null,null,null,null,null,null,null,null,null,null,null,null,null,null,null,null,null,null,null,null,null,null,null,null,null,null,null,null,null,null,null,null,null,null,null,null,null,null,null,null,4,null,null,null,null,{"$f":"B10","v":false},{"$f":"B12","v":false}]
[5,{"$f":"IF(Main!R2=2,Eleme!BL246,IF(Main!R2=3,Eleme!BL504,IF(Main!R2=4,Eleme!BL634,IF(Main!R2=5,Eleme!BL700,IF(Main!R2=6,Eleme!BL734)))))","v":false},null,null,null,null,null,null,null,null,null,null,null,null,null,null,null,{"$f":"CH15","v":0},{"$f":"CI15","v":0},null,null,null,{"$f":"IF(AND(R7=0,S7=0),\"\",IF(R7>S7,P4,P9))","v":""},null,null,null,null,null,null,null,null,null,null,null,null,null,null,null,null,null,null,null,null,null,null,null,null,null,null,null,null,null,null,null,null,null,null,null,null,null,null,null,null,null,null,null,null,null,5,null,null,null,null,{"$f":"B13","v":false},{"$f":"B15","v":false}]
[null,null,null,{"$f":"CH5","v":0},{"$f":"CI5","v":0},null,null,3,{"$f":"IF(AND(D8=0,E8=0),\"\",IF(D8>E8,B7,B9))","v":""},null,null,null,null,null,null,null,null,null,null,null,null,null,null,null,null,null,null,null,15,null,null,null,null,null,null,null,null,null,null,null,null,null,null,null,null,null,null,null,null,null,null,null,null,null,null,null,null,null,null,null,null,null,null,null,null,null,null,null,6,null,null,null,null,{"$f":"B16","v":false},{"$f":"B18","v":false}]
[6,{"$f":"IF(Main!R2=2,Eleme!BM246,IF(Main!R2=3,Eleme!BM504,IF(Main!R2=4,Eleme!BM634,IF(Main!R2=5,Eleme!BM700,IF(Main!R2=6,Eleme!BM734)))))","v":false},null,null,null,null,null,null,null,null,null,null,null,null,10,{"$f":"IF(AND(K10=0,L10=0),\"\",IF(K10>L10,I8,I11))","v":""},null,null,null,null,null,null,null,null,null,null,null,null,null,null,null,null,null,null,null,null,null,null,null,null,null,null,null,null,null,null,null,null,null,null,null,null,null,null,null,null,null,null,null,null,null,null,null,null,null,null,null,null,7,null,null,null,null,{"$f":"B19","v":false},{"$f":"B21","v":false}]
[7,{"$f":"IF(Main!R2=2,Eleme!BL247,IF(Main!R2=3,Eleme!BL505,IF(Main!R2=4,Eleme!BL635,IF(Main!R2=5,Eleme!BL701,IF(Main!R2=6,Eleme!BL735)))))","v":false},null,null,null,null,null,null,null,null,{"$f":"CH12","v":0},{"$f":"CI12","v":0},null,null,null,null,null,null,null,null,null,null,null,null,null,null,null,null,null,null,null,null,null,null,null,null,null,null,null,null,null,null,null,null,null,null,null,null,null,null,null,null,null,null,null,null,null,null,null,null,null,null,null,null,null,null,null,null,8,null,null,null,null,{"$f":"B22","v":false},{"$f":"B24","v":false}]
[null,null,null,{"$f":"CH6","v":0},{"$f":"CI6","v":0},null,null,4,{"$f":"IF(AND(D11=0,E11=0),\"\",IF(D11>E11,B10,B12))","v":""},null,null,null,null,null,null,null,null,null,null,null,null,null,null,null,null,null,null,null,null,null,null,null,null,null,null,null,null,null,null,null,null,null,null,null,null,null,null,null,null,null,null,null,null,null,null,null,null,null,null,null,null,null,null,null,null,null,null,null,9,null,null,null,null,{"$f":"I2","v":""},{"$f":"I5","v":""}]
[8,{"$f":"IF(Main!R2=2,Eleme!BM247,IF(Main!R2=3,Eleme!BM505,IF(Main!R2=4,Eleme!BM635,IF(Main!R2=5,Eleme!BM701,IF(Main!R2=6,Eleme!BM735)))))","v":false},null,null,null,null,null,null,null,null,null,null,null,null,null,null,null,null,null,null,null,null,null,null,null,null,null,null,null,null,null,null,null,null,null,null,null,null,null,null,null,null,null,null,null,null,null,null,null,null,null,null,null,null,null,null,null,null,null,null,null,null,null,null,null,null,null,null,10,null,null,null,null,{"$f":"I8","v":""},{"$f":"I11","v":""}]
[9,{"$f":"IF(Main!R2=2,Eleme!BL248,IF(Main!R2=3,Eleme!BL506,IF(Main!R2=4,Eleme!BL636,IF(Main!R2=5,Eleme!BL702,IF(Main!R2=6,Eleme!BL736)))))","v":false},null,null,null,null,null,null,null,null,null,null,null,null,null,null,null,null,null,null,null,null,null,null,{"$f":"CH17","v":0},{"$f":"+CI17","v":0},null,null,null,{"$f":"IF(AND(Y13=0,Z13=0),\"\",IF(Y13>Z13,W7,W18))","v":""},null,null,null,null,null,null,"1.",null,null,null,null,null,null,null,null,null,null,null,null,null,null,null,null,null,null,null,null,null,null,null,null,null,null,null,null,null,null,null,11,null,null,null,null,{"$f":"I14","v":""},{"$f":"I17","v":""}]
[null,null,null,{"$f":"CH7","v":0},{"$f":"CI7","v":0},null,null,5,{"$f":"IF(AND(D14=0,E14=0),\"\",IF(D14>E14,B13,B15))","v":""},null,null,null,null,null,null,null,null,null,null,null,null,null,null,null,null,null,null,null,null,null,null,null,null,null,null,null,null,null,null,null,null,null,null,null,null,null,null,null,null,null,null,null,null,null,null,null,null,null,null,null,null,null,null,null,null,null,null,null,12,null,null,null,null,{"$f":"I20","v":""},{"$f":"I23","v":""}]
[10,{"$f":"IF(Main!R2=2,Eleme!BM248,IF(Main!R2=3,Eleme!BM506,IF(Main!R2=4,Eleme!BM636,IF(Main!R2=5,Eleme!BM702,IF(Main!R2=6,Eleme!BM736)))))","v":false},null,null,null,null,null,null,null,null,null,null,null,null,11,null,null,null,null,null,null,null,null,null,null,null,null,null,null,null,null,null,null,null,null,null,null,null,null,null,null,null,null,null,null,null,null,null,null,null,null,null,null,null,null,null,null,null,null,null,null,null,null,null,null,null,null,null,13,null,null,null,null,{"$f":"+P4","v":""},{"$f":"+P9","v":""}]
[11,{"$f":"IF(Main!R2=2,Eleme!BL249,IF(Main!R2=3,Eleme!BL507,IF(Main!R2=4,Eleme!BL637,IF(Main!R2=5,Eleme!BL703,IF(Main!R2=6,Eleme!BL737)))))","v":false},null,null,null,null,null,null,null,null,{"$f":"CH13","v":0},{"$f":"CI13","v":0},null,null,null,{"$f":"IF(AND(K16=0,L16=0),\"\",IF(K16>L16,I14,I17))","v":""},null,null,null,null,null,null,null,null,null,null,null,null,null,null,null,null,null,null,null,null,null,null,null,null,null,null,null,null,null,null,null,null,null,null,null,null,null,null,null,null,null,null,null,null,null,null,null,null,null,null,null,null,14,null,null,null,null,{"$f":"+P16","v":""},{"$f":"+P21","v":""}]
[null,null,null,{"$f":"CH8","v":0},{"$f":"CI8","v":0},null,null,6,{"$f":"IF(AND(D17=0,E17=0),\"\",IF(D17>E17,B16,B18))","v":""},null,null,null,null,null,null,null,null,null,null,null,null,14,null,null,null,null,null,null,null,null,null,null,null,null,null,null,null,null,null,null,null,null,null,null,null,null,null,null,null,null,null,null,null,null,null,null,null,null,null,null,null,null,null,null,null,null,null,null,15,null,null,null,null,{"$f":"+W7","v":""},{"$f":"+W18","v":""}]
[12,{"$f":"IF(Main!R2=2,Eleme!BM249,IF(Main!R2=3,Eleme!BM507,IF(Main!R2=4,Eleme!BM637,IF(Main!R2=5,Eleme!BM703,IF(Main!R2=6,Eleme!BM737)))))","v":false},null,null,null,null,null,null,null,null,null,null,null,null,null,null,null,null,null,null,null,null,{"$f":"IF(AND(R19=0,S19=0),\"\",IF(R19>S19,P16,P21))","v":""}]
[13,{"$f":"IF(Main!R2=2,Eleme!BL250,IF(Main!R2=3,Eleme!BL508,IF(Main!R2=4,Eleme!BL638,IF(Main!R2=5,Eleme!BL704,IF(Main!R2=6,Eleme!BL738)))))","v":false},null,null,null,null,null,null,null,null,null,null,null,null,null,null,null,{"$f":"CH16","v":0},{"$f":"CI16","v":0},null,null,null,null,null,null,null,null,null,null,{"$f":"IF(AND(Y13=0,Z13=0),\"\",IF(Y13<Z13,W7,W18))","v":""},null,null,null,null,null,null,"2."]
[null,null,null,{"$f":"CH9","v":0},{"$f":"CI9","v":0},null,null,7,{"$f":"IF(AND(D20=0,E20=0),\"\",IF(D20>E20,B19,B21))","v":""}]
[14,{"$f":"IF(Main!R2=2,Eleme!BM250,IF(Main!R2=3,Eleme!BM508,IF(Main!R2=4,Eleme!BM638,IF(Main!R2=5,Eleme!BM704,IF(Main!R2=6,Eleme!BM738)))))","v":false},null,null,null,null,null,null,null,null,null,null,null,null,12,{"$f":"IF(AND(K22=0,L22=0),\"\",IF(K22>L22,I20,I23))","v":""},null,null,null,null,null,null,null,null,null,null,null,null,null,{"$f":"IF(AND(R7=0,S7=0),\"\",IF(R7<S7,P4,P9))","v":""},null,null,null,null,null,null,"3."]
[15,{"$f":"IF(Main!R2=2,Eleme!BL251,IF(Main!R2=3,Eleme!BL509,IF(Main!R2=4,Eleme!BL639,IF(Main!R2=5,Eleme!BL705,IF(Main!R2=6,Eleme!BL739)))))","v":false},null,null,null,null,null,null,null,null,{"$f":"CH14","v":0},{"$f":"CI14","v":0}]
[null,null,null,{"$f":"CH10","v":0},{"$f":"CI10","v":0},null,null,8,{"$f":"IF(AND(D23=0,E23=0),\"\",IF(D23>E23,B22,B24))","v":""},null,null,null,null,null,null,null,null,null,null,null,null,null,null,null,null,null,null,null,null,{"$f":"IF(AND(R19=0,S19=0),\"\",IF(R19<S19,P16,P21))","v":""},null,null,null,null,null,null,"3."]
[16,{"$f":"IF(Main!R2=2,Eleme!BM251,IF(Main!R2=3,Eleme!BM509,IF(Main!R2=4,Eleme!BM639,IF(Main!R2=5,Eleme!BM705,IF(Main!R2=6,Eleme!BM739)))))","v":false}]
[null,null,null,null,null,null,null,null,null,null,null,null,null,null,null,null,null,null,null,null,null,null,null,null,null,null,null,null,null,null,null,null,null,null,null,null,null,null,null,null,null,null,null,null,null,null,null,null,null,null,null,null,null,null,null,null,null,null,null,null,null,null,null,null,null,null,null,null,null,null,null,null,null,null,null,null,null,null,null,null,null,null,null,null,null,null,null,null,null,null,null,null,null,null,null,null,null,null,null,null,null,null,null,null,null,null,null,null,null,null,null,null,null,null,null,null,null,null,null,null,null,null,null,null,null,null,null,null,null,null,null,null,null,null,null,null,null,null,null,null,null,null,null,null,null,null,null,null,null,null,null,null,null,null,null,null,null,null,null,null,null,null,null,null,null,null,null,null,null,null,null,null,null,null,null,null,null,null,null,null,null,null,null,null,null,null,null,null,null,null,null,null,null,null,null,null,null,null,null,null,null,null,null,null,null,null,null,null,null,null,null,null,null,null,null,null,null,null,null,null,null,null,null,null,null,null,null,null,null,null,null,null,null,null,null,null,null,null,null,null,null,null,null,null,null,null,null,null,null,null,null,null,null,null,null,null,null,null,null,null,null,null,null,null,null,null,null,null,null,null,null,null,null,null,null,null,null,null,null,null,null,null,null,null,null,null,null,null,null,null,null,null,null,null,null,null,null,null,null,null,null,null,null,null,null,null,null,null,null,null,null,null,null,null,null,null,null,null,null,null,null,null,null,null,null,null,null,null,null,null,null,null,null,null,null,null,null,null,null,null,null,null,null,null,null,null,null,null,null,null,null,null,null,null,null,null,null,null,null,null,null,null,null,null,null,null,null,null,null,null,null,null,null,null,null,null,null,null,null,null,null,null,null,null,null,null,null,null,null,null,null,null,null,null,null,null,null,null,null,null,null,null,null,null,null,null,null,null,null,null,null,null,null,null,null,null,null,null,null,null,null,null,null,null,null,null,null,null,null,null,null,null,null,null,null,null,null,null,null,null,null,null,null,null,null,null,null,null,null,null,null,null,null,null,null,null,null,null,null,null,null,null,null,null,null,null,null,null,null,null,null,null,null,null,null,null,null,null,null,null,null,null,null,null,null,null,null,null,null,null,null,null,null,null,null,null,null,null,null,null,null,null,null,null,null,null,null,null,null,null,null,null,null,null,null,null,null,null,null,null,null,null,null,null,null,null,null,null,null,null,null,null,null,null,null,null,null,null,null,null,null,null,null,null,null,null,null,null,null,null,null,null,null,null,null,null,null,null,null,null,null,null,null,null,null,null,null,null,null,null,null,null,null,null,null,null,null,null,null,null,null,null,null,null,null,null,null,null,null,null,null,null,null,null,null,null,null,null,null,null,null,null,null,null,null,null,null,null,null,null,null,null,null,null,null,null,null,null,null,null,null,null,null,null,null,null,null,null,null,null,null,null,null,null,null,null,null,null,null,null,null,null,null,null,null,null,null,null,null,null,null,null,null,null,null,null,null,null,null,null,null,null,null,null,null,null,null,null,null,null,null,null,null,null,null,null,null,null,null,null,null,null,null,null,null,null,null,null,null,null,null,null,null,null,null,null,null,null,null,null,null,null,null,null,null,null,null,null,null,null,null,null,null,null,null,null,null,null,null,null,null,null,null,null,null,null,null,null,null,null,null,null,null,null,null,null,null,null,null,null,null,null,null,null,null,null,null,null,null,null,null,null,null,null,null,null,null,null,null,null,null,null,null,null,null,null,null,null,null,null,null,null,null,null,null,null,null,null,null,null,null,null,null,null,null,null,null,null,null,null,null,null,null,null,null,null,null,null,null,null,null,null,null,null,null,null,null,null,null,null,null,null,null,null,null,null,null,null,null,null,null,null,null,null,null,null,null,null,null,null,null,null,null,null,null,null,null,null,null,null,null,null,null,null,null,null,null,null,null,null,null,null,null,null,null,null,null,null,null,null,null,null,null,null,null,null,null,null,null,null,null,null,null,null,null,null,null,null,null,null,null,null,null,null,null,null,null,null,null,null,null,null,null,null,null,null,null,null,null,null,null,null,null,null,null,null,null,null,null,null,null,null,null,null,null,null,null,null,null,null,null,null,null,null,null,null,null,null,null,null,null,null,null,null,null,null,null,null,null,null,null,null,null,null,null,null,null,null,null,null,null,null,null,null,null,null,null,null,null,null,null,null,null,null,null,null,null,null,null,null,null,null,null,null,null,null,null,null,null,null,null,null,null,null,null,null,null,null,null,null,null,null,null,null,null,null,null,null,null,null,null,null,null,null,null,null,null,null,null,null,null,null,null,null,null,null,null,null,null,null,null,null,null,null,null,null,null,null,null,null,null,null,null,null,null,null,null,null,null,null,null,null,null,null,null,null,null,null,null,null,null,null,null,null,null,null,null,null,null,null,null,null,null,null,null,null,null,null,null,null,null,null,null,null,null,null,null,null,null,null,null,null,null,null,null,null,null,null,null,null,null,null,null,null,null,null,null,null,null,null,null,null,null,null,null,null,null,null,null,null,null,null,null,null,null,null,null,null,null,null,null,null,null,null,null,null,null,null,null,null,null,null,null,null,null,null,null,null,null,null,null,null,null,null,null,null,null,null,null,null,null,null,null,null,null,null,null,null,null,null,null,null,null,null,null,null,null,null,null,null,null,null,null,null,null,null,null,null,null,null,null,null,null,null,null,null,null,null,null,null,null,null,null,null,null,null,null,null,null,null,null,null,null,null,null,null,null,null,null,null,null,null,null,null,null,null,0]

{"sheet":"9-16 Ana Tablo","index":15,"n_rows":34,"n_cols":30,"rows_kept":34,"cut":false,"hidden":false,"merged":[[30,22,30,28],[31,15,31,21],[33,22,33,28],[24,8,24,14],[24,22,24,28],[25,15,25,21],[26,8,26,14],[27,22,27,28],[29,15,29,21],[9,1,9,7],[10,1,10,7],[10,22,10,28],[11,8,11,14],[23,8,23,14],[13,1,13,7],[14,8,14,14],[14,22,14,28],[15,1,15,7],[16,1,16,7],[16,15,16,21],[17,22,17,28],[18,15,18,21],[20,22,20,28],[21,8,21,14],[22,15,22,21],[12,1,12,7],[12,15,12,21],[2,0,3,29],[4,1,4,7],[5,8,5,14],[6,1,6,7],[7,1,7,7],[7,15,7,21],[0,0,1,29],[8,8,8,14]]}
["TÜRKİYE MASA TENİSİ FEDERASYONU                                                                                                                                                                                                     İsmail Eren ALICI Küçükler Ferdi-Takım Türkiye Şampiyonası  "]
[]
["KIZ TAKIM  [09-13 Nisan 2025 ÇORUM] [ Ana Tablo ]"]
[]
[1,"MERİT GRUP REAL MARDİN (A) (MRD)"]
[null,null,null,1,3,"Y-A",null,1,"KAYSERİ SPOR A.Ş SPOR (A) (KYS)"]
[2,"KAYSERİ SPOR A.Ş SPOR (A) (KYS)",null,null,null,null,null,null,null,null,null,null,null,null,5]
[3,"KUTLUBEY OKULLARI (B) (AMS)",null,null,null,null,null,null,null,null,2,3,"Y-E",null,null,"SİLVAN MTSK (A) (DYB)"]
[null,null,null,0,3,"Y-B",null,2,"SİLVAN MTSK (A) (DYB)",null,null,null,null,null,null,null,null,null,null,null,null,9]
[4,"SİLVAN MTSK (A) (DYB)"]
[5,"ÇORUM ARENA SPOR (B) (ÇRM)",null,null,null,null,null,null,null,null,null,null,null,null,null,null,null,2,3,"Y-I",null,null,"KUTLUBEY OKULLARI (A) (AMS)",null,null,null,null,null,null,"9."]
[null,null,null,3,0,"Y-C",null,3,"ÇORUM ARENA SPOR (B) (ÇRM)"]
[6,"LÜLEBURGAZ ZİRVE SPOR  (A) (KRL)",null,null,null,null,null,null,null,null,null,null,null,null,6,"KUTLUBEY OKULLARI (A) (AMS)"]
[7,"MUĞLA B. ŞEHİR BLD. SPOR (A) (MĞL)",null,null,null,null,null,null,null,null,2,3,"Y-F"]
[null,null,null,0,3,"Y-D",null,4,"KUTLUBEY OKULLARI (A) (AMS)",null,null,null,null,null,null,null,null,null,null,null,null,"I","SİLVAN MTSK (A) (DYB)",null,null,null,null,null,null,"10."]
[8,"KUTLUBEY OKULLARI (A) (AMS)"]
[null,null,null,null,null,null,null,null,null,null,null,null,null,null,"E","KAYSERİ SPOR A.Ş SPOR (A) (KYS)"]
[null,null,null,null,null,null,null,null,null,null,null,null,null,null,null,null,null,0,3,"Y-J",null,10,"ÇORUM ARENA SPOR (B) (ÇRM)",null,null,null,null,null,null,"11."]
[null,null,null,null,null,null,null,null,null,null,null,null,null,null,"F","ÇORUM ARENA SPOR (B) (ÇRM)"]
[]
[null,null,null,null,null,null,null,null,null,null,null,null,null,null,null,null,null,null,null,null,null,"J","KAYSERİ SPOR A.Ş SPOR (A) (KYS)",null,null,null,null,null,null,"12."]
[null,null,null,null,null,null,null,"A","MERİT GRUP REAL MARDİN (A) (MRD)"]
[null,null,null,null,null,null,null,null,null,null,3,1,"Y-G",null,7,"MERİT GRUP REAL MARDİN (A) (MRD)"]
[null,null,null,null,null,null,null,"B","KUTLUBEY OKULLARI (B) (AMS)",null,null,null,null,null,null,null,null,null,null,null,null,11]
[null,null,null,null,null,null,null,"C","LÜLEBURGAZ ZİRVE SPOR  (A) (KRL)",null,null,null,null,null,null,null,null,3,2,"Y-K",null,null,"MERİT GRUP REAL MARDİN (A) (MRD)",null,null,null,null,null,null,"13."]
[null,null,null,null,null,null,null,null,null,null,3,0,"Y-H",null,8,"LÜLEBURGAZ ZİRVE SPOR  (A) (KRL)"]
[null,null,null,null,null,null,null,"D","MUĞLA B. ŞEHİR BLD. SPOR (A) (MĞL)"]
[null,null,null,null,null,null,null,null,null,null,null,null,null,null,null,null,null,null,null,null,null,"K","LÜLEBURGAZ ZİRVE SPOR  (A) (KRL)",null,null,null,null,null,null,"14."]
[]
[null,null,null,null,null,null,null,null,null,null,null,null,null,null,"G","KUTLUBEY OKULLARI (B) (AMS)"]
[null,null,null,null,null,null,null,null,null,null,null,null,null,null,null,null,null,3,0,"Y-L",null,12,"KUTLUBEY OKULLARI (B) (AMS)",null,null,null,null,null,null,"15."]
[null,null,null,null,null,null,null,null,null,null,null,null,null,null,"H","MUĞLA B. ŞEHİR BLD. SPOR (A) (MĞL)"]
[]
[null,null,null,null,null,null,null,null,null,null,null,null,null,null,null,null,null,null,null,null,null,"L","MUĞLA B. ŞEHİR BLD. SPOR (A) (MĞL)",null,null,null,null,null,null,"16"]

{"sheet":"SIRALAMA","index":16,"n_rows":41,"n_cols":8,"rows_kept":41,"cut":false,"hidden":false,"merged":[[1,1,1,6],[2,1,2,5],[0,1,0,5]]}
[null,"TÜRKİYE MASA TENİSİ FEDERASYONU                                                                                                                                                                                                     İsmail Eren ALICI Küçükler Ferdi-Takım Türkiye Şampiyonası  "]
[null,"09-13 Nisan 2025 ÇORUM"]
[null,"KIZ TAKIM SIRALAMA"]
[]
[null,null,"Derecesi","Takım","Takım Adı","İli","İli","Puan"]
[null,null,1,"FENERBAHÇE (A) (İST)","FENERBAHÇE (A)","İSTANBUL",6]
[null,null,2,"YALOVA BLD. GENÇLİK SPOR (A) (YLV)","YALOVA BLD. GENÇLİK SPOR (A)","YALOVA",3]
[null,null,3,"1955 BATMAN BELEDİYE SPOR (A) (BTM)","1955 BATMAN BELEDİYE SPOR (A)","BATMAN",8]
[null,null,4,"SELÇUKLU BELEDİYESPOR (A) (KNY)","SELÇUKLU BELEDİYESPOR (A)","KONYA",0]
[null,null,5,"BURSA B. ŞEH. BLD. SPOR (A) (BRS)","BURSA B. ŞEH. BLD. SPOR (A)","BURSA",16]
[null,null,6,"GİRNE AMERİKAN ÜNİVERSİTESİ (KKTC)","GİRNE AMERİKAN ÜNİVERSİTESİ","KKTC",0]
[null,null,7,"ÇORUM ARENA SPOR (A) (ÇRM)","ÇORUM ARENA SPOR (A)","ÇORUM",13]
[null,null,8,"MAVİ EGE SPOR (A) (İZM)","MAVİ EGE SPOR (A)","İZMİR",9]
[null,null,9,"KUTLUBEY OKULLARI (A) (AMS)","KUTLUBEY OKULLARI (A)","AMASYA",0]
[null,null,10,"SİLVAN MTSK (A) (DYB)","SİLVAN MTSK (A)","DİYARBAKIR",0]
[null,null,11,"ÇORUM ARENA SPOR (B) (ÇRM)","ÇORUM ARENA SPOR (B)","ÇORUM",0]
[null,null,12,"KAYSERİ SPOR A.Ş SPOR (A) (KYS)","KAYSERİ SPOR A.Ş SPOR (A)","KAYSERİ",0]
[null,null,13,"MERİT GRUP REAL MARDİN (A) (MRD)","MERİT GRUP REAL MARDİN (A)","MARDİN",0]
[null,null,14,"LÜLEBURGAZ ZİRVE SPOR  (A) (KRL)","LÜLEBURGAZ ZİRVE SPOR  (A)","KIRKLARELİ",0]
[null,null,15,"KUTLUBEY OKULLARI (B) (AMS)","KUTLUBEY OKULLARI (B)","AMASYA",0]
[null,null,16,"MUĞLA B. ŞEHİR BLD. SPOR (A) (MĞL)","MUĞLA B. ŞEHİR BLD. SPOR (A)","MUĞLA",0]
[null,null,null,null,0,0,0]
[null,null,null,null,0,0,0]
[null,null,null,null,0,0,0]
[null,null,null,null,0,0,0]
[null,null,null,null,0,0,0]
[null,null,null,null,0,0,0]
[null,null,null,null,0,0,0]
[null,null,null,null,0,0,0]
[null,null,null,null,0,0,0]
[null,null,null,null,0,0,0]
[null,null,null,null,0,0,0]
[null,null,null,null,0,0,0]
[null,null,null,null,0,0,0]
[null,null,null,null,0,0,0]
[null,null,null,null,0,0,0]
[null,null,null,null,0,0,0]
[null,null,null,null,0,0,0]
[null,null,null,null,0,0,0]
[null,null,null,null,0,0,0]
[null,null,null,null,0,0,0]

{"sheet":"Ferdi","index":17,"n_rows":31,"n_cols":41,"rows_kept":31,"cut":false,"hidden":true,"merged":[[0,27,0,30],[28,19,28,22],[28,23,28,25],[29,1,29,2],[29,5,29,8],[29,9,29,11],[29,15,29,16],[29,19,29,22],[29,23,29,25],[28,1,28,2],[28,3,28,4],[28,5,28,8],[28,9,28,11],[28,15,28,16],[28,17,28,18],[25,22,26,22],[25,23,26,23],[25,24,26,24],[25,25,26,25],[25,10,26,10],[25,11,26,11],[25,14,26,14],[23,24,24,24],[23,25,24,25],[23,22,24,22],[23,23,24,23],[23,8,24,8],[23,9,24,9],[23,10,24,10],[23,11,24,11],[23,14,24,14],[23,17,24,17],[25,0,26,0],[25,3,26,3],[25,4,26,4],[25,5,26,5],[25,6,26,6],[25,7,26,7],[25,8,26,8],[25,9,26,9],[23,18,24,18],[25,20,26,20],[25,21,26,21],[23,0,24,0],[23,3,24,3],[23,4,24,4],[23,5,24,5],[23,6,24,6],[23,7,24,7],[25,17,26,17],[25,18,26,18],[25,19,26,19],[23,19,24,19],[23,20,24,20],[23,21,24,21],[21,0,22,0],[21,1,22,1],[21,2,22,2],[21,3,21,8],[19,1,19,5],[19,6,19,7],[19,8,19,9],[19,10,19,11],[19,15,19,19],[19,20,19,21],[19,22,19,23],[19,24,19,25],[21,15,22,15],[21,16,22,16],[21,17,21,22],[21,23,21,24],[21,9,21,10],[21,14,22,14],[16,0,16,11],[16,14,16,25],[17,0,17,11],[17,14,17,25],[18,1,18,5],[18,6,18,7],[18,8,18,9],[18,10,18,11],[18,15,18,19],[18,20,18,21],[18,22,18,23],[18,24,18,25],[12,19,12,22],[12,23,12,25],[13,1,13,2],[13,5,13,8],[13,9,13,11],[13,15,13,16],[13,19,13,22],[13,23,13,25],[12,1,12,2],[12,3,12,4],[12,5,12,8],[12,9,12,11],[12,15,12,16],[12,17,12,18],[9,22,10,22],[9,23,10,23],[9,24,10,24],[9,25,10,25],[9,10,10,10],[9,11,10,11],[9,14,10,14],[9,17,10,17],[9,18,10,18],[9,19,10,19],[7,24,8,24],[7,25,8,25],[9,0,10,0],[9,3,10,3],[9,4,10,4],[9,5,10,5],[9,6,10,6],[9,7,10,7],[9,8,10,8],[9,9,10,9],[7,18,8,18],[7,19,8,19],[7,20,8,20],[7,21,8,21],[7,22,8,22],[7,23,8,23],[7,8,8,8],[7,9,8,9],[7,10,8,10],[7,11,8,11],[7,14,8,14],[7,17,8,17],[9,20,10,20],[9,21,10,21],[7,0,8,0],[7,3,8,3],[7,4,8,4],[7,5,8,5],[7,6,8,6],[7,7,8,7],[5,0,6,0],[5,1,6,1],[5,2,6,2],[5,3,5,8],[3,1,3,5],[3,6,3,7],[3,8,3,9],[3,10,3,11],[3,15,3,19],[3,20,3,21],[3,22,3,23],[3,24,3,25],[5,15,6,15],[5,16,6,16],[5,17,5,22],[5,23,5,24],[5,9,5,10],[5,14,6,14],[0,0,0,11],[0,14,0,25],[1,0,1,11],[1,14,1,25],[2,1,2,5],[2,6,2,7],[2,8,2,9],[2,10,2,11],[2,15,2,19],[2,20,2,21],[2,22,2,23],[2,24,2,25]]}
[{"$f":"Katılım!A1","v":"TÜRKİYE MASA TENİSİ FEDERASYONU                                                                                                                                                                                                     İsmail Eren ALICI Küçükler Ferdi-Takım Türkiye Şampiyonası  "},null,null,null,null,null,null,null,null,null,null,null,null,null,{"$f":"+A1","v":"TÜRKİYE MASA TENİSİ FEDERASYONU                                                                                                                                                                                                     İsmail Eren ALICI Küçükler Ferdi-Takım Türkiye Şampiyonası  "},null,null,null,null,null,null,null,null,null,null,null,null,"Manuel müsabaka çıktısı almak",null,null,null,null,null,null,null,null,null,null,null,"Ön_Eleme",9]
[{"$f":"Katılım!A2","v":"KIZ TAKIM  [09-13 Nisan 2025 ÇORUM]"},null,null,null,null,null,null,null,null,null,null,null,null,null,{"$f":"+A2","v":"KIZ TAKIM  [09-13 Nisan 2025 ÇORUM]"},null,null,null,null,null,null,null,null,null,null,null,null,null,null,null,null,null,null,null,null,null,null,null,null,"Eleme"]
["No","Yarışma",null,null,null,null,"Tarih",null,"Saat",null,"Masa",null,null,null,"No","Yarışma",null,null,null,null,"Tarih",null,"Saat",null,"Masa",null,null,null,null,null,null,null,null,null,null,null,null,null,null,"32DE"]
[null,null,null,null,null,null,null,null,null,null,null,null,null,null,{"$f":"IF(A4=0,0,A4+1)","v":0},null,null,null,null,null,null,null,null,null,null,null,null,null,null,null,null,null,null,null,null,null,null,null,null,"16DE"]
[13,null,null,null,null,null,null,null,null,null,null,null,null,null,{"$f":"O4&\".\"&O4","v":"0.0"},null,null,null,null,null,null,null,null,null,null,null,null,null,null,null,null,null,null,null,null,null,null,null,null,"16(TE)"]
["K","Nr",null,"SETLER",null,null,null,null,null,"Sporcu",null,"Öğ.",null,null,"K","Nr",null,"SETLER",null,null,null,null,null,"Sporcu",null,"Öğ.",null,null,null,null,null,null,null,null,null,null,null,null,null,"16(8DE)"]
[null,null,null,1,2,3,4,5,"N","M","SKK","SK",null,null,null,null,null,1,2,3,4,5,"N","M","SKK","SK",null,null,null,null,null,null,null,null,null,null,null,null,null,"8DE"]
["A","",null,null,null,null,null,null,null,null,null,null,null,null,"A","",null,null,null,null,null,null,null,null,null,null,null,null,null,null,null,null,null,null,null,null,null,null,null,"8TE"]
[null,"FR",null,null,null,null,null,null,null,null,null,null,null,null,null,"FR",null,null,null,null,null,null,null,null,null,null,null,null,null,null,null,null,null,null,null,null,null,null,null,"-----"]
["X","",null,null,null,null,null,null,null,null,null,null,null,null,"X","",null,null,null,null,null,null,null,null,null,null,null,null,null,null,null,null,null,null,null,null,null,null,null,16]
[null,"FR",null,null,null,null,null,null,null,null,null,null,null,null,null,"FR",null,null,null,null,null,null,null,null,null,null,null,null,null,null,null,null,null,null,null,null,null,null,null,"Cift-Mix"]
[null,null,null,null,null,null,null,null,null,null,null,null,null,null,null,null,null,null,null,null,null,null,null,null,null,null,null,null,null,null,null,null,null,null,null,null,null,null,null,"32DE(16)"]
["Nr.","Galip: Adı Soyadı / İmza",null,"SONUÇ",null,"Hakem: Adı Soyadı / İmza",null,null,null,"Başhakem",null,null,null,null,"Nr.","Galip: Adı Soyadı / İmza",null,"SONUÇ",null,"Hakem: Adı Soyadı / İmza",null,null,null,"Başhakem"]
[null,null,null,{"$f":"Main!$W$2","v":3},null,null,null,null,null,null,null,null,null,null,null,null,null,{"$f":"Main!$W$2","v":3}]
["Başlama Saati:",null,null,"Bitiş Saati:",null,null,null,null,null,null,null,null,null,null,"Başlama Saati:",null,null,"Bitiş Saati:"]
[]
[{"$f":"+A1","v":"TÜRKİYE MASA TENİSİ FEDERASYONU                                                                                                                                                                                                     İsmail Eren ALICI Küçükler Ferdi-Takım Türkiye Şampiyonası  "},null,null,null,null,null,null,null,null,null,null,null,null,null,{"$f":"+A1","v":"TÜRKİYE MASA TENİSİ FEDERASYONU                                                                                                                                                                                                     İsmail Eren ALICI Küçükler Ferdi-Takım Türkiye Şampiyonası  "}]
[{"$f":"+A2","v":"KIZ TAKIM  [09-13 Nisan 2025 ÇORUM]"},null,null,null,null,null,null,null,null,null,null,null,null,null,{"$f":"+A2","v":"KIZ TAKIM  [09-13 Nisan 2025 ÇORUM]"}]
["No","Yarışma",null,null,null,null,"Tarih",null,"Saat",null,"Masa",null,null,null,"No","Yarışma",null,null,null,null,"Tarih",null,"Saat",null,"Masa"]
[{"$f":"IF(O4=0,0,O4+1)","v":0},null,null,null,null,null,null,null,null,null,null,null,null,null,{"$f":"IF(A20=0,0,A20+1)","v":0}]
[{"$f":"A20&\".\"&A20","v":"0.0"},null,null,null,null,null,null,null,null,null,null,null,null,null,{"$f":"O20&\".\"&O20","v":"0.0"}]
["K","Nr",null,"SETLER",null,null,null,null,null,"Sporcu",null,"Öğ.",null,null,"K","Nr",null,"SETLER",null,null,null,null,null,"Sporcu",null,"Öğ."]
[null,null,null,1,2,3,4,5,"N","M","SKK","SK",null,null,null,null,null,1,2,3,4,5,"N","M","SKK","SK"]
["A","",null,null,null,null,null,null,null,null,null,null,null,null,"A",""]
[null,"FR",null,null,null,null,null,null,null,null,null,null,null,null,null,"FR"]
["X","",null,null,null,null,null,null,null,null,null,null,null,null,"X",""]
[null,"FR",null,null,null,null,null,null,null,null,null,null,null,null,null,"FR"]
[]
["Nr.","Galip: Adı Soyadı / İmza",null,"SONUÇ",null,"Hakem: Adı Soyadı / İmza",null,null,null,"Başhakem",null,null,null,null,"Nr.","Galip: Adı Soyadı / İmza",null,"SONUÇ",null,"Hakem: Adı Soyadı / İmza",null,null,null,"Başhakem"]
[null,null,null,{"$f":"Main!$W$2","v":3},null,null,null,null,null,null,null,null,null,null,null,null,null,{"$f":"Main!$W$2","v":3}]
["Başlama Saati:",null,null,"Bitiş Saati:",null,null,null,null,null,null,null,null,null,null,"Başlama Saati:",null,null,"Bitiş Saati:"]

{"sheet":"Puan","index":18,"n_rows":259,"n_cols":5,"rows_kept":259,"cut":false,"hidden":true,"merged":[[1,2,1,3],[1,4,2,4],[1,1,2,1]]}
[]
[null,"Sıra","Sporcunun",null,"Puan"]
[null,null,"Adı - Soyadı","Kulübü"]
[null,1,{"$f":"'32DE'!BT39","v":""},{"$f":"IFERROR(VLOOKUP(C4,Katılım!D4:F20,3,0),\"\")","v":""},32]
[null,2,{"$f":"+'32DE'!BT57","v":""},{"$f":"IFERROR(VLOOKUP(C5,Katılım!D5:F20,3,0),\"\")","v":""},31]
[null,3,{"$f":"+'32DE'!BM63","v":""},{"$f":"IFERROR(VLOOKUP(C6,Katılım!D6:F20,3,0),\"\")","v":""},30]
[null,4,{"$f":"+'32DE'!BF71","v":""},{"$f":"IFERROR(VLOOKUP(C7,Katılım!D7:F20,3,0),\"\")","v":""},29]
[null,5,{"$f":"+'32DE'!BF75","v":""},{"$f":"IFERROR(VLOOKUP(C8,Katılım!D8:F20,3,0),\"\")","v":""},28]
[null,6,{"$f":"+'32DE'!BF77","v":""},{"$f":"IFERROR(VLOOKUP(C9,Katılım!D9:F20,3,0),\"\")","v":""},27]
[null,7,{"$f":"+'32DE'!AY79","v":""},{"$f":"IFERROR(VLOOKUP(C10,Katılım!D10:F20,3,0),\"\")","v":""},26]
[null,8,{"$f":"+'32DE'!AY81","v":""},{"$f":"IFERROR(VLOOKUP(C11,Katılım!D11:F20,3,0),\"\")","v":""},25]
[null,9,{"$f":"+'32DE'!AY84","v":""},{"$f":"IFERROR(VLOOKUP(C12,Katılım!D12:F20,3,0),\"\")","v":""},24]
[null,10,{"$f":"+'32DE'!AY86","v":""},{"$f":"IFERROR(VLOOKUP(C13,Katılım!D13:F20,3,0),\"\")","v":""},23]
[null,11,{"$f":"+'32DE'!AY88","v":""},{"$f":"IFERROR(VLOOKUP(C14,Katılım!D14:F20,3,0),\"\")","v":""},22]
[null,12,{"$f":"+'32DE'!AY90","v":""},{"$f":"IFERROR(VLOOKUP(C15,Katılım!D15:F20,3,0),\"\")","v":""},21]
[null,13,{"$f":"+'32DE'!AR92","v":""},{"$f":"IFERROR(VLOOKUP(C16,Katılım!D16:F20,3,0),\"\")","v":""},20]
[null,14,{"$f":"+'32DE'!AR94","v":""},{"$f":"IFERROR(VLOOKUP(C17,Katılım!D17:F20,3,0),\"\")","v":""},19]
[null,15,{"$f":"+'32DE'!AR96","v":""},{"$f":"IFERROR(VLOOKUP(C18,Katılım!D18:F20,3,0),\"\")","v":""},18]
[null,16,{"$f":"+'32DE'!AR98","v":""},{"$f":"IFERROR(VLOOKUP(C19,Katılım!D19:F20,3,0),\"\")","v":""},17]
[null,"17-24",{"$f":"IF('32DE'!$R$51<'32DE'!$S$51,'32DE'!$P$50,'32DE'!$P$52)","v":""},{"$f":"IFERROR(VLOOKUP(C20,Katılım!D20:F20,3,0),\"\")","v":""},16]
[null,"17-24",{"$f":"IF('32DE'!$R$55<'32DE'!$S$55,'32DE'!$P$54,'32DE'!$P$56)","v":""},{"$f":"IFERROR(VLOOKUP(C21,Katılım!#REF!,3,0),\"\")","v":""},16]
[null,"17-24",{"$f":"IF('32DE'!$R$59<'32DE'!$S$59,'32DE'!$P$58,'32DE'!$P$60)","v":""},{"$f":"IFERROR(VLOOKUP(C22,Katılım!#REF!,3,0),\"\")","v":""},16]
[null,"17-24",{"$f":"IF('32DE'!$R$63<'32DE'!$S$63,'32DE'!$P$62,'32DE'!$P$64)","v":""},{"$f":"IFERROR(VLOOKUP(C23,Katılım!#REF!,3,0),\"\")","v":""},16]
[null,"17-24",{"$f":"IF('32DE'!$R$67<'32DE'!$S$67,'32DE'!$P$66,'32DE'!$P$68)","v":""},{"$f":"IFERROR(VLOOKUP(C24,Katılım!#REF!,3,0),\"\")","v":""},16]
[null,"17-24",{"$f":"IF('32DE'!$R$71<'32DE'!$S$71,'32DE'!$P$70,'32DE'!$P$72)","v":""},{"$f":"IFERROR(VLOOKUP(C25,Katılım!#REF!,3,0),\"\")","v":""},16]
[null,"17-24",{"$f":"IF('32DE'!$R$75<'32DE'!$S$75,'32DE'!$P$74,'32DE'!$P$76)","v":""},{"$f":"IFERROR(VLOOKUP(C26,Katılım!#REF!,3,0),\"\")","v":""},16]
[null,"17-24",{"$f":"IF('32DE'!$R$79<'32DE'!$S$79,'32DE'!$P$78,'32DE'!$P$80)","v":""},{"$f":"IFERROR(VLOOKUP(C27,Katılım!#REF!,3,0),\"\")","v":""},16]
[null,"25-32",{"$f":"IF('32DE'!$K$52<'32DE'!$L$52,'32DE'!$I$51,'32DE'!$I$53)","v":""},{"$f":"IFERROR(VLOOKUP(C28,Katılım!D21:F21,3,0),\"\")","v":""},8]
[null,"25-32",{"$f":"IF('32DE'!$K$56<'32DE'!$L$56,'32DE'!$I$55,'32DE'!$I$57)","v":""},{"$f":"IFERROR(VLOOKUP(C29,Katılım!D21:F22,3,0),\"\")","v":""},8]
[null,"25-32",{"$f":"IF('32DE'!$K$60<'32DE'!$L$60,'32DE'!$I$59,'32DE'!$I$61)","v":""},{"$f":"IFERROR(VLOOKUP(C30,Katılım!D21:F23,3,0),\"\")","v":""},8]
[null,"25-32",{"$f":"IF('32DE'!$K$64<'32DE'!$L$64,'32DE'!$I$63,'32DE'!$I$65)","v":""},{"$f":"IFERROR(VLOOKUP(C31,Katılım!D21:F24,3,0),\"\")","v":""},8]
[null,"25-32",{"$f":"IF('32DE'!$K$68<'32DE'!$L$68,'32DE'!$I$67,'32DE'!$I$69)","v":""},{"$f":"IFERROR(VLOOKUP(C32,Katılım!D21:F25,3,0),\"\")","v":""},8]
[null,"25-32",{"$f":"IF('32DE'!$K$72<'32DE'!$L$72,'32DE'!$I$71,'32DE'!$I$73)","v":""},{"$f":"IFERROR(VLOOKUP(C33,Katılım!D21:F26,3,0),\"\")","v":""},8]
[null,"25-32",{"$f":"IF('32DE'!$K$76<'32DE'!$L$76,'32DE'!$I$75,'32DE'!$I$77)","v":""},{"$f":"IFERROR(VLOOKUP(C34,Katılım!D21:F27,3,0),\"\")","v":""},8]
[null,"25-32",{"$f":"IF('32DE'!$K$80<'32DE'!$L$80,'32DE'!$I$79,'32DE'!$I$81)","v":""},{"$f":"IFERROR(VLOOKUP(C35,Katılım!D21:F28,3,0),\"\")","v":""},8]
[null,"33-64",{"$f":"IF(OR(Eleme!BX454=\"\",Eleme!BX454=0,Eleme!BX454=1,Eleme!BX454=2),Eleme!BL454,Eleme!BM454)","v":""},{"$f":"IFERROR(VLOOKUP(C36,Katılım!D21:F29,3,0),\"\")","v":""},4]
[null,"33-64",{"$f":"IF(OR(Eleme!BX455=\"\",Eleme!BX455=0,Eleme!BX455=1,Eleme!BX455=2),Eleme!BL455,Eleme!BM455)","v":""},{"$f":"IFERROR(VLOOKUP(C37,Katılım!D21:F30,3,0),\"\")","v":""},4]
[null,"33-64",{"$f":"IF(OR(Eleme!BX456=\"\",Eleme!BX456=0,Eleme!BX456=1,Eleme!BX456=2),Eleme!BL456,Eleme!BM456)","v":""},{"$f":"IFERROR(VLOOKUP(C38,Katılım!D21:F31,3,0),\"\")","v":""},4]
[null,"33-64",{"$f":"IF(OR(Eleme!BX457=\"\",Eleme!BX457=0,Eleme!BX457=1,Eleme!BX457=2),Eleme!BL457,Eleme!BM457)","v":""},{"$f":"IFERROR(VLOOKUP(C39,Katılım!D21:F32,3,0),\"\")","v":""},4]
[null,"33-64",{"$f":"IF(OR(Eleme!BX458=\"\",Eleme!BX458=0,Eleme!BX458=1,Eleme!BX458=2),Eleme!BL458,Eleme!BM458)","v":""},{"$f":"IFERROR(VLOOKUP(C40,Katılım!D21:F33,3,0),\"\")","v":""},4]
[null,"33-64",{"$f":"IF(OR(Eleme!BX459=\"\",Eleme!BX459=0,Eleme!BX459=1,Eleme!BX459=2),Eleme!BL459,Eleme!BM459)","v":""},{"$f":"IFERROR(VLOOKUP(C41,Katılım!D21:F34,3,0),\"\")","v":""},4]
[null,"33-64",{"$f":"IF(OR(Eleme!BX460=\"\",Eleme!BX460=0,Eleme!BX460=1,Eleme!BX460=2),Eleme!BL460,Eleme!BM460)","v":""},{"$f":"IFERROR(VLOOKUP(C42,Katılım!D21:F35,3,0),\"\")","v":""},4]
[null,"33-64",{"$f":"IF(OR(Eleme!BX461=\"\",Eleme!BX461=0,Eleme!BX461=1,Eleme!BX461=2),Eleme!BL461,Eleme!BM461)","v":""},{"$f":"IFERROR(VLOOKUP(C43,Katılım!D21:F36,3,0),\"\")","v":""},4]
[null,"33-64",{"$f":"IF(OR(Eleme!BX462=\"\",Eleme!BX462=0,Eleme!BX462=1,Eleme!BX462=2),Eleme!BL462,Eleme!BM462)","v":""},{"$f":"IFERROR(VLOOKUP(C44,Katılım!D21:F37,3,0),\"\")","v":""},4]
[null,"33-64",{"$f":"IF(OR(Eleme!BX463=\"\",Eleme!BX463=0,Eleme!BX463=1,Eleme!BX463=2),Eleme!BL463,Eleme!BM463)","v":""},{"$f":"IFERROR(VLOOKUP(C45,Katılım!D21:F38,3,0),\"\")","v":""},4]
[null,"33-64",{"$f":"IF(OR(Eleme!BX464=\"\",Eleme!BX464=0,Eleme!BX464=1,Eleme!BX464=2),Eleme!BL464,Eleme!BM464)","v":""},{"$f":"IFERROR(VLOOKUP(C46,Katılım!D21:F39,3,0),\"\")","v":""},4]
[null,"33-64",{"$f":"IF(OR(Eleme!BX465=\"\",Eleme!BX465=0,Eleme!BX465=1,Eleme!BX465=2),Eleme!BL465,Eleme!BM465)","v":""},{"$f":"IFERROR(VLOOKUP(C47,Katılım!D21:F40,3,0),\"\")","v":""},4]
[null,"33-64",{"$f":"IF(OR(Eleme!BX466=\"\",Eleme!BX466=0,Eleme!BX466=1,Eleme!BX466=2),Eleme!BL466,Eleme!BM466)","v":""},{"$f":"IFERROR(VLOOKUP(C48,Katılım!D21:F41,3,0),\"\")","v":""},4]
[null,"33-64",{"$f":"IF(OR(Eleme!BX467=\"\",Eleme!BX467=0,Eleme!BX467=1,Eleme!BX467=2),Eleme!BL467,Eleme!BM467)","v":""},{"$f":"IFERROR(VLOOKUP(C49,Katılım!D21:F42,3,0),\"\")","v":""},4]
[null,"33-64",{"$f":"IF(OR(Eleme!BX468=\"\",Eleme!BX468=0,Eleme!BX468=1,Eleme!BX468=2),Eleme!BL468,Eleme!BM468)","v":""},{"$f":"IFERROR(VLOOKUP(C50,Katılım!D21:F43,3,0),\"\")","v":""},4]
[null,"33-64",{"$f":"IF(OR(Eleme!BX469=\"\",Eleme!BX469=0,Eleme!BX469=1,Eleme!BX469=2),Eleme!BL469,Eleme!BM469)","v":""},{"$f":"IFERROR(VLOOKUP(C51,Katılım!D21:F44,3,0),\"\")","v":""},4]
[null,"33-64",{"$f":"IF(OR(Eleme!BX470=\"\",Eleme!BX470=0,Eleme!BX470=1,Eleme!BX470=2),Eleme!BL470,Eleme!BM470)","v":""},{"$f":"IFERROR(VLOOKUP(C52,Katılım!D21:F45,3,0),\"\")","v":""},4]
[null,"33-64",{"$f":"IF(OR(Eleme!BX471=\"\",Eleme!BX471=0,Eleme!BX471=1,Eleme!BX471=2),Eleme!BL471,Eleme!BM471)","v":""},{"$f":"IFERROR(VLOOKUP(C53,Katılım!D21:F46,3,0),\"\")","v":""},4]
[null,"33-64",{"$f":"IF(OR(Eleme!BX472=\"\",Eleme!BX472=0,Eleme!BX472=1,Eleme!BX472=2),Eleme!BL472,Eleme!BM472)","v":""},{"$f":"IFERROR(VLOOKUP(C54,Katılım!D21:F47,3,0),\"\")","v":""},4]
[null,"33-64",{"$f":"IF(OR(Eleme!BX473=\"\",Eleme!BX473=0,Eleme!BX473=1,Eleme!BX473=2),Eleme!BL473,Eleme!BM473)","v":""},{"$f":"IFERROR(VLOOKUP(C55,Katılım!D21:F48,3,0),\"\")","v":""},4]
[null,"33-64",{"$f":"IF(OR(Eleme!BX474=\"\",Eleme!BX474=0,Eleme!BX474=1,Eleme!BX474=2),Eleme!BL474,Eleme!BM474)","v":""},{"$f":"IFERROR(VLOOKUP(C56,Katılım!D21:F49,3,0),\"\")","v":""},4]
[null,"33-64",{"$f":"IF(OR(Eleme!BX475=\"\",Eleme!BX475=0,Eleme!BX475=1,Eleme!BX475=2),Eleme!BL475,Eleme!BM475)","v":""},{"$f":"IFERROR(VLOOKUP(C57,Katılım!D21:F50,3,0),\"\")","v":""},4]
[null,"33-64",{"$f":"IF(OR(Eleme!BX476=\"\",Eleme!BX476=0,Eleme!BX476=1,Eleme!BX476=2),Eleme!BL476,Eleme!BM476)","v":""},{"$f":"IFERROR(VLOOKUP(C58,Katılım!D21:F51,3,0),\"\")","v":""},4]
[null,"33-64",{"$f":"IF(OR(Eleme!BX477=\"\",Eleme!BX477=0,Eleme!BX477=1,Eleme!BX477=2),Eleme!BL477,Eleme!BM477)","v":""},{"$f":"IFERROR(VLOOKUP(C59,Katılım!D21:F52,3,0),\"\")","v":""},4]
[null,"33-64",{"$f":"IF(OR(Eleme!BX478=\"\",Eleme!BX478=0,Eleme!BX478=1,Eleme!BX478=2),Eleme!BL478,Eleme!BM478)","v":""},{"$f":"IFERROR(VLOOKUP(C60,Katılım!D21:F53,3,0),\"\")","v":""},4]
[null,"33-64",{"$f":"IF(OR(Eleme!BX479=\"\",Eleme!BX479=0,Eleme!BX479=1,Eleme!BX479=2),Eleme!BL479,Eleme!BM479)","v":""},{"$f":"IFERROR(VLOOKUP(C61,Katılım!D21:F54,3,0),\"\")","v":""},4]
[null,"33-64",{"$f":"IF(OR(Eleme!BX480=\"\",Eleme!BX480=0,Eleme!BX480=1,Eleme!BX480=2),Eleme!BL480,Eleme!BM480)","v":""},{"$f":"IFERROR(VLOOKUP(C62,Katılım!D21:F55,3,0),\"\")","v":""},4]
[null,"33-64",{"$f":"IF(OR(Eleme!BX481=\"\",Eleme!BX481=0,Eleme!BX481=1,Eleme!BX481=2),Eleme!BL481,Eleme!BM481)","v":""},{"$f":"IFERROR(VLOOKUP(C63,Katılım!D21:F56,3,0),\"\")","v":""},4]
[null,"33-64",{"$f":"IF(OR(Eleme!BX482=\"\",Eleme!BX482=0,Eleme!BX482=1,Eleme!BX482=2),Eleme!BL482,Eleme!BM482)","v":""},{"$f":"IFERROR(VLOOKUP(C64,Katılım!D21:F57,3,0),\"\")","v":""},4]
[null,"33-64",{"$f":"IF(OR(Eleme!BX483=\"\",Eleme!BX483=0,Eleme!BX483=1,Eleme!BX483=2),Eleme!BL483,Eleme!BM483)","v":""},{"$f":"IFERROR(VLOOKUP(C65,Katılım!D21:F58,3,0),\"\")","v":""},4]
[null,"33-64",{"$f":"IF(OR(Eleme!BX484=\"\",Eleme!BX484=0,Eleme!BX484=1,Eleme!BX484=2),Eleme!BL484,Eleme!BM484)","v":""},{"$f":"IFERROR(VLOOKUP(C66,Katılım!D21:F59,3,0),\"\")","v":""},4]
[null,"33-64",{"$f":"IF(OR(Eleme!BX485=\"\",Eleme!BX485=0,Eleme!BX485=1,Eleme!BX485=2),Eleme!BL485,Eleme!BM485)","v":""},{"$f":"IFERROR(VLOOKUP(C67,Katılım!D21:F60,3,0),\"\")","v":""},4]
[null,"65-128",{"$f":"IF(OR(Eleme!BX390=\"\",Eleme!BX390=0,Eleme!BX390=1,Eleme!BX390=2),Eleme!BL390,Eleme!BM390)","v":{"$error":"#REF!"}},{"$f":"IFERROR(VLOOKUP(C68,Katılım!D21:F61,3,0),\"\")","v":""},2]
[null,"65-128",{"$f":"IF(OR(Eleme!BX391=\"\",Eleme!BX391=0,Eleme!BX391=1,Eleme!BX391=2),Eleme!BL391,Eleme!BM391)","v":{"$error":"#REF!"}},{"$f":"IFERROR(VLOOKUP(C69,Katılım!D21:F62,3,0),\"\")","v":""},2]
[null,"65-128",{"$f":"IF(OR(Eleme!BX392=\"\",Eleme!BX392=0,Eleme!BX392=1,Eleme!BX392=2),Eleme!BL392,Eleme!BM392)","v":{"$error":"#REF!"}},{"$f":"IFERROR(VLOOKUP(C70,Katılım!D21:F63,3,0),\"\")","v":""},2]
[null,"65-128",{"$f":"IF(OR(Eleme!BX393=\"\",Eleme!BX393=0,Eleme!BX393=1,Eleme!BX393=2),Eleme!BL393,Eleme!BM393)","v":{"$error":"#REF!"}},{"$f":"IFERROR(VLOOKUP(C71,Katılım!D21:F64,3,0),\"\")","v":""},2]
[null,"65-128",{"$f":"IF(OR(Eleme!BX394=\"\",Eleme!BX394=0,Eleme!BX394=1,Eleme!BX394=2),Eleme!BL394,Eleme!BM394)","v":{"$error":"#REF!"}},{"$f":"IFERROR(VLOOKUP(C72,Katılım!D21:F65,3,0),\"\")","v":""},2]
[null,"65-128",{"$f":"IF(OR(Eleme!BX395=\"\",Eleme!BX395=0,Eleme!BX395=1,Eleme!BX395=2),Eleme!BL395,Eleme!BM395)","v":{"$error":"#REF!"}},{"$f":"IFERROR(VLOOKUP(C73,Katılım!D21:F66,3,0),\"\")","v":""},2]
[null,"65-128",{"$f":"IF(OR(Eleme!BX396=\"\",Eleme!BX396=0,Eleme!BX396=1,Eleme!BX396=2),Eleme!BL396,Eleme!BM396)","v":{"$error":"#REF!"}},{"$f":"IFERROR(VLOOKUP(C74,Katılım!D21:F67,3,0),\"\")","v":""},2]
[null,"65-128",{"$f":"IF(OR(Eleme!BX397=\"\",Eleme!BX397=0,Eleme!BX397=1,Eleme!BX397=2),Eleme!BL397,Eleme!BM397)","v":{"$error":"#REF!"}},{"$f":"IFERROR(VLOOKUP(C75,Katılım!D21:F68,3,0),\"\")","v":""},2]
[null,"65-128",{"$f":"IF(OR(Eleme!BX398=\"\",Eleme!BX398=0,Eleme!BX398=1,Eleme!BX398=2),Eleme!BL398,Eleme!BM398)","v":{"$error":"#REF!"}},{"$f":"IFERROR(VLOOKUP(C76,Katılım!D21:F69,3,0),\"\")","v":""},2]
[null,"65-128",{"$f":"IF(OR(Eleme!BX399=\"\",Eleme!BX399=0,Eleme!BX399=1,Eleme!BX399=2),Eleme!BL399,Eleme!BM399)","v":{"$error":"#REF!"}},{"$f":"IFERROR(VLOOKUP(C77,Katılım!D21:F70,3,0),\"\")","v":""},2]
[null,"65-128",{"$f":"IF(OR(Eleme!BX400=\"\",Eleme!BX400=0,Eleme!BX400=1,Eleme!BX400=2),Eleme!BL400,Eleme!BM400)","v":{"$error":"#REF!"}},{"$f":"IFERROR(VLOOKUP(C78,Katılım!D21:F71,3,0),\"\")","v":""},2]
[null,"65-128",{"$f":"IF(OR(Eleme!BX401=\"\",Eleme!BX401=0,Eleme!BX401=1,Eleme!BX401=2),Eleme!BL401,Eleme!BM401)","v":{"$error":"#REF!"}},{"$f":"IFERROR(VLOOKUP(C79,Katılım!D21:F72,3,0),\"\")","v":""},2]
[null,"65-128",{"$f":"IF(OR(Eleme!BX402=\"\",Eleme!BX402=0,Eleme!BX402=1,Eleme!BX402=2),Eleme!BL402,Eleme!BM402)","v":{"$error":"#REF!"}},{"$f":"IFERROR(VLOOKUP(C80,Katılım!D21:F73,3,0),\"\")","v":""},2]
[null,"65-128",{"$f":"IF(OR(Eleme!BX403=\"\",Eleme!BX403=0,Eleme!BX403=1,Eleme!BX403=2),Eleme!BL403,Eleme!BM403)","v":{"$error":"#REF!"}},{"$f":"IFERROR(VLOOKUP(C81,Katılım!D21:F74,3,0),\"\")","v":""},2]
[null,"65-128",{"$f":"IF(OR(Eleme!BX404=\"\",Eleme!BX404=0,Eleme!BX404=1,Eleme!BX404=2),Eleme!BL404,Eleme!BM404)","v":{"$error":"#REF!"}},{"$f":"IFERROR(VLOOKUP(C82,Katılım!D21:F75,3,0),\"\")","v":""},2]
[null,"65-128",{"$f":"IF(OR(Eleme!BX405=\"\",Eleme!BX405=0,Eleme!BX405=1,Eleme!BX405=2),Eleme!BL405,Eleme!BM405)","v":{"$error":"#REF!"}},{"$f":"IFERROR(VLOOKUP(C83,Katılım!D21:F76,3,0),\"\")","v":""},2]
[null,"65-128",{"$f":"IF(OR(Eleme!BX406=\"\",Eleme!BX406=0,Eleme!BX406=1,Eleme!BX406=2),Eleme!BL406,Eleme!BM406)","v":{"$error":"#REF!"}},{"$f":"IFERROR(VLOOKUP(C84,Katılım!D21:F77,3,0),\"\")","v":""},2]
[null,"65-128",{"$f":"IF(OR(Eleme!BX407=\"\",Eleme!BX407=0,Eleme!BX407=1,Eleme!BX407=2),Eleme!BL407,Eleme!BM407)","v":{"$error":"#REF!"}},{"$f":"IFERROR(VLOOKUP(C85,Katılım!D21:F78,3,0),\"\")","v":""},2]
[null,"65-128",{"$f":"IF(OR(Eleme!BX408=\"\",Eleme!BX408=0,Eleme!BX408=1,Eleme!BX408=2),Eleme!BL408,Eleme!BM408)","v":{"$error":"#REF!"}},{"$f":"IFERROR(VLOOKUP(C86,Katılım!D21:F79,3,0),\"\")","v":""},2]
[null,"65-128",{"$f":"IF(OR(Eleme!BX409=\"\",Eleme!BX409=0,Eleme!BX409=1,Eleme!BX409=2),Eleme!BL409,Eleme!BM409)","v":{"$error":"#REF!"}},{"$f":"IFERROR(VLOOKUP(C87,Katılım!D21:F80,3,0),\"\")","v":""},2]
[null,"65-128",{"$f":"IF(OR(Eleme!BX410=\"\",Eleme!BX410=0,Eleme!BX410=1,Eleme!BX410=2),Eleme!BL410,Eleme!BM410)","v":{"$error":"#REF!"}},{"$f":"IFERROR(VLOOKUP(C88,Katılım!D21:F81,3,0),\"\")","v":""},2]
[null,"65-128",{"$f":"IF(OR(Eleme!BX411=\"\",Eleme!BX411=0,Eleme!BX411=1,Eleme!BX411=2),Eleme!BL411,Eleme!BM411)","v":{"$error":"#REF!"}},{"$f":"IFERROR(VLOOKUP(C89,Katılım!D21:F82,3,0),\"\")","v":""},2]
[null,"65-128",{"$f":"IF(OR(Eleme!BX412=\"\",Eleme!BX412=0,Eleme!BX412=1,Eleme!BX412=2),Eleme!BL412,Eleme!BM412)","v":{"$error":"#REF!"}},{"$f":"IFERROR(VLOOKUP(C90,Katılım!D21:F83,3,0),\"\")","v":""},2]
[null,"65-128",{"$f":"IF(OR(Eleme!BX413=\"\",Eleme!BX413=0,Eleme!BX413=1,Eleme!BX413=2),Eleme!BL413,Eleme!BM413)","v":{"$error":"#REF!"}},{"$f":"IFERROR(VLOOKUP(C91,Katılım!D21:F84,3,0),\"\")","v":""},2]
[null,"65-128",{"$f":"IF(OR(Eleme!BX414=\"\",Eleme!BX414=0,Eleme!BX414=1,Eleme!BX414=2),Eleme!BL414,Eleme!BM414)","v":{"$error":"#REF!"}},{"$f":"IFERROR(VLOOKUP(C92,Katılım!D21:F85,3,0),\"\")","v":""},2]
[null,"65-128",{"$f":"IF(OR(Eleme!BX415=\"\",Eleme!BX415=0,Eleme!BX415=1,Eleme!BX415=2),Eleme!BL415,Eleme!BM415)","v":{"$error":"#REF!"}},{"$f":"IFERROR(VLOOKUP(C93,Katılım!D21:F86,3,0),\"\")","v":""},2]
[null,"65-128",{"$f":"IF(OR(Eleme!BX416=\"\",Eleme!BX416=0,Eleme!BX416=1,Eleme!BX416=2),Eleme!BL416,Eleme!BM416)","v":{"$error":"#REF!"}},{"$f":"IFERROR(VLOOKUP(C94,Katılım!D21:F87,3,0),\"\")","v":""},2]
[null,"65-128",{"$f":"IF(OR(Eleme!BX417=\"\",Eleme!BX417=0,Eleme!BX417=1,Eleme!BX417=2),Eleme!BL417,Eleme!BM417)","v":{"$error":"#REF!"}},{"$f":"IFERROR(VLOOKUP(C95,Katılım!D21:F88,3,0),\"\")","v":""},2]
[null,"65-128",{"$f":"IF(OR(Eleme!BX418=\"\",Eleme!BX418=0,Eleme!BX418=1,Eleme!BX418=2),Eleme!BL418,Eleme!BM418)","v":{"$error":"#REF!"}},{"$f":"IFERROR(VLOOKUP(C96,Katılım!D21:F89,3,0),\"\")","v":""},2]
[null,"65-128",{"$f":"IF(OR(Eleme!BX419=\"\",Eleme!BX419=0,Eleme!BX419=1,Eleme!BX419=2),Eleme!BL419,Eleme!BM419)","v":{"$error":"#REF!"}},{"$f":"IFERROR(VLOOKUP(C97,Katılım!D21:F90,3,0),\"\")","v":""},2]
[null,"65-128",{"$f":"IF(OR(Eleme!BX420=\"\",Eleme!BX420=0,Eleme!BX420=1,Eleme!BX420=2),Eleme!BL420,Eleme!BM420)","v":{"$error":"#REF!"}},{"$f":"IFERROR(VLOOKUP(C98,Katılım!D21:F91,3,0),\"\")","v":""},2]
[null,"65-128",{"$f":"IF(OR(Eleme!BX421=\"\",Eleme!BX421=0,Eleme!BX421=1,Eleme!BX421=2),Eleme!BL421,Eleme!BM421)","v":{"$error":"#REF!"}},{"$f":"IFERROR(VLOOKUP(C99,Katılım!D21:F92,3,0),\"\")","v":""},2]
[null,"65-128",{"$f":"IF(OR(Eleme!BX422=\"\",Eleme!BX422=0,Eleme!BX422=1,Eleme!BX422=2),Eleme!BL422,Eleme!BM422)","v":{"$error":"#REF!"}},{"$f":"IFERROR(VLOOKUP(C100,Katılım!D21:F93,3,0),\"\")","v":""},2]
[null,"65-128",{"$f":"IF(OR(Eleme!BX423=\"\",Eleme!BX423=0,Eleme!BX423=1,Eleme!BX423=2),Eleme!BL423,Eleme!BM423)","v":{"$error":"#REF!"}},{"$f":"IFERROR(VLOOKUP(C101,Katılım!D21:F94,3,0),\"\")","v":""},2]
[null,"65-128",{"$f":"IF(OR(Eleme!BX424=\"\",Eleme!BX424=0,Eleme!BX424=1,Eleme!BX424=2),Eleme!BL424,Eleme!BM424)","v":{"$error":"#REF!"}},{"$f":"IFERROR(VLOOKUP(C102,Katılım!D21:F95,3,0),\"\")","v":""},2]
[null,"65-128",{"$f":"IF(OR(Eleme!BX425=\"\",Eleme!BX425=0,Eleme!BX425=1,Eleme!BX425=2),Eleme!BL425,Eleme!BM425)","v":{"$error":"#REF!"}},{"$f":"IFERROR(VLOOKUP(C103,Katılım!D21:F96,3,0),\"\")","v":""},2]
[null,"65-128",{"$f":"IF(OR(Eleme!BX426=\"\",Eleme!BX426=0,Eleme!BX426=1,Eleme!BX426=2),Eleme!BL426,Eleme!BM426)","v":{"$error":"#REF!"}},{"$f":"IFERROR(VLOOKUP(C104,Katılım!D21:F97,3,0),\"\")","v":""},2]
[null,"65-128",{"$f":"IF(OR(Eleme!BX427=\"\",Eleme!BX427=0,Eleme!BX427=1,Eleme!BX427=2),Eleme!BL427,Eleme!BM427)","v":{"$error":"#REF!"}},{"$f":"IFERROR(VLOOKUP(C105,Katılım!D21:F98,3,0),\"\")","v":""},2]
[null,"65-128",{"$f":"IF(OR(Eleme!BX428=\"\",Eleme!BX428=0,Eleme!BX428=1,Eleme!BX428=2),Eleme!BL428,Eleme!BM428)","v":{"$error":"#REF!"}},{"$f":"IFERROR(VLOOKUP(C106,Katılım!D21:F99,3,0),\"\")","v":""},2]
[null,"65-128",{"$f":"IF(OR(Eleme!BX429=\"\",Eleme!BX429=0,Eleme!BX429=1,Eleme!BX429=2),Eleme!BL429,Eleme!BM429)","v":{"$error":"#REF!"}},{"$f":"IFERROR(VLOOKUP(C107,Katılım!D21:F100,3,0),\"\")","v":""},2]
[null,"65-128",{"$f":"IF(OR(Eleme!BX430=\"\",Eleme!BX430=0,Eleme!BX430=1,Eleme!BX430=2),Eleme!BL430,Eleme!BM430)","v":{"$error":"#REF!"}},{"$f":"IFERROR(VLOOKUP(C108,Katılım!D21:F101,3,0),\"\")","v":""},2]
[null,"65-128",{"$f":"IF(OR(Eleme!BX431=\"\",Eleme!BX431=0,Eleme!BX431=1,Eleme!BX431=2),Eleme!BL431,Eleme!BM431)","v":{"$error":"#REF!"}},{"$f":"IFERROR(VLOOKUP(C109,Katılım!D21:F102,3,0),\"\")","v":""},2]
[null,"65-128",{"$f":"IF(OR(Eleme!BX432=\"\",Eleme!BX432=0,Eleme!BX432=1,Eleme!BX432=2),Eleme!BL432,Eleme!BM432)","v":{"$error":"#REF!"}},{"$f":"IFERROR(VLOOKUP(C110,Katılım!D21:F103,3,0),\"\")","v":""},2]
[null,"65-128",{"$f":"IF(OR(Eleme!BX433=\"\",Eleme!BX433=0,Eleme!BX433=1,Eleme!BX433=2),Eleme!BL433,Eleme!BM433)","v":{"$error":"#REF!"}},{"$f":"IFERROR(VLOOKUP(C111,Katılım!D21:F104,3,0),\"\")","v":""},2]
[null,"65-128",{"$f":"IF(OR(Eleme!BX434=\"\",Eleme!BX434=0,Eleme!BX434=1,Eleme!BX434=2),Eleme!BL434,Eleme!BM434)","v":{"$error":"#REF!"}},{"$f":"IFERROR(VLOOKUP(C112,Katılım!D21:F105,3,0),\"\")","v":""},2]
[null,"65-128",{"$f":"IF(OR(Eleme!BX435=\"\",Eleme!BX435=0,Eleme!BX435=1,Eleme!BX435=2),Eleme!BL435,Eleme!BM435)","v":{"$error":"#REF!"}},{"$f":"IFERROR(VLOOKUP(C113,Katılım!D21:F106,3,0),\"\")","v":""},2]
[null,"65-128",{"$f":"IF(OR(Eleme!BX436=\"\",Eleme!BX436=0,Eleme!BX436=1,Eleme!BX436=2),Eleme!BL436,Eleme!BM436)","v":{"$error":"#REF!"}},{"$f":"IFERROR(VLOOKUP(C114,Katılım!D21:F107,3,0),\"\")","v":""},2]
[null,"65-128",{"$f":"IF(OR(Eleme!BX437=\"\",Eleme!BX437=0,Eleme!BX437=1,Eleme!BX437=2),Eleme!BL437,Eleme!BM437)","v":{"$error":"#REF!"}},{"$f":"IFERROR(VLOOKUP(C115,Katılım!D21:F108,3,0),\"\")","v":""},2]
[null,"65-128",{"$f":"IF(OR(Eleme!BX438=\"\",Eleme!BX438=0,Eleme!BX438=1,Eleme!BX438=2),Eleme!BL438,Eleme!BM438)","v":{"$error":"#REF!"}},{"$f":"IFERROR(VLOOKUP(C116,Katılım!D21:F109,3,0),\"\")","v":""},2]
[null,"65-128",{"$f":"IF(OR(Eleme!BX439=\"\",Eleme!BX439=0,Eleme!BX439=1,Eleme!BX439=2),Eleme!BL439,Eleme!BM439)","v":{"$error":"#REF!"}},{"$f":"IFERROR(VLOOKUP(C117,Katılım!D21:F110,3,0),\"\")","v":""},2]
[null,"65-128",{"$f":"IF(OR(Eleme!BX440=\"\",Eleme!BX440=0,Eleme!BX440=1,Eleme!BX440=2),Eleme!BL440,Eleme!BM440)","v":{"$error":"#REF!"}},{"$f":"IFERROR(VLOOKUP(C118,Katılım!D21:F111,3,0),\"\")","v":""},2]
[null,"65-128",{"$f":"IF(OR(Eleme!BX441=\"\",Eleme!BX441=0,Eleme!BX441=1,Eleme!BX441=2),Eleme!BL441,Eleme!BM441)","v":{"$error":"#REF!"}},{"$f":"IFERROR(VLOOKUP(C119,Katılım!D21:F112,3,0),\"\")","v":""},2]
[null,"65-128",{"$f":"IF(OR(Eleme!BX442=\"\",Eleme!BX442=0,Eleme!BX442=1,Eleme!BX442=2),Eleme!BL442,Eleme!BM442)","v":{"$error":"#REF!"}},{"$f":"IFERROR(VLOOKUP(C120,Katılım!D21:F113,3,0),\"\")","v":""},2]
[null,"65-128",{"$f":"IF(OR(Eleme!BX443=\"\",Eleme!BX443=0,Eleme!BX443=1,Eleme!BX443=2),Eleme!BL443,Eleme!BM443)","v":{"$error":"#REF!"}},{"$f":"IFERROR(VLOOKUP(C121,Katılım!D21:F114,3,0),\"\")","v":""},2]
[null,"65-128",{"$f":"IF(OR(Eleme!BX444=\"\",Eleme!BX444=0,Eleme!BX444=1,Eleme!BX444=2),Eleme!BL444,Eleme!BM444)","v":{"$error":"#REF!"}},{"$f":"IFERROR(VLOOKUP(C122,Katılım!D21:F115,3,0),\"\")","v":""},2]
[null,"65-128",{"$f":"IF(OR(Eleme!BX445=\"\",Eleme!BX445=0,Eleme!BX445=1,Eleme!BX445=2),Eleme!BL445,Eleme!BM445)","v":{"$error":"#REF!"}},{"$f":"IFERROR(VLOOKUP(C123,Katılım!D21:F116,3,0),\"\")","v":""},2]
[null,"65-128",{"$f":"IF(OR(Eleme!BX446=\"\",Eleme!BX446=0,Eleme!BX446=1,Eleme!BX446=2),Eleme!BL446,Eleme!BM446)","v":{"$error":"#REF!"}},{"$f":"IFERROR(VLOOKUP(C124,Katılım!D21:F117,3,0),\"\")","v":""},2]
[null,"65-128",{"$f":"IF(OR(Eleme!BX447=\"\",Eleme!BX447=0,Eleme!BX447=1,Eleme!BX447=2),Eleme!BL447,Eleme!BM447)","v":{"$error":"#REF!"}},{"$f":"IFERROR(VLOOKUP(C125,Katılım!D21:F118,3,0),\"\")","v":""},2]
[null,"65-128",{"$f":"IF(OR(Eleme!BX448=\"\",Eleme!BX448=0,Eleme!BX448=1,Eleme!BX448=2),Eleme!BL448,Eleme!BM448)","v":{"$error":"#REF!"}},{"$f":"IFERROR(VLOOKUP(C126,Katılım!D21:F119,3,0),\"\")","v":""},2]
[null,"65-128",{"$f":"IF(OR(Eleme!BX449=\"\",Eleme!BX449=0,Eleme!BX449=1,Eleme!BX449=2),Eleme!BL449,Eleme!BM449)","v":{"$error":"#REF!"}},{"$f":"IFERROR(VLOOKUP(C127,Katılım!D21:F120,3,0),\"\")","v":""},2]
[null,"65-128",{"$f":"IF(OR(Eleme!BX450=\"\",Eleme!BX450=0,Eleme!BX450=1,Eleme!BX450=2),Eleme!BL450,Eleme!BM450)","v":{"$error":"#REF!"}},{"$f":"IFERROR(VLOOKUP(C128,Katılım!D21:F121,3,0),\"\")","v":""},2]
[null,"65-128",{"$f":"IF(OR(Eleme!BX451=\"\",Eleme!BX451=0,Eleme!BX451=1,Eleme!BX451=2),Eleme!BL451,Eleme!BM451)","v":{"$error":"#REF!"}},{"$f":"IFERROR(VLOOKUP(C129,Katılım!D21:F122,3,0),\"\")","v":""},2]
[null,"65-128",{"$f":"IF(OR(Eleme!BX452=\"\",Eleme!BX452=0,Eleme!BX452=1,Eleme!BX452=2),Eleme!BL452,Eleme!BM452)","v":{"$error":"#REF!"}},{"$f":"IFERROR(VLOOKUP(C130,Katılım!D21:F123,3,0),\"\")","v":""},2]
[null,"65-128",{"$f":"IF(OR(Eleme!BX453=\"\",Eleme!BX453=0,Eleme!BX453=1,Eleme!BX453=2),Eleme!BL453,Eleme!BM453)","v":{"$error":"#REF!"}},{"$f":"IFERROR(VLOOKUP(C131,Katılım!D21:F124,3,0),\"\")","v":""},2]
["G1.3","129-256",{"$f":"IFERROR(VLOOKUP(A132,Grup!$N$5:$AF$1000,3,0),\"\")","v":"SİLVAN MTSK (A) (DYB)"},{"$f":"IFERROR(VLOOKUP(C132,Katılım!D21:F125,3,0),\"\")","v":""},1]
["G1.4","129-256",{"$f":"IFERROR(VLOOKUP(A133,Grup!$N$5:$AF$1000,3,0),\"\")","v":"LÜLEBURGAZ ZİRVE SPOR  (A) (KRL)"},{"$f":"IFERROR(VLOOKUP(C133,Katılım!D21:F126,3,0),\"\")","v":""},1]
["G2.3","129-256",{"$f":"IFERROR(VLOOKUP(A134,Grup!$N$5:$AF$1000,3,0),\"\")","v":"KUTLUBEY OKULLARI (A) (AMS)"},{"$f":"IFERROR(VLOOKUP(C134,Katılım!D21:F127,3,0),\"\")","v":""},1]
["G2.4","129-256",{"$f":"IFERROR(VLOOKUP(A135,Grup!$N$5:$AF$1000,3,0),\"\")","v":"KAYSERİ SPOR A.Ş SPOR (A) (KYS)"},{"$f":"IFERROR(VLOOKUP(C135,Katılım!D21:F128,3,0),\"\")","v":""},1]
["G3.3","129-256",{"$f":"IFERROR(VLOOKUP(A136,Grup!$N$5:$AF$1000,3,0),\"\")","v":"ÇORUM ARENA SPOR (B) (ÇRM)"},{"$f":"IFERROR(VLOOKUP(C136,Katılım!D21:F129,3,0),\"\")","v":""},1]
["G3.4","129-256",{"$f":"IFERROR(VLOOKUP(A137,Grup!$N$5:$AF$1000,3,0),\"\")","v":"KUTLUBEY OKULLARI (B) (AMS)"},{"$f":"IFERROR(VLOOKUP(C137,Katılım!D21:F130,3,0),\"\")","v":""},1]
["G4.3","129-256",{"$f":"IFERROR(VLOOKUP(A138,Grup!$N$5:$AF$1000,3,0),\"\")","v":"MERİT GRUP REAL MARDİN (A) (MRD)"},{"$f":"IFERROR(VLOOKUP(C138,Katılım!D21:F131,3,0),\"\")","v":""},1]
["G4.4","129-256",{"$f":"IFERROR(VLOOKUP(A139,Grup!$N$5:$AF$1000,3,0),\"\")","v":"MUĞLA B. ŞEHİR BLD. SPOR (A) (MĞL)"},{"$f":"IFERROR(VLOOKUP(C139,Katılım!D21:F132,3,0),\"\")","v":""},1]
["G5.3","129-256",{"$f":"IFERROR(VLOOKUP(A140,Grup!$N$5:$AF$1000,3,0),\"\")","v":""},{"$f":"IFERROR(VLOOKUP(C140,Katılım!D21:F133,3,0),\"\")","v":""},1]
["G5.4","129-256",{"$f":"IFERROR(VLOOKUP(A141,Grup!$N$5:$AF$1000,3,0),\"\")","v":""},{"$f":"IFERROR(VLOOKUP(C141,Katılım!D21:F134,3,0),\"\")","v":""},1]
["G6.3","129-256",{"$f":"IFERROR(VLOOKUP(A142,Grup!$N$5:$AF$1000,3,0),\"\")","v":""},{"$f":"IFERROR(VLOOKUP(C142,Katılım!D21:F135,3,0),\"\")","v":""},1]
["G6.4","129-256",{"$f":"IFERROR(VLOOKUP(A143,Grup!$N$5:$AF$1000,3,0),\"\")","v":""},{"$f":"IFERROR(VLOOKUP(C143,Katılım!D21:F136,3,0),\"\")","v":""},1]
["G7.3","129-256",{"$f":"IFERROR(VLOOKUP(A144,Grup!$N$5:$AF$1000,3,0),\"\")","v":""},{"$f":"IFERROR(VLOOKUP(C144,Katılım!D21:F137,3,0),\"\")","v":""},1]
["G7.4","129-256",{"$f":"IFERROR(VLOOKUP(A145,Grup!$N$5:$AF$1000,3,0),\"\")","v":""},{"$f":"IFERROR(VLOOKUP(C145,Katılım!D21:F138,3,0),\"\")","v":""},1]
["G8.3","129-256",{"$f":"IFERROR(VLOOKUP(A146,Grup!$N$5:$AF$1000,3,0),\"\")","v":""},{"$f":"IFERROR(VLOOKUP(C146,Katılım!D21:F139,3,0),\"\")","v":""},1]
["G8.4","129-256",{"$f":"IFERROR(VLOOKUP(A147,Grup!$N$5:$AF$1000,3,0),\"\")","v":""},{"$f":"IFERROR(VLOOKUP(C147,Katılım!D21:F140,3,0),\"\")","v":""},1]
["G9.3","129-256",{"$f":"IFERROR(VLOOKUP(A148,Grup!$N$5:$AF$1000,3,0),\"\")","v":""},{"$f":"IFERROR(VLOOKUP(C148,Katılım!D21:F141,3,0),\"\")","v":""},1]
["G9.4","129-256",{"$f":"IFERROR(VLOOKUP(A149,Grup!$N$5:$AF$1000,3,0),\"\")","v":""},{"$f":"IFERROR(VLOOKUP(C149,Katılım!D21:F142,3,0),\"\")","v":""},1]
["G10.3","129-256",{"$f":"IFERROR(VLOOKUP(A150,Grup!$N$5:$AF$1000,3,0),\"\")","v":""},{"$f":"IFERROR(VLOOKUP(C150,Katılım!D21:F143,3,0),\"\")","v":""},1]
["G10.4","129-256",{"$f":"IFERROR(VLOOKUP(A151,Grup!$N$5:$AF$1000,3,0),\"\")","v":""},{"$f":"IFERROR(VLOOKUP(C151,Katılım!D21:F144,3,0),\"\")","v":""},1]
["G11.3","129-256",{"$f":"IFERROR(VLOOKUP(A152,Grup!$N$5:$AF$1000,3,0),\"\")","v":""},{"$f":"IFERROR(VLOOKUP(C152,Katılım!D21:F145,3,0),\"\")","v":""},1]
["G11.4","129-256",{"$f":"IFERROR(VLOOKUP(A153,Grup!$N$5:$AF$1000,3,0),\"\")","v":""},{"$f":"IFERROR(VLOOKUP(C153,Katılım!D21:F146,3,0),\"\")","v":""},1]
["G12.3","129-256",{"$f":"IFERROR(VLOOKUP(A154,Grup!$N$5:$AF$1000,3,0),\"\")","v":""},{"$f":"IFERROR(VLOOKUP(C154,Katılım!D21:F147,3,0),\"\")","v":""},1]
["G12.4","129-256",{"$f":"IFERROR(VLOOKUP(A155,Grup!$N$5:$AF$1000,3,0),\"\")","v":""},{"$f":"IFERROR(VLOOKUP(C155,Katılım!D21:F148,3,0),\"\")","v":""},1]
["G13.3","129-256",{"$f":"IFERROR(VLOOKUP(A156,Grup!$N$5:$AF$1000,3,0),\"\")","v":""},{"$f":"IFERROR(VLOOKUP(C156,Katılım!D21:F149,3,0),\"\")","v":""},1]
["G13.4","129-256",{"$f":"IFERROR(VLOOKUP(A157,Grup!$N$5:$AF$1000,3,0),\"\")","v":""},{"$f":"IFERROR(VLOOKUP(C157,Katılım!D21:F150,3,0),\"\")","v":""},1]
["G14.3","129-256",{"$f":"IFERROR(VLOOKUP(A158,Grup!$N$5:$AF$1000,3,0),\"\")","v":""},{"$f":"IFERROR(VLOOKUP(C158,Katılım!D21:F151,3,0),\"\")","v":""},1]
["G14.4","129-256",{"$f":"IFERROR(VLOOKUP(A159,Grup!$N$5:$AF$1000,3,0),\"\")","v":""},{"$f":"IFERROR(VLOOKUP(C159,Katılım!D21:F152,3,0),\"\")","v":""},1]
["G15.3","129-256",{"$f":"IFERROR(VLOOKUP(A160,Grup!$N$5:$AF$1000,3,0),\"\")","v":""},{"$f":"IFERROR(VLOOKUP(C160,Katılım!D21:F153,3,0),\"\")","v":""},1]
["G15.4","129-256",{"$f":"IFERROR(VLOOKUP(A161,Grup!$N$5:$AF$1000,3,0),\"\")","v":""},{"$f":"IFERROR(VLOOKUP(C161,Katılım!D21:F154,3,0),\"\")","v":""},1]
["G16.3","129-256",{"$f":"IFERROR(VLOOKUP(A162,Grup!$N$5:$AF$1000,3,0),\"\")","v":""},{"$f":"IFERROR(VLOOKUP(C162,Katılım!D21:F155,3,0),\"\")","v":""},1]
["G16.4","129-256",{"$f":"IFERROR(VLOOKUP(A163,Grup!$N$5:$AF$1000,3,0),\"\")","v":""},{"$f":"IFERROR(VLOOKUP(C163,Katılım!D21:F156,3,0),\"\")","v":""},1]
["G17.3","129-256",{"$f":"IFERROR(VLOOKUP(A164,Grup!$N$5:$AF$1000,3,0),\"\")","v":""},{"$f":"IFERROR(VLOOKUP(C164,Katılım!D21:F157,3,0),\"\")","v":""},1]
["G17.4","129-256",{"$f":"IFERROR(VLOOKUP(A165,Grup!$N$5:$AF$1000,3,0),\"\")","v":""},{"$f":"IFERROR(VLOOKUP(C165,Katılım!D21:F158,3,0),\"\")","v":""},1]
["G18.3","129-256",{"$f":"IFERROR(VLOOKUP(A166,Grup!$N$5:$AF$1000,3,0),\"\")","v":""},{"$f":"IFERROR(VLOOKUP(C166,Katılım!D21:F159,3,0),\"\")","v":""},1]
["G18.4","129-256",{"$f":"IFERROR(VLOOKUP(A167,Grup!$N$5:$AF$1000,3,0),\"\")","v":""},{"$f":"IFERROR(VLOOKUP(C167,Katılım!D21:F160,3,0),\"\")","v":""},1]
["G19.3","129-256",{"$f":"IFERROR(VLOOKUP(A168,Grup!$N$5:$AF$1000,3,0),\"\")","v":""},{"$f":"IFERROR(VLOOKUP(C168,Katılım!D21:F161,3,0),\"\")","v":""},1]
["G19.4","129-256",{"$f":"IFERROR(VLOOKUP(A169,Grup!$N$5:$AF$1000,3,0),\"\")","v":""},{"$f":"IFERROR(VLOOKUP(C169,Katılım!D21:F162,3,0),\"\")","v":""},1]
["G20.3","129-256",{"$f":"IFERROR(VLOOKUP(A170,Grup!$N$5:$AF$1000,3,0),\"\")","v":""},{"$f":"IFERROR(VLOOKUP(C170,Katılım!D21:F163,3,0),\"\")","v":""},1]
["G20.4","129-256",{"$f":"IFERROR(VLOOKUP(A171,Grup!$N$5:$AF$1000,3,0),\"\")","v":""},{"$f":"IFERROR(VLOOKUP(C171,Katılım!D21:F164,3,0),\"\")","v":""},1]
["G21.3","129-256",{"$f":"IFERROR(VLOOKUP(A172,Grup!$N$5:$AF$1000,3,0),\"\")","v":""},{"$f":"IFERROR(VLOOKUP(C172,Katılım!D21:F165,3,0),\"\")","v":""},1]
["G21.4","129-256",{"$f":"IFERROR(VLOOKUP(A173,Grup!$N$5:$AF$1000,3,0),\"\")","v":""},{"$f":"IFERROR(VLOOKUP(C173,Katılım!D21:F166,3,0),\"\")","v":""},1]
["G22.3","129-256",{"$f":"IFERROR(VLOOKUP(A174,Grup!$N$5:$AF$1000,3,0),\"\")","v":""},{"$f":"IFERROR(VLOOKUP(C174,Katılım!D21:F167,3,0),\"\")","v":""},1]
["G22.4","129-256",{"$f":"IFERROR(VLOOKUP(A175,Grup!$N$5:$AF$1000,3,0),\"\")","v":""},{"$f":"IFERROR(VLOOKUP(C175,Katılım!D21:F168,3,0),\"\")","v":""},1]
["G23.3","129-256",{"$f":"IFERROR(VLOOKUP(A176,Grup!$N$5:$AF$1000,3,0),\"\")","v":""},{"$f":"IFERROR(VLOOKUP(C176,Katılım!D21:F169,3,0),\"\")","v":""},1]
["G23.4","129-256",{"$f":"IFERROR(VLOOKUP(A177,Grup!$N$5:$AF$1000,3,0),\"\")","v":""},{"$f":"IFERROR(VLOOKUP(C177,Katılım!D21:F170,3,0),\"\")","v":""},1]
["G24.3","129-256",{"$f":"IFERROR(VLOOKUP(A178,Grup!$N$5:$AF$1000,3,0),\"\")","v":""},{"$f":"IFERROR(VLOOKUP(C178,Katılım!D21:F171,3,0),\"\")","v":""},1]
["G24.4","129-256",{"$f":"IFERROR(VLOOKUP(A179,Grup!$N$5:$AF$1000,3,0),\"\")","v":""},{"$f":"IFERROR(VLOOKUP(C179,Katılım!D21:F172,3,0),\"\")","v":""},1]
["G25.3","129-256",{"$f":"IFERROR(VLOOKUP(A180,Grup!$N$5:$AF$1000,3,0),\"\")","v":""},{"$f":"IFERROR(VLOOKUP(C180,Katılım!D21:F173,3,0),\"\")","v":""},1]
["G25.4","129-256",{"$f":"IFERROR(VLOOKUP(A181,Grup!$N$5:$AF$1000,3,0),\"\")","v":""},{"$f":"IFERROR(VLOOKUP(C181,Katılım!D21:F174,3,0),\"\")","v":""},1]
["G26.3","129-256",{"$f":"IFERROR(VLOOKUP(A182,Grup!$N$5:$AF$1000,3,0),\"\")","v":""},{"$f":"IFERROR(VLOOKUP(C182,Katılım!D21:F175,3,0),\"\")","v":""},1]
["G26.4","129-256",{"$f":"IFERROR(VLOOKUP(A183,Grup!$N$5:$AF$1000,3,0),\"\")","v":""},{"$f":"IFERROR(VLOOKUP(C183,Katılım!D21:F176,3,0),\"\")","v":""},1]
["G27.3","129-256",{"$f":"IFERROR(VLOOKUP(A184,Grup!$N$5:$AF$1000,3,0),\"\")","v":""},{"$f":"IFERROR(VLOOKUP(C184,Katılım!D21:F177,3,0),\"\")","v":""},1]
["G27.4","129-256",{"$f":"IFERROR(VLOOKUP(A185,Grup!$N$5:$AF$1000,3,0),\"\")","v":""},{"$f":"IFERROR(VLOOKUP(C185,Katılım!D21:F178,3,0),\"\")","v":""},1]
["G28.3","129-256",{"$f":"IFERROR(VLOOKUP(A186,Grup!$N$5:$AF$1000,3,0),\"\")","v":""},{"$f":"IFERROR(VLOOKUP(C186,Katılım!D21:F179,3,0),\"\")","v":""},1]
["G28.4","129-256",{"$f":"IFERROR(VLOOKUP(A187,Grup!$N$5:$AF$1000,3,0),\"\")","v":""},{"$f":"IFERROR(VLOOKUP(C187,Katılım!D21:F180,3,0),\"\")","v":""},1]
["G29.3","129-256",{"$f":"IFERROR(VLOOKUP(A188,Grup!$N$5:$AF$1000,3,0),\"\")","v":""},{"$f":"IFERROR(VLOOKUP(C188,Katılım!D21:F181,3,0),\"\")","v":""},1]
["G29.4","129-256",{"$f":"IFERROR(VLOOKUP(A189,Grup!$N$5:$AF$1000,3,0),\"\")","v":""},{"$f":"IFERROR(VLOOKUP(C189,Katılım!D21:F182,3,0),\"\")","v":""},1]
["G30.3","129-256",{"$f":"IFERROR(VLOOKUP(A190,Grup!$N$5:$AF$1000,3,0),\"\")","v":""},{"$f":"IFERROR(VLOOKUP(C190,Katılım!D21:F183,3,0),\"\")","v":""},1]
["G30.4","129-256",{"$f":"IFERROR(VLOOKUP(A191,Grup!$N$5:$AF$1000,3,0),\"\")","v":""},{"$f":"IFERROR(VLOOKUP(C191,Katılım!D21:F184,3,0),\"\")","v":""},1]
["G31.3","129-256",{"$f":"IFERROR(VLOOKUP(A192,Grup!$N$5:$AF$1000,3,0),\"\")","v":""},{"$f":"IFERROR(VLOOKUP(C192,Katılım!D21:F185,3,0),\"\")","v":""},1]
["G31.4","129-256",{"$f":"IFERROR(VLOOKUP(A193,Grup!$N$5:$AF$1000,3,0),\"\")","v":""},{"$f":"IFERROR(VLOOKUP(C193,Katılım!D21:F186,3,0),\"\")","v":""},1]
["G32.3","129-256",{"$f":"IFERROR(VLOOKUP(A194,Grup!$N$5:$AF$1000,3,0),\"\")","v":""},{"$f":"IFERROR(VLOOKUP(C194,Katılım!D21:F187,3,0),\"\")","v":""},1]
["G32.4","129-256",{"$f":"IFERROR(VLOOKUP(A195,Grup!$N$5:$AF$1000,3,0),\"\")","v":""},{"$f":"IFERROR(VLOOKUP(C195,Katılım!D21:F188,3,0),\"\")","v":""},1]
["G33.3","129-256",{"$f":"IFERROR(VLOOKUP(A196,Grup!$N$5:$AF$1000,3,0),\"\")","v":""},{"$f":"IFERROR(VLOOKUP(C196,Katılım!D21:F189,3,0),\"\")","v":""},1]
["G33.4","129-256",{"$f":"IFERROR(VLOOKUP(A197,Grup!$N$5:$AF$1000,3,0),\"\")","v":""},{"$f":"IFERROR(VLOOKUP(C197,Katılım!D21:F190,3,0),\"\")","v":""},1]
["G34.3","129-256",{"$f":"IFERROR(VLOOKUP(A198,Grup!$N$5:$AF$1000,3,0),\"\")","v":""},{"$f":"IFERROR(VLOOKUP(C198,Katılım!D21:F191,3,0),\"\")","v":""},1]
["G34.4","129-256",{"$f":"IFERROR(VLOOKUP(A199,Grup!$N$5:$AF$1000,3,0),\"\")","v":""},{"$f":"IFERROR(VLOOKUP(C199,Katılım!D21:F192,3,0),\"\")","v":""},1]
["G35.3","129-256",{"$f":"IFERROR(VLOOKUP(A200,Grup!$N$5:$AF$1000,3,0),\"\")","v":""},{"$f":"IFERROR(VLOOKUP(C200,Katılım!D21:F193,3,0),\"\")","v":""},1]
["G35.4","129-256",{"$f":"IFERROR(VLOOKUP(A201,Grup!$N$5:$AF$1000,3,0),\"\")","v":""},{"$f":"IFERROR(VLOOKUP(C201,Katılım!D21:F194,3,0),\"\")","v":""},1]
["G36.3","129-256",{"$f":"IFERROR(VLOOKUP(A202,Grup!$N$5:$AF$1000,3,0),\"\")","v":""},{"$f":"IFERROR(VLOOKUP(C202,Katılım!D21:F195,3,0),\"\")","v":""},1]
["G36.4","129-256",{"$f":"IFERROR(VLOOKUP(A203,Grup!$N$5:$AF$1000,3,0),\"\")","v":""},{"$f":"IFERROR(VLOOKUP(C203,Katılım!D21:F196,3,0),\"\")","v":""},1]
["G37.3","129-256",{"$f":"IFERROR(VLOOKUP(A204,Grup!$N$5:$AF$1000,3,0),\"\")","v":""},{"$f":"IFERROR(VLOOKUP(C204,Katılım!D21:F197,3,0),\"\")","v":""},1]
["G37.4","129-256",{"$f":"IFERROR(VLOOKUP(A205,Grup!$N$5:$AF$1000,3,0),\"\")","v":""},{"$f":"IFERROR(VLOOKUP(C205,Katılım!D21:F198,3,0),\"\")","v":""},1]
["G38.3","129-256",{"$f":"IFERROR(VLOOKUP(A206,Grup!$N$5:$AF$1000,3,0),\"\")","v":""},{"$f":"IFERROR(VLOOKUP(C206,Katılım!D21:F199,3,0),\"\")","v":""},1]
["G38.4","129-256",{"$f":"IFERROR(VLOOKUP(A207,Grup!$N$5:$AF$1000,3,0),\"\")","v":""},{"$f":"IFERROR(VLOOKUP(C207,Katılım!D21:F200,3,0),\"\")","v":""},1]
["G39.3","129-256",{"$f":"IFERROR(VLOOKUP(A208,Grup!$N$5:$AF$1000,3,0),\"\")","v":""},{"$f":"IFERROR(VLOOKUP(C208,Katılım!D21:F201,3,0),\"\")","v":""},1]
["G39.4","129-256",{"$f":"IFERROR(VLOOKUP(A209,Grup!$N$5:$AF$1000,3,0),\"\")","v":""},{"$f":"IFERROR(VLOOKUP(C209,Katılım!D21:F202,3,0),\"\")","v":""},1]
["G40.3","129-256",{"$f":"IFERROR(VLOOKUP(A210,Grup!$N$5:$AF$1000,3,0),\"\")","v":""},{"$f":"IFERROR(VLOOKUP(C210,Katılım!D21:F203,3,0),\"\")","v":""},1]
["G40.4","129-256",{"$f":"IFERROR(VLOOKUP(A211,Grup!$N$5:$AF$1000,3,0),\"\")","v":""},{"$f":"IFERROR(VLOOKUP(C211,Katılım!D21:F204,3,0),\"\")","v":""},1]
["G41.3","129-256",{"$f":"IFERROR(VLOOKUP(A212,Grup!$N$5:$AF$1000,3,0),\"\")","v":""},{"$f":"IFERROR(VLOOKUP(C212,Katılım!D21:F205,3,0),\"\")","v":""},1]
["G41.4","129-256",{"$f":"IFERROR(VLOOKUP(A213,Grup!$N$5:$AF$1000,3,0),\"\")","v":""},{"$f":"IFERROR(VLOOKUP(C213,Katılım!D21:F206,3,0),\"\")","v":""},1]
["G42.3","129-256",{"$f":"IFERROR(VLOOKUP(A214,Grup!$N$5:$AF$1000,3,0),\"\")","v":""},{"$f":"IFERROR(VLOOKUP(C214,Katılım!D21:F207,3,0),\"\")","v":""},1]
["G42.4","129-256",{"$f":"IFERROR(VLOOKUP(A215,Grup!$N$5:$AF$1000,3,0),\"\")","v":""},{"$f":"IFERROR(VLOOKUP(C215,Katılım!D21:F208,3,0),\"\")","v":""},1]
["G43.3","129-256",{"$f":"IFERROR(VLOOKUP(A216,Grup!$N$5:$AF$1000,3,0),\"\")","v":""},{"$f":"IFERROR(VLOOKUP(C216,Katılım!D21:F209,3,0),\"\")","v":""},1]
["G43.4","129-256",{"$f":"IFERROR(VLOOKUP(A217,Grup!$N$5:$AF$1000,3,0),\"\")","v":""},{"$f":"IFERROR(VLOOKUP(C217,Katılım!D21:F210,3,0),\"\")","v":""},1]
["G44.3","129-256",{"$f":"IFERROR(VLOOKUP(A218,Grup!$N$5:$AF$1000,3,0),\"\")","v":""},{"$f":"IFERROR(VLOOKUP(C218,Katılım!D21:F211,3,0),\"\")","v":""},1]
["G44.4","129-256",{"$f":"IFERROR(VLOOKUP(A219,Grup!$N$5:$AF$1000,3,0),\"\")","v":""},{"$f":"IFERROR(VLOOKUP(C219,Katılım!D21:F212,3,0),\"\")","v":""},1]
["G45.3","129-256",{"$f":"IFERROR(VLOOKUP(A220,Grup!$N$5:$AF$1000,3,0),\"\")","v":""},{"$f":"IFERROR(VLOOKUP(C220,Katılım!D21:F213,3,0),\"\")","v":""},1]
["G45.4","129-256",{"$f":"IFERROR(VLOOKUP(A221,Grup!$N$5:$AF$1000,3,0),\"\")","v":""},{"$f":"IFERROR(VLOOKUP(C221,Katılım!D21:F214,3,0),\"\")","v":""},1]
["G46.3","129-256",{"$f":"IFERROR(VLOOKUP(A222,Grup!$N$5:$AF$1000,3,0),\"\")","v":""},{"$f":"IFERROR(VLOOKUP(C222,Katılım!D21:F215,3,0),\"\")","v":""},1]
["G46.4","129-256",{"$f":"IFERROR(VLOOKUP(A223,Grup!$N$5:$AF$1000,3,0),\"\")","v":""},{"$f":"IFERROR(VLOOKUP(C223,Katılım!D21:F216,3,0),\"\")","v":""},1]
["G47.3","129-256",{"$f":"IFERROR(VLOOKUP(A224,Grup!$N$5:$AF$1000,3,0),\"\")","v":""},{"$f":"IFERROR(VLOOKUP(C224,Katılım!D21:F217,3,0),\"\")","v":""},1]
["G47.4","129-256",{"$f":"IFERROR(VLOOKUP(A225,Grup!$N$5:$AF$1000,3,0),\"\")","v":""},{"$f":"IFERROR(VLOOKUP(C225,Katılım!D21:F218,3,0),\"\")","v":""},1]
["G48.3","129-256",{"$f":"IFERROR(VLOOKUP(A226,Grup!$N$5:$AF$1000,3,0),\"\")","v":""},{"$f":"IFERROR(VLOOKUP(C226,Katılım!D21:F219,3,0),\"\")","v":""},1]
["G48.4","129-256",{"$f":"IFERROR(VLOOKUP(A227,Grup!$N$5:$AF$1000,3,0),\"\")","v":""},{"$f":"IFERROR(VLOOKUP(C227,Katılım!D21:F220,3,0),\"\")","v":""},1]
["G49.3","129-256",{"$f":"IFERROR(VLOOKUP(A228,Grup!$N$5:$AF$1000,3,0),\"\")","v":""},{"$f":"IFERROR(VLOOKUP(C228,Katılım!D21:F221,3,0),\"\")","v":""},1]
["G49.4","129-256",{"$f":"IFERROR(VLOOKUP(A229,Grup!$N$5:$AF$1000,3,0),\"\")","v":""},{"$f":"IFERROR(VLOOKUP(C229,Katılım!D21:F222,3,0),\"\")","v":""},1]
["G50.3","129-256",{"$f":"IFERROR(VLOOKUP(A230,Grup!$N$5:$AF$1000,3,0),\"\")","v":""},{"$f":"IFERROR(VLOOKUP(C230,Katılım!D21:F223,3,0),\"\")","v":""},1]
["G50.4","129-256",{"$f":"IFERROR(VLOOKUP(A231,Grup!$N$5:$AF$1000,3,0),\"\")","v":""},{"$f":"IFERROR(VLOOKUP(C231,Katılım!D21:F224,3,0),\"\")","v":""},1]
["G51.3","129-256",{"$f":"IFERROR(VLOOKUP(A232,Grup!$N$5:$AF$1000,3,0),\"\")","v":""},{"$f":"IFERROR(VLOOKUP(C232,Katılım!D21:F225,3,0),\"\")","v":""},1]
["G51.4","129-256",{"$f":"IFERROR(VLOOKUP(A233,Grup!$N$5:$AF$1000,3,0),\"\")","v":""},{"$f":"IFERROR(VLOOKUP(C233,Katılım!D21:F226,3,0),\"\")","v":""},1]
["G52.3","129-256",{"$f":"IFERROR(VLOOKUP(A234,Grup!$N$5:$AF$1000,3,0),\"\")","v":""},{"$f":"IFERROR(VLOOKUP(C234,Katılım!D21:F227,3,0),\"\")","v":""},1]
["G52.4","129-256",{"$f":"IFERROR(VLOOKUP(A235,Grup!$N$5:$AF$1000,3,0),\"\")","v":""},{"$f":"IFERROR(VLOOKUP(C235,Katılım!D21:F228,3,0),\"\")","v":""},1]
["G53.3","129-256",{"$f":"IFERROR(VLOOKUP(A236,Grup!$N$5:$AF$1000,3,0),\"\")","v":""},{"$f":"IFERROR(VLOOKUP(C236,Katılım!D21:F229,3,0),\"\")","v":""},1]
["G53.4","129-256",{"$f":"IFERROR(VLOOKUP(A237,Grup!$N$5:$AF$1000,3,0),\"\")","v":""},{"$f":"IFERROR(VLOOKUP(C237,Katılım!D21:F230,3,0),\"\")","v":""},1]
["G54.3","129-256",{"$f":"IFERROR(VLOOKUP(A238,Grup!$N$5:$AF$1000,3,0),\"\")","v":""},{"$f":"IFERROR(VLOOKUP(C238,Katılım!D21:F231,3,0),\"\")","v":""},1]
["G54.4","129-256",{"$f":"IFERROR(VLOOKUP(A239,Grup!$N$5:$AF$1000,3,0),\"\")","v":""},{"$f":"IFERROR(VLOOKUP(C239,Katılım!D21:F232,3,0),\"\")","v":""},1]
["G55.3","129-256",{"$f":"IFERROR(VLOOKUP(A240,Grup!$N$5:$AF$1000,3,0),\"\")","v":""},{"$f":"IFERROR(VLOOKUP(C240,Katılım!D21:F233,3,0),\"\")","v":""},1]
["G55.4","129-256",{"$f":"IFERROR(VLOOKUP(A241,Grup!$N$5:$AF$1000,3,0),\"\")","v":""},{"$f":"IFERROR(VLOOKUP(C241,Katılım!D21:F234,3,0),\"\")","v":""},1]
["G56.3","129-256",{"$f":"IFERROR(VLOOKUP(A242,Grup!$N$5:$AF$1000,3,0),\"\")","v":""},{"$f":"IFERROR(VLOOKUP(C242,Katılım!D21:F235,3,0),\"\")","v":""},1]
["G56.4","129-256",{"$f":"IFERROR(VLOOKUP(A243,Grup!$N$5:$AF$1000,3,0),\"\")","v":""},{"$f":"IFERROR(VLOOKUP(C243,Katılım!D21:F236,3,0),\"\")","v":""},1]
["G57.3","129-256",{"$f":"IFERROR(VLOOKUP(A244,Grup!$N$5:$AF$1000,3,0),\"\")","v":""},{"$f":"IFERROR(VLOOKUP(C244,Katılım!D21:F237,3,0),\"\")","v":""},1]
["G57.4","129-256",{"$f":"IFERROR(VLOOKUP(A245,Grup!$N$5:$AF$1000,3,0),\"\")","v":""},{"$f":"IFERROR(VLOOKUP(C245,Katılım!D21:F238,3,0),\"\")","v":""},1]
["G58.3","129-256",{"$f":"IFERROR(VLOOKUP(A246,Grup!$N$5:$AF$1000,3,0),\"\")","v":""},{"$f":"IFERROR(VLOOKUP(C246,Katılım!D21:F239,3,0),\"\")","v":""},1]
["G58.4","129-256",{"$f":"IFERROR(VLOOKUP(A247,Grup!$N$5:$AF$1000,3,0),\"\")","v":""},{"$f":"IFERROR(VLOOKUP(C247,Katılım!D21:F240,3,0),\"\")","v":""},1]
["G59.3","129-256",{"$f":"IFERROR(VLOOKUP(A248,Grup!$N$5:$AF$1000,3,0),\"\")","v":""},{"$f":"IFERROR(VLOOKUP(C248,Katılım!D21:F241,3,0),\"\")","v":""},1]
["G59.4","129-256",{"$f":"IFERROR(VLOOKUP(A249,Grup!$N$5:$AF$1000,3,0),\"\")","v":""},{"$f":"IFERROR(VLOOKUP(C249,Katılım!D21:F242,3,0),\"\")","v":""},1]
["G60.3","129-256",{"$f":"IFERROR(VLOOKUP(A250,Grup!$N$5:$AF$1000,3,0),\"\")","v":""},{"$f":"IFERROR(VLOOKUP(C250,Katılım!D21:F243,3,0),\"\")","v":""},1]
["G60.4","129-256",{"$f":"IFERROR(VLOOKUP(A251,Grup!$N$5:$AF$1000,3,0),\"\")","v":""},{"$f":"IFERROR(VLOOKUP(C251,Katılım!D21:F244,3,0),\"\")","v":""},1]
["G61.3","129-256",{"$f":"IFERROR(VLOOKUP(A252,Grup!$N$5:$AF$1000,3,0),\"\")","v":""},{"$f":"IFERROR(VLOOKUP(C252,Katılım!D21:F245,3,0),\"\")","v":""},1]
["G61.4","129-256",{"$f":"IFERROR(VLOOKUP(A253,Grup!$N$5:$AF$1000,3,0),\"\")","v":""},{"$f":"IFERROR(VLOOKUP(C253,Katılım!D21:F246,3,0),\"\")","v":""},1]
["G62.3","129-256",{"$f":"IFERROR(VLOOKUP(A254,Grup!$N$5:$AF$1000,3,0),\"\")","v":""},{"$f":"IFERROR(VLOOKUP(C254,Katılım!D21:F247,3,0),\"\")","v":""},1]
["G62.4","129-256",{"$f":"IFERROR(VLOOKUP(A255,Grup!$N$5:$AF$1000,3,0),\"\")","v":""},{"$f":"IFERROR(VLOOKUP(C255,Katılım!D21:F248,3,0),\"\")","v":""},1]
["G63.3","129-256",{"$f":"IFERROR(VLOOKUP(A256,Grup!$N$5:$AF$1000,3,0),\"\")","v":""},{"$f":"IFERROR(VLOOKUP(C256,Katılım!D21:F249,3,0),\"\")","v":""},1]
["G63.4","129-256",{"$f":"IFERROR(VLOOKUP(A257,Grup!$N$5:$AF$1000,3,0),\"\")","v":""},{"$f":"IFERROR(VLOOKUP(C257,Katılım!D21:F250,3,0),\"\")","v":""},1]
["G64.3","129-256",{"$f":"IFERROR(VLOOKUP(A258,Grup!$N$5:$AF$1000,3,0),\"\")","v":""},{"$f":"IFERROR(VLOOKUP(C258,Katılım!D21:F251,3,0),\"\")","v":""},1]
["G64.4","129-256",{"$f":"IFERROR(VLOOKUP(A259,Grup!$N$5:$AF$1000,3,0),\"\")","v":""},{"$f":"IFERROR(VLOOKUP(C259,Katılım!D21:F252,3,0),\"\")","v":""},1]

{"sheet":"5_Mac","index":19,"n_rows":76,"n_cols":44,"rows_kept":76,"cut":false,"hidden":true,"merged":[[0,40,0,41],[0,42,0,43],[1,21,2,28],[1,29,2,31],[1,32,2,34],[1,35,2,37],[1,38,2,39],[1,40,2,41],[1,42,2,43],[0,21,0,28],[0,29,0,31],[0,32,0,34],[0,35,0,37],[0,38,0,39],[4,27,5,41],[4,42,5,42],[4,43,5,43],[6,25,7,26],[6,27,7,41],[6,42,7,42],[3,21,3,22],[3,23,3,24],[3,25,3,26],[3,27,3,41],[6,43,7,43],[0,0,7,20],[8,30,9,39],[8,40,9,41],[8,42,9,43],[10,3,10,13],[10,17,10,28],[10,30,10,31],[10,32,10,33],[10,34,10,35],[10,36,10,37],[10,38,10,39],[8,0,10,0],[8,1,10,1],[8,2,10,2],[8,3,9,13],[8,14,10,14],[8,15,10,15],[8,16,10,16],[8,17,9,28],[8,29,10,29],[3,42,3,43],[4,21,7,22],[4,23,7,24],[4,25,5,26],[10,40,10,41],[10,42,10,43],[11,0,13,0],[11,1,13,1],[11,3,13,13],[11,14,13,14],[11,15,13,15],[11,17,13,28],[11,29,13,29],[17,0,19,0],[17,1,19,1],[17,3,19,13],[17,14,19,14],[17,15,19,15],[17,17,19,28],[17,29,19,29],[14,29,16,29],[14,0,16,0],[14,1,16,1],[14,3,16,13],[14,14,16,14],[14,15,16,15],[14,17,16,28],[23,29,25,29],[20,29,22,29],[20,0,22,0],[20,1,22,1],[26,0,26,4],[26,15,26,19],[26,30,27,39],[27,0,27,4],[27,5,27,6],[27,7,27,8],[27,9,27,10],[27,11,27,12],[20,3,22,13],[20,14,22,14],[20,15,22,15],[20,17,22,28],[23,0,25,0],[23,1,25,1],[23,3,25,13],[23,14,25,14],[23,15,25,15],[23,17,25,28],[29,11,29,12],[29,13,29,14],[27,28,27,29],[28,0,28,4],[28,5,28,6],[28,7,28,8],[28,9,28,10],[28,11,28,12],[28,13,28,14],[28,15,28,19],[28,20,28,21],[28,22,28,23],[27,13,27,14],[27,15,27,19],[27,20,27,21],[27,22,27,23],[27,24,27,25],[27,26,27,27],[29,15,29,19],[29,20,29,21],[29,22,29,23],[29,24,29,25],[29,26,29,27],[29,28,29,29],[28,24,28,25],[28,26,28,27],[28,28,28,29],[30,33,31,43],[31,0,31,4],[31,5,31,7],[31,10,31,12],[31,15,31,19],[31,20,31,22],[31,25,31,27],[30,15,30,19],[30,20,30,21],[30,22,30,23],[30,24,30,25],[30,26,30,27],[30,28,30,29],[30,0,30,4],[30,5,30,6],[30,7,30,8],[30,9,30,10],[30,11,30,12],[30,13,30,14],[28,30,31,32],[29,0,29,4],[29,5,29,6],[29,7,29,8],[29,9,29,10],[32,30,32,36],[32,37,32,43],[33,30,36,36],[33,37,36,43],[39,0,46,20],[39,21,39,28],[39,29,39,31],[39,32,39,34],[39,35,39,37],[39,38,39,39],[39,40,39,41],[39,42,39,43],[40,21,41,28],[40,29,41,31],[40,32,41,34],[40,35,41,37],[40,38,41,39],[40,40,41,41],[40,42,41,43],[42,21,42,22],[42,23,42,24],[42,25,42,26],[42,27,42,41],[42,42,42,43],[43,21,46,22],[43,23,46,24],[43,25,44,26],[43,27,44,41],[43,42,44,42],[43,43,44,43],[45,25,46,26],[45,27,46,41],[45,42,46,42],[45,43,46,43],[47,42,48,43],[49,3,49,13],[49,17,49,28],[49,30,49,31],[49,32,49,33],[49,34,49,35],[49,36,49,37],[49,38,49,39],[49,40,49,41],[49,42,49,43],[47,15,49,15],[47,16,49,16],[47,17,48,28],[47,29,49,29],[47,30,48,39],[47,40,48,41],[53,29,55,29],[50,29,52,29],[50,0,52,0],[50,1,52,1],[50,3,52,13],[50,14,52,14],[50,15,52,15],[50,17,52,28],[47,0,49,0],[47,1,49,1],[47,2,49,2],[47,3,48,13],[47,14,49,14],[59,14,61,14],[59,15,61,15],[59,17,61,28],[53,0,55,0],[53,1,55,1],[53,3,55,13],[53,14,55,14],[53,15,55,15],[53,17,55,28],[59,29,61,29],[56,29,58,29],[56,0,58,0],[56,1,58,1],[65,0,65,4],[65,15,65,19],[65,30,66,39],[66,0,66,4],[66,5,66,6],[66,7,66,8],[62,29,64,29],[62,0,64,0],[62,1,64,1],[62,3,64,13],[62,14,64,14],[62,15,64,15],[62,17,64,28],[56,3,58,13],[56,14,58,14],[56,15,58,15],[56,17,58,28],[59,0,61,0],[59,1,61,1],[59,3,61,13],[67,0,67,4],[67,5,67,6],[67,7,67,8],[67,9,67,10],[67,11,67,12],[67,13,67,14],[67,15,67,19],[66,9,66,10],[66,11,66,12],[66,13,66,14],[66,15,66,19],[67,20,67,21],[67,22,67,23],[67,24,67,25],[67,26,67,27],[67,28,67,29],[67,30,70,32],[66,24,66,25],[66,26,66,27],[66,28,66,29],[66,20,66,21],[66,22,66,23],[68,15,68,19],[68,20,68,21],[68,22,68,23],[68,24,68,25],[68,26,68,27],[68,28,68,29],[68,0,68,4],[68,5,68,6],[68,7,68,8],[68,9,68,10],[68,11,68,12],[68,13,68,14],[71,30,71,36],[71,37,71,43],[72,30,75,36],[72,37,75,43],[69,33,70,43],[70,0,70,4],[70,5,70,7],[70,10,70,12],[70,15,70,19],[70,20,70,22],[70,25,70,27],[69,15,69,19],[69,20,69,21],[69,22,69,23],[69,24,69,25],[69,26,69,27],[69,28,69,29],[69,0,69,4],[69,5,69,6],[69,7,69,8],[69,9,69,10],[69,11,69,12],[69,13,69,14]]}
["TÜRKİYE\nMASA TENİSİ FEDERASYONU\nYARIŞMA CETVELİ 5 Maçlık Sistem\n(Yeni swaythling kupa sistemi, 5 Tek)",null,null,null,null,null,null,null,null,null,null,null,null,null,null,null,null,null,null,null,null,"Yarışma Adı",null,null,null,null,null,null,null,"Yeri",null,null,"Tarih",null,null,"Saat",null,null,"Grup",null,"Maç No",null,"Masa"]
[]
[]
[null,null,null,null,null,null,null,null,null,null,null,null,null,null,null,null,null,null,null,null,null,"Erkek",null,"Kadın",null,"Galip",null,"Takımlar",null,null,null,null,null,null,null,null,null,null,null,null,null,null,"Kura"]
[null,null,null,null,null,null,null,null,null,null,null,null,null,null,null,null,null,null,null,null,null,null,null,null,null,null,null,null,null,null,null,null,null,null,null,null,null,null,null,null,null,null,"A","X"]
[]
[null,null,null,null,null,null,null,null,null,null,null,null,null,null,null,null,null,null,null,null,null,null,null,null,null,null,null,null,null,null,null,null,null,null,null,null,null,null,null,null,null,null,"A","X"]
[]
["Maç No","Kura","Lisans No","A-",null,null,null,null,null,null,null,null,null,null,"Mola","Kura","Lisans No","X-",null,null,null,null,null,null,null,null,null,null,null,"Mola","Sayılar",null,null,null,null,null,null,null,null,null,"Setler",null,"Puan"]
[]
[null,null,null,"Sporcular",null,null,null,null,null,null,null,null,null,null,null,null,null,"Sporcular",null,null,null,null,null,null,null,null,null,null,null,null,"1.Set",null,"2.Set",null,"3.Set",null,"4.Set",null,"5.Set",null,"A / X",null,"A / X"]
[1,"A",null,null,null,null,null,null,null,null,null,null,null,null,null,"X"]
[]
[]
[2,"B",null,null,null,null,null,null,null,null,null,null,null,null,null,"Y"]
[]
[]
[3,"C",null,null,null,null,null,null,null,null,null,null,null,null,null,"Z"]
[]
[]
[4,"A",null,null,null,null,null,null,null,null,null,null,null,null,null,"Y"]
[]
[]
[5,"B",null,null,null,null,null,null,null,null,null,null,null,null,null,"X"]
[]
[]
["Forma Rengi",null,null,null,null,null,null,null,null,null,null,null,null,null,null,"Forma Rengi",null,null,null,null,null,null,null,null,null,null,null,null,null,null,"Toplam"]
["Kart\\Oyuncuya",null,null,null,null,1,null,2,null,3,null,4,null,5,null,"Kart\\Oyuncuya",null,null,null,null,1,null,2,null,3,null,4,null,5]
["Sarı",null,null,null,null,null,null,null,null,null,null,null,null,null,null,"Sarı",null,null,null,null,null,null,null,null,null,null,null,null,null,null,"Galip"]
["1. Sarı + Kırmızı",null,null,null,null,null,null,null,null,null,null,null,null,null,null,"1. Sarı + Kırmızı"]
["2. Sarı + Kırmızı",null,null,null,null,null,null,null,null,null,null,null,null,null,null,"2. Sarı + Kırmızı",null,null,null,null,null,null,null,null,null,null,null,null,null,null,null,null,null,{"$f":"\"(  \"&Main!$W$2&\"  -     )\"","v":"(  3  -     )"}]
["Kart\\Öğütücüye",null,null,null,null,"Sarı",null,null,null,null,"Kırmızı",null,null,null,null,"Kart\\Öğütücüye",null,null,null,null,"Sarı",null,null,null,null,"Kırmızı"]
["Kaptan",null,null,null,null,null,null,null,null,null,null,null,null,null,null,"Kaptan",null,null,null,null,null,null,null,null,null,null,null,null,null,null,"Hakemler",null,null,null,null,null,null,"Baş Hakem"]
["Adı Soyadı",null,null,null,":",null,null,null,null,null,null,null,null,null,null,"Adı Soyadı",null,null,null,":"]
["İmza",null,null,null,":",null,null,null,null,null,null,null,null,null,null,"İmza",null,null,null,":"]
[]
["Başlama Saati",null,null,null,null,":",null,null,null,null,null,null,null,null,null,"Bitiş Saati",null,null,null,null,":"]
[]
[]
["TÜRKİYE\nMASA TENİSİ FEDERASYONU\nYARIŞMA CETVELİ 5 Maçlık Sistem\n(Yeni swaythling kupa sistemi, 5 Tek)",null,null,null,null,null,null,null,null,null,null,null,null,null,null,null,null,null,null,null,null,"Yarışma Adı",null,null,null,null,null,null,null,"Yeri",null,null,"Tarih",null,null,"Saat",null,null,"Grup",null,"Maç No",null,"Masa"]
[]
[]
[null,null,null,null,null,null,null,null,null,null,null,null,null,null,null,null,null,null,null,null,null,"Erkek",null,"Kadın",null,"Galip",null,"Takımlar",null,null,null,null,null,null,null,null,null,null,null,null,null,null,"Kura"]
[null,null,null,null,null,null,null,null,null,null,null,null,null,null,null,null,null,null,null,null,null,null,null,null,null,null,null,null,null,null,null,null,null,null,null,null,null,null,null,null,null,null,"A","X"]
[]
[null,null,null,null,null,null,null,null,null,null,null,null,null,null,null,null,null,null,null,null,null,null,null,null,null,null,null,null,null,null,null,null,null,null,null,null,null,null,null,null,null,null,"A","X"]
[]
["Maç No","Kura","Lisans No","A-",null,null,null,null,null,null,null,null,null,null,"Mola","Kura","Lisans No","X-",null,null,null,null,null,null,null,null,null,null,null,"Mola","Sayılar",null,null,null,null,null,null,null,null,null,"Setler",null,"Puan"]
[]
[null,null,null,"Sporcular",null,null,null,null,null,null,null,null,null,null,null,null,null,"Sporcular",null,null,null,null,null,null,null,null,null,null,null,null,"1.Set",null,"2.Set",null,"3.Set",null,"4.Set",null,"5.Set",null,"A / X",null,"A / X"]
[1,"A",null,null,null,null,null,null,null,null,null,null,null,null,null,"X"]
[]
[]
[2,"B",null,null,null,null,null,null,null,null,null,null,null,null,null,"Y"]
[]
[]
[3,"C",null,null,null,null,null,null,null,null,null,null,null,null,null,"Z"]
[]
[]
[4,"A",null,null,null,null,null,null,null,null,null,null,null,null,null,"Y"]
[]
[]
[5,"B",null,null,null,null,null,null,null,null,null,null,null,null,null,"X"]
[]
[]
["Forma Rengi",null,null,null,null,null,null,null,null,null,null,null,null,null,null,"Forma Rengi",null,null,null,null,null,null,null,null,null,null,null,null,null,null,"Toplam"]
["Kart\\Oyuncuya",null,null,null,null,1,null,2,null,3,null,4,null,5,null,"Kart\\Oyuncuya",null,null,null,null,1,null,2,null,3,null,4,null,5]
["Sarı",null,null,null,null,null,null,null,null,null,null,null,null,null,null,"Sarı",null,null,null,null,null,null,null,null,null,null,null,null,null,null,"Galip"]
["1. Sarı + Kırmızı",null,null,null,null,null,null,null,null,null,null,null,null,null,null,"1. Sarı + Kırmızı"]
["2. Sarı + Kırmızı",null,null,null,null,null,null,null,null,null,null,null,null,null,null,"2. Sarı + Kırmızı",null,null,null,null,null,null,null,null,null,null,null,null,null,null,null,null,null,{"$f":"\"(  \"&Main!$W$2&\"  -     )\"","v":"(  3  -     )"}]
["Kart\\Öğütücüye",null,null,null,null,"Sarı",null,null,null,null,"Kırmızı",null,null,null,null,"Kart\\Öğütücüye",null,null,null,null,"Sarı",null,null,null,null,"Kırmızı"]
["Kaptan",null,null,null,null,null,null,null,null,null,null,null,null,null,null,"Kaptan",null,null,null,null,null,null,null,null,null,null,null,null,null,null,"Hakemler",null,null,null,null,null,null,"Baş Hakem"]
["Adı Soyadı",null,null,null,":",null,null,null,null,null,null,null,null,null,null,"Adı Soyadı",null,null,null,":"]
["İmza",null,null,null,":",null,null,null,null,null,null,null,null,null,null,"İmza",null,null,null,":"]
[]
["Başlama Saati",null,null,null,null,":",null,null,null,null,null,null,null,null,null,"Bitiş Saati",null,null,null,null,":"]

{"sheet":"Olimpik","index":20,"n_rows":75,"n_cols":44,"rows_kept":75,"cut":false,"hidden":true,"merged":[[0,40,0,41],[0,42,0,43],[3,21,3,22],[3,23,3,24],[3,25,3,26],[3,27,3,41],[3,42,3,43],[0,0,7,20],[0,21,0,28],[0,29,0,31],[0,32,0,34],[0,35,0,37],[0,38,0,39],[1,21,2,28],[1,29,2,31],[1,32,2,34],[1,35,2,37],[1,38,2,39],[1,40,2,41],[1,42,2,43],[4,23,7,24],[4,25,5,26],[6,25,7,26],[8,40,9,41],[8,42,9,43],[10,38,10,39],[4,42,5,42],[4,43,5,43],[6,42,7,42],[6,43,7,43],[8,0,10,0],[8,1,10,1],[8,2,10,2],[8,3,9,13],[8,14,10,14],[8,15,10,15],[10,3,10,13],[10,17,10,28],[10,30,10,31],[10,32,10,33],[10,34,10,35],[10,36,10,37],[8,16,10,16],[8,17,9,28],[8,29,10,29],[8,30,9,39],[4,21,7,22],[14,0,16,0],[14,1,16,1],[14,3,16,13],[14,14,16,14],[14,15,16,15],[14,17,16,28],[14,29,16,29],[11,29,13,29],[11,0,13,0],[11,1,13,1],[11,3,13,13],[11,14,13,14],[11,15,13,15],[11,17,13,28],[28,15,28,19],[28,20,28,21],[28,22,28,23],[28,24,28,25],[28,26,28,27],[28,28,28,29],[25,0,25,4],[25,15,25,19],[25,30,26,39],[26,0,26,4],[26,5,26,6],[26,7,26,8],[26,9,26,10],[26,11,26,12],[27,24,27,25],[27,26,27,27],[27,28,27,29],[26,28,26,29],[17,0,18,0],[17,29,18,29],[27,5,27,6],[27,7,27,8],[27,9,27,10],[27,11,27,12],[27,13,27,14],[27,15,27,19],[27,20,27,21],[27,22,27,23],[26,13,26,14],[26,15,26,19],[26,20,26,21],[26,22,26,23],[19,0,21,0],[26,24,26,25],[26,26,26,27],[22,0,24,0],[22,1,24,1],[22,3,24,13],[22,14,24,14],[22,15,24,15],[22,17,24,28],[22,29,24,29],[29,33,30,43],[30,0,30,4],[30,5,30,7],[30,10,30,12],[30,15,30,19],[30,20,30,22],[30,25,30,27],[29,15,29,19],[29,20,29,21],[29,22,29,23],[29,24,29,25],[29,26,29,27],[29,28,29,29],[29,0,29,4],[29,5,29,6],[29,7,29,8],[29,9,29,10],[29,11,29,12],[29,13,29,14],[27,30,30,32],[28,0,28,4],[28,11,28,12],[28,13,28,14],[27,0,27,4],[39,40,39,41],[39,42,39,43],[42,21,42,22],[42,23,42,24],[42,25,42,26],[42,27,42,41],[42,42,42,43],[31,30,31,36],[31,37,31,43],[32,30,35,36],[32,37,35,43],[39,21,39,28],[39,29,39,31],[39,32,39,34],[39,35,39,37],[39,38,39,39],[40,21,41,28],[40,29,41,31],[40,32,41,34],[40,35,41,37],[40,38,41,39],[40,40,41,41],[40,42,41,43],[47,40,48,41],[47,42,48,43],[49,38,49,39],[43,42,44,42],[43,43,44,43],[45,42,46,42],[45,43,46,43],[47,0,49,0],[47,1,49,1],[47,2,49,2],[47,3,48,13],[47,14,49,14],[47,15,49,15],[39,0,46,20],[49,3,49,13],[49,17,49,28],[49,30,49,31],[49,32,49,33],[49,34,49,35],[49,36,49,37],[47,16,49,16],[47,17,48,28],[47,29,49,29],[47,30,48,39],[50,0,52,0],[50,1,52,1],[50,3,52,13],[50,14,52,14],[50,15,52,15],[50,17,52,28],[64,0,64,4],[64,15,64,19],[64,30,65,39],[65,0,65,4],[65,5,65,6],[65,7,65,8],[65,9,65,10],[65,11,65,12],[65,28,65,29],[65,13,65,14],[65,15,65,19],[65,20,65,21],[65,22,65,23],[65,24,65,25],[65,26,65,27],[53,0,55,0],[53,1,55,1],[53,3,55,13],[67,24,67,25],[67,26,67,27],[67,28,67,29],[66,24,66,25],[66,26,66,27],[66,28,66,29],[66,0,66,4],[66,5,66,6],[66,7,66,8],[66,9,66,10],[66,11,66,12],[66,13,66,14],[66,15,66,19],[66,20,66,21],[66,22,66,23],[67,0,67,4],[67,5,67,6],[67,7,67,8],[67,9,67,10],[67,11,67,12],[67,13,67,14],[67,15,67,19],[67,20,67,21],[67,22,67,23],[68,13,68,14],[71,30,74,36],[71,37,74,43],[68,33,69,43],[69,0,69,4],[69,5,69,7],[69,10,69,12],[69,15,69,19],[69,20,69,22],[69,25,69,27],[68,15,68,19],[68,20,68,21],[68,22,68,23],[68,24,68,25],[68,26,68,27],[68,28,68,29],[68,0,68,4],[68,5,68,6],[68,7,68,8],[68,9,68,10],[68,11,68,12],[70,30,70,36],[70,37,70,43],[66,30,69,32],[61,0,63,0],[61,1,63,1],[61,3,63,13],[61,14,63,14],[61,15,63,15],[61,17,63,28],[61,29,63,29],[58,0,60,0],[58,1,60,1],[58,3,60,13],[58,14,60,14],[58,15,60,15],[58,17,60,28],[58,29,60,29],[56,0,57,0],[56,29,57,29],[43,21,46,22],[43,23,46,24],[43,25,44,26],[45,25,46,26],[4,27,5,41],[6,27,7,41],[43,27,44,41],[45,27,46,41],[53,14,55,14],[53,15,55,15],[53,17,55,28],[53,29,55,29],[19,1,21,1],[19,3,21,13],[19,14,21,14],[19,15,21,15],[19,17,21,28],[19,29,21,29],[50,29,52,29],[28,5,28,6],[28,7,28,8],[28,9,28,10]]}
["          TÜRKİYE\n          MASA TENİSİ FEDERASYONU\n          YARIŞMA CETVELİ\n          Olimpik Sistem (4 Tek, 1 Çift)",null,null,null,null,null,null,null,null,null,null,null,null,null,null,null,null,null,null,null,null,"Yarışma Adı",null,null,null,null,null,null,null,"Yeri",null,null,"Tarih",null,null,"Saat",null,null,"Etap",null,"Maç No",null,"Masa"]
[]
[]
[null,null,null,null,null,null,null,null,null,null,null,null,null,null,null,null,null,null,null,null,null,"Erkek",null,"Bayan",null,"Galip",null,"Takımlar",null,null,null,null,null,null,null,null,null,null,null,null,null,null,"Kura"]
[null,null,null,null,null,null,null,null,null,null,null,null,null,null,null,null,null,null,null,null,null,null,null,null,null,null,null,null,null,null,null,null,null,null,null,null,null,null,null,null,null,null,"A","X"]
[]
[null,null,null,null,null,null,null,null,null,null,null,null,null,null,null,null,null,null,null,null,null,null,null,null,null,null,null,null,null,null,null,null,null,null,null,null,null,null,null,null,null,null,"A","X"]
[]
["Maç No","Kura","Lisans No","A-",null,null,null,null,null,null,null,null,null,null,"Mola","Kura","Lisans No","X-",null,null,null,null,null,null,null,null,null,null,null,"Mola","Sayılar",null,null,null,null,null,null,null,null,null,"Setler",null,"Puan"]
[]
[null,null,null,"Sporcular",null,null,null,null,null,null,null,null,null,null,null,null,null,"Sporcular",null,null,null,null,null,null,null,null,null,null,null,null,"1.Set",null,"2.Set",null,"3.Set",null,"4.Set",null,"5.Set",null,"A","X","A","X"]
[1,"A",null,null,null,null,null,null,null,null,null,null,null,null,null,"X"]
[]
[]
[2,"B",null,null,null,null,null,null,null,null,null,null,null,null,null,"Y"]
[]
[]
[3,"C",null,null,null,null,null,null,null,null,null,null,null,null,null,"Z"]
[null,"A\nB",null,null,null,null,null,null,null,null,null,null,null,null,null,"X\nY"]
[4,"B\nA",null,null,null,null,null,null,null,null,null,null,null,null,null,"Z"]
[]
[]
[5,"C",null,null,null,null,null,null,null,null,null,null,null,null,null,"Y\nX"]
[]
[]
["Forma Rengi",null,null,null,null,null,null,null,null,null,null,null,null,null,null,"Forma Rengi",null,null,null,null,null,null,null,null,null,null,null,null,null,null,"Toplam"]
["Kart\\Oyuncuya",null,null,null,null,1,null,2,null,3,null,4,null,5,null,"Kart\\Oyuncuya",null,null,null,null,1,null,2,null,3,null,4,null,5]
["Sarı",null,null,null,null,null,null,null,null,null,null,null,null,null,null,"Sarı",null,null,null,null,null,null,null,null,null,null,null,null,null,null,"Galip"]
["1. Sarı + Kırmızı",null,null,null,null,null,null,null,null,null,null,null,null,null,null,"1. Sarı + Kırmızı"]
["2. Sarı + Kırmızı",null,null,null,null,null,null,null,null,null,null,null,null,null,null,"2. Sarı + Kırmızı",null,null,null,null,null,null,null,null,null,null,null,null,null,null,null,null,null,{"$f":"\"(  \"&Main!$W$2&\"  -     )\"","v":"(  3  -     )"}]
["Kart\\Öğütücüye",null,null,null,null,"Sarı",null,null,null,null,"Kırmızı",null,null,null,null,"Kart\\Öğütücüye",null,null,null,null,"Sarı",null,null,null,null,"Kırmızı"]
["Kaptan",null,null,null,null,null,null,null,null,null,null,null,null,null,null,"Kaptan",null,null,null,null,null,null,null,null,null,null,null,null,null,null,"Hakemler",null,null,null,null,null,null,"Baş Hakem"]
["Adı Soyadı",null,null,null,":",null,null,null,null,null,null,null,null,null,null,"Adı Soyadı",null,null,null,":"]
["İmza",null,null,null,":",null,null,null,null,null,null,null,null,null,null,"İmza",null,null,null,":"]
[]
["Başlama Saati",null,null,null,null,":",null,null,null,null,null,null,null,null,null,"Bitiş Saati",null,null,null,null,":"]
[]
[]
[]
["          TÜRKİYE\n          MASA TENİSİ FEDERASYONU\n          YARIŞMA CETVELİ\n          Olimpik Sistem (4 Tek, 1 Çift)",null,null,null,null,null,null,null,null,null,null,null,null,null,null,null,null,null,null,null,null,"Yarışma Adı",null,null,null,null,null,null,null,"Yeri",null,null,"Tarih",null,null,"Saat",null,null,"Etap",null,"Maç No",null,"Masa"]
[]
[]
[null,null,null,null,null,null,null,null,null,null,null,null,null,null,null,null,null,null,null,null,null,"Erkek",null,"Bayan",null,"Galip",null,"Takımlar",null,null,null,null,null,null,null,null,null,null,null,null,null,null,"Kura"]
[null,null,null,null,null,null,null,null,null,null,null,null,null,null,null,null,null,null,null,null,null,null,null,null,null,null,null,null,null,null,null,null,null,null,null,null,null,null,null,null,null,null,"A","X"]
[]
[null,null,null,null,null,null,null,null,null,null,null,null,null,null,null,null,null,null,null,null,null,null,null,null,null,null,null,null,null,null,null,null,null,null,null,null,null,null,null,null,null,null,"A","X"]
[]
["Maç No","Kura","Lisans No","A-",null,null,null,null,null,null,null,null,null,null,"Mola","Kura","Lisans No","X-",null,null,null,null,null,null,null,null,null,null,null,"Mola","Sayılar",null,null,null,null,null,null,null,null,null,"Setler",null,"Puan"]
[]
[null,null,null,"Sporcular",null,null,null,null,null,null,null,null,null,null,null,null,null,"Sporcular",null,null,null,null,null,null,null,null,null,null,null,null,"1.Set",null,"2.Set",null,"3.Set",null,"4.Set",null,"5.Set",null,"A","X","A","X"]
[1,"A",null,null,null,null,null,null,null,null,null,null,null,null,null,"X"]
[]
[]
[2,"B",null,null,null,null,null,null,null,null,null,null,null,null,null,"Y"]
[]
[]
[3,"C",null,null,null,null,null,null,null,null,null,null,null,null,null,"Z"]
[null,"A\nB",null,null,null,null,null,null,null,null,null,null,null,null,null,"X\nY"]
[4,"B\nA",null,null,null,null,null,null,null,null,null,null,null,null,null,"Z"]
[]
[]
[5,"C",null,null,null,null,null,null,null,null,null,null,null,null,null,"Y\nX"]
[]
[]
["Forma Rengi",null,null,null,null,null,null,null,null,null,null,null,null,null,null,"Forma Rengi",null,null,null,null,null,null,null,null,null,null,null,null,null,null,"Toplam"]
["Kart\\Oyuncuya",null,null,null,null,1,null,2,null,3,null,4,null,5,null,"Kart\\Oyuncuya",null,null,null,null,1,null,2,null,3,null,4,null,5]
["Sarı",null,null,null,null,null,null,null,null,null,null,null,null,null,null,"Sarı",null,null,null,null,null,null,null,null,null,null,null,null,null,null,"Galip"]
["1. Sarı + Kırmızı",null,null,null,null,null,null,null,null,null,null,null,null,null,null,"1. Sarı + Kırmızı"]
["2. Sarı + Kırmızı",null,null,null,null,null,null,null,null,null,null,null,null,null,null,"2. Sarı + Kırmızı",null,null,null,null,null,null,null,null,null,null,null,null,null,null,null,null,null,{"$f":"\"(  \"&Main!$W$2&\"  -     )\"","v":"(  3  -     )"}]
["Kart\\Öğütücüye",null,null,null,null,"Sarı",null,null,null,null,"Kırmızı",null,null,null,null,"Kart\\Öğütücüye",null,null,null,null,"Sarı",null,null,null,null,"Kırmızı"]
["Kaptan",null,null,null,null,null,null,null,null,null,null,null,null,null,null,"Kaptan",null,null,null,null,null,null,null,null,null,null,null,null,null,null,"Hakemler",null,null,null,null,null,null,"Baş Hakem"]
["Adı Soyadı",null,null,null,":",null,null,null,null,null,null,null,null,null,null,"Adı Soyadı",null,null,null,":"]
["İmza",null,null,null,":",null,null,null,null,null,null,null,null,null,null,"İmza",null,null,null,":"]
[]
["Başlama Saati",null,null,null,null,":",null,null,null,null,null,null,null,null,null,"Bitiş Saati",null,null,null,null,":"]

{"sheet":"Yeni_Olimpik","index":21,"n_rows":75,"n_cols":44,"rows_kept":75,"cut":false,"hidden":true,"merged":[[0,40,0,41],[0,42,0,43],[3,21,3,22],[3,23,3,24],[3,25,3,26],[3,27,3,41],[3,42,3,43],[0,0,7,20],[0,21,0,28],[0,29,0,31],[0,32,0,34],[0,35,0,37],[0,38,0,39],[1,32,2,34],[1,35,2,37],[1,38,2,39],[1,40,2,41],[1,42,2,43],[1,29,2,31],[1,21,2,28],[4,21,7,22],[4,23,7,24],[4,25,5,26],[6,25,7,26],[8,0,10,0],[8,1,10,1],[8,2,10,2],[8,3,9,13],[8,14,10,14],[8,15,10,15],[8,40,9,41],[8,42,9,43],[10,38,10,39],[4,42,5,42],[4,43,5,43],[6,42,7,42],[6,43,7,43],[6,27,7,41],[4,27,5,41],[10,36,10,37],[10,3,10,13],[10,17,10,28],[10,30,10,31],[10,32,10,33],[10,34,10,35],[8,16,10,16],[8,17,9,28],[8,29,10,29],[8,30,9,39],[14,0,16,0],[14,1,16,1],[14,3,16,13],[14,14,16,14],[14,15,16,15],[14,17,16,28],[14,29,16,29],[11,29,13,29],[11,0,13,0],[11,1,13,1],[11,3,13,13],[11,14,13,14],[11,15,13,15],[11,17,13,28],[23,0,24,0],[23,1,24,1],[23,14,24,14],[23,15,24,15],[23,29,24,29],[17,0,19,0],[17,1,19,1],[17,3,19,13],[17,14,19,14],[17,15,19,15],[17,17,19,28],[20,0,22,0],[20,1,22,1],[20,3,22,13],[20,14,22,14],[20,15,22,15],[20,17,22,28],[17,29,19,29],[20,29,22,29],[25,0,25,4],[25,15,25,19],[25,30,26,39],[26,0,26,4],[26,5,26,6],[26,7,26,8],[26,9,26,10],[26,11,26,12],[27,30,30,32],[28,0,28,4],[28,5,28,6],[28,7,28,8],[28,9,28,10],[28,11,28,12],[28,13,28,14],[26,28,26,29],[27,0,27,4],[27,5,27,6],[27,7,27,8],[27,9,27,10],[27,11,27,12],[27,13,27,14],[27,15,27,19],[27,20,27,21],[26,13,26,14],[26,15,26,19],[26,20,26,21],[26,22,26,23],[26,24,26,25],[26,26,26,27],[29,13,29,14],[28,15,28,19],[28,20,28,21],[28,22,28,23],[28,24,28,25],[28,26,28,27],[29,24,29,25],[29,26,29,27],[28,28,28,29],[27,24,27,25],[27,26,27,27],[27,28,27,29],[39,0,46,20],[39,21,39,28],[39,29,39,31],[39,32,39,34],[39,35,39,37],[42,21,42,22],[42,23,42,24],[42,25,42,26],[42,27,42,41],[27,22,27,23],[29,33,30,43],[30,0,30,4],[30,5,30,7],[30,10,30,12],[30,15,30,19],[30,20,30,22],[30,25,30,27],[29,15,29,19],[29,20,29,21],[29,22,29,23],[29,28,29,29],[29,0,29,4],[29,5,29,6],[29,7,29,8],[29,9,29,10],[29,11,29,12],[47,0,49,0],[47,1,49,1],[47,2,49,2],[47,3,48,13],[47,14,49,14],[47,15,49,15],[49,3,49,13],[42,42,42,43],[31,30,31,36],[31,37,31,43],[32,30,35,36],[32,37,35,43],[40,21,41,28],[40,29,41,31],[40,32,41,34],[40,35,41,37],[40,38,41,39],[40,40,41,41],[40,42,41,43],[39,38,39,39],[39,40,39,41],[39,42,39,43],[50,29,52,29],[47,16,49,16],[47,17,48,28],[47,29,49,29],[47,30,48,39],[49,32,49,33],[49,34,49,35],[49,17,49,28],[49,30,49,31],[49,36,49,37],[49,38,49,39],[64,30,65,39],[65,0,65,4],[65,5,65,6],[65,7,65,8],[65,9,65,10],[65,11,65,12],[59,14,61,14],[59,15,61,15],[62,0,63,0],[62,1,63,1],[62,14,63,14],[62,15,63,15],[59,0,61,0],[59,1,61,1],[59,3,61,13],[65,28,65,29],[65,13,65,14],[65,15,65,19],[65,20,65,21],[65,22,65,23],[65,24,65,25],[65,26,65,27],[67,0,67,4],[67,5,67,6],[67,7,67,8],[67,9,67,10],[67,11,67,12],[67,13,67,14],[66,0,66,4],[66,5,66,6],[66,7,66,8],[66,9,66,10],[66,11,66,12],[66,13,66,14],[69,0,69,4],[69,5,69,7],[69,10,69,12],[69,15,69,19],[69,20,69,22],[69,25,69,27],[68,15,68,19],[68,20,68,21],[68,22,68,23],[68,24,68,25],[68,26,68,27],[68,0,68,4],[68,5,68,6],[68,7,68,8],[68,9,68,10],[68,11,68,12],[66,20,66,21],[50,0,52,0],[50,1,52,1],[50,3,52,13],[64,0,64,4],[64,15,64,19],[50,14,52,14],[50,15,52,15],[50,17,52,28],[47,40,48,41],[68,13,68,14],[71,30,74,36],[71,37,74,43],[66,30,69,32],[68,33,69,43],[53,29,55,29],[70,30,70,36],[70,37,70,43],[68,28,68,29],[53,17,55,28],[67,22,67,23],[67,24,67,25],[67,26,67,27],[67,28,67,29],[66,24,66,25],[66,26,66,27],[66,28,66,29],[59,17,61,28],[62,29,63,29],[59,29,61,29],[67,15,67,19],[67,20,67,21],[66,15,66,19],[47,42,48,43],[66,22,66,23],[43,42,44,42],[43,43,44,43],[45,42,46,42],[45,43,46,43],[56,0,58,0],[56,1,58,1],[56,3,58,13],[56,14,58,14],[56,15,58,15],[56,17,58,28],[53,0,55,0],[53,1,55,1],[53,3,55,13],[53,14,55,14],[53,15,55,15],[56,29,58,29],[43,27,44,41],[45,27,46,41],[43,21,46,22],[43,23,46,24],[43,25,44,26],[45,25,46,26]]}
["          TÜRKİYE\n          MASA TENİSİ FEDERASYONU\n          YARIŞMA CETVELİ\n          Yeni Olimpik Sistem (4 Tek, 1 Çift)",null,null,null,null,null,null,null,null,null,null,null,null,null,null,null,null,null,null,null,null,"Yarışma Adı",null,null,null,null,null,null,null,"Yeri",null,null,"Tarih",null,null,"Saat",null,null,"Etap",null,"Maç No",null,"Masa"]
[]
[]
[null,null,null,null,null,null,null,null,null,null,null,null,null,null,null,null,null,null,null,null,null,"Erkek",null,"Bayan",null,"Galip",null,"Takımlar",null,null,null,null,null,null,null,null,null,null,null,null,null,null,"Kura"]
[null,null,null,null,null,null,null,null,null,null,null,null,null,null,null,null,null,null,null,null,null,null,null,null,null,null,null,null,null,null,null,null,null,null,null,null,null,null,null,null,null,null,"A","X"]
[]
[null,null,null,null,null,null,null,null,null,null,null,null,null,null,null,null,null,null,null,null,null,null,null,null,null,null,null,null,null,null,null,null,null,null,null,null,null,null,null,null,null,null,"A","X"]
[]
["Maç No","Kura","Lisans No","A-",null,null,null,null,null,null,null,null,null,null,"Mola","Kura","Lisans No","X-",null,null,null,null,null,null,null,null,null,null,null,"Mola","Sayılar",null,null,null,null,null,null,null,null,null,"Setler",null,"Puan"]
[]
[null,null,null,"Sporcular",null,null,null,null,null,null,null,null,null,null,null,null,null,"Sporcular",null,null,null,null,null,null,null,null,null,null,null,null,"1.Set",null,"2.Set",null,"3.Set",null,"4.Set",null,"5.Set",null,"A","X","A","X"]
[1,"A",null,null,null,null,null,null,null,null,null,null,null,null,null,"X"]
[]
[]
[2,"B",null,null,null,null,null,null,null,null,null,null,null,null,null,"Y"]
[]
[]
[3,"C",null,null,null,null,null,null,null,null,null,null,null,null,null,"Z"]
[]
[]
[4,"A",null,null,null,null,null,null,null,null,null,null,null,null,null,"Y"]
[]
[]
[5,"Çift",null,null,null,null,null,null,null,null,null,null,null,null,null,"Çift"]
[]
["Forma Rengi",null,null,null,null,null,null,null,null,null,null,null,null,null,null,"Forma Rengi",null,null,null,null,null,null,null,null,null,null,null,null,null,null,"Toplam"]
["Kart\\Oyuncuya",null,null,null,null,1,null,2,null,3,null,4,null,5,null,"Kart\\Oyuncuya",null,null,null,null,1,null,2,null,3,null,4,null,5]
["Sarı",null,null,null,null,null,null,null,null,null,null,null,null,null,null,"Sarı",null,null,null,null,null,null,null,null,null,null,null,null,null,null,"Galip"]
["1. Sarı + Kırmızı",null,null,null,null,null,null,null,null,null,null,null,null,null,null,"1. Sarı + Kırmızı"]
["2. Sarı + Kırmızı",null,null,null,null,null,null,null,null,null,null,null,null,null,null,"2. Sarı + Kırmızı",null,null,null,null,null,null,null,null,null,null,null,null,null,null,null,null,null,{"$f":"\"(  \"&Main!$W$2&\"  -     )\"","v":"(  3  -     )"}]
["Kart\\Öğütücüye",null,null,null,null,"Sarı",null,null,null,null,"Kırmızı",null,null,null,null,"Kart\\Öğütücüye",null,null,null,null,"Sarı",null,null,null,null,"Kırmızı"]
["Kaptan",null,null,null,null,null,null,null,null,null,null,null,null,null,null,"Kaptan",null,null,null,null,null,null,null,null,null,null,null,null,null,null,"Hakemler",null,null,null,null,null,null,"Baş Hakem"]
["Adı Soyadı",null,null,null,":",null,null,null,null,null,null,null,null,null,null,"Adı Soyadı",null,null,null,":"]
["İmza",null,null,null,":",null,null,null,null,null,null,null,null,null,null,"İmza",null,null,null,":"]
[]
["Başlama Saati",null,null,null,null,":",null,null,null,null,null,null,null,null,null,"Bitiş Saati",null,null,null,null,":"]
[]
[]
[]
["          TÜRKİYE\n          MASA TENİSİ FEDERASYONU\n          YARIŞMA CETVELİ\n          Yeni Olimpik Sistem (4 Tek, 1 Çift)",null,null,null,null,null,null,null,null,null,null,null,null,null,null,null,null,null,null,null,null,"Yarışma Adı",null,null,null,null,null,null,null,"Yeri",null,null,"Tarih",null,null,"Saat",null,null,"Etap",null,"Maç No",null,"Masa"]
[]
[]
[null,null,null,null,null,null,null,null,null,null,null,null,null,null,null,null,null,null,null,null,null,"Erkek",null,"Bayan",null,"Galip",null,"Takımlar",null,null,null,null,null,null,null,null,null,null,null,null,null,null,"Kura"]
[null,null,null,null,null,null,null,null,null,null,null,null,null,null,null,null,null,null,null,null,null,null,null,null,null,null,null,null,null,null,null,null,null,null,null,null,null,null,null,null,null,null,"A","X"]
[]
[null,null,null,null,null,null,null,null,null,null,null,null,null,null,null,null,null,null,null,null,null,null,null,null,null,null,null,null,null,null,null,null,null,null,null,null,null,null,null,null,null,null,"A","X"]
[]
["Maç No","Kura","Lisans No","A-",null,null,null,null,null,null,null,null,null,null,"Mola","Kura","Lisans No","X-",null,null,null,null,null,null,null,null,null,null,null,"Mola","Sayılar",null,null,null,null,null,null,null,null,null,"Setler",null,"Puan"]
[]
[null,null,null,"Sporcular",null,null,null,null,null,null,null,null,null,null,null,null,null,"Sporcular",null,null,null,null,null,null,null,null,null,null,null,null,"1.Set",null,"2.Set",null,"3.Set",null,"4.Set",null,"5.Set",null,"A","X","A","X"]
[1,"A",null,null,null,null,null,null,null,null,null,null,null,null,null,"X"]
[]
[]
[2,"B",null,null,null,null,null,null,null,null,null,null,null,null,null,"Y"]
[]
[]
[3,"C",null,null,null,null,null,null,null,null,null,null,null,null,null,"Z"]
[]
[]
[4,"A",null,null,null,null,null,null,null,null,null,null,null,null,null,"Y"]
[]
[]
[5,"Çift",null,null,null,null,null,null,null,null,null,null,null,null,null,"Çift"]
[]
["Forma Rengi",null,null,null,null,null,null,null,null,null,null,null,null,null,null,"Forma Rengi",null,null,null,null,null,null,null,null,null,null,null,null,null,null,"Toplam"]
["Kart\\Oyuncuya",null,null,null,null,1,null,2,null,3,null,4,null,5,null,"Kart\\Oyuncuya",null,null,null,null,1,null,2,null,3,null,4,null,5]
["Sarı",null,null,null,null,null,null,null,null,null,null,null,null,null,null,"Sarı",null,null,null,null,null,null,null,null,null,null,null,null,null,null,"Galip"]
["1. Sarı + Kırmızı",null,null,null,null,null,null,null,null,null,null,null,null,null,null,"1. Sarı + Kırmızı"]
["2. Sarı + Kırmızı",null,null,null,null,null,null,null,null,null,null,null,null,null,null,"2. Sarı + Kırmızı",null,null,null,null,null,null,null,null,null,null,null,null,null,null,null,null,null,{"$f":"\"(  \"&Main!$W$2&\"  -     )\"","v":"(  3  -     )"}]
["Kart\\Öğütücüye",null,null,null,null,"Sarı",null,null,null,null,"Kırmızı",null,null,null,null,"Kart\\Öğütücüye",null,null,null,null,"Sarı",null,null,null,null,"Kırmızı"]
["Kaptan",null,null,null,null,null,null,null,null,null,null,null,null,null,null,"Kaptan",null,null,null,null,null,null,null,null,null,null,null,null,null,null,"Hakemler",null,null,null,null,null,null,"Baş Hakem"]
["Adı Soyadı",null,null,null,":",null,null,null,null,null,null,null,null,null,null,"Adı Soyadı",null,null,null,":"]
["İmza",null,null,null,":",null,null,null,null,null,null,null,null,null,null,"İmza",null,null,null,":"]
[]
["Başlama Saati",null,null,null,null,":",null,null,null,null,null,null,null,null,null,"Bitiş Saati",null,null,null,null,":"]

{"sheet":"Corbillon","index":22,"n_rows":75,"n_cols":44,"rows_kept":75,"cut":false,"hidden":true,"merged":[[0,40,0,41],[0,42,0,43],[3,21,3,22],[3,23,3,24],[3,25,3,26],[3,27,3,41],[3,42,3,43],[0,0,7,20],[0,21,0,28],[0,29,0,31],[0,32,0,34],[0,35,0,37],[0,38,0,39],[1,21,2,28],[1,29,2,31],[1,32,2,34],[1,35,2,37],[1,38,2,39],[1,40,2,41],[1,42,2,43],[4,23,7,24],[4,25,5,26],[6,25,7,26],[8,40,9,41],[8,42,9,43],[10,38,10,39],[4,42,5,42],[4,43,5,43],[6,42,7,42],[6,43,7,43],[8,0,10,0],[8,1,10,1],[8,2,10,2],[8,3,9,13],[8,14,10,14],[8,15,10,15],[10,3,10,13],[10,17,10,28],[10,30,10,31],[10,32,10,33],[10,34,10,35],[10,36,10,37],[8,16,10,16],[8,17,9,28],[8,29,10,29],[8,30,9,39],[4,21,7,22],[14,0,16,0],[14,1,16,1],[14,3,16,13],[14,14,16,14],[14,15,16,15],[14,17,16,28],[14,29,16,29],[11,29,13,29],[11,0,13,0],[11,1,13,1],[11,3,13,13],[11,14,13,14],[11,15,13,15],[11,17,13,28],[17,14,18,14],[17,15,18,15],[19,0,21,0],[19,1,21,1],[19,3,21,13],[19,14,21,14],[19,15,21,15],[19,17,21,28],[19,29,21,29],[17,29,18,29],[17,0,18,0],[17,1,18,1],[25,0,25,4],[25,15,25,19],[25,30,26,39],[26,0,26,4],[26,5,26,6],[26,7,26,8],[22,29,24,29],[22,0,24,0],[22,1,24,1],[22,3,24,13],[22,14,24,14],[22,15,24,15],[22,17,24,28],[27,0,27,4],[27,5,27,6],[27,7,27,8],[27,9,27,10],[27,11,27,12],[27,13,27,14],[27,15,27,19],[26,9,26,10],[26,11,26,12],[26,13,26,14],[26,15,26,19],[27,20,27,21],[27,22,27,23],[27,24,27,25],[27,26,27,27],[27,28,27,29],[27,30,30,32],[26,24,26,25],[26,26,26,27],[26,28,26,29],[26,20,26,21],[26,22,26,23],[28,15,28,19],[28,20,28,21],[28,22,28,23],[28,24,28,25],[28,26,28,27],[28,28,28,29],[28,0,28,4],[28,5,28,6],[28,7,28,8],[28,9,28,10],[28,11,28,12],[28,13,28,14],[29,33,30,43],[30,0,30,4],[30,5,30,7],[30,10,30,12],[30,15,30,19],[30,20,30,22],[30,25,30,27],[29,15,29,19],[29,20,29,21],[29,22,29,23],[29,24,29,25],[29,26,29,27],[29,28,29,29],[29,0,29,4],[29,5,29,6],[29,7,29,8],[29,9,29,10],[29,11,29,12],[29,13,29,14],[31,30,31,36],[31,37,31,43],[32,30,35,36],[32,37,35,43],[40,21,41,28],[40,29,41,31],[40,32,41,34],[40,35,41,37],[40,38,41,39],[40,40,41,41],[40,42,41,43],[39,21,39,28],[39,29,39,31],[39,32,39,34],[39,35,39,37],[39,38,39,39],[39,40,39,41],[39,42,39,43],[42,21,42,22],[42,23,42,24],[42,25,42,26],[42,27,42,41],[42,42,42,43],[39,0,46,20],[43,21,46,22],[43,23,46,24],[43,25,44,26],[43,42,44,42],[43,43,44,43],[45,25,46,26],[45,42,46,42],[45,43,46,43],[50,29,52,29],[47,16,49,16],[47,17,48,28],[47,29,49,29],[47,30,48,39],[49,32,49,33],[49,34,49,35],[47,0,49,0],[47,1,49,1],[47,2,49,2],[47,3,48,13],[47,14,49,14],[47,15,49,15],[49,3,49,13],[47,40,48,41],[47,42,48,43],[49,17,49,28],[49,30,49,31],[56,0,57,0],[56,1,57,1],[56,14,57,14],[56,15,57,15],[56,29,57,29],[53,29,55,29],[53,0,55,0],[53,1,55,1],[53,3,55,13],[53,14,55,14],[53,15,55,15],[53,17,55,28],[49,36,49,37],[49,38,49,39],[50,0,52,0],[50,1,52,1],[50,3,52,13],[50,14,52,14],[50,15,52,15],[50,17,52,28],[61,0,63,0],[61,1,63,1],[61,3,63,13],[61,14,63,14],[61,15,63,15],[61,17,63,28],[61,29,63,29],[58,29,60,29],[58,0,60,0],[58,1,60,1],[58,3,60,13],[58,14,60,14],[58,15,60,15],[58,17,60,28],[67,0,67,4],[67,5,67,6],[67,7,67,8],[67,9,67,10],[67,11,67,12],[67,13,67,14],[65,28,65,29],[66,0,66,4],[66,5,66,6],[66,7,66,8],[66,9,66,10],[66,11,66,12],[66,13,66,14],[66,15,66,19],[66,20,66,21],[66,22,66,23],[66,24,66,25],[65,13,65,14],[67,24,67,25],[64,0,64,4],[64,15,64,19],[64,30,65,39],[65,0,65,4],[65,5,65,6],[65,7,65,8],[65,9,65,10],[65,11,65,12],[69,0,69,4],[69,5,69,7],[69,10,69,12],[69,15,69,19],[69,20,69,22],[69,25,69,27],[68,15,68,19],[68,20,68,21],[68,22,68,23],[68,24,68,25],[68,26,68,27],[68,0,68,4],[68,5,68,6],[68,7,68,8],[68,9,68,10],[68,11,68,12],[68,13,68,14],[65,15,65,19],[65,20,65,21],[65,22,65,23],[65,24,65,25],[71,30,74,36],[71,37,74,43],[6,27,7,41],[4,27,5,41],[43,27,44,41],[45,27,46,41],[68,33,69,43],[68,28,68,29],[66,30,69,32],[67,26,67,27],[67,28,67,29],[70,30,70,36],[70,37,70,43],[66,26,66,27],[66,28,66,29],[65,26,65,27],[67,15,67,19],[67,20,67,21],[67,22,67,23]]}
["          TÜRKİYE\n          MASA TENİSİ FEDERASYONU\n          YARIŞMA CETVELİ\n          Corbillon Kupa Sistemi  (2 Tek, 1 Çift, 2 Tek)",null,null,null,null,null,null,null,null,null,null,null,null,null,null,null,null,null,null,null,null,"Yarışma Adı",null,null,null,null,null,null,null,"Yeri",null,null,"Tarih",null,null,"Saat",null,null,"Grup",null,"Maç No",null,"Masa"]
[null,null,null,null,null,null,null,null,null,null,null,null,null,null,null,null,null,null,null,null,null,"Grup",null,null,null,null,null,null,null,null,null,null,"2025-04-11",null,null,"14:30:00",null,null,"G4",null,"1-4",null,0]
[]
[null,null,null,null,null,null,null,null,null,null,null,null,null,null,null,null,null,null,null,null,null,"Erkek",null,"Bayan",null,"Galip",null,"Takımlar",null,null,null,null,null,null,null,null,null,null,null,null,null,null,"Kura"]
[null,null,null,null,null,null,null,null,null,null,null,null,null,null,null,null,null,null,null,null,null,null,null,"P",null,null,null,"MAVİ EGE SPOR (A) (İZM)",null,null,null,null,null,null,null,null,null,null,null,null,null,null,"A","X"]
[]
[null,null,null,null,null,null,null,null,null,null,null,null,null,null,null,null,null,null,null,null,null,null,null,null,null,null,null,"MERİT GRUP REAL MARDİN (A) (MRD)",null,null,null,null,null,null,null,null,null,null,null,null,null,null,"A","X"]
[]
["Maç No","Kura","Lisans No","A-",null,null,null,null,null,null,null,null,null,null,"Mola","Kura","Lisans No","X-",null,null,null,null,null,null,null,null,null,null,null,"Mola","Sayılar",null,null,null,null,null,null,null,null,null,"Setler",null,"Puan"]
[]
[null,null,null,"Sporcular",null,null,null,null,null,null,null,null,null,null,null,null,null,"Sporcular",null,null,null,null,null,null,null,null,null,null,null,null,"1.Set",null,"2.Set",null,"3.Set",null,"4.Set",null,"5.Set",null,"A","X","A","X"]
[1,"A",null,null,null,null,null,null,null,null,null,null,null,null,null,"X"]
[]
[]
[2,"B",null,null,null,null,null,null,null,null,null,null,null,null,null,"Y"]
[]
[]
[3,"Çift",null,null,null,null,null,null,null,null,null,null,null,null,null,"Çift"]
[]
[4,"A",null,null,null,null,null,null,null,null,null,null,null,null,null,"Y"]
[]
[]
[5,"B",null,null,null,null,null,null,null,null,null,null,null,null,null,"X"]
[]
[]
["Forma Rengi",null,null,null,null,null,null,null,null,null,null,null,null,null,null,"Forma Rengi",null,null,null,null,null,null,null,null,null,null,null,null,null,null,"Toplam"]
["Kart\\Oyuncuya",null,null,null,null,1,null,2,null,3,null,4,null,5,null,"Kart\\Oyuncuya",null,null,null,null,1,null,2,null,3,null,4,null,5]
["Sarı",null,null,null,null,null,null,null,null,null,null,null,null,null,null,"Sarı",null,null,null,null,null,null,null,null,null,null,null,null,null,null,"Galip"]
["1. Sarı + Kırmızı",null,null,null,null,null,null,null,null,null,null,null,null,null,null,"1. Sarı + Kırmızı"]
["2. Sarı + Kırmızı",null,null,null,null,null,null,null,null,null,null,null,null,null,null,"2. Sarı + Kırmızı",null,null,null,null,null,null,null,null,null,null,null,null,null,null,null,null,null,{"$f":"\"(  \"&Main!$W$2&\"  -     )\"","v":"(  3  -     )"}]
["Kart\\Öğütücüye",null,null,null,null,"Sarı",null,null,null,null,"Kırmızı",null,null,null,null,"Kart\\Öğütücüye",null,null,null,null,"Sarı",null,null,null,null,"Kırmızı"]
["Kaptan",null,null,null,null,null,null,null,null,null,null,null,null,null,null,"Kaptan",null,null,null,null,null,null,null,null,null,null,null,null,null,null,"Hakemler",null,null,null,null,null,null,"Baş Hakem"]
["Adı Soyadı",null,null,null,":",null,null,null,null,null,null,null,null,null,null,"Adı Soyadı",null,null,null,":"]
["İmza",null,null,null,":",null,null,null,null,null,null,null,null,null,null,"İmza",null,null,null,":"]
[]
["Başlama Saati",null,null,null,null,":",null,null,null,null,null,null,null,null,null,"Bitiş Saati",null,null,null,null,":"]
[]
[]
[]
["          TÜRKİYE\n          MASA TENİSİ FEDERASYONU\n          YARIŞMA CETVELİ\n          Corbillon Kupa Sistemi  (2 Tek, 1 Çift, 2 Tek)",null,null,null,null,null,null,null,null,null,null,null,null,null,null,null,null,null,null,null,null,"Yarışma Adı",null,null,null,null,null,null,null,"Yeri",null,null,"Tarih",null,null,"Saat",null,null,"Grup",null,"Maç No",null,"Masa"]
[null,null,null,null,null,null,null,null,null,null,null,null,null,null,null,null,null,null,null,null,null,"Grup",null,null,null,null,null,null,null,null,null,null,"2025-04-11",null,null,"14:30:00",null,null,"G4",null,"2-3",null,0.60416666666666663]
[]
[null,null,null,null,null,null,null,null,null,null,null,null,null,null,null,null,null,null,null,null,null,"Erkek",null,"Bayan",null,"Galip",null,"Takımlar",null,null,null,null,null,null,null,null,null,null,null,null,null,null,"Kura"]
[null,null,null,null,null,null,null,null,null,null,null,null,null,null,null,null,null,null,null,null,null,null,null,"P",null,null,null,"ÇORUM ARENA SPOR (A) (ÇRM)",null,null,null,null,null,null,null,null,null,null,null,null,null,null,"A","X"]
[]
[null,null,null,null,null,null,null,null,null,null,null,null,null,null,null,null,null,null,null,null,null,null,null,null,null,null,null,"MUĞLA B. ŞEHİR BLD. SPOR (A) (MĞL)",null,null,null,null,null,null,null,null,null,null,null,null,null,null,"A","X"]
[]
["Maç No","Kura","Lisans No","A-",null,null,null,null,null,null,null,null,null,null,"Mola","Kura","Lisans No","X-",null,null,null,null,null,null,null,null,null,null,null,"Mola","Sayılar",null,null,null,null,null,null,null,null,null,"Setler",null,"Puan"]
[]
[null,null,null,"Sporcular",null,null,null,null,null,null,null,null,null,null,null,null,null,"Sporcular",null,null,null,null,null,null,null,null,null,null,null,null,"1.Set",null,"2.Set",null,"3.Set",null,"4.Set",null,"5.Set",null,"A","X","A","X"]
[1,"A",null,null,null,null,null,null,null,null,null,null,null,null,null,"X"]
[]
[]
[2,"B",null,null,null,null,null,null,null,null,null,null,null,null,null,"Y"]
[]
[]
[3,"Çift",null,null,null,null,null,null,null,null,null,null,null,null,null,"Çift"]
[]
[4,"A",null,null,null,null,null,null,null,null,null,null,null,null,null,"Y"]
[]
[]
[5,"B",null,null,null,null,null,null,null,null,null,null,null,null,null,"X"]
[]
[]
["Forma Rengi",null,null,null,null,null,null,null,null,null,null,null,null,null,null,"Forma Rengi",null,null,null,null,null,null,null,null,null,null,null,null,null,null,"Toplam"]
["Kart\\Oyuncuya",null,null,null,null,1,null,2,null,3,null,4,null,5,null,"Kart\\Oyuncuya",null,null,null,null,1,null,2,null,3,null,4,null,5]
["Sarı",null,null,null,null,null,null,null,null,null,null,null,null,null,null,"Sarı",null,null,null,null,null,null,null,null,null,null,null,null,null,null,"Galip"]
["1. Sarı + Kırmızı",null,null,null,null,null,null,null,null,null,null,null,null,null,null,"1. Sarı + Kırmızı"]
["2. Sarı + Kırmızı",null,null,null,null,null,null,null,null,null,null,null,null,null,null,"2. Sarı + Kırmızı",null,null,null,null,null,null,null,null,null,null,null,null,null,null,null,null,null,{"$f":"\"(  \"&Main!$W$2&\"  -     )\"","v":"(  3  -     )"}]
["Kart\\Öğütücüye",null,null,null,null,"Sarı",null,null,null,null,"Kırmızı",null,null,null,null,"Kart\\Öğütücüye",null,null,null,null,"Sarı",null,null,null,null,"Kırmızı"]
["Kaptan",null,null,null,null,null,null,null,null,null,null,null,null,null,null,"Kaptan",null,null,null,null,null,null,null,null,null,null,null,null,null,null,"Hakemler",null,null,null,null,null,null,"Baş Hakem"]
["Adı Soyadı",null,null,null,":",null,null,null,null,null,null,null,null,null,null,"Adı Soyadı",null,null,null,":"]
["İmza",null,null,null,":",null,null,null,null,null,null,null,null,null,null,"İmza",null,null,null,":"]
[]
["Başlama Saati",null,null,null,null,":",null,null,null,null,null,null,null,null,null,"Bitiş Saati",null,null,null,null,":"]

{"sheet":"5_Mac_KC","index":23,"n_rows":47,"n_cols":10,"rows_kept":47,"cut":false,"hidden":true,"merged":[[13,0,13,3],[13,6,13,9],[0,0,0,3],[0,6,0,9],[1,0,1,3],[1,6,1,9],[5,2,5,3],[5,8,5,9],[6,2,6,3],[6,8,6,9],[7,8,7,9],[12,0,12,3],[12,6,12,9],[17,2,17,3],[17,8,17,9],[18,2,18,3],[18,8,18,9],[19,8,19,9],[24,0,24,3],[24,6,24,9],[25,0,25,3],[25,6,25,9],[29,2,29,3],[29,8,29,9],[30,2,30,3],[30,8,30,9],[31,8,31,9],[36,0,36,3],[36,6,36,9],[43,8,43,9],[37,0,37,3],[37,6,37,9],[41,2,41,3],[41,8,41,9],[42,2,42,3],[42,8,42,9]]}
["TÜRKİYE",null,null,null,null,null,"TÜRKİYE"]
["MASA TENİSİ FEDERASYONU",null,null,null,null,null,"MASA TENİSİ FEDERASYONU"]
["TAKIM LİSTESİ",null,null,null,null,null,"TAKIM LİSTESİ"]
["Takım Adı",null,null,":",null,null,"Takım Adı",null,null,":"]
["Karşılaşacağı Takım",null,null,":",null,null,"Karşılaşacağı Takım",null,null,":"]
["A",null,": ………………………………..…………………..……….……….",null,null,null,"X",null,": ………………………………..…………………..……….………."]
["B",null,": ………………………………..…………………..……….……….",null,null,null,"Y",null,": ………………………………..…………………..……….………."]
["C",null,": ………………………………..…………………..……….……….",null,null,null,"Z",null,": ………………………………..…………………..……….………."]
["Karşılaşma Tarihi",null,null,":……………………………………...",null,null,"Karşılaşma Tarihi",null,null,":……………………………………..."]
["Takım Kaptanı",null,null,":……………………………………...",null,null,"Takım Kaptanı",null,null,":……………………………………..."]
["İmza",null,null,":……………………………………...",null,null,"İmza",null,null,":……………………………………..."]
[]
["TÜRKİYE",null,null,null,null,null,"TÜRKİYE"]
["MASA TENİSİ FEDERASYONU",null,null,null,null,null,"MASA TENİSİ FEDERASYONU"]
["TAKIM LİSTESİ",null,null,null,null,null,"TAKIM LİSTESİ"]
["Takım Adı",null,null,":",null,null,"Takım Adı",null,null,":"]
["Karşılaşacağı Takım",null,null,":",null,null,"Karşılaşacağı Takım",null,null,":"]
["A",null,": ………………………………..…………………..……….……….",null,null,null,"X",null,": ………………………………..…………………..……….………."]
["B",null,": ………………………………..…………………..……….……….",null,null,null,"Y",null,": ………………………………..…………………..……….………."]
["C",null,": ………………………………..…………………..……….……….",null,null,null,"Z",null,": ………………………………..…………………..……….………."]
["Karşılaşma Tarihi",null,null,":……………………………………...",null,null,"Karşılaşma Tarihi",null,null,":……………………………………..."]
["Takım Kaptanı",null,null,":……………………………………...",null,null,"Takım Kaptanı",null,null,":……………………………………..."]
["İmza",null,null,":……………………………………...",null,null,"İmza",null,null,":……………………………………..."]
[]
["TÜRKİYE",null,null,null,null,null,"TÜRKİYE"]
["MASA TENİSİ FEDERASYONU",null,null,null,null,null,"MASA TENİSİ FEDERASYONU"]
["TAKIM LİSTESİ",null,null,null,null,null,"TAKIM LİSTESİ"]
["Takım Adı",null,null,":",null,null,"Takım Adı",null,null,":"]
["Karşılaşacağı Takım",null,null,":",null,null,"Karşılaşacağı Takım",null,null,":"]
["A",null,": ………………………………..…………………..……….……….",null,null,null,"X",null,": ………………………………..…………………..……….………."]
["B",null,": ………………………………..…………………..……….……….",null,null,null,"Y",null,": ………………………………..…………………..……….………."]
["C",null,": ………………………………..…………………..……….……….",null,null,null,"Z",null,": ………………………………..…………………..……….………."]
["Karşılaşma Tarihi",null,null,":……………………………………...",null,null,"Karşılaşma Tarihi",null,null,":……………………………………..."]
["Takım Kaptanı",null,null,":……………………………………...",null,null,"Takım Kaptanı",null,null,":……………………………………..."]
["İmza",null,null,":……………………………………...",null,null,"İmza",null,null,":……………………………………..."]
[]
["TÜRKİYE",null,null,null,null,null,"TÜRKİYE"]
["MASA TENİSİ FEDERASYONU",null,null,null,null,null,"MASA TENİSİ FEDERASYONU"]
["TAKIM LİSTESİ",null,null,null,null,null,"TAKIM LİSTESİ"]
["Takım Adı",null,null,":",null,null,"Takım Adı",null,null,":"]
["Karşılaşacağı Takım",null,null,":",null,null,"Karşılaşacağı Takım",null,null,":"]
["A",null,": ………………………………..…………………..……….……….",null,null,null,"X",null,": ………………………………..…………………..……….………."]
["B",null,": ………………………………..…………………..……….……….",null,null,null,"Y",null,": ………………………………..…………………..……….………."]
["C",null,": ………………………………..…………………..……….……….",null,null,null,"Z",null,": ………………………………..…………………..……….………."]
["Karşılaşma Tarihi",null,null,":……………………………………...",null,null,"Karşılaşma Tarihi",null,null,":……………………………………..."]
["Takım Kaptanı",null,null,":……………………………………...",null,null,"Takım Kaptanı",null,null,":……………………………………..."]
["İmza",null,null,":……………………………………...",null,null,"İmza",null,null,":……………………………………..."]

{"sheet":"Olimpik_KC","index":24,"n_rows":51,"n_cols":10,"rows_kept":51,"cut":false,"hidden":true,"merged":[[0,0,0,3],[0,6,0,9],[1,0,1,3],[1,6,1,9],[5,2,5,3],[5,8,5,9],[6,2,6,3],[6,8,6,9],[13,0,13,3],[13,6,13,9],[14,0,14,3],[14,6,14,9],[7,0,8,0],[7,6,8,6],[31,2,31,3],[31,8,31,9],[18,2,18,3],[18,8,18,9],[19,2,19,3],[19,8,19,9],[32,2,32,3],[32,8,32,9],[33,0,34,0],[33,6,34,6],[39,0,39,3],[20,0,21,0],[20,6,21,6],[27,0,27,3],[27,6,27,9],[26,0,26,3],[26,6,26,9],[46,0,47,0],[46,6,47,6],[39,6,39,9],[40,0,40,3],[40,6,40,9],[44,2,44,3],[45,2,45,3],[45,8,45,9],[44,8,44,9]]}
["TÜRKİYE",null,null,null,null,null,"TÜRKİYE"]
["MASA TENİSİ FEDERASYONU",null,null,null,null,null,"MASA TENİSİ FEDERASYONU"]
["TAKIM LİSTESİ",null,null,null,null,null,"TAKIM LİSTESİ"]
["Takım Adı",null,null,":",null,null,"Takım Adı",null,null,":"]
["Karşılaşacağı Takım",null,null,":",null,null,"Karşılaşacağı Takım",null,null,":"]
["A",null,": ………………………………..…………………..……….……….",null,null,null,"X",null,": ………………………………..…………………..……….………."]
["B",null,": ………………………………..…………………..……….……….",null,null,null,"Y",null,": ………………………………..…………………..……….………."]
["Çift","C",": ………………………………..…………………..……….……….",null,null,null,"Çift","Z",": ………………………………..…………………..……….………."]
[null,null,": ………………………………..…………………..……….……….",null,null,null,null,null,": ………………………………..…………………..……….………."]
["Karşılaşma Tarihi",null,null,":……………………………………...",null,null,"Karşılaşma Tarihi",null,null,":……………………………………..."]
["Takım Kaptanı",null,null,":……………………………………...",null,null,"Takım Kaptanı",null,null,":……………………………………..."]
["İmza",null,null,":……………………………………...",null,null,"İmza",null,null,":……………………………………..."]
[]
["TÜRKİYE",null,null,null,null,null,"TÜRKİYE"]
["MASA TENİSİ FEDERASYONU",null,null,null,null,null,"MASA TENİSİ FEDERASYONU"]
["TAKIM LİSTESİ",null,null,null,null,null,"TAKIM LİSTESİ"]
["Takım Adı",null,null,":",null,null,"Takım Adı",null,null,":"]
["Karşılaşacağı Takım",null,null,":",null,null,"Karşılaşacağı Takım",null,null,":"]
["A",null,": ………………………………..…………………..……….……….",null,null,null,"X",null,": ………………………………..…………………..……….………."]
["B",null,": ………………………………..…………………..……….……….",null,null,null,"Y",null,": ………………………………..…………………..……….………."]
["Çift","C",": ………………………………..…………………..……….……….",null,null,null,"Çift","Z",": ………………………………..…………………..……….………."]
[null,null,": ………………………………..…………………..……….……….",null,null,null,null,null,": ………………………………..…………………..……….………."]
["Karşılaşma Tarihi",null,null,":……………………………………...",null,null,"Karşılaşma Tarihi",null,null,":……………………………………..."]
["Takım Kaptanı",null,null,":……………………………………...",null,null,"Takım Kaptanı",null,null,":……………………………………..."]
["İmza",null,null,":……………………………………...",null,null,"İmza",null,null,":……………………………………..."]
[]
["TÜRKİYE",null,null,null,null,null,"TÜRKİYE"]
["MASA TENİSİ FEDERASYONU",null,null,null,null,null,"MASA TENİSİ FEDERASYONU"]
["TAKIM LİSTESİ",null,null,null,null,null,"TAKIM LİSTESİ"]
["Takım Adı",null,null,":",null,null,"Takım Adı",null,null,":"]
["Karşılaşacağı Takım",null,null,":",null,null,"Karşılaşacağı Takım",null,null,":"]
["A",null,": ………………………………..…………………..……….……….",null,null,null,"X",null,": ………………………………..…………………..……….………."]
["B",null,": ………………………………..…………………..……….……….",null,null,null,"Y",null,": ………………………………..…………………..……….………."]
["Çift","C",": ………………………………..…………………..……….……….",null,null,null,"Çift","Z",": ………………………………..…………………..……….………."]
[null,null,": ………………………………..…………………..……….……….",null,null,null,null,null,": ………………………………..…………………..……….………."]
["Karşılaşma Tarihi",null,null,":……………………………………...",null,null,"Karşılaşma Tarihi",null,null,":……………………………………..."]
["Takım Kaptanı",null,null,":……………………………………...",null,null,"Takım Kaptanı",null,null,":……………………………………..."]
["İmza",null,null,":……………………………………...",null,null,"İmza",null,null,":……………………………………..."]
[]
["TÜRKİYE",null,null,null,null,null,"TÜRKİYE"]
["MASA TENİSİ FEDERASYONU",null,null,null,null,null,"MASA TENİSİ FEDERASYONU"]
["TAKIM LİSTESİ",null,null,null,null,null,"TAKIM LİSTESİ"]
["Takım Adı",null,null,":",null,null,"Takım Adı",null,null,":"]
["Karşılaşacağı Takım",null,null,":",null,null,"Karşılaşacağı Takım",null,null,":"]
["A",null,": ………………………………..…………………..……….……….",null,null,null,"X",null,": ………………………………..…………………..……….………."]
["B",null,": ………………………………..…………………..……….……….",null,null,null,"Y",null,": ………………………………..…………………..……….………."]
["Çift","C",": ………………………………..…………………..……….……….",null,null,null,"Çift","Z",": ………………………………..…………………..……….………."]
[null,null,": ………………………………..…………………..……….……….",null,null,null,null,null,": ………………………………..…………………..……….………."]
["Karşılaşma Tarihi",null,null,":……………………………………...",null,null,"Karşılaşma Tarihi",null,null,":……………………………………..."]
["Takım Kaptanı",null,null,":……………………………………...",null,null,"Takım Kaptanı",null,null,":……………………………………..."]
["İmza",null,null,":……………………………………...",null,null,"İmza",null,null,":……………………………………..."]

{"sheet":"Yeni_Olimpik_KC","index":25,"n_rows":55,"n_cols":10,"rows_kept":55,"cut":false,"hidden":true,"merged":[[0,0,0,3],[0,6,0,9],[1,0,1,3],[1,6,1,9],[5,2,5,3],[5,8,5,9],[6,2,6,3],[6,8,6,9],[8,0,9,0],[8,6,9,6],[14,0,14,3],[14,6,14,9],[7,2,7,3],[7,8,7,9],[8,2,8,3],[9,2,9,3],[9,8,9,9],[8,8,8,9],[21,2,21,3],[21,8,21,9],[22,0,23,0],[22,2,22,3],[15,0,15,3],[15,6,15,9],[19,2,19,3],[19,8,19,9],[20,2,20,3],[20,8,20,9],[22,6,23,6],[22,8,22,9],[23,2,23,3],[23,8,23,9],[42,0,42,3],[42,6,42,9],[43,0,43,3],[43,6,43,9],[33,2,33,3],[33,8,33,9],[34,2,34,3],[34,8,34,9],[35,2,35,3],[35,8,35,9],[29,0,29,3],[29,6,29,9],[28,0,28,3],[28,6,28,9],[36,0,37,0],[36,2,36,3],[36,6,37,6],[36,8,36,9],[37,2,37,3],[37,8,37,9],[47,2,47,3],[47,8,47,9],[48,2,48,3],[48,8,48,9],[49,2,49,3],[49,8,49,9],[50,0,51,0],[50,2,50,3],[50,6,51,6],[50,8,50,9],[51,2,51,3],[51,8,51,9]]}
["TÜRKİYE",null,null,null,null,null,"TÜRKİYE"]
["MASA TENİSİ FEDERASYONU",null,null,null,null,null,"MASA TENİSİ FEDERASYONU"]
["TAKIM LİSTESİ",null,null,null,null,null,"TAKIM LİSTESİ"]
["Takım Adı",null,null,":",null,null,"Takım Adı",null,null,":"]
["Karşılaşacağı Takım",null,null,":",null,null,"Karşılaşacağı Takım",null,null,":"]
["A",null,": ………………………………..…………………..……….……….",null,null,null,"X",null,": ………………………………..…………………..……….………."]
["B",null,": ………………………………..…………………..……….……….",null,null,null,"Y",null,": ………………………………..…………………..……….………."]
["C",null,": ………………………………..…………………..……….……….",null,null,null,"Z",null,": ………………………………..…………………..……….………."]
["Çift",null,": ………………………………..…………………..……….……….",null,null,null,"Çift",null,": ………………………………..…………………..……….………."]
[null,null,": ………………………………..…………………..……….……….",null,null,null,null,null,": ………………………………..…………………..……….………."]
["Karşılaşma Tarihi",null,null,":……………………………………...",null,null,"Karşılaşma Tarihi",null,null,":……………………………………..."]
["Takım Kaptanı",null,null,":……………………………………...",null,null,"Takım Kaptanı",null,null,":……………………………………..."]
["İmza",null,null,":……………………………………...",null,null,"İmza",null,null,":……………………………………..."]
[]
["TÜRKİYE",null,null,null,null,null,"TÜRKİYE"]
["MASA TENİSİ FEDERASYONU",null,null,null,null,null,"MASA TENİSİ FEDERASYONU"]
["TAKIM LİSTESİ",null,null,null,null,null,"TAKIM LİSTESİ"]
["Takım Adı",null,null,":",null,null,"Takım Adı",null,null,":"]
["Karşılaşacağı Takım",null,null,":",null,null,"Karşılaşacağı Takım",null,null,":"]
["A",null,": ………………………………..…………………..……….……….",null,null,null,"X",null,": ………………………………..…………………..……….………."]
["B",null,": ………………………………..…………………..……….……….",null,null,null,"Y",null,": ………………………………..…………………..……….………."]
["C",null,": ………………………………..…………………..……….……….",null,null,null,"Z",null,": ………………………………..…………………..……….………."]
["Çift",null,": ………………………………..…………………..……….……….",null,null,null,"Çift",null,": ………………………………..…………………..……….………."]
[null,null,": ………………………………..…………………..……….……….",null,null,null,null,null,": ………………………………..…………………..……….………."]
["Karşılaşma Tarihi",null,null,":……………………………………...",null,null,"Karşılaşma Tarihi",null,null,":……………………………………..."]
["Takım Kaptanı",null,null,":……………………………………...",null,null,"Takım Kaptanı",null,null,":……………………………………..."]
["İmza",null,null,":……………………………………...",null,null,"İmza",null,null,":……………………………………..."]
[]
["TÜRKİYE",null,null,null,null,null,"TÜRKİYE"]
["MASA TENİSİ FEDERASYONU",null,null,null,null,null,"MASA TENİSİ FEDERASYONU"]
["TAKIM LİSTESİ",null,null,null,null,null,"TAKIM LİSTESİ"]
["Takım Adı",null,null,":",null,null,"Takım Adı",null,null,":"]
["Karşılaşacağı Takım",null,null,":",null,null,"Karşılaşacağı Takım",null,null,":"]
["A",null,": ………………………………..…………………..……….……….",null,null,null,"X",null,": ………………………………..…………………..……….………."]
["B",null,": ………………………………..…………………..……….……….",null,null,null,"Y",null,": ………………………………..…………………..……….………."]
["C",null,": ………………………………..…………………..……….……….",null,null,null,"Z",null,": ………………………………..…………………..……….………."]
["Çift",null,": ………………………………..…………………..……….……….",null,null,null,"Çift",null,": ………………………………..…………………..……….………."]
[null,null,": ………………………………..…………………..……….……….",null,null,null,null,null,": ………………………………..…………………..……….………."]
["Karşılaşma Tarihi",null,null,":……………………………………...",null,null,"Karşılaşma Tarihi",null,null,":……………………………………..."]
["Takım Kaptanı",null,null,":……………………………………...",null,null,"Takım Kaptanı",null,null,":……………………………………..."]
["İmza",null,null,":……………………………………...",null,null,"İmza",null,null,":……………………………………..."]
[]
["TÜRKİYE",null,null,null,null,null,"TÜRKİYE"]
["MASA TENİSİ FEDERASYONU",null,null,null,null,null,"MASA TENİSİ FEDERASYONU"]
["TAKIM LİSTESİ",null,null,null,null,null,"TAKIM LİSTESİ"]
["Takım Adı",null,null,":",null,null,"Takım Adı",null,null,":"]
["Karşılaşacağı Takım",null,null,":",null,null,"Karşılaşacağı Takım",null,null,":"]
["A",null,": ………………………………..…………………..……….……….",null,null,null,"X",null,": ………………………………..…………………..……….………."]
["B",null,": ………………………………..…………………..……….……….",null,null,null,"Y",null,": ………………………………..…………………..……….………."]
["C",null,": ………………………………..…………………..……….……….",null,null,null,"Z",null,": ………………………………..…………………..……….………."]
["Çift",null,": ………………………………..…………………..……….……….",null,null,null,"Çift",null,": ………………………………..…………………..……….………."]
[null,null,": ………………………………..…………………..……….……….",null,null,null,null,null,": ………………………………..…………………..……….………."]
["Karşılaşma Tarihi",null,null,":……………………………………...",null,null,"Karşılaşma Tarihi",null,null,":……………………………………..."]
["Takım Kaptanı",null,null,":……………………………………...",null,null,"Takım Kaptanı",null,null,":……………………………………..."]
["İmza",null,null,":……………………………………...",null,null,"İmza",null,null,":……………………………………..."]

{"sheet":"Corbillon_KC","index":26,"n_rows":47,"n_cols":24,"rows_kept":47,"cut":false,"hidden":true,"merged":[[13,0,13,3],[13,6,13,9],[0,0,0,3],[0,6,0,9],[1,0,1,3],[1,6,1,9],[5,2,5,3],[5,8,5,9],[6,2,6,3],[6,8,6,9],[7,8,7,9],[12,0,12,3],[12,6,12,9],[17,2,17,3],[17,8,17,9],[18,2,18,3],[18,8,18,9],[19,2,19,3],[19,8,19,9],[24,0,24,3],[24,6,24,9],[25,0,25,3],[25,6,25,9],[29,2,29,3],[29,8,29,9],[30,2,30,3],[30,8,30,9],[31,2,31,3],[31,8,31,9],[36,0,36,3],[36,6,36,9],[43,2,43,3],[43,8,43,9],[37,0,37,3],[37,6,37,9],[41,2,41,3],[41,8,41,9],[42,2,42,3],[42,8,42,9]]}
["TÜRKİYE",null,null,null,null,null,"TÜRKİYE"]
["MASA TENİSİ FEDERASYONU",null,null,null,null,null,"MASA TENİSİ FEDERASYONU"]
["TAKIM LİSTESİ",null,null,null,null,null,"TAKIM LİSTESİ"]
["Takım Adı",null,null,":",null,null,"Takım Adı",null,null,":"]
["Karşılaşacağı Takım",null,null,":",null,null,"Karşılaşacağı Takım",null,null,":"]
["A",null,": ………………………………..…………………..……….……….",null,null,null,"X",null,": ………………………………..…………………..……….………."]
["B",null,": ………………………………..…………………..……….……….",null,null,null,"Y",null,": ………………………………..…………………..……….………."]
["Çift",null,": ………………………………..…………………..……….……….",null,null,null,"Çift",null,": ………………………………..…………………..……….………."]
["Karşılaşma Tarihi",null,null,":……………………………………...",null,null,"Karşılaşma Tarihi",null,null,":……………………………………..."]
["Takım Kaptanı",null,null,":……………………………………...",null,null,"Takım Kaptanı",null,null,":……………………………………..."]
["İmza",null,null,":……………………………………...",null,null,"İmza",null,null,":……………………………………..."]
[]
["TÜRKİYE",null,null,null,null,null,"TÜRKİYE"]
["MASA TENİSİ FEDERASYONU",null,null,null,null,null,"MASA TENİSİ FEDERASYONU"]
["TAKIM LİSTESİ",null,null,null,null,null,"TAKIM LİSTESİ"]
["Takım Adı",null,null,":",null,null,"Takım Adı",null,null,":"]
["Karşılaşacağı Takım",null,null,":",null,null,"Karşılaşacağı Takım",null,null,":"]
["A",null,": ………………………………..…………………..……….……….",null,null,null,"X",null,": ………………………………..…………………..……….……….",null,null,null,null,null,null,null,null,null,null,null,null,null,null,0]
["B",null,": ………………………………..…………………..……….……….",null,null,null,"Y",null,": ………………………………..…………………..……….………."]
["Çift",null,": ………………………………..…………………..……….……….",null,null,null,"Çift",null,": ………………………………..…………………..……….………."]
["Karşılaşma Tarihi",null,null,":……………………………………...",null,null,"Karşılaşma Tarihi",null,null,":……………………………………..."]
["Takım Kaptanı",null,null,":……………………………………...",null,null,"Takım Kaptanı"]
["İmza",null,null,":……………………………………...",null,null,"İmza",null,null,":……………………………………..."]
[]
["TÜRKİYE",null,null,null,null,null,"TÜRKİYE"]
["MASA TENİSİ FEDERASYONU",null,null,null,null,null,"MASA TENİSİ FEDERASYONU"]
["TAKIM LİSTESİ",null,null,null,null,null,"TAKIM LİSTESİ"]
["Takım Adı",null,null,":",null,null,"Takım Adı",null,null,":"]
["Karşılaşacağı Takım",null,null,":",null,null,"Karşılaşacağı Takım",null,null,":"]
["A",null,": ………………………………..…………………..……….……….",null,null,null,"X",null,": ………………………………..…………………..……….………."]
["B",null,": ………………………………..…………………..……….……….",null,null,null,"Y",null,": ………………………………..…………………..……….………."]
["Çift",null,": ………………………………..…………………..……….……….",null,null,null,"Çift",null,": ………………………………..…………………..……….………."]
["Karşılaşma Tarihi",null,null,":……………………………………...",null,null,"Karşılaşma Tarihi",null,null,":……………………………………..."]
["Takım Kaptanı",null,null,":……………………………………...",null,null,"Takım Kaptanı",null,null,":……………………………………..."]
["İmza",null,null,":……………………………………...",null,null,"İmza",null,null,":……………………………………..."]
[]
["TÜRKİYE",null,null,null,null,null,"TÜRKİYE"]
["MASA TENİSİ FEDERASYONU",null,null,null,null,null,"MASA TENİSİ FEDERASYONU"]
["TAKIM LİSTESİ",null,null,null,null,null,"TAKIM LİSTESİ"]
["Takım Adı",null,null,":",null,null,"Takım Adı",null,null,":"]
["Karşılaşacağı Takım",null,null,":",null,null,"Karşılaşacağı Takım",null,null,":"]
["A",null,": ………………………………..…………………..……….……….",null,null,null,"X",null,": ………………………………..…………………..……….………."]
["B",null,": ………………………………..…………………..……….……….",null,null,null,"Y",null,": ………………………………..…………………..……….………."]
["Çift",null,": ………………………………..…………………..……….……….",null,null,null,"Çift",null,": ………………………………..…………………..……….………."]
["Karşılaşma Tarihi",null,null,":……………………………………...",null,null,"Karşılaşma Tarihi",null,null,":……………………………………..."]
["Takım Kaptanı",null,null,":……………………………………...",null,null,"Takım Kaptanı",null,null,":……………………………………..."]
["İmza",null,null,":……………………………………...",null,null,"İmza",null,null,":……………………………………..."]

{"sheet":"1-8","index":27,"n_rows":34,"n_cols":106,"rows_kept":34,"cut":false,"hidden":true,"merged":[[12,2,12,8],[12,16,12,22],[1,72,1,73],[2,0,3,30],[4,2,4,8],[5,9,5,15],[6,2,6,8],[7,2,7,8],[7,16,7,22],[0,0,1,30],[1,62,1,63],[1,64,1,65],[1,66,1,67],[1,68,1,69],[1,70,1,71],[8,9,8,15],[9,2,9,8],[10,2,10,8],[10,23,10,29],[11,9,11,15],[23,9,23,15],[13,2,13,8],[14,9,14,15],[14,23,14,29],[15,2,15,8],[16,2,16,8],[16,16,16,22],[17,23,17,29],[18,16,18,22],[20,23,20,29],[21,9,21,15],[22,16,22,22],[30,23,30,29],[31,16,31,22],[33,23,33,29],[24,9,24,15],[24,23,24,29],[25,16,25,22],[26,9,26,15],[27,23,27,29],[29,16,29,22]]}
["TÜRKİYE MASA TENİSİ FEDERASYONU                                                                                                                                                                                                     İsmail Eren ALICI Küçükler Ferdi-Takım Türkiye Şampiyonası  ",null,null,null,null,null,null,null,null,null,null,null,null,null,null,null,null,null,null,null,null,null,null,null,null,null,null,null,null,null,null,null,null,null,null,null,null,null,null,null,null,null,null,null,null,null,null,null,null,null,null,null,null,null,null,null,null,null,null,null,null,null,null,null,null,null,null,null,null,null,null,null,null,null,null,null,null,null,null,null,null,null,null,null,null,null,null,null,null,null,null,null,null,null,null,null,null,null,null,null,null,null,null,null,"1st Round",1]
[null,null,null,null,null,null,null,null,null,null,null,null,null,null,null,null,null,null,null,null,null,null,null,null,null,null,null,null,null,null,null,null,null,null,null,null,null,null,null,null,null,null,null,null,null,null,null,null,null,null,null,null,null,null,null,"#","Date","Time","Table","Competition","Player A","Player B","Set1",null,"Set2",null,"Set3",null,"Set4",null,"Set5",null,"Result",null,null,null,null,null,null,null,null,null,null,null,null,null,null,null,null,null,null,null,null,null,null,null,null,null,null,null,null,null,null,null,"2sn Round"]
["KIZ TAKIM  [09-13 Nisan 2025 ÇORUM] [1-8  Ana Tablo ]",null,null,null,null,null,null,null,null,null,null,null,null,null,null,null,null,null,null,null,null,null,null,null,null,null,null,null,null,null,null,null,null,null,null,null,null,null,null,null,null,null,null,null,null,null,null,null,null,null,null,null,null,null,null,1,"2025-04-12","16:30:00",5,null,{"$error":"#N/A"},{"$error":"#N/A"},null,null,null,null,null,null,null,null,null,null,null,null,null,null,null,null,null,null,null,null,null,null,null,null,null,null,null,null,null,null,null,null,null,null,null,null,null,null,null,null,null,null,"3th Round"]
[null,null,null,null,null,null,null,null,null,null,null,null,null,null,null,null,null,null,null,null,null,null,null,null,null,null,null,null,null,null,null,null,null,null,null,null,null,null,null,null,null,null,null,null,null,null,null,null,null,null,null,null,null,null,null,2,"2025-04-12","16:30:00",6,null,{"$error":"#N/A"},{"$error":"#N/A"}]
[1,"G1.1",{"$error":"#N/A"},null,null,null,null,null,null,null,null,null,null,null,null,null,null,null,null,null,null,null,null,null,null,null,null,null,null,null,null,null,null,null,null,null,null,null,null,null,null,null,null,null,null,null,null,null,null,null,null,null,null,null,null,3,"2025-04-12","16:30:00",7,null,{"$error":"#N/A"},{"$error":"#N/A"}]
[null,null,null,null,null,null,"Y-A",null,1,"",null,null,null,null,null,null,null,null,null,null,null,null,null,null,null,null,null,null,null,null,null,null,null,null,null,null,null,null,null,null,null,null,null,null,null,null,null,null,null,null,null,null,null,null,null,4,"2025-04-12","16:30:00",8,null,{"$error":"#N/A"},{"$error":"#N/A"}]
[2,"G2.2",{"$error":"#N/A"},null,null,null,null,null,null,null,null,null,null,null,null,5,null,null,null,null,null,null,null,null,null,null,null,null,null,null,null,null,null,null,null,null,null,null,null,null,null,null,null,null,null,null,null,null,null,null,null,null,null,null,null,5,"2025-04-13","09:00:00",6,null,"",""]
[3,"G4.2",{"$error":"#N/A"},null,null,null,null,null,null,null,null,null,null,"Y-E",null,null,"",null,null,null,null,null,null,null,null,null,null,null,null,null,null,null,null,null,null,null,null,null,null,null,null,null,null,null,null,null,null,null,null,null,null,null,null,null,null,6,"2025-04-13","09:00:00",7,null,"",""]
[null,null,null,null,null,null,"Y-B",null,2,"",null,null,null,null,null,null,null,null,null,null,null,null,9,null,null,null,null,null,null,null,null,null,null,null,null,null,null,null,null,null,null,null,null,null,null,null,null,null,null,null,null,null,null,null,null,7,"2025-04-13","09:00:00",8,null,"",""]
[4,"G3.1",{"$error":"#N/A"},null,null,null,null,null,null,null,null,null,null,null,null,null,null,null,null,null,null,null,null,null,null,null,null,null,null,null,null,null,null,null,null,null,null,null,null,null,null,null,null,null,null,null,null,null,null,null,null,null,null,null,null,8,"2025-04-13","09:00:00",5,null,"",""]
[5,"G4.1",{"$error":"#N/A"},null,null,null,null,null,null,null,null,null,null,null,null,null,null,null,null,null,"Y-I",null,null,"",null,null,null,null,null,null,"1.",null,null,null,null,null,null,null,null,null,null,null,null,null,null,null,null,null,null,null,null,null,null,null,null,9,"2025-04-13","11:00:00",5,null,"",""]
[null,null,null,null,null,null,"Y-C",null,3,"",null,null,null,null,null,null,null,null,null,null,null,null,null,null,null,null,null,null,null,null,null,null,null,null,null,null,null,null,null,null,null,null,null,null,null,null,null,null,null,null,null,null,null,null,null,10,"2025-04-13","11:00:00",6,null,"",""]
[6,"G1.2",{"$error":"#N/A"},null,null,null,null,null,null,null,null,null,null,null,null,6,"",null,null,null,null,null,null,null,null,null,null,null,null,null,null,null,null,null,null,null,null,null,null,null,null,null,null,null,null,null,null,null,null,null,null,null,null,null,null,11,"2025-04-13","11:00:00",7,null,"",""]
[7,"G3.2",{"$error":"#N/A"},null,null,null,null,null,null,null,null,null,null,"Y-F",null,null,null,null,null,null,null,null,null,null,null,null,null,null,null,null,null,null,null,null,null,null,null,null,null,null,null,null,null,null,null,null,null,null,null,null,null,null,null,null,null,12,"2025-04-13","11:00:00",8,null,"",""]
[null,null,null,null,null,null,"Y-D",null,4,"",null,null,null,null,null,null,null,null,null,null,null,null,"I","",null,null,null,null,null,null,"2."]
[8,"G2.1",{"$error":"#N/A"}]
[null,null,null,null,null,null,null,null,null,null,null,null,null,null,null,"E",""]
[null,null,null,null,null,null,null,null,null,null,null,null,null,null,null,null,null,null,null,null,"Y-J",null,10,"",null,null,null,null,null,null,"3."]
[null,null,null,null,null,null,null,null,null,null,null,null,null,null,null,"F",""]
[]
[null,null,null,null,null,null,null,null,null,null,null,null,null,null,null,null,null,null,null,null,null,null,"J","",null,null,null,null,null,null,"4."]
[null,null,null,null,null,null,null,null,"A",""]
[null,null,null,null,null,null,null,null,null,null,null,null,null,"Y-G",null,7,""]
[null,null,null,null,null,null,null,null,"B","",null,null,null,null,null,null,null,null,null,null,null,null,11]
[null,null,null,null,null,null,null,null,"C","",null,null,null,null,null,null,null,null,null,null,"Y-K",null,null,"",null,null,null,null,null,null,"5."]
[null,null,null,null,null,null,null,null,null,null,null,null,null,"Y-H",null,8,""]
[null,null,null,null,null,null,null,null,"D",""]
[null,null,null,null,null,null,null,null,null,null,null,null,null,null,null,null,null,null,null,null,null,null,"K","",null,null,null,null,null,null,"6."]
[]
[null,null,null,null,null,null,null,null,null,null,null,null,null,null,null,"G",""]
[null,null,null,null,null,null,null,null,null,null,null,null,null,null,null,null,null,null,0,0,"Y-L",null,12,"",null,null,null,null,null,null,"7."]
[null,null,null,null,null,null,null,null,null,null,null,null,null,null,null,"H",""]
[]
[null,null,null,null,null,null,null,null,null,null,null,null,null,null,null,null,null,null,null,null,null,null,"L","",null,null,null,null,null,null,"8."]

{"sheet":"9-16","index":28,"n_rows":34,"n_cols":31,"rows_kept":34,"cut":false,"hidden":true,"merged":[[12,2,12,8],[12,16,12,22],[0,0,1,30],[2,0,3,30],[4,2,4,8],[5,9,5,15],[6,2,6,8],[7,2,7,8],[7,16,7,22],[8,9,8,15],[9,2,9,8],[10,2,10,8],[10,23,10,29],[11,9,11,15],[23,9,23,15],[13,2,13,8],[14,9,14,15],[14,23,14,29],[15,2,15,8],[16,2,16,8],[16,16,16,22],[17,23,17,29],[18,16,18,22],[20,23,20,29],[21,9,21,15],[22,16,22,22],[30,23,30,29],[31,16,31,22],[33,23,33,29],[24,9,24,15],[24,23,24,29],[25,16,25,22],[26,9,26,15],[27,23,27,29],[29,16,29,22]]}
["TÜRKİYE MASA TENİSİ FEDERASYONU                                                                                                                                                                                                     İsmail Eren ALICI Küçükler Ferdi-Takım Türkiye Şampiyonası  "]
[]
["KIZ TAKIM  [09-13 Nisan 2025 ÇORUM] [ 9-16 Ana Tablo ]"]
[]
[1,"G4.3",{"$error":"#N/A"}]
[null,null,null,null,null,null,"Y-A",null,1,""]
[2,"G2.4",{"$error":"#N/A"},null,null,null,null,null,null,null,null,null,null,null,null,5]
[3,"G3.4",{"$error":"#N/A"},null,null,null,null,null,null,null,null,null,null,"Y-E",null,null,""]
[null,null,null,null,null,null,"Y-B",null,2,"",null,null,null,null,null,null,null,null,null,null,null,null,9]
[4,"G1.3",{"$error":"#N/A"}]
[5,"G3.3",{"$error":"#N/A"},null,null,null,null,null,null,null,null,null,null,null,null,null,null,null,null,null,"Y-I",null,null,"",null,null,null,null,null,null,"9."]
[null,null,null,null,null,null,"Y-C",null,3,""]
[6,"G2.4",{"$error":"#N/A"},null,null,null,null,null,null,null,null,null,null,null,null,6,""]
[7,"G4.4",{"$error":"#N/A"},null,null,null,null,null,null,null,null,null,null,"Y-F"]
[null,null,null,null,null,null,"Y-D",null,4,"",null,null,null,null,null,null,null,null,null,null,null,null,"I","",null,null,null,null,null,null,"10."]
[8,"G2.3",{"$error":"#N/A"}]
[null,null,null,null,null,null,null,null,null,null,null,null,null,null,null,"E",""]
[null,null,null,null,null,null,null,null,null,null,null,null,null,null,null,null,null,null,null,null,"Y-J",null,10,"",null,null,null,null,null,null,"11."]
[null,null,null,null,null,null,null,null,null,null,null,null,null,null,null,"F",""]
[]
[null,null,null,null,null,null,null,null,null,null,null,null,null,null,null,null,null,null,null,null,null,null,"J","",null,null,null,null,null,null,"12."]
[null,null,null,null,null,null,null,null,"A",""]
[null,null,null,null,null,null,null,null,null,null,null,null,null,"Y-G",null,7,""]
[null,null,null,null,null,null,null,null,"B","",null,null,null,null,null,null,null,null,null,null,null,null,11]
[null,null,null,null,null,null,null,null,"C","",null,null,null,null,null,null,null,null,null,null,"Y-K",null,null,"",null,null,null,null,null,null,"13."]
[null,null,null,null,null,null,null,null,null,null,null,null,null,"Y-H",null,8,""]
[null,null,null,null,null,null,null,null,"D",""]
[null,null,null,null,null,null,null,null,null,null,null,null,null,null,null,null,null,null,null,null,null,null,"K","",null,null,null,null,null,null,"14."]
[]
[null,null,null,null,null,null,null,null,null,null,null,null,null,null,null,"G",""]
[null,null,null,null,null,null,null,null,null,null,null,null,null,null,null,null,null,null,null,null,"Y-L",null,12,"",null,null,null,null,null,null,"15."]
[null,null,null,null,null,null,null,null,null,null,null,null,null,null,null,"H",""]
[]
[null,null,null,null,null,null,null,null,null,null,null,null,null,null,null,null,null,null,null,null,null,null,"L","",null,null,null,null,null,null,"16"]